BEGIN:VCALENDAR
VERSION:2.0
PRODID:-//Visit Pikeville - ECPv6.15.20//NONSGML v1.0//EN
CALSCALE:GREGORIAN
METHOD:PUBLISH
X-ORIGINAL-URL:https://visitpikeville.com
X-WR-CALDESC:Events for Visit Pikeville
REFRESH-INTERVAL;VALUE=DURATION:PT1H
X-Robots-Tag:noindex
X-PUBLISHED-TTL:PT1H
BEGIN:VTIMEZONE
TZID:America/Kentucky/Louisville
BEGIN:DAYLIGHT
TZOFFSETFROM:-0500
TZOFFSETTO:-0400
TZNAME:EDT
DTSTART:20250309T070000
END:DAYLIGHT
BEGIN:STANDARD
TZOFFSETFROM:-0400
TZOFFSETTO:-0500
TZNAME:EST
DTSTART:20251102T060000
END:STANDARD
BEGIN:DAYLIGHT
TZOFFSETFROM:-0500
TZOFFSETTO:-0400
TZNAME:EDT
DTSTART:20260308T070000
END:DAYLIGHT
BEGIN:STANDARD
TZOFFSETFROM:-0400
TZOFFSETTO:-0500
TZNAME:EST
DTSTART:20261101T060000
END:STANDARD
BEGIN:DAYLIGHT
TZOFFSETFROM:-0500
TZOFFSETTO:-0400
TZNAME:EDT
DTSTART:20270314T070000
END:DAYLIGHT
BEGIN:STANDARD
TZOFFSETFROM:-0400
TZOFFSETTO:-0500
TZNAME:EST
DTSTART:20271107T060000
END:STANDARD
END:VTIMEZONE
BEGIN:VEVENT
DTSTART;TZID=America/Kentucky/Louisville:20260727T180000
DTEND;TZID=America/Kentucky/Louisville:20260806T213000
DTSTAMP:20260421T163122
CREATED:20260203T150828Z
LAST-MODIFIED:20260203T150828Z
UID:72828-1785175200-1786051800@visitpikeville.com
SUMMARY:Adult Acting Summer Camp: Almost\, Maine
DESCRIPTION:July 27th – August 6th | $150\nWeekdays from 6:00PM – 9:30PM\nPerformance: August 7th\, 2026 at 7:30PM and August 8th\, 2026 at 3:00PM & 7:30PM \nHave you always wanted to be on stage or are you ready to jump back in and hone your skills? Join us for two weeks of fun in our Adult Summer Camp! Meeting on week nights from 6:00–9:30 pm\, we’ll create fully staged production of the play Almost\, Maine by John Cariani. \nThis camp is designed for all experience levels\, whether you’re a seasoned actor or stepping on stage for the very first time. You’ll work collaboratively\, build confidence\, and have a lot of fun bringing this heartfelt and whimsical show to life. \nTo make participation accessible for families\, we’re excited to offer free childcare during camp rehearsals to those who need it in our upstairs sensory-inclusive space so parents can focus on creating without worry. \nNote: Campers must be present for every day of camp and all performances on August 7th and 8th.
URL:https://visitpikeville.com/event/adult-acting-summer-camp-almost-maine/
LOCATION:Appalachian Center for the Arts\, 218 2nd St\,\, Pikeville\, Ky\, 41501
CATEGORIES:The Appalachian Center for the Arts
ATTACH;FMTTYPE=image/jpeg:https://visitpikeville.com/wp-content/uploads/2026/02/adult-maine.jpg
END:VEVENT
BEGIN:VEVENT
DTSTART;TZID=America/Kentucky/Louisville:20260727T180000
DTEND;TZID=America/Kentucky/Louisville:20260806T213000
DTSTAMP:20260421T163122
CREATED:20260203T151014Z
LAST-MODIFIED:20260203T151014Z
UID:72831-1785175200-1786051800@visitpikeville.com
SUMMARY:Almost\, Maine: Childcare
DESCRIPTION:July 27 – August 6\, 2026\nWeekdays | 6:00 PM – 9:30 PM\nFree | Separate Registration Required \nTo support campers participating in our Almost\, Maine Adult Summer Camp\, we are pleased to offer free childcare during evening rehearsals. \nChildcare will be available weeknights from 6:00 PM to 9:30 PM throughout the camp dates and will take place in our upstairs\, sensory-inclusive space. This allows campers who are parents and guardians to fully focus on rehearsals while knowing their children are cared for nearby. \nThis registration is intended only for families enrolled in the Adult Summer Camp who need childcare support during rehearsals. A separate childcare registration is required so we can properly plan staffing and space. \nAdditional details (including ages\, dates needed\, and any specific notes) will be collected via a Google Form closer to the start of camp. \nNote: Childcare is offered for campers only during rehearsals only and does not include performance dates.
URL:https://visitpikeville.com/event/almost-maine-childcare/
LOCATION:Appalachian Center for the Arts\, 218 2nd St\,\, Pikeville\, Ky\, 41501
CATEGORIES:The Appalachian Center for the Arts
ATTACH;FMTTYPE=image/jpeg:https://visitpikeville.com/wp-content/uploads/2026/02/adult-maine.jpg
END:VEVENT
BEGIN:VEVENT
DTSTART;TZID=America/Kentucky/Louisville:20260807T193000
DTEND;TZID=America/Kentucky/Louisville:20260807T213000
DTSTAMP:20260421T163122
CREATED:20260203T142452Z
LAST-MODIFIED:20260203T142452Z
UID:72778-1786131000-1786138200@visitpikeville.com
SUMMARY:Almost Maine
DESCRIPTION:August 7th\, 2026 | 7:30PM\nAugust 8th\, 2026 | 3:00PM\, 7:30PM \nHave you always wanted to be on stage or are you ready to jump back in and hone your skills? Join us for two weeks of fun in our Adult Summer Camp! Meeting on week nights from 6:00–9:30 pm\, we’ll create fully staged production of the play Almost\, Maine by John Cariani. \nThis camp is designed for all experience levels\, whether you’re a seasoned actor or stepping on stage for the very first time. You’ll work collaboratively\, build confidence\, and have a lot of fun bringing this heartfelt and whimsical show to life. \nTo make participation accessible for families\, we’re excited to offer free childcare during camp rehearsals to those who need it in our upstairs sensory-inclusive space so parents can focus on creating without worry. \nTickets: $18 Adults\, $13 Seniors\, $12 Kids
URL:https://visitpikeville.com/event/almost-maine/
LOCATION:Appalachian Center for the Arts\, 218 2nd St\,\, Pikeville\, Ky\, 41501
CATEGORIES:The Appalachian Center for the Arts
ATTACH;FMTTYPE=image/jpeg:https://visitpikeville.com/wp-content/uploads/2026/02/maine.jpg
END:VEVENT
BEGIN:VEVENT
DTSTART;TZID=America/Kentucky/Louisville:20260808T150000
DTEND;TZID=America/Kentucky/Louisville:20260808T170000
DTSTAMP:20260421T163122
CREATED:20260203T142618Z
LAST-MODIFIED:20260203T142618Z
UID:72781-1786201200-1786208400@visitpikeville.com
SUMMARY:Almost Maine
DESCRIPTION:August 7th\, 2026 | 7:30PM\nAugust 8th\, 2026 | 3:00PM\, 7:30PM \nHave you always wanted to be on stage or are you ready to jump back in and hone your skills? Join us for two weeks of fun in our Adult Summer Camp! Meeting on week nights from 6:00–9:30 pm\, we’ll create fully staged production of the play Almost\, Maine by John Cariani. \nThis camp is designed for all experience levels\, whether you’re a seasoned actor or stepping on stage for the very first time. You’ll work collaboratively\, build confidence\, and have a lot of fun bringing this heartfelt and whimsical show to life. \nTo make participation accessible for families\, we’re excited to offer free childcare during camp rehearsals to those who need it in our upstairs sensory-inclusive space so parents can focus on creating without worry. \nTickets: $18 Adults\, $13 Seniors\, $12 Kids
URL:https://visitpikeville.com/event/almost-maine-2/
LOCATION:Appalachian Center for the Arts\, 218 2nd St\,\, Pikeville\, Ky\, 41501
CATEGORIES:The Appalachian Center for the Arts
ATTACH;FMTTYPE=image/jpeg:https://visitpikeville.com/wp-content/uploads/2026/02/maine.jpg
END:VEVENT
BEGIN:VEVENT
DTSTART;TZID=America/Kentucky/Louisville:20260808T193000
DTEND;TZID=America/Kentucky/Louisville:20260808T213000
DTSTAMP:20260421T163122
CREATED:20260203T142644Z
LAST-MODIFIED:20260203T142644Z
UID:72783-1786217400-1786224600@visitpikeville.com
SUMMARY:Almost Maine
DESCRIPTION:August 7th\, 2026 | 7:30PM\nAugust 8th\, 2026 | 3:00PM\, 7:30PM \nHave you always wanted to be on stage or are you ready to jump back in and hone your skills? Join us for two weeks of fun in our Adult Summer Camp! Meeting on week nights from 6:00–9:30 pm\, we’ll create fully staged production of the play Almost\, Maine by John Cariani. \nThis camp is designed for all experience levels\, whether you’re a seasoned actor or stepping on stage for the very first time. You’ll work collaboratively\, build confidence\, and have a lot of fun bringing this heartfelt and whimsical show to life. \nTo make participation accessible for families\, we’re excited to offer free childcare during camp rehearsals to those who need it in our upstairs sensory-inclusive space so parents can focus on creating without worry. \nTickets: $18 Adults\, $13 Seniors\, $12 Kids
URL:https://visitpikeville.com/event/almost-maine-2-2/
LOCATION:Appalachian Center for the Arts\, 218 2nd St\,\, Pikeville\, Ky\, 41501
CATEGORIES:The Appalachian Center for the Arts
ATTACH;FMTTYPE=image/jpeg:https://visitpikeville.com/wp-content/uploads/2026/02/maine.jpg
END:VEVENT
BEGIN:VEVENT
DTSTART;TZID=America/Kentucky/Louisville:20260830T080000
DTEND;TZID=America/Kentucky/Louisville:20260830T120000
DTSTAMP:20260421T163122
CREATED:20260330T134318Z
LAST-MODIFIED:20260330T134318Z
UID:73811-1788076800-1788091200@visitpikeville.com
SUMMARY:Tri Pike 2025
DESCRIPTION:Get ready to enjoy Pikeville in a unique way! This sprint distance triathlon will have you swimming at our local YMCA pool\, followed by a scenic bike ride through Historical Downtown Pikeville\, and finish off by running through the Epic  Blue Chip Trail! This year we are adding team relays and aquathlon divisions (swim/run). We encourage both beginners and seasoned triathletes to give this a try! Distances per race section; Triathlon * Pool Swim – 300 meters  * Bike – 20 kilometers or 12 miles * Trail Run – 5 kilometers or 3.1 miles Duathlon * Track Run – 1.6 kilometers or 1 mile * Bike – 20 kilometers or 12 miles * Trail Run – 5 kilometers or 3.1 miles Aquabike (Swim-Bike) * Pool Swim – 300 meters * Bike – 20 kilometers or 12 miles Aquathlon (Swim-Run) * Pool Swim – 300 meters * Trail Run – 5 kilometers or 3.1 miles THIS IS A USA TRIATHLON EVENT. PARTICIPANTS MUST GET A ONE DAY LICENCE. HELMETS MUST BE WORN ON BIKE COURSE. FOR THE COMPLETE RULES PLEASE VISIT https://www.usatriathlon.org/multisport/rules  THE EVENT WILL HAVE THE ADDITIONAL RULE OF NO PASSING WHEN GOING DOWN THE BOB AMOS HILL. IT IS A SAFETY PRECAUTION.  THE RACE IS OPEN TO TRAFFIC. TRAFFIC LAWS ARE TO BE FOLLOWED WHILE ON BIKE SECTION OF THE RACE.  PACKET PICKUP & LATE REGISTRATION- PICTURE ID REQUIRED Location: Arrive at site Saturday no than 7 AM EST for ample time for parking\, packet pickup and getting ready for event starting promptly at 8 AM EST. * Friday\, Aug 29th  – 5 PM – 7:00 PM at race site * Saturday – Race morning from 6:30 AM to 7:30 AM –  at race site. Registration is open race morning!  Awards Ceremony will follow each events completion Awards will be for first overall male and female.  We will not ship them out\, so please check with us before you leave. PARKING: * At the YMCA Parking lot and there also are parking lots by the track and tennis courts. Event Cancellation / Modification Policy – If Natural Disaster or Community Disaster occurs\, our action steps are as follows: 1. City of Pikeville in concert with local officials will make decisions based on safety first. 2. Courses and/or race segments will be altered as agreed to between City of Pikeville and local officials 3. Financial: It is not financially feasible for City of Pikeville to accept the risk of a disaster for everyone. Each registered participant needs to accept the risk of his or her entry fee. There will be NO REFUNDS or free entries to future races. The money you paid is spent developing the subject event. 4. City of Pikeville does not save any money if one of our events has to be canceled for reasons beyond our control. All supplies and services needed for the events are purchased and/or arranged in advance. All event supplies and services associated with that event must be paid for\, regardless of the outcome.
URL:https://visitpikeville.com/event/tri-pike-2025-2/
LOCATION:Pikeville YMCA\, 424 Bob Amos Dr\,\, Pikeville\, Ky\, 41501
CATEGORIES:Pikeville YMCA
ATTACH;FMTTYPE=image/jpeg:https://visitpikeville.com/wp-content/uploads/2026/03/tri-pike.jpg
END:VEVENT
END:VCALENDAR