BEGIN:VCALENDAR
VERSION:2.0
PRODID:-//Visit Pikeville - ECPv6.15.20//NONSGML v1.0//EN
CALSCALE:GREGORIAN
METHOD:PUBLISH
X-WR-CALNAME:Visit Pikeville
X-ORIGINAL-URL:https://visitpikeville.com
X-WR-CALDESC:Events for Visit Pikeville
REFRESH-INTERVAL;VALUE=DURATION:PT1H
X-Robots-Tag:noindex
X-PUBLISHED-TTL:PT1H
BEGIN:VTIMEZONE
TZID:America/Kentucky/Louisville
BEGIN:DAYLIGHT
TZOFFSETFROM:-0500
TZOFFSETTO:-0400
TZNAME:EDT
DTSTART:20240310T070000
END:DAYLIGHT
BEGIN:STANDARD
TZOFFSETFROM:-0400
TZOFFSETTO:-0500
TZNAME:EST
DTSTART:20241103T060000
END:STANDARD
BEGIN:DAYLIGHT
TZOFFSETFROM:-0500
TZOFFSETTO:-0400
TZNAME:EDT
DTSTART:20250309T070000
END:DAYLIGHT
BEGIN:STANDARD
TZOFFSETFROM:-0400
TZOFFSETTO:-0500
TZNAME:EST
DTSTART:20251102T060000
END:STANDARD
BEGIN:DAYLIGHT
TZOFFSETFROM:-0500
TZOFFSETTO:-0400
TZNAME:EDT
DTSTART:20260308T070000
END:DAYLIGHT
BEGIN:STANDARD
TZOFFSETFROM:-0400
TZOFFSETTO:-0500
TZNAME:EST
DTSTART:20261101T060000
END:STANDARD
END:VTIMEZONE
BEGIN:VEVENT
DTSTART;TZID=America/Kentucky/Louisville:20250227T070000
DTEND;TZID=America/Kentucky/Louisville:20250331T190000
DTSTAMP:20260424T115726
CREATED:20250226T224237Z
LAST-MODIFIED:20250226T224237Z
UID:63058-1740639600-1743447600@visitpikeville.com
SUMMARY:FEMA Disaster Assistance
DESCRIPTION:Apply in person for FEMA benefits
URL:https://visitpikeville.com/event/fema-disaster-assistance/
LOCATION:KY
CATEGORIES:City of Pikeville,Pike County Public Library
ATTACH;FMTTYPE=image/jpeg:https://visitpikeville.com/wp-content/uploads/2025/02/fema.jpg
END:VEVENT
BEGIN:VEVENT
DTSTART;TZID=America/Kentucky/Louisville:20250301T110000
DTEND;TZID=America/Kentucky/Louisville:20250301T130000
DTSTAMP:20260424T115726
CREATED:20250303T145238Z
LAST-MODIFIED:20250303T145238Z
UID:63176-1740826800-1740834000@visitpikeville.com
SUMMARY:Quilters Group
DESCRIPTION:Pike County Public Library Quilters Group is a quilting social that also teaches quilting and needlework. Participants exchange patterns\, quilting ideas\, and sewing projects. Both beginners and experienced quilters are welcome! Quilters Group meets alternating Saturdays at noon at the Lee Avenue Library.\nFor more information\, contact Charlene at 606-437-6001 or charlene@pikelibrary.org
URL:https://visitpikeville.com/event/quilters-group-4-2-2-2-2-2-2-2-2-2-2-2-2-2-2-2-2-2-2-2-2-2-2-2-2-2-2-2-2-2-2-2-2/
LOCATION:Pike County Public Library\, 126 Lee Avenue\, Pikeville\, KY\, 41501\, United States
CATEGORIES:Pike County Public Library
ATTACH;FMTTYPE=image/jpeg:https://visitpikeville.com/wp-content/uploads/2024/06/quilters.jpeg
END:VEVENT
BEGIN:VEVENT
DTSTART;TZID=America/Kentucky/Louisville:20250301T120000
DTEND;TZID=America/Kentucky/Louisville:20250301T140000
DTSTAMP:20260424T115726
CREATED:20241111T191021Z
LAST-MODIFIED:20241111T191021Z
UID:59557-1740830400-1740837600@visitpikeville.com
SUMMARY:Baseball vs Johnson University
DESCRIPTION:Game Day!!
URL:https://visitpikeville.com/event/baseball-vs-johnson-university-4-2/
LOCATION:Johnnie LeMaster Field\, 118 W River Dr\,\, Pikeville\, KY\, 41501\, United States
CATEGORIES:UPike
ATTACH;FMTTYPE=image/png:https://visitpikeville.com/wp-content/uploads/2024/11/Screenshot-2024-11-11-at-2.06.40 PM.png
END:VEVENT
BEGIN:VEVENT
DTSTART;TZID=America/Kentucky/Louisville:20250301T130000
DTEND;TZID=America/Kentucky/Louisville:20250301T140000
DTSTAMP:20260424T115726
CREATED:20250203T164729Z
LAST-MODIFIED:20250203T164729Z
UID:62710-1740834000-1740837600@visitpikeville.com
SUMMARY:The Dr. Seuss Show
DESCRIPTION:Step into the wacky\, whimsical world of Dr. Seuss with this Seuss-tacular program\, an interactive\, high-energy performance by Tember’s Tales!\nPerfect for kids and families\, this engaging show brings beloved Seussian stories to life with audience participation and plenty of fun surprises.\nFrom The Cat in the Hat to Green Eggs and Ham\, experience the magic of rhymes\, rhythm\, and imagination like never before. Whether you’re a lifelong Seuss fan or discovering his world for the first time\, this show will have you laughing\, learning\, and loving the joy of reading!\nThe Dr. Seuss Show will take place on Saturday\, March 1st at:10:00 – Belfry Public Library1:00 – Pike County Public Library (Lee Ave)4:00 – Elkhorn City Public Library\nNo registration is required.
URL:https://visitpikeville.com/event/the-dr-seuss-show-2/
LOCATION:Pike County Public Library\, 126 Lee Avenue\, Pikeville\, KY\, 41501\, United States
CATEGORIES:Pike County Public Library
ATTACH;FMTTYPE=image/jpeg:https://visitpikeville.com/wp-content/uploads/2025/02/dr-seuss.jpg
END:VEVENT
BEGIN:VEVENT
DTSTART;TZID=America/Kentucky/Louisville:20250301T130000
DTEND;TZID=America/Kentucky/Louisville:20250301T150000
DTSTAMP:20260424T115726
CREATED:20241209T131006Z
LAST-MODIFIED:20241209T131006Z
UID:60610-1740834000-1740841200@visitpikeville.com
SUMMARY:Softball vs Georgetown College
DESCRIPTION:Game Day!!
URL:https://visitpikeville.com/event/softball-vs-georgetown-college-2/
LOCATION:Paul Butcher Field\, 134 Bank St\,\, Pikeville\, KY\, 41501\, United States
CATEGORIES:UPike
ATTACH;FMTTYPE=image/png:https://visitpikeville.com/wp-content/uploads/2024/12/Screenshot-2024-12-09-at-8.08.50 AM.png
END:VEVENT
BEGIN:VEVENT
DTSTART;TZID=America/Kentucky/Louisville:20250301T150000
DTEND;TZID=America/Kentucky/Louisville:20250301T170000
DTSTAMP:20260424T115726
CREATED:20241111T191059Z
LAST-MODIFIED:20241111T191059Z
UID:59559-1740841200-1740848400@visitpikeville.com
SUMMARY:Baseball vs Johnson University
DESCRIPTION:Game Day!!
URL:https://visitpikeville.com/event/baseball-vs-johnson-university-4-2-2/
LOCATION:Johnnie LeMaster Field\, 118 W River Dr\,\, Pikeville\, KY\, 41501\, United States
CATEGORIES:UPike
ATTACH;FMTTYPE=image/png:https://visitpikeville.com/wp-content/uploads/2024/11/Screenshot-2024-11-11-at-2.06.40 PM.png
END:VEVENT
BEGIN:VEVENT
DTSTART;TZID=America/Kentucky/Louisville:20250301T193000
DTEND;TZID=America/Kentucky/Louisville:20250301T213000
DTSTAMP:20260424T115726
CREATED:20250227T223345Z
LAST-MODIFIED:20250227T223345Z
UID:63079-1740857400-1740864600@visitpikeville.com
SUMMARY:Dempsey and Hall
DESCRIPTION:@Bank 253
URL:https://visitpikeville.com/event/dempsey-and-hall/
LOCATION:Bank 253\, 253 2nd St\,\, Pikeville\, KY\, 41501\, United States
CATEGORIES:Other
ATTACH;FMTTYPE=image/jpeg:https://visitpikeville.com/wp-content/uploads/2025/02/dempsey.jpg
END:VEVENT
BEGIN:VEVENT
DTSTART;TZID=America/Kentucky/Louisville:20250302T090000
DTEND;TZID=America/Kentucky/Louisville:20250302T100000
DTSTAMP:20260424T115726
CREATED:20241008T134848Z
LAST-MODIFIED:20241008T134848Z
UID:58153-1740906000-1740909600@visitpikeville.com
SUMMARY:Men's Tennis vs Brenau University (Ga.)
DESCRIPTION:Game Day!!
URL:https://visitpikeville.com/event/mens-tennis-vs-brenau-university-ga/
LOCATION:Bob Amos Park\, 424 Bob Amos Dr\, Pikeville\, Ky\, 41501
CATEGORIES:UPike
ATTACH;FMTTYPE=image/png:https://visitpikeville.com/wp-content/uploads/2024/10/Screenshot-2024-10-08-at-9.45.57 AM.png
END:VEVENT
BEGIN:VEVENT
DTSTART;TZID=America/Kentucky/Louisville:20250302T090000
DTEND;TZID=America/Kentucky/Louisville:20250302T100000
DTSTAMP:20260424T115726
CREATED:20241008T135354Z
LAST-MODIFIED:20241008T135354Z
UID:58158-1740906000-1740909600@visitpikeville.com
SUMMARY:Women's Tennis vs Brenau University (Ga.)
DESCRIPTION:Game Day!!
URL:https://visitpikeville.com/event/womens-tennis-vs-brenau-university-ga/
LOCATION:Bob Amos Park\, 424 Bob Amos Dr\, Pikeville\, Ky\, 41501
CATEGORIES:UPike
ATTACH;FMTTYPE=image/png:https://visitpikeville.com/wp-content/uploads/2024/10/Screenshot-2024-10-08-at-9.53.39 AM.png
END:VEVENT
BEGIN:VEVENT
DTSTART;TZID=America/Kentucky/Louisville:20250303T080000
DTEND;TZID=America/Kentucky/Louisville:20250306T190000
DTSTAMP:20260424T115726
CREATED:20250303T142715Z
LAST-MODIFIED:20250303T142715Z
UID:63147-1740988800-1741287600@visitpikeville.com
SUMMARY:Extended Hours
DESCRIPTION:The Pike County Health Department locations\, Pikeville and Belfry\, will have extended hours through March 7th for vaccination services. Belfry location will also provide services tomorrow\, February 27\, 2025\, from 9:00 am to 4:00 pm.
URL:https://visitpikeville.com/event/extended-hours/
LOCATION:Pike County Health Department\, 119 River Drive\,\, Pikeville\, KY\, 41501\, United States
CATEGORIES:Pike County Health Department
ATTACH;FMTTYPE=image/jpeg:https://visitpikeville.com/wp-content/uploads/2025/03/EXTENDED.jpg
END:VEVENT
BEGIN:VEVENT
DTSTART;TZID=America/Kentucky/Louisville:20250303T114500
DTEND;TZID=America/Kentucky/Louisville:20250303T153000
DTSTAMP:20260424T115726
CREATED:20250303T142256Z
LAST-MODIFIED:20250303T142314Z
UID:63143-1741002300-1741015800@visitpikeville.com
SUMMARY:Replacing Vital Records Certificates
DESCRIPTION:The Office of Vital Statistics will be on site at two of the Disaster Recovery Centers in Pike County starting next week to assist those who lost important identification documents during the flood event.\n\n\nIf you have additional questions or need assistance\, you can call the health department at 606-509-5500.
URL:https://visitpikeville.com/event/replacing-vital-records-certificates/
LOCATION:Pike County Public Library\, 126 Lee Avenue\, Pikeville\, KY\, 41501\, United States
CATEGORIES:Pike County Health Department,Pike County Public Library
ATTACH;FMTTYPE=image/jpeg:https://visitpikeville.com/wp-content/uploads/2025/03/certificates.jpg
END:VEVENT
BEGIN:VEVENT
DTSTART;TZID=America/Kentucky/Louisville:20250303T140000
DTEND;TZID=America/Kentucky/Louisville:20250303T160000
DTSTAMP:20260424T115726
CREATED:20250303T130344Z
LAST-MODIFIED:20250303T130344Z
UID:63113-1741010400-1741017600@visitpikeville.com
SUMMARY:Softball vs Alice Lloyd College (Ky.)
DESCRIPTION:Game Day!
URL:https://visitpikeville.com/event/softball-vs-alice-lloyd-college-ky-3/
LOCATION:Paul Butcher Field\, 134 Bank St\,\, Pikeville\, KY\, 41501\, United States
CATEGORIES:UPike
ATTACH;FMTTYPE=image/png:https://visitpikeville.com/wp-content/uploads/2025/03/Screenshot-2025-03-03-at-8.01.21 AM.png
END:VEVENT
BEGIN:VEVENT
DTSTART;TZID=America/Kentucky/Louisville:20250303T160000
DTEND;TZID=America/Kentucky/Louisville:20250303T173000
DTSTAMP:20260424T115726
CREATED:20250303T145523Z
LAST-MODIFIED:20250303T145523Z
UID:63182-1741017600-1741023000@visitpikeville.com
SUMMARY:Teen Activity Club
DESCRIPTION:Teen Activity Club is a craft group for kids ages 13-18. Teen Activity Club meets at the Pike County Public Library (Lee Avenue) on alternating Mondays at 4:00.
URL:https://visitpikeville.com/event/teen-activity-club-8-2-2-2-2-2-2-2-2-2-2-2-2-2-2-2-2-2-2-2-2-2/
LOCATION:Pike County Public Library\, 126 Lee Avenue\, Pikeville\, KY\, 41501\, United States
CATEGORIES:Pike County Public Library
ATTACH;FMTTYPE=image/png:https://visitpikeville.com/wp-content/uploads/2023/12/Teen_Activity_Club.png
END:VEVENT
BEGIN:VEVENT
DTSTART;TZID=America/Kentucky/Louisville:20250303T160000
DTEND;TZID=America/Kentucky/Louisville:20250303T180000
DTSTAMP:20260424T115726
CREATED:20250303T130419Z
LAST-MODIFIED:20250303T130419Z
UID:63116-1741017600-1741024800@visitpikeville.com
SUMMARY:Softball vs Alice Lloyd College (Ky.)
DESCRIPTION:Game Day!
URL:https://visitpikeville.com/event/softball-vs-alice-lloyd-college-ky-3-2/
LOCATION:Paul Butcher Field\, 134 Bank St\,\, Pikeville\, KY\, 41501\, United States
CATEGORIES:UPike
ATTACH;FMTTYPE=image/png:https://visitpikeville.com/wp-content/uploads/2025/03/Screenshot-2025-03-03-at-8.01.21 AM.png
END:VEVENT
BEGIN:VEVENT
DTSTART;TZID=America/Kentucky/Louisville:20250303T200000
DTEND;TZID=America/Kentucky/Louisville:20250303T220000
DTSTAMP:20260424T115726
CREATED:20250217T141922Z
LAST-MODIFIED:20250217T141922Z
UID:62873-1741032000-1741039200@visitpikeville.com
SUMMARY:Esports vs University of Akron
DESCRIPTION:Game Day!
URL:https://visitpikeville.com/event/esports-vs-university-of-akron/
LOCATION:UPIKE\, 147 Sycamore St\,\, Pikeville\, KY\, 41501\, United States
CATEGORIES:UPike
ATTACH;FMTTYPE=image/png:https://visitpikeville.com/wp-content/uploads/2025/02/Screenshot-2025-02-17-at-9.18.15 AM.png
END:VEVENT
BEGIN:VEVENT
DTSTART;TZID=America/Kentucky/Louisville:20250304T103000
DTEND;TZID=America/Kentucky/Louisville:20250304T113000
DTSTAMP:20260424T115726
CREATED:20250303T150210Z
LAST-MODIFIED:20250303T150210Z
UID:63188-1741084200-1741087800@visitpikeville.com
SUMMARY:Smartphone Basics
DESCRIPTION:Join us for a hands-on class designed to help patrons learn how to use their cell phones with confidence! We’ll cover the basics\, as well as explore using apps and adjusting settings. \n\n\n\n\n\n\n  \nBring your phone and your questions—our friendly staff will guide you every step of the way.
URL:https://visitpikeville.com/event/smartphone-basics/
LOCATION:Pike County Public Library\, 126 Lee Avenue\, Pikeville\, KY\, 41501\, United States
CATEGORIES:Pike County Health Department
END:VEVENT
BEGIN:VEVENT
DTSTART;TZID=America/Kentucky/Louisville:20250304T120000
DTEND;TZID=America/Kentucky/Louisville:20250311T120000
DTSTAMP:20260424T115726
CREATED:20250203T132712Z
LAST-MODIFIED:20250203T132712Z
UID:62667-1741089600-1741694400@visitpikeville.com
SUMMARY:15th Region Tournament
DESCRIPTION:Mar 04\, 2025\, 12:00 PM – Mar 11\, 2025\, 12:00 PM \nPikeville\, 126 Main St\, Pikeville\, KY 41501\, USA
URL:https://visitpikeville.com/event/15th-region-tournament/
LOCATION:Appalachian Wireless Arena\, 126 Main Street\, Pikeville\, Ky\, 41501
CATEGORIES:Appalachian Wireless Arena
ATTACH;FMTTYPE=image/webp:https://visitpikeville.com/wp-content/uploads/2025/02/tournament.webp
END:VEVENT
BEGIN:VEVENT
DTSTART;TZID=America/Kentucky/Louisville:20250304T140000
DTEND;TZID=America/Kentucky/Louisville:20250304T150000
DTSTAMP:20260424T115726
CREATED:20250303T150627Z
LAST-MODIFIED:20250303T150627Z
UID:63194-1741096800-1741100400@visitpikeville.com
SUMMARY:Teen Guitar Class B
DESCRIPTION:Beginner guitar lessons for patrons ages 13-17. This class will be for 8 weeks\, meeting weekly in March and April. Please bring your own instrument. Registration required. \n\n\n\n\n\n\n  \nMeets every Tuesday at 2:00 March 4 – April 22.
URL:https://visitpikeville.com/event/teen-guitar-class-b/
LOCATION:Pike County Public Library\, 126 Lee Avenue\, Pikeville\, KY\, 41501\, United States
CATEGORIES:Pike County Public Library
ATTACH;FMTTYPE=image/png:https://visitpikeville.com/wp-content/uploads/2025/03/Homeschool_Guitar_Lessons.png
END:VEVENT
BEGIN:VEVENT
DTSTART;TZID=America/Kentucky/Louisville:20250304T170000
DTEND;TZID=America/Kentucky/Louisville:20250304T180000
DTSTAMP:20260424T115726
CREATED:20250303T150301Z
LAST-MODIFIED:20250303T150301Z
UID:63190-1741107600-1741111200@visitpikeville.com
SUMMARY:Book Talks
DESCRIPTION:Book Talks is a book club that meets for discussion the first Tuesday of the month at 5:00 at the Pike County Public Library (Lee Avenue). No registration required.
URL:https://visitpikeville.com/event/book-talks-book-club-9-2-2-2-2-2-2-2-2-2-2-2-2-2-2-2-2-2-2-2-2-2-2-2-2-2-2-2-2-2-2-2-2/
LOCATION:Pike County Public Library\, 126 Lee Avenue\, Pikeville\, KY\, 41501\, United States
CATEGORIES:Pike County Public Library
ATTACH;FMTTYPE=image/png:https://visitpikeville.com/wp-content/uploads/2025/01/Book_Talks_Book_Club_UPDATED.png
END:VEVENT
BEGIN:VEVENT
DTSTART;TZID=America/Kentucky/Louisville:20250304T170000
DTEND;TZID=America/Kentucky/Louisville:20250304T180000
DTSTAMP:20260424T115726
CREATED:20250303T151030Z
LAST-MODIFIED:20250303T151030Z
UID:63203-1741107600-1741111200@visitpikeville.com
SUMMARY:Adult Guitar Class
DESCRIPTION:Beginner guitar lessons for patrons ages 18+. This class will be for 8 weeks\, meeting weekly in February and March. Please bring your own instrument. Registration required. \n\n\n\n\n\n\n  \nMeets every Tuesday at 5:00 Feb 4 – March 25.
URL:https://visitpikeville.com/event/adult-guitar-class-3/
LOCATION:Pike County Public Library\, 126 Lee Avenue\, Pikeville\, KY\, 41501\, United States
CATEGORIES:Pike County Health Department
ATTACH;FMTTYPE=image/png:https://visitpikeville.com/wp-content/uploads/2025/03/Beginner_Guitar_Classes.png
END:VEVENT
BEGIN:VEVENT
DTSTART;TZID=America/Kentucky/Louisville:20250304T173000
DTEND;TZID=America/Kentucky/Louisville:20250304T183000
DTSTAMP:20260424T115726
CREATED:20250303T151438Z
LAST-MODIFIED:20250303T151438Z
UID:63212-1741109400-1741113000@visitpikeville.com
SUMMARY:Sign Language Class
DESCRIPTION:Learn the basics of American Sign Language with this 4-week introductory class! \n\n\n\n\n\n\n  \nThis class meets every Tuesday in March at 5:30 at the Pike County Public Library (Lee Avenue) and is suitable for all ages. No registration required. \nPlease note the Sign Language Class at the library is a free community event that does not result in participants earning any kind of diploma\, legal certificate\, or credential.
URL:https://visitpikeville.com/event/sign-language-class-4/
LOCATION:Pike County Public Library\, 126 Lee Avenue\, Pikeville\, KY\, 41501\, United States
CATEGORIES:Pike County Public Library
ATTACH;FMTTYPE=image/png:https://visitpikeville.com/wp-content/uploads/2025/03/SignLangMAR.png
END:VEVENT
BEGIN:VEVENT
DTSTART;TZID=America/Kentucky/Louisville:20250304T190000
DTEND;TZID=America/Kentucky/Louisville:20250304T210000
DTSTAMP:20260424T115726
CREATED:20250217T142411Z
LAST-MODIFIED:20250217T142411Z
UID:62876-1741114800-1741122000@visitpikeville.com
SUMMARY:Esports vs Concord University
DESCRIPTION:Game Day!
URL:https://visitpikeville.com/event/esports-vs-concord-university/
LOCATION:UPIKE\, 147 Sycamore St\,\, Pikeville\, KY\, 41501\, United States
CATEGORIES:UPike
ATTACH;FMTTYPE=image/png:https://visitpikeville.com/wp-content/uploads/2025/02/Screenshot-2025-02-17-at-9.19.32 AM.png
END:VEVENT
BEGIN:VEVENT
DTSTART;TZID=America/Kentucky/Louisville:20250305T103000
DTEND;TZID=America/Kentucky/Louisville:20250305T113000
DTSTAMP:20260424T115726
CREATED:20250303T151845Z
LAST-MODIFIED:20250303T151845Z
UID:63221-1741170600-1741174200@visitpikeville.com
SUMMARY:BASIC COMPUTER SKILLS
DESCRIPTION:Learn technology basics like e-mail\, smart phones\, social media\, and more. Meets alternating Wednesdays at 10:30 at the Pike County Public Library (Lee Avenue). No registration required.
URL:https://visitpikeville.com/event/basic-computer-skills-3-2-2-2-2-2-2-2-2-2-2-2-2-2-2-2-2-2-2-2-2-2-2-2-2/
LOCATION:Pike County Public Library\, 126 Lee Avenue\, Pikeville\, KY\, 41501\, United States
CATEGORIES:Pike County Public Library
ATTACH;FMTTYPE=image/jpeg:https://visitpikeville.com/wp-content/uploads/2024/12/computer-skills.jpg
END:VEVENT
BEGIN:VEVENT
DTSTART;TZID=America/Kentucky/Louisville:20250305T130000
DTEND;TZID=America/Kentucky/Louisville:20250305T150000
DTSTAMP:20260424T115726
CREATED:20241209T131405Z
LAST-MODIFIED:20241209T131405Z
UID:60616-1741179600-1741186800@visitpikeville.com
SUMMARY:Softball vs Columbia College
DESCRIPTION:Game Day!!
URL:https://visitpikeville.com/event/softball-vs-columbia-college/
LOCATION:Paul Butcher Field\, 134 Bank St\,\, Pikeville\, KY\, 41501\, United States
CATEGORIES:UPike
ATTACH;FMTTYPE=image/png:https://visitpikeville.com/wp-content/uploads/2024/12/Screenshot-2024-12-09-at-8.12.27 AM.png
END:VEVENT
BEGIN:VEVENT
DTSTART;TZID=America/Kentucky/Louisville:20250305T150000
DTEND;TZID=America/Kentucky/Louisville:20250305T170000
DTSTAMP:20260424T115726
CREATED:20241209T131457Z
LAST-MODIFIED:20250127T151320Z
UID:60619-1741186800-1741194000@visitpikeville.com
SUMMARY:Softball vs Columbia College
DESCRIPTION:Game Day!!
URL:https://visitpikeville.com/event/softball-vs-columbia-college-2/
LOCATION:Paul Butcher Field\, 134 Bank St\,\, Pikeville\, KY\, 41501\, United States
CATEGORIES:UPike
ATTACH;FMTTYPE=image/png:https://visitpikeville.com/wp-content/uploads/2024/12/Screenshot-2024-12-09-at-8.12.27 AM.png
END:VEVENT
BEGIN:VEVENT
DTSTART;TZID=America/Kentucky/Louisville:20250305T163000
DTEND;TZID=America/Kentucky/Louisville:20250305T173000
DTSTAMP:20260424T115726
CREATED:20250303T152117Z
LAST-MODIFIED:20250303T152117Z
UID:63225-1741192200-1741195800@visitpikeville.com
SUMMARY:Teen Guitar Class A
DESCRIPTION:Beginner guitar lessons for patrons ages 13-17. This class will be for 8 weeks\, meeting weekly in February and March. Please bring your own instrument. Registration required. \n\n\n\n\n\n\n  \nMeets every Wednesday at 4:30 Feb 5 – March 26.
URL:https://visitpikeville.com/event/teen-guitar-class-a/
LOCATION:Pike County Public Library\, 126 Lee Avenue\, Pikeville\, KY\, 41501\, United States
CATEGORIES:Pike County Public Library
ATTACH;FMTTYPE=image/png:https://visitpikeville.com/wp-content/uploads/2025/03/teen-guitar-a.png
END:VEVENT
BEGIN:VEVENT
DTSTART;TZID=America/Kentucky/Louisville:20250305T173000
DTEND;TZID=America/Kentucky/Louisville:20250305T193000
DTSTAMP:20260424T115726
CREATED:20250303T155745Z
LAST-MODIFIED:20250303T155745Z
UID:63281-1741195800-1741203000@visitpikeville.com
SUMMARY:Tulip Painting
DESCRIPTION:Beginning acrylic painting
URL:https://visitpikeville.com/event/tulip-painting/
LOCATION:2 Broke Art Teachers\, 4505 Weddington Square\,\, Pikeville\, KY\, 41501\, United States
CATEGORIES:Other
ATTACH;FMTTYPE=image/jpeg:https://visitpikeville.com/wp-content/uploads/2025/03/tulip.jpg
END:VEVENT
BEGIN:VEVENT
DTSTART;TZID=America/Kentucky/Louisville:20250305T173000
DTEND;TZID=America/Kentucky/Louisville:20250305T193000
DTSTAMP:20260424T115726
CREATED:20250303T160457Z
LAST-MODIFIED:20250303T160457Z
UID:63293-1741195800-1741203000@visitpikeville.com
SUMMARY:Awaiting Spring
DESCRIPTION:$30
URL:https://visitpikeville.com/event/awaiting-spring/
LOCATION:2 Broke Art Teachers\, 4505 Weddington Square\,\, Pikeville\, KY\, 41501\, United States
CATEGORIES:Other
ATTACH;FMTTYPE=image/jpeg:https://visitpikeville.com/wp-content/uploads/2025/03/awaiting-spring.jpg
END:VEVENT
BEGIN:VEVENT
DTSTART;TZID=America/Kentucky/Louisville:20250305T190000
DTEND;TZID=America/Kentucky/Louisville:20250305T210000
DTSTAMP:20260424T115726
CREATED:20250303T135705Z
LAST-MODIFIED:20250303T135705Z
UID:63138-1741201200-1741208400@visitpikeville.com
SUMMARY:They Promised Her The Moon
DESCRIPTION:UPIKE Theatre is proud to present our production of “They Promised Her the Moon” by Laurel Ollstein directed by our very own UPIKE Theatre student\, Amanda Tharp!Based on the true story of American pilot Jerrie Cobb\, the first woman to be selected for test for space flight\, our student-led production of this show is a compelling story you won’t want to miss out on.UPIKE Theatre will be collecting cash donations for flood relief at the door in lieu of an admission fee.
URL:https://visitpikeville.com/event/they-promised-her-the-moon/
LOCATION:Appalachian Center for the Arts\, 218 2nd St\,\, Pikeville\, Ky\, 41501
CATEGORIES:The Appalachian Center for the Arts
ATTACH;FMTTYPE=image/jpeg:https://visitpikeville.com/wp-content/uploads/2025/03/moon.jpg
END:VEVENT
BEGIN:VEVENT
DTSTART;TZID=America/Kentucky/Louisville:20250306T080000
DTEND;TZID=America/Kentucky/Louisville:20250306T170000
DTSTAMP:20260424T115726
CREATED:20241008T130132Z
LAST-MODIFIED:20241008T130132Z
UID:58145-1741248000-1741280400@visitpikeville.com
SUMMARY:Patton Leadership Institute | Class of 2025
DESCRIPTION:Program Summary\n\n\n\n\n\nNamed in honor of the leadership that Kentucky Governor Paul and Judi Patton have exhibited throughout their careers. Patton Leadership Institute (PLI) is a regional leadership development program that covers eight eastern Kentucky counties. PLI builds cohorts of emerging leaders from throughout the region\, who have assumed leadership roles in their communities but may not hold established positions. \nParticipants in the program attend a two-day opening retreat and eight day-long sessions. The curriculum weaves together topics crucial to the development of community such as education\, economic development\, health care\, energy\, tourism\, and government. Key leadership skills are integrated into each session.\n \n\n\nProgram Tuition\n\n\n\n\n\nSoutheast Kentucky Chamber members receive members only pricing of $750 for tuition. Non-member program tuition is $1\,000. \nProgram tuition includes: \n\nAll Meals\nReading and study materials\nEntrance fees at all destinations\nProgram speakers and facilitators\nLodging (during opening retreat)
URL:https://visitpikeville.com/event/patton-leadership-institute-class-of-2025/
LOCATION:KY
CATEGORIES:Southeast Kentucky Chamber
ATTACH;FMTTYPE=image/png:https://visitpikeville.com/wp-content/uploads/2024/10/Patton-Leadership-Institute-logo.png
END:VEVENT
END:VCALENDAR