BEGIN:VCALENDAR
VERSION:2.0
PRODID:-//Visit Pikeville - ECPv6.15.20//NONSGML v1.0//EN
CALSCALE:GREGORIAN
METHOD:PUBLISH
X-ORIGINAL-URL:https://visitpikeville.com
X-WR-CALDESC:Events for Visit Pikeville
REFRESH-INTERVAL;VALUE=DURATION:PT1H
X-Robots-Tag:noindex
X-PUBLISHED-TTL:PT1H
BEGIN:VTIMEZONE
TZID:America/Kentucky/Louisville
BEGIN:DAYLIGHT
TZOFFSETFROM:-0500
TZOFFSETTO:-0400
TZNAME:EDT
DTSTART:20250309T070000
END:DAYLIGHT
BEGIN:STANDARD
TZOFFSETFROM:-0400
TZOFFSETTO:-0500
TZNAME:EST
DTSTART:20251102T060000
END:STANDARD
BEGIN:DAYLIGHT
TZOFFSETFROM:-0500
TZOFFSETTO:-0400
TZNAME:EDT
DTSTART:20260308T070000
END:DAYLIGHT
BEGIN:STANDARD
TZOFFSETFROM:-0400
TZOFFSETTO:-0500
TZNAME:EST
DTSTART:20261101T060000
END:STANDARD
BEGIN:DAYLIGHT
TZOFFSETFROM:-0500
TZOFFSETTO:-0400
TZNAME:EDT
DTSTART:20270314T070000
END:DAYLIGHT
BEGIN:STANDARD
TZOFFSETFROM:-0400
TZOFFSETTO:-0500
TZNAME:EST
DTSTART:20271107T060000
END:STANDARD
END:VTIMEZONE
BEGIN:VEVENT
DTSTART;TZID=America/Kentucky/Louisville:20260325T140000
DTEND;TZID=America/Kentucky/Louisville:20260325T150000
DTSTAMP:20260421T202150
CREATED:20260302T145358Z
LAST-MODIFIED:20260302T145358Z
UID:73360-1774447200-1774450800@visitpikeville.com
SUMMARY:Adult Guitar Class 2
DESCRIPTION:Beginner guitar lessons for patrons ages 18+. This class meets weekly on Wednesdays at 2:00. Please bring your own instrument. Registration required. \n\n\n\n\n\n\n  \nCall the library at 606-437-6001 to check availability.
URL:https://visitpikeville.com/event/adult-guitar-class-4-2-2-2-2-2-2-2-2-2-2-2-2-2-2-2-2-2-2-2-2-2-2-2-2-2-2-2-2-2-2-2-3-2-2-2-2-2-2-2-2-2/
LOCATION:Pike County Public Library\, 126 Lee Avenue\, Pikeville\, KY\, 41501\, United States
CATEGORIES:Pike County Public Library
ATTACH;FMTTYPE=image/png:https://visitpikeville.com/wp-content/uploads/2025/05/theory.png
END:VEVENT
BEGIN:VEVENT
DTSTART;TZID=America/Kentucky/Louisville:20260325T163000
DTEND;TZID=America/Kentucky/Louisville:20260325T173000
DTSTAMP:20260421T202150
CREATED:20260302T145639Z
LAST-MODIFIED:20260302T145639Z
UID:73368-1774456200-1774459800@visitpikeville.com
SUMMARY:Teen Guitar Class 1
DESCRIPTION:Beginner guitar lessons for patrons ages 13-17. This class meets weekly on Wednesdays at 4:30. Please bring your own instrument. Registration required.
URL:https://visitpikeville.com/event/teen-guitar-class-1-2-2-2-2-2-2-2-2-2/
LOCATION:Pike County Public Library\, 126 Lee Avenue\, Pikeville\, KY\, 41501\, United States
CATEGORIES:Pike County Public Library
ATTACH;FMTTYPE=image/png:https://visitpikeville.com/wp-content/uploads/2026/01/music.png
END:VEVENT
BEGIN:VEVENT
DTSTART;TZID=America/Kentucky/Louisville:20260325T170000
DTEND;TZID=America/Kentucky/Louisville:20260325T180000
DTSTAMP:20260421T202150
CREATED:20260309T150837Z
LAST-MODIFIED:20260309T150837Z
UID:73544-1774458000-1774461600@visitpikeville.com
SUMMARY:Smoking Cessation
DESCRIPTION:Wednesdays 5-7pm
URL:https://visitpikeville.com/event/smoking-cessation-3-2-2/
LOCATION:Pike County Health Department\, 119 River Drive\,\, Pikeville\, KY\, 41501\, United States
CATEGORIES:Pike County Health Department
ATTACH;FMTTYPE=image/jpeg:https://visitpikeville.com/wp-content/uploads/2026/03/pchd-newsletter.jpg
END:VEVENT
BEGIN:VEVENT
DTSTART;TZID=America/Kentucky/Louisville:20260325T200000
DTEND;TZID=America/Kentucky/Louisville:20260325T220000
DTSTAMP:20260421T202150
CREATED:20260209T154757Z
LAST-MODIFIED:20260209T154757Z
UID:72904-1774468800-1774476000@visitpikeville.com
SUMMARY:Esports vs Calvin University
DESCRIPTION:League of Legends
URL:https://visitpikeville.com/event/esports-vs-calvin-university/
LOCATION:University Of Pikeville\, 147 Sycamore St\,\, Pikeville\, KY\, 41501\, United States
CATEGORIES:UPike
ATTACH;FMTTYPE=image/png:https://visitpikeville.com/wp-content/uploads/2026/02/Screenshot-2026-02-09-at-10.46.43-AM.png
END:VEVENT
BEGIN:VEVENT
DTSTART;TZID=America/Kentucky/Louisville:20260326T100000
DTEND;TZID=America/Kentucky/Louisville:20260326T140000
DTSTAMP:20260421T202150
CREATED:20260316T131724Z
LAST-MODIFIED:20260316T131724Z
UID:73587-1774519200-1774533600@visitpikeville.com
SUMMARY:Scrubs\, Scopes & Career Hopes PMC Hiring Event
DESCRIPTION:Ready to take the next step after graduation? Join Pikeville Medical Center for a special hiring event designed for new and upcoming healthcare graduates as well as experienced professionals looking to grow their careers.\nThis event is a great opportunity to connect with our team\, learn more about our culture\, explore open positions\, and take the next step in your healthcare journey.
URL:https://visitpikeville.com/event/scrubs-scopes-career-hopes-pmc-hiring-event/
LOCATION:Workforce Innovation Center at Pikeville Medical Center\, 190 S Mayo Trail\,\, Pikeville\, KY\, 41501\, United States
CATEGORIES:Pikeville Medical Center
ATTACH;FMTTYPE=image/jpeg:https://visitpikeville.com/wp-content/uploads/2026/03/scrubs-and-scopes.jpg
END:VEVENT
BEGIN:VEVENT
DTSTART;TZID=America/Kentucky/Louisville:20260326T110000
DTEND;TZID=America/Kentucky/Louisville:20260326T120000
DTSTAMP:20260421T202150
CREATED:20260302T151333Z
LAST-MODIFIED:20260302T151333Z
UID:73404-1774522800-1774526400@visitpikeville.com
SUMMARY:Story Time
DESCRIPTION:Story Time is for children ages 5 and under and features books\, action/movement\, songs\, and a craft. Story Time is held Thursdays at 11:00 and 2:00 and Saturdays at 11:00. \n\n\n\n\n\n\n  \nBesides being fun\, Story Time also helps develop early literacy and school readiness skills through reading\, singing\, listening\, playing\, and social interaction. This program lasts approximately 30 minutes\, and caregivers and children are encouraged to linger in the library afterwards to further socialize and choose books to take home. \n  \nStory Time begins the first week of September and ends the first week of May.
URL:https://visitpikeville.com/event/story-time-2-2-2-2-2-2-2-2-2-2-2-2-2-2-2-2-2-2-2-2-2-2-2-2-2-2-2-2-2-2-2-2-2-2-2-2-2-2-2-2-2-2-2-2-2-2-2-2-2-2-2-2-2-2-2-3-2-2-2-2-2-2-2-2-2-2-2-2-2-2-2-2-2-2-2-2-2-2-2-2-2-2-2-2-2-2-2-2-2-2-2-2-2-6-4/
LOCATION:Pike County Public Library\, 126 Lee Avenue\, Pikeville\, KY\, 41501\, United States
CATEGORIES:Pike County Public Library
ATTACH;FMTTYPE=image/png:https://visitpikeville.com/wp-content/uploads/2025/10/Story_Time_Schedule_25.png
END:VEVENT
BEGIN:VEVENT
DTSTART;TZID=America/Kentucky/Louisville:20260326T140000
DTEND;TZID=America/Kentucky/Louisville:20260326T150000
DTSTAMP:20260421T202150
CREATED:20260302T151425Z
LAST-MODIFIED:20260302T151425Z
UID:73406-1774533600-1774537200@visitpikeville.com
SUMMARY:Story Time
DESCRIPTION:Story Time is for children ages 5 and under and features books\, action/movement\, songs\, and a craft. Story Time is held Thursdays at 11:00 and 2:00 and Saturdays at 11:00. \n\n\n\n\n\n\n  \nBesides being fun\, Story Time also helps develop early literacy and school readiness skills through reading\, singing\, listening\, playing\, and social interaction. This program lasts approximately 30 minutes\, and caregivers and children are encouraged to linger in the library afterwards to further socialize and choose books to take home. \n  \nStory Time begins the first week of September and ends the first week of May.
URL:https://visitpikeville.com/event/story-time-2-2-2-2-2-2-2-2-2-2-2-2-2-2-2-2-2-2-2-2-2-2-2-2-2-2-2-2-2-2-2-2-2-2-2-2-2-2-2-2-2-2-2-2-2-2-2-2-2-2-2-2-2-2-2-3-2-2-2-2-2-2-2-2-2-2-2-2-2-2-2-2-2-2-2-2-2-2-2-2-2-2-2-2-2-2-2-2-2-2-2-2-2-6-5/
LOCATION:Pike County Public Library\, 126 Lee Avenue\, Pikeville\, KY\, 41501\, United States
CATEGORIES:Pike County Public Library
ATTACH;FMTTYPE=image/png:https://visitpikeville.com/wp-content/uploads/2025/10/Story_Time_Schedule_25.png
END:VEVENT
BEGIN:VEVENT
DTSTART;TZID=America/Kentucky/Louisville:20260326T160000
DTEND;TZID=America/Kentucky/Louisville:20260326T170000
DTSTAMP:20260421T202150
CREATED:20260302T150011Z
LAST-MODIFIED:20260302T150011Z
UID:73376-1774540800-1774544400@visitpikeville.com
SUMMARY:Teen Guitar Class 2
DESCRIPTION:Beginner guitar lessons for patrons ages 13-17. This class meets weekly on Thursdays at 4:00. Please bring your own instrument. Registration required.
URL:https://visitpikeville.com/event/teen-guitar-class-2-3-2-2-2-2-2-2-2-2-2/
LOCATION:Pike County Public Library\, 126 Lee Avenue\, Pikeville\, KY\, 41501\, United States
CATEGORIES:Pike County Public Library
ATTACH;FMTTYPE=image/png:https://visitpikeville.com/wp-content/uploads/2026/01/music.png
END:VEVENT
BEGIN:VEVENT
DTSTART;TZID=America/Kentucky/Louisville:20260326T170000
DTEND;TZID=America/Kentucky/Louisville:20260326T180000
DTSTAMP:20260421T202150
CREATED:20260105T122838Z
LAST-MODIFIED:20260105T122838Z
UID:72175-1774544400-1774548000@visitpikeville.com
SUMMARY:From the Page to the Stage
DESCRIPTION:February 17th-March 27th\, 2026\nMeets: Tuesday / Thursday | 5:00 – 6:00pm\nCommunity Sharing: March 27th\, 2026\nInstructor: Crockett J. Ward \nThis class is perfect for those individuals who want MORE out of a script. In this class\, actors\, writers\, directors\, literary enthusiasts\, all will learn how to dissect a script to the core and build a world full of life. Whether your desire is to be a better actor\, or you just want something to investigate\, we have space for you. The purpose will be developing their own method for analysis through the work of Michael Shurtleff and the 12 guideposts. There will be a performance-based aspect to this class. Community sharing is March 27th\, 2026.
URL:https://visitpikeville.com/event/from-the-page-to-the-stage-2-2-2-2-2-2-2-2-2-2-2/
LOCATION:Appalachian Center for the Arts\, 218 2nd St\,\, Pikeville\, Ky\, 41501
CATEGORIES:The Appalachian Center for the Arts
ATTACH;FMTTYPE=image/jpeg:https://visitpikeville.com/wp-content/uploads/2026/01/page.jpg
END:VEVENT
BEGIN:VEVENT
DTSTART;TZID=America/Kentucky/Louisville:20260326T170000
DTEND;TZID=America/Kentucky/Louisville:20260326T180000
DTSTAMP:20260421T202150
CREATED:20260302T150616Z
LAST-MODIFIED:20260302T150616Z
UID:73384-1774544400-1774548000@visitpikeville.com
SUMMARY:Music Theory Lecture
DESCRIPTION:Understanding how music works will give you the tools you need to write riffs\, songs\, and solos\, and learn to improvise in a friendly hands-on environment.
URL:https://visitpikeville.com/event/music-theory-lecture-2-2-2-2-2-2-2-2-2-2/
LOCATION:Pike County Public Library\, 126 Lee Avenue\, Pikeville\, KY\, 41501\, United States
CATEGORIES:Pike County Public Library
ATTACH;FMTTYPE=image/png:https://visitpikeville.com/wp-content/uploads/2026/01/music.png
END:VEVENT
BEGIN:VEVENT
DTSTART;TZID=America/Kentucky/Louisville:20260326T170000
DTEND;TZID=America/Kentucky/Louisville:20260326T184500
DTSTAMP:20260421T202150
CREATED:20260302T152323Z
LAST-MODIFIED:20260302T152323Z
UID:73426-1774544400-1774550700@visitpikeville.com
SUMMARY:Dungeons and Dragons
DESCRIPTION:Dungeons and Dragons Group meets every other Thursday at 5:00 at the Pike County Public Library (Lee Avenue). Beginners and experienced players alike are welcome. \n\n\n\n\n\n\n  \nDungeons and Dragons is a role playing game (RPG) where a single player plays as the Dungeon Master\, creating a world that the players interact with. Players act as a group of adventurers working together to complete quests\, slay monsters\, and achieve their own personal goals. The game uses a series of dice to help simulate how successful characters and monsters are at achieving their various goals.
URL:https://visitpikeville.com/event/dungeons-and-dragons-7-2-2-2-2-2-2-2-2-2-2-2-2-2-2-2-2-2/
LOCATION:Pike County Public Library\, 126 Lee Avenue\, Pikeville\, KY\, 41501\, United States
CATEGORIES:Pike County Public Library
ATTACH;FMTTYPE=image/png:https://visitpikeville.com/wp-content/uploads/2025/06/D_D_Group.png
END:VEVENT
BEGIN:VEVENT
DTSTART;TZID=America/Kentucky/Louisville:20260326T170000
DTEND;TZID=America/Kentucky/Louisville:20260326T210000
DTSTAMP:20260421T202150
CREATED:20260309T135118Z
LAST-MODIFIED:20260309T135118Z
UID:73493-1774544400-1774558800@visitpikeville.com
SUMMARY:Sit N Sew Beginners
DESCRIPTION:Come and Join Us
URL:https://visitpikeville.com/event/beginners-sewing-2-2-2-2-2-2-2-2-2-2-2-2-2-2-2-2-2-2-2-2-2-2-2-2-2-2-2-2-2-2-2-2-2-2-2-2-2-2-2-2-3-2-2-2-2-2-2-2-2-2-2-2-2-2-2-2/
LOCATION:Bridgett’s Quilting and Fabric Shop\, 237 2nd St\,\, Pikeville\, KY\, 41501\, United States
CATEGORIES:Pikeville Main Street
ATTACH;FMTTYPE=image/jpeg:https://visitpikeville.com/wp-content/uploads/2023/10/bridgetts.jpeg
END:VEVENT
BEGIN:VEVENT
DTSTART;TZID=America/Kentucky/Louisville:20260326T173000
DTEND;TZID=America/Kentucky/Louisville:20260326T193000
DTSTAMP:20260421T202150
CREATED:20260316T144323Z
LAST-MODIFIED:20260316T144323Z
UID:73640-1774546200-1774553400@visitpikeville.com
SUMMARY:Open Wargaming Nights
DESCRIPTION:Miniatures ready? Dice in hand? Join us for our Open Wargaming Nights every Tuesday\, Thursday\, and Friday at 5:30PM! Where the tables are open and all armies are welcome! Whether you’re deep into a campaign or just learning the ropes\, it’s the perfect night to roll dice\, meet fellow generals\, and get some games in. Casual\, friendly\, and always a good time\, come wage war with us!
URL:https://visitpikeville.com/event/open-wargaming-nights-2-2-2-2/
LOCATION:The Gaming Co.\, 265 Hambley Boulevard\,\, Pikeville\, KY\, 41501\, United States
CATEGORIES:Other
ATTACH;FMTTYPE=image/jpeg:https://visitpikeville.com/wp-content/uploads/2026/03/open-wargaming-night.jpg
END:VEVENT
BEGIN:VEVENT
DTSTART;TZID=America/Kentucky/Louisville:20260326T173000
DTEND;TZID=America/Kentucky/Louisville:20260326T200000
DTSTAMP:20260421T202150
CREATED:20260323T142534Z
LAST-MODIFIED:20260323T142534Z
UID:73687-1774546200-1774555200@visitpikeville.com
SUMMARY:Nerf Night
DESCRIPTION:There’s still time to register for Nerf Night!  Don’t miss out on an evening of fun\, friendly competition\, and nonstop action. Grab your spot before registration closes! Register using the links belowGroup #1: https://operations.daxko.com/programs/redirector.aspx…Group #2: https://operations.daxko.com/programs/redirector.aspx…
URL:https://visitpikeville.com/event/nerf-night/
LOCATION:Pikeville YMCA\, 424 Bob Amos Dr\,\, Pikeville\, Ky\, 41501
CATEGORIES:Pikeville YMCA
ATTACH;FMTTYPE=image/jpeg:https://visitpikeville.com/wp-content/uploads/2026/03/nerf.jpg
END:VEVENT
BEGIN:VEVENT
DTSTART;TZID=America/Kentucky/Louisville:20260326T181500
DTEND;TZID=America/Kentucky/Louisville:20260326T201500
DTSTAMP:20260421T202150
CREATED:20260302T132636Z
LAST-MODIFIED:20260302T132636Z
UID:73313-1774548900-1774556100@visitpikeville.com
SUMMARY:Line Dancing
DESCRIPTION:No Sign-Up Required
URL:https://visitpikeville.com/event/line-dancing-7-2-2-2/
LOCATION:Pike Co. Extension Community Arts\, 148 Trivette Dr\, Pikeville\, KY\, United States
CATEGORIES:Pike County Extension Community Arts
ATTACH;FMTTYPE=image/jpeg:https://visitpikeville.com/wp-content/uploads/2026/03/line-dancing.jpg
END:VEVENT
BEGIN:VEVENT
DTSTART;TZID=America/Kentucky/Louisville:20260326T183000
DTEND;TZID=America/Kentucky/Louisville:20260326T200000
DTSTAMP:20260421T202150
CREATED:20260105T133120Z
LAST-MODIFIED:20260105T133120Z
UID:72238-1774549800-1774555200@visitpikeville.com
SUMMARY:Classical Scene Study
DESCRIPTION:February 17th-March 27th\, 2026\nMeets: Tuesday / Thursday | 6:30 – 8:00pm\nCommunity Sharing: March 27th\, 2026\nInstructor: Crockett J. Ward \nDive into the classics\, from Shakespeare to Lorraine Hansberry with some Arthur Miller thrown in. This class will revolve around exploring a variety of classical texts with the intention of truthful\, period appropriate responses and performance. If you can learn to cook pasta\, or pay rent\, you can learn how to approach classical texts with grace and supported actions. There will be a performance-based aspect to this class. Community sharing is March 27th\, 2026.
URL:https://visitpikeville.com/event/classical-scene-study-2-2-2-2-2-2-2-2-2-2-2/
LOCATION:Appalachian Center for the Arts\, 218 2nd St\,\, Pikeville\, Ky\, 41501
CATEGORIES:The Appalachian Center for the Arts
ATTACH;FMTTYPE=image/jpeg:https://visitpikeville.com/wp-content/uploads/2026/01/classical.jpg
END:VEVENT
BEGIN:VEVENT
DTSTART;VALUE=DATE:20260327
DTEND;VALUE=DATE:20260328
DTSTAMP:20260421T202150
CREATED:20260309T142950Z
LAST-MODIFIED:20260309T142950Z
UID:73509-1774569600-1774655999@visitpikeville.com
SUMMARY:UPIKE Jazz Band Concert
DESCRIPTION:@Record Memorial Building’s Booth Auditorium
URL:https://visitpikeville.com/event/upike-jazz-band-concert/
LOCATION:Record Memorial & Booth Auditorium\, 147 Sycamore Street\,\, KY\, 41501\, United States
CATEGORIES:UPike
ATTACH;FMTTYPE=image/jpeg:https://visitpikeville.com/wp-content/uploads/2026/03/upike-music.jpg
END:VEVENT
BEGIN:VEVENT
DTSTART;TZID=America/Kentucky/Louisville:20260327T051500
DTEND;TZID=America/Kentucky/Louisville:20260327T184500
DTSTAMP:20260421T202150
CREATED:20260105T123703Z
LAST-MODIFIED:20260105T123703Z
UID:72188-1774588500-1774637100@visitpikeville.com
SUMMARY:Scene Study Techniques
DESCRIPTION:February 16th – March 27th\, 2026\nMeets: Mondays / Fridays | 5:15 – 6:45pm\nPerformance: March 27th\, 2026\nInstructor: Audrey Kuykendall \nThis class will emphasize immediate connection to material and scene partners using cold reads from published works\, Sanford Meisner’s Repetition Exercise\, and Uta Hagen’s “Respect for Acting.” With engaging exercises\, any student can improve their listening\, observation\, empathy\, and deductive reasoning skills. A scene will be performed in an evening of sharing open to the community March 27th\, 2026.
URL:https://visitpikeville.com/event/scene-study-techniques-2-2-2-2-2/
LOCATION:Appalachian Center for the Arts\, 218 2nd St\,\, Pikeville\, Ky\, 41501
CATEGORIES:The Appalachian Center for the Arts
ATTACH;FMTTYPE=image/jpeg:https://visitpikeville.com/wp-content/uploads/2026/01/scene.jpg
END:VEVENT
BEGIN:VEVENT
DTSTART;TZID=America/Kentucky/Louisville:20260327T100000
DTEND;TZID=America/Kentucky/Louisville:20260327T110000
DTSTAMP:20260421T202150
CREATED:20260309T151851Z
LAST-MODIFIED:20260309T151851Z
UID:73552-1774605600-1774609200@visitpikeville.com
SUMMARY:National Diabetes Prevention Program
DESCRIPTION:The Pike County Health Department is bringing their free\, CDC-recognized 12-month Diabetes Prevention Program designed to help residents with prediabetes make sustainable lifestyle changes to the library! This evidence-based program includes group sessions focused on healthy eating\, stress management\, and increased physical activity to help participants reduce their risk of developing type 2 diabetes.Get started at the Pike County Public Library on March 20th and 27th at 10:00\, as well as April 3rd at 10:00.
URL:https://visitpikeville.com/event/national-diabetes-prevention-program-2/
LOCATION:Pike County Public Library\, 126 Lee Avenue\, Pikeville\, KY\, 41501\, United States
CATEGORIES:Pike County Health Department,Pike County Public Library
ATTACH;FMTTYPE=image/jpeg:https://visitpikeville.com/wp-content/uploads/2026/03/diabetes.jpg
END:VEVENT
BEGIN:VEVENT
DTSTART;TZID=America/Kentucky/Louisville:20260327T110000
DTEND;TZID=America/Kentucky/Louisville:20260327T130000
DTSTAMP:20260421T202150
CREATED:20260119T135811Z
LAST-MODIFIED:20260119T135811Z
UID:72572-1774609200-1774616400@visitpikeville.com
SUMMARY:Men's Tennis vs Columbia College (S.C.)
DESCRIPTION:Game Day!
URL:https://visitpikeville.com/event/mens-tennis-vs-columbia-college-s-c-2/
LOCATION:Bob Amos Park\, 424 Bob Amos Dr\, Pikeville\, Ky\, 41501
CATEGORIES:UPike
ATTACH;FMTTYPE=image/png:https://visitpikeville.com/wp-content/uploads/2026/01/Screenshot-2026-01-19-at-8.56.29-AM.png
END:VEVENT
BEGIN:VEVENT
DTSTART;TZID=America/Kentucky/Louisville:20260327T110000
DTEND;TZID=America/Kentucky/Louisville:20260327T130000
DTSTAMP:20260421T202150
CREATED:20260119T140008Z
LAST-MODIFIED:20260119T140008Z
UID:72575-1774609200-1774616400@visitpikeville.com
SUMMARY:Women's Tennis vs Columbia College (S.C.)
DESCRIPTION:Game Day!
URL:https://visitpikeville.com/event/womens-tennis-vs-columbia-college-s-c/
LOCATION:Bob Amos Park\, 424 Bob Amos Dr\, Pikeville\, Ky\, 41501
CATEGORIES:UPike
ATTACH;FMTTYPE=image/png:https://visitpikeville.com/wp-content/uploads/2026/01/Screenshot-2026-01-19-at-8.58.53-AM.png
END:VEVENT
BEGIN:VEVENT
DTSTART;TZID=America/Kentucky/Louisville:20260327T130000
DTEND;TZID=America/Kentucky/Louisville:20260327T170000
DTSTAMP:20260421T202150
CREATED:20251027T121314Z
LAST-MODIFIED:20260309T132153Z
UID:70326-1774616400-1774630800@visitpikeville.com
SUMMARY:Softball vs Truett McConnell University
DESCRIPTION:Game Day!
URL:https://visitpikeville.com/event/softball-vs-truett-mcconnell-university-5/
LOCATION:Paul Butcher Field\, 134 Bank St\,\, Pikeville\, KY\, 41501\, United States
CATEGORIES:UPike
ATTACH;FMTTYPE=image/png:https://visitpikeville.com/wp-content/uploads/2025/10/Screenshot-2025-10-27-at-8.08.04-AM.png
END:VEVENT
BEGIN:VEVENT
DTSTART;TZID=America/Kentucky/Louisville:20260327T150000
DTEND;TZID=America/Kentucky/Louisville:20260327T170000
DTSTAMP:20260421T202150
CREATED:20251117T184508Z
LAST-MODIFIED:20251117T184508Z
UID:71358-1774623600-1774630800@visitpikeville.com
SUMMARY:Baseball vs Columbia International University
DESCRIPTION:Game Day!
URL:https://visitpikeville.com/event/baseball-vs-columbia-international-university-3/
LOCATION:Johnnie LeMaster Field\, 118 W River Dr\,\, Pikeville\, KY\, 41501\, United States
CATEGORIES:UPike
ATTACH;FMTTYPE=image/png:https://visitpikeville.com/wp-content/uploads/2025/11/Screenshot-2025-11-17-at-1.43.10-PM.png
END:VEVENT
BEGIN:VEVENT
DTSTART;TZID=America/Kentucky/Louisville:20260327T173000
DTEND;TZID=America/Kentucky/Louisville:20260327T183000
DTSTAMP:20260421T202150
CREATED:20260223T154419Z
LAST-MODIFIED:20260223T154419Z
UID:73177-1774632600-1774636200@visitpikeville.com
SUMMARY:Produce Best Practices Training 2026
DESCRIPTION:For more information call (606)432-2534
URL:https://visitpikeville.com/event/produce-best-practices-training-2026/
LOCATION:Pike County Extension Office\, 148 Trivette Dr\, Pikeville\, KY\, 41501\, United States
CATEGORIES:Pike County Cooperative Extension Office,Pikeville Farmers Market
ATTACH;FMTTYPE=image/jpeg:https://visitpikeville.com/wp-content/uploads/2026/02/produce.jpg
END:VEVENT
BEGIN:VEVENT
DTSTART;TZID=America/Kentucky/Louisville:20260327T173000
DTEND;TZID=America/Kentucky/Louisville:20260327T193000
DTSTAMP:20260421T202150
CREATED:20260316T145211Z
LAST-MODIFIED:20260316T145211Z
UID:73642-1774632600-1774639800@visitpikeville.com
SUMMARY:Open Wargaming Nights
DESCRIPTION:Miniatures ready? Dice in hand? Join us for our Open Wargaming Nights every Tuesday\, Thursday\, and Friday at 5:30PM! Where the tables are open and all armies are welcome! Whether you’re deep into a campaign or just learning the ropes\, it’s the perfect night to roll dice\, meet fellow generals\, and get some games in. Casual\, friendly\, and always a good time\, come wage war with us!
URL:https://visitpikeville.com/event/open-wargaming-nights-2-2-2-2-2/
LOCATION:The Gaming Co.\, 265 Hambley Boulevard\,\, Pikeville\, KY\, 41501\, United States
CATEGORIES:Other
ATTACH;FMTTYPE=image/jpeg:https://visitpikeville.com/wp-content/uploads/2026/03/open-wargaming-night.jpg
END:VEVENT
BEGIN:VEVENT
DTSTART;TZID=America/Kentucky/Louisville:20260327T180000
DTEND;TZID=America/Kentucky/Louisville:20260327T200000
DTSTAMP:20260421T202150
CREATED:20260309T143112Z
LAST-MODIFIED:20260309T143112Z
UID:73513-1774634400-1774641600@visitpikeville.com
SUMMARY:Book Club Meeting
DESCRIPTION:@FaithLife
URL:https://visitpikeville.com/event/book-club-meeting/
LOCATION:Faith Life Market\, 130 Division St\,\, Pikeville\, KY\, 41501\, United States
CATEGORIES:Other
ATTACH;FMTTYPE=image/jpeg:https://visitpikeville.com/wp-content/uploads/2025/07/faith.jpg
END:VEVENT
BEGIN:VEVENT
DTSTART;TZID=America/Kentucky/Louisville:20260327T190000
DTEND;TZID=America/Kentucky/Louisville:20260327T200000
DTSTAMP:20260421T202150
CREATED:20260105T143722Z
LAST-MODIFIED:20260105T143722Z
UID:72275-1774638000-1774641600@visitpikeville.com
SUMMARY:Teen Improv (ages 12-18)
DESCRIPTION:February 16th – March 27th\, 2026\nMeets: Monday / Friday | 7:00 – 8:00pm\nCommunity Sharing: March 27th\, 2026\nInstructor: Crockett J. Ward \nThis class is dedicated to forming the foundation of improvisation. Whether you are an experienced actor or just looking to grow out of your comfort zone\, you will fit in. We will be covering a number of games and experiences to better hone the ideas of “yes\, and”\, “never no”\, and a host of other intricacies. The culmination of this class is an improv competition between the Teen Improvisers and the Adult Improvisers. If you are looking to have fun and make lifelong friends\, you have found the right class! There will be a performance-based aspect to this class. Community sharing is March 27th\, 2026.
URL:https://visitpikeville.com/event/teen-improv-ages-12-18-2-2-2-2-2-2-2-2-2-2-2/
LOCATION:Appalachian Center for the Arts\, 218 2nd St\,\, Pikeville\, Ky\, 41501
CATEGORIES:The Appalachian Center for the Arts
ATTACH;FMTTYPE=image/jpeg:https://visitpikeville.com/wp-content/uploads/2026/01/teen-improv.jpg
END:VEVENT
BEGIN:VEVENT
DTSTART;TZID=America/Kentucky/Louisville:20260327T190000
DTEND;TZID=America/Kentucky/Louisville:20260327T220000
DTSTAMP:20260421T202150
CREATED:20251117T192519Z
LAST-MODIFIED:20251117T192519Z
UID:71398-1774638000-1774648800@visitpikeville.com
SUMMARY:Jon Pardi
DESCRIPTION:Honkytonk Hollywood Tour\nJon Pardi\nWith Special Guest Ashley Cooke and Zach John King \nFriday\, March 27th\nOn sale Friday\, Nov 21st! Visit the Community Trust Bank Box Office or Ticketmaster.com\nhttps://jonpardilive.com/appalachian-wireless-arena/
URL:https://visitpikeville.com/event/jon-pardi-2/
LOCATION:Appalachian Wireless Arena\, 126 Main Street\, Pikeville\, Ky\, 41501
CATEGORIES:Appalachian Wireless Arena
ATTACH;FMTTYPE=image/jpeg:https://visitpikeville.com/wp-content/uploads/2025/11/jon-pardi.jpg
END:VEVENT
BEGIN:VEVENT
DTSTART;TZID=America/Kentucky/Louisville:20260327T200000
DTEND;TZID=America/Kentucky/Louisville:20260327T220000
DTSTAMP:20260421T202150
CREATED:20260309T135746Z
LAST-MODIFIED:20260309T135746Z
UID:73499-1774641600-1774648800@visitpikeville.com
SUMMARY:Open Mic Night
DESCRIPTION:Join us downstairs at Brothers Wright Distilling Co.
URL:https://visitpikeville.com/event/open-mic-night-4-2-2-2-2-2/
LOCATION:Brothers Wright Distilling Co.\, 2nd Street\, Pikeville\, KY\, 41501\, United States
CATEGORIES:Other
ATTACH;FMTTYPE=image/jpeg:https://visitpikeville.com/wp-content/uploads/2026/01/bro-wright.jpg
END:VEVENT
BEGIN:VEVENT
DTSTART;TZID=America/Kentucky/Louisville:20260327T201500
DTEND;TZID=America/Kentucky/Louisville:20260327T213000
DTSTAMP:20260421T202150
CREATED:20260105T150947Z
LAST-MODIFIED:20260105T150947Z
UID:72301-1774642500-1774647000@visitpikeville.com
SUMMARY:Adult Improv (ages 18+)
DESCRIPTION:February 16th – March 27th\, 2026\nMeets: Monday / Friday | 8:15 – 9:30pm\nCommunity Sharing: March 27th\, 2026\nInstructor: Crockett J. Ward \nThis improv class offers a unique opportunity to combine creativity\, spontaneity\, and performance in a thrilling\, interactive environment. By the end of the class\, you’ll not only have an array of new improvisation techniques\, but you’ll also have the thrilling experience of performing in a fun\, high-energy improv competition — a night of nonsense\, laughter\, and unforgettable moments. Whether you’re a seasoned performer or new to improv\, this class is designed for all skill levels who are ready to embrace the thrill of improvised competition. There will be a performance-based aspect to this class. Community sharing is March 27th\, 2026.
URL:https://visitpikeville.com/event/adult-improv-ages-18-6-2-2-2-2-2-2-2-2-2-2-2/
LOCATION:Appalachian Center for the Arts\, 218 2nd St\,\, Pikeville\, Ky\, 41501
CATEGORIES:The Appalachian Center for the Arts
ATTACH;FMTTYPE=image/jpeg:https://visitpikeville.com/wp-content/uploads/2026/01/adult-improv.jpg
END:VEVENT
END:VCALENDAR