BEGIN:VCALENDAR
VERSION:2.0
PRODID:-//Visit Pikeville - ECPv6.15.20//NONSGML v1.0//EN
CALSCALE:GREGORIAN
METHOD:PUBLISH
X-ORIGINAL-URL:https://visitpikeville.com
X-WR-CALDESC:Events for Visit Pikeville
REFRESH-INTERVAL;VALUE=DURATION:PT1H
X-Robots-Tag:noindex
X-PUBLISHED-TTL:PT1H
BEGIN:VTIMEZONE
TZID:America/Kentucky/Louisville
BEGIN:DAYLIGHT
TZOFFSETFROM:-0500
TZOFFSETTO:-0400
TZNAME:EDT
DTSTART:20240310T070000
END:DAYLIGHT
BEGIN:STANDARD
TZOFFSETFROM:-0400
TZOFFSETTO:-0500
TZNAME:EST
DTSTART:20241103T060000
END:STANDARD
BEGIN:DAYLIGHT
TZOFFSETFROM:-0500
TZOFFSETTO:-0400
TZNAME:EDT
DTSTART:20250309T070000
END:DAYLIGHT
BEGIN:STANDARD
TZOFFSETFROM:-0400
TZOFFSETTO:-0500
TZNAME:EST
DTSTART:20251102T060000
END:STANDARD
BEGIN:DAYLIGHT
TZOFFSETFROM:-0500
TZOFFSETTO:-0400
TZNAME:EDT
DTSTART:20260308T070000
END:DAYLIGHT
BEGIN:STANDARD
TZOFFSETFROM:-0400
TZOFFSETTO:-0500
TZNAME:EST
DTSTART:20261101T060000
END:STANDARD
END:VTIMEZONE
BEGIN:VEVENT
DTSTART;TZID=America/Kentucky/Louisville:20250102T170000
DTEND;TZID=America/Kentucky/Louisville:20250102T184500
DTSTAMP:20260425T094034
CREATED:20250102T163619Z
LAST-MODIFIED:20250102T163619Z
UID:61604-1735837200-1735843500@visitpikeville.com
SUMMARY:Dungeons and Dragons
DESCRIPTION:Dungeons and Dragons Group meets every other Thursday at 5:00 at the Pike County Public Library (Lee Avenue). Beginners and experienced players alike are welcome.
URL:https://visitpikeville.com/event/dungeons-and-dragons-5-2-2-2-2-2-2-2-2-2-2-2-2-2-2-2-2-2-3-2/
LOCATION:Pike County Public Library\, 126 Lee Avenue\, Pikeville\, KY\, 41501\, United States
CATEGORIES:Pike County Public Library
ATTACH;FMTTYPE=image/png:https://visitpikeville.com/wp-content/uploads/2023/12/D_D_Group.png
END:VEVENT
BEGIN:VEVENT
DTSTART;TZID=America/Kentucky/Louisville:20250102T180000
DTEND;TZID=America/Kentucky/Louisville:20250102T190000
DTSTAMP:20260425T094034
CREATED:20250102T170606Z
LAST-MODIFIED:20250102T170606Z
UID:61643-1735840800-1735844400@visitpikeville.com
SUMMARY:KFitness and Wild Thyme Grand Opening
DESCRIPTION:Join us this evening!!!
URL:https://visitpikeville.com/event/kfitness-and-wild-thyme-grand-opening/
LOCATION:KFITNESS\, 559 North Mayo trail\, Pikeville\, KY\, 41501\, United States
CATEGORIES:Other
ATTACH;FMTTYPE=image/jpeg:https://visitpikeville.com/wp-content/uploads/2025/01/KFITNESS.jpg
END:VEVENT
BEGIN:VEVENT
DTSTART;TZID=America/Kentucky/Louisville:20250103T073000
DTEND;TZID=America/Kentucky/Louisville:20250103T150000
DTSTAMP:20260425T094034
CREATED:20250102T200317Z
LAST-MODIFIED:20250102T200317Z
UID:61650-1735889400-1735916400@visitpikeville.com
SUMMARY:Blood Drive
DESCRIPTION:Upcoming Blood Drive TOMORROW- Friday\, January 3rd!\n\n\nMake a difference in the lives of local cancer patients! Lock it in by making your appointment TODAY at https://my.kybloodcenter.org/…/sch…/drive_schedule/85214
URL:https://visitpikeville.com/event/blood-drive-3/
LOCATION:Pikeville Medical Center\, 911 S Bypass Rd\,\, Pikeville\, KY\, 41501\, United States
CATEGORIES:Pikeville Medical Center
ATTACH;FMTTYPE=image/jpeg:https://visitpikeville.com/wp-content/uploads/2025/01/blood.jpg
END:VEVENT
BEGIN:VEVENT
DTSTART;TZID=America/Kentucky/Louisville:20250103T173000
DTEND;TZID=America/Kentucky/Louisville:20250103T193000
DTSTAMP:20260425T094034
CREATED:20250102T160428Z
LAST-MODIFIED:20250102T160428Z
UID:61578-1735925400-1735932600@visitpikeville.com
SUMMARY:Go Cats
DESCRIPTION:Please send a private message to reserve your spot . Let’s make some Art!
URL:https://visitpikeville.com/event/go-cats/
LOCATION:2 Broke Art Teachers\, 4505 Weddington Square\,\, Pikeville\, KY\, 41501\, United States
CATEGORIES:Other
ATTACH;FMTTYPE=image/jpeg:https://visitpikeville.com/wp-content/uploads/2025/01/cats.jpg
END:VEVENT
BEGIN:VEVENT
DTSTART;TZID=America/Kentucky/Louisville:20250104T100000
DTEND;TZID=America/Kentucky/Louisville:20250104T104500
DTSTAMP:20260425T094034
CREATED:20250102T164446Z
LAST-MODIFIED:20250102T164446Z
UID:61616-1735984800-1735987500@visitpikeville.com
SUMMARY:Baby Yoga
DESCRIPTION:Stretch\, bond\, and play with your little one in a gentle and fun Baby Yoga session! Perfect for caregivers and babies aged 3 months to pre-walking\, this program incorporates simple yoga poses\, playful movement\, and soothing stretches designed to support your baby’s development and your own well-being.\nBaby Yoga fosters connection\, encourages mindfulness\, and creates a space for you to relax\, interact\, and meet other caregivers. No prior yoga experience is necessary—just bring a yoga mat and baby blanket and enjoy this special time with your baby!\nThis program meets monthly at the Pike County Public Library (Lee Avenue)\, with the first session being held January 4th at 10:00. No registration is required. Participants must sign a waiver.
URL:https://visitpikeville.com/event/baby-yoga/
LOCATION:Pike County Public Library\, 126 Lee Avenue\, Pikeville\, KY\, 41501\, United States
CATEGORIES:Pike County Public Library
ATTACH;FMTTYPE=image/jpeg:https://visitpikeville.com/wp-content/uploads/2025/01/baby-yoga.jpg
END:VEVENT
BEGIN:VEVENT
DTSTART;TZID=America/Kentucky/Louisville:20250104T110000
DTEND;TZID=America/Kentucky/Louisville:20250104T130000
DTSTAMP:20260425T094034
CREATED:20250102T163928Z
LAST-MODIFIED:20250102T163928Z
UID:61610-1735988400-1735995600@visitpikeville.com
SUMMARY:Quilters Group
DESCRIPTION:Pike County Public Library Quilters Group is a quilting social that also teaches quilting and needlework. Participants exchange patterns\, quilting ideas\, and sewing projects. Both beginners and experienced quilters are welcome! Quilters Group meets alternating Saturdays at noon at the Lee Avenue Library.\nFor more information\, contact Charlene at 606-437-6001 or charlene@pikelibrary.org
URL:https://visitpikeville.com/event/quilters-group-4-2-2-2-2-2-2-2-2-2-2-2-2-2-2-2-2-2-2-2-2-2-2-2-2-2-2-2-2-2-2/
LOCATION:Pike County Public Library\, 126 Lee Avenue\, Pikeville\, KY\, 41501\, United States
CATEGORIES:Pike County Public Library
ATTACH;FMTTYPE=image/jpeg:https://visitpikeville.com/wp-content/uploads/2024/06/quilters.jpeg
END:VEVENT
BEGIN:VEVENT
DTSTART;TZID=America/Kentucky/Louisville:20250104T150000
DTEND;TZID=America/Kentucky/Louisville:20250104T170000
DTSTAMP:20260425T094034
CREATED:20250102T160309Z
LAST-MODIFIED:20250102T160309Z
UID:61575-1736002800-1736010000@visitpikeville.com
SUMMARY:Winter Puppy
DESCRIPTION:Please PRIVATE MESSAGE to reserve spots. That way we can definitely answer your request.
URL:https://visitpikeville.com/event/winter-puppy/
LOCATION:2 Broke Art Teachers\, 4505 Weddington Square\,\, Pikeville\, KY\, 41501\, United States
CATEGORIES:Other
ATTACH;FMTTYPE=image/jpeg:https://visitpikeville.com/wp-content/uploads/2025/01/winter.jpg
END:VEVENT
BEGIN:VEVENT
DTSTART;TZID=America/Kentucky/Louisville:20250104T190000
DTEND;TZID=America/Kentucky/Louisville:20250104T210000
DTSTAMP:20260425T094034
CREATED:20250102T155819Z
LAST-MODIFIED:20250102T155819Z
UID:61569-1736017200-1736024400@visitpikeville.com
SUMMARY:Paris
DESCRIPTION:Paris doesn’t have to be just for lovers…. join us Saturday Jan. 4th @ 7:00 to paint the city of lights. We have many silhouettes to choose from to enhance your painting. Private message to reserve your spot.
URL:https://visitpikeville.com/event/paris/
LOCATION:2 Broke Art Teachers\, 4505 Weddington Square\,\, Pikeville\, KY\, 41501\, United States
CATEGORIES:Other
ATTACH;FMTTYPE=image/jpeg:https://visitpikeville.com/wp-content/uploads/2025/01/paris.jpg
END:VEVENT
BEGIN:VEVENT
DTSTART;TZID=America/Kentucky/Louisville:20250106T160000
DTEND;TZID=America/Kentucky/Louisville:20250106T170000
DTSTAMP:20260425T094034
CREATED:20250102T164245Z
LAST-MODIFIED:20250102T164245Z
UID:61614-1736179200-1736182800@visitpikeville.com
SUMMARY:Teen Activity Club
DESCRIPTION:Teen Activity Club is a craft group for kids ages 13-18. Teen Activity Club meets at the Pike County Public Library (Lee Avenue) on alternating Mondays at 4:00.
URL:https://visitpikeville.com/event/teen-activity-club-8-2-2-2-2-2-2-2-2-2-2-2-2-2-2-2-2-2-2/
LOCATION:Pike County Public Library\, 126 Lee Avenue\, Pikeville\, KY\, 41501\, United States
CATEGORIES:Pike County Public Library
ATTACH;FMTTYPE=image/png:https://visitpikeville.com/wp-content/uploads/2023/12/Teen_Activity_Club.png
END:VEVENT
BEGIN:VEVENT
DTSTART;TZID=America/Kentucky/Louisville:20250107T170000
DTEND;TZID=America/Kentucky/Louisville:20250107T180000
DTSTAMP:20260425T094034
CREATED:20250102T165851Z
LAST-MODIFIED:20250102T165851Z
UID:61635-1736269200-1736272800@visitpikeville.com
SUMMARY:Book Talks
DESCRIPTION:Every Other Tuesday at 5pm-6pm
URL:https://visitpikeville.com/event/book-talks-book-club-9-2-2-2-2-2-2-2-2-2-2-2-2-2-2-2-2-2-2-2-2-2-2-2-2-2-2-2-2-2/
LOCATION:Pike County Public Library\, 126 Lee Avenue\, Pikeville\, KY\, 41501\, United States
CATEGORIES:Pike County Public Library
ATTACH;FMTTYPE=image/jpeg:https://visitpikeville.com/wp-content/uploads/2023/06/book-talks.jpeg
END:VEVENT
BEGIN:VEVENT
DTSTART;TZID=America/Kentucky/Louisville:20250107T173000
DTEND;TZID=America/Kentucky/Louisville:20250107T183000
DTSTAMP:20260425T094034
CREATED:20240930T131401Z
LAST-MODIFIED:20240930T131401Z
UID:57761-1736271000-1736274600@visitpikeville.com
SUMMARY:Women's Basketball vs Bluefield University
DESCRIPTION:Game Day!
URL:https://visitpikeville.com/event/womens-basketball-vs-bluefield-university-2/
LOCATION:Appalachian Wireless Arena\, 126 Main Street\, Pikeville\, Ky\, 41501
CATEGORIES:UPike
ATTACH;FMTTYPE=image/png:https://visitpikeville.com/wp-content/uploads/2024/09/Screenshot-2024-09-30-at-9.13.37 AM.png
END:VEVENT
BEGIN:VEVENT
DTSTART;TZID=America/Kentucky/Louisville:20250107T173000
DTEND;TZID=America/Kentucky/Louisville:20250107T193000
DTSTAMP:20260425T094034
CREATED:20250102T160134Z
LAST-MODIFIED:20250102T160134Z
UID:61572-1736271000-1736278200@visitpikeville.com
SUMMARY:Wagon Wheel
DESCRIPTION:Please private message to reserve spots.
URL:https://visitpikeville.com/event/wagon-wheel/
LOCATION:2 Broke Art Teachers\, 4505 Weddington Square\,\, Pikeville\, KY\, 41501\, United States
CATEGORIES:Other
ATTACH;FMTTYPE=image/jpeg:https://visitpikeville.com/wp-content/uploads/2025/01/wagon.jpg
END:VEVENT
BEGIN:VEVENT
DTSTART;TZID=America/Kentucky/Louisville:20250107T193000
DTEND;TZID=America/Kentucky/Louisville:20250107T203000
DTSTAMP:20260425T094034
CREATED:20240930T132038Z
LAST-MODIFIED:20240930T132038Z
UID:57764-1736278200-1736281800@visitpikeville.com
SUMMARY:Men's Basketball vs Bluefield University
DESCRIPTION:Game Day!
URL:https://visitpikeville.com/event/mens-basketball-vs-bluefield-university-2/
LOCATION:Appalachian Wireless Arena\, 126 Main Street\, Pikeville\, Ky\, 41501
CATEGORIES:UPike
ATTACH;FMTTYPE=image/png:https://visitpikeville.com/wp-content/uploads/2024/09/Screenshot-2024-09-30-at-9.19.56 AM.png
END:VEVENT
BEGIN:VEVENT
DTSTART;TZID=America/Kentucky/Louisville:20250108T103000
DTEND;TZID=America/Kentucky/Louisville:20250108T113000
DTSTAMP:20260425T094034
CREATED:20250102T170033Z
LAST-MODIFIED:20250102T170033Z
UID:61639-1736332200-1736335800@visitpikeville.com
SUMMARY:BASIC COMPUTER SKILLS
DESCRIPTION:Learn technology basics like e-mail\, smart phones\, social media\, and more. Meets alternating Wednesdays at 10:30 at the Pike County Public Library (Lee Avenue). No registration required.
URL:https://visitpikeville.com/event/basic-computer-skills-3-2-2-2-2-2-2-2-2-2-2-2-2-2-2-2-2-2-2-2-2/
LOCATION:Pike County Public Library\, 126 Lee Avenue\, Pikeville\, KY\, 41501\, United States
CATEGORIES:Pike County Public Library
ATTACH;FMTTYPE=image/jpeg:https://visitpikeville.com/wp-content/uploads/2024/12/computer-skills.jpg
END:VEVENT
BEGIN:VEVENT
DTSTART;TZID=America/Kentucky/Louisville:20250108T190000
DTEND;TZID=America/Kentucky/Louisville:20250108T220000
DTSTAMP:20260425T094034
CREATED:20250102T154530Z
LAST-MODIFIED:20250102T154530Z
UID:61560-1736362800-1736373600@visitpikeville.com
SUMMARY:Open Mic
DESCRIPTION:Hosted By Johnny Pop Day
URL:https://visitpikeville.com/event/open-mic-2/
LOCATION:Pearse’s Place\, 224 2nd St\,\, Pikeville\, KY\, 41501\, United States
CATEGORIES:Other
ATTACH;FMTTYPE=image/jpeg:https://visitpikeville.com/wp-content/uploads/2025/01/open-mic.jpg
END:VEVENT
BEGIN:VEVENT
DTSTART;VALUE=DATE:20250109
DTEND;VALUE=DATE:20250110
DTSTAMP:20260425T094034
CREATED:20241216T150800Z
LAST-MODIFIED:20241216T150800Z
UID:60927-1736380800-1736467199@visitpikeville.com
SUMMARY:Freedom from Smoking Classes
DESCRIPTION:Register for Free!!
URL:https://visitpikeville.com/event/freedom-from-smoking-classes/
LOCATION:Pike County Health Department\, 119 River Drive\,\, Pikeville\, KY\, 41501\, United States
CATEGORIES:Pike County Health Department
ATTACH;FMTTYPE=image/jpeg:https://visitpikeville.com/wp-content/uploads/2024/12/tobacco.jpg
END:VEVENT
BEGIN:VEVENT
DTSTART;TZID=America/Kentucky/Louisville:20250109T110000
DTEND;TZID=America/Kentucky/Louisville:20250109T120000
DTSTAMP:20260425T094034
CREATED:20250102T161121Z
LAST-MODIFIED:20250102T161121Z
UID:61581-1736420400-1736424000@visitpikeville.com
SUMMARY:Story Time
DESCRIPTION:tory Time is for children ages 5 and under and features books\, action/movement\, songs\, and a craft. Story Time is held Thursdays at 11:00 and 2:00 and Saturdays at 11:00. \n\n\n\n\n\n\n  \nBesides being fun\, Story Time also helps develop early literacy and school readiness skills through reading\, singing\, listening\, playing\, and social interaction. This program lasts approximately 30 minutes\, and caregivers and children are encouraged to linger in the library afterwards to further socialize and choose books to take home.
URL:https://visitpikeville.com/event/story-time-2-2-2-2-2-2-2-2-2-2-2-2-2-2-2-2-2-2-2-2-2-2-2-2-2-2-2-2-2-2-2-2-2-2-2-2-2-2-2-2-2-2-2-2-2-2-2-2-2-2-2-2-2-2-2-3-2-2-2-2-2-2-2-2-2-2-2-2-2-2-2-2-2-2-2-2-2-2-2-2-2-2-2-2-2-2-2-2-2-2-2/
LOCATION:Pike County Public Library\, 126 Lee Avenue\, Pikeville\, KY\, 41501\, United States
CATEGORIES:Pike County Public Library
ATTACH;FMTTYPE=image/png:https://visitpikeville.com/wp-content/uploads/2023/12/Story_TimeLEE.png
END:VEVENT
BEGIN:VEVENT
DTSTART;TZID=America/Kentucky/Louisville:20250109T140000
DTEND;TZID=America/Kentucky/Louisville:20250109T150000
DTSTAMP:20260425T094034
CREATED:20250102T161157Z
LAST-MODIFIED:20250102T161157Z
UID:61583-1736431200-1736434800@visitpikeville.com
SUMMARY:Story Time
DESCRIPTION:tory Time is for children ages 5 and under and features books\, action/movement\, songs\, and a craft. Story Time is held Thursdays at 11:00 and 2:00 and Saturdays at 11:00. \n\n\n\n\n\n\n  \nBesides being fun\, Story Time also helps develop early literacy and school readiness skills through reading\, singing\, listening\, playing\, and social interaction. This program lasts approximately 30 minutes\, and caregivers and children are encouraged to linger in the library afterwards to further socialize and choose books to take home.
URL:https://visitpikeville.com/event/story-time-2-2-2-2-2-2-2-2-2-2-2-2-2-2-2-2-2-2-2-2-2-2-2-2-2-2-2-2-2-2-2-2-2-2-2-2-2-2-2-2-2-2-2-2-2-2-2-2-2-2-2-2-2-2-2-3-2-2-2-2-2-2-2-2-2-2-2-2-2-2-2-2-2-2-2-2-2-2-2-2-2-2-2-2-2-2-2-2-2-2-2-2/
LOCATION:Pike County Public Library\, 126 Lee Avenue\, Pikeville\, KY\, 41501\, United States
CATEGORIES:Pike County Public Library
ATTACH;FMTTYPE=image/png:https://visitpikeville.com/wp-content/uploads/2023/12/Story_TimeLEE.png
END:VEVENT
BEGIN:VEVENT
DTSTART;TZID=America/Kentucky/Louisville:20250110T163000
DTEND;TZID=America/Kentucky/Louisville:20250110T173000
DTSTAMP:20260425T094034
CREATED:20241223T140920Z
LAST-MODIFIED:20241223T140920Z
UID:61136-1736526600-1736530200@visitpikeville.com
SUMMARY:Tween Beaded Keychain
DESCRIPTION:Craft your own keychains made from colorful nylon and vibrant beads\, perfect for clipping onto a bag\, tumbler\, and more! For ages 8-12. No registration required.\nThis program will be held at the following locations and times:\nElkhorn Public Library: Thursday\, January 9 at 4:30pmPike County Public Library (Lee Ave): Friday\, January 10 at 4:30pmBelfry Public Library: Saturday\, January 11 at 4:30pm
URL:https://visitpikeville.com/event/tween-beaded-keychain/
LOCATION:Pike County Public Library\, 126 Lee Avenue\, Pikeville\, KY\, 41501\, United States
CATEGORIES:Pike County Public Library
ATTACH;FMTTYPE=image/jpeg:https://visitpikeville.com/wp-content/uploads/2024/12/beads.jpg
END:VEVENT
BEGIN:VEVENT
DTSTART;TZID=America/Kentucky/Louisville:20250110T173000
DTEND;TZID=America/Kentucky/Louisville:20250110T193000
DTSTAMP:20260425T094034
CREATED:20250106T152216Z
LAST-MODIFIED:20250106T152216Z
UID:61758-1736530200-1736537400@visitpikeville.com
SUMMARY:Magical Owl
DESCRIPTION:Please if you want to book a spot for this painting use Private Message to ensure we get your request.
URL:https://visitpikeville.com/event/magical-owl/
LOCATION:2 Broke Art Teachers\, 4505 Weddington Square\,\, Pikeville\, KY\, 41501\, United States
CATEGORIES:Other
ATTACH;FMTTYPE=image/jpeg:https://visitpikeville.com/wp-content/uploads/2025/01/magical-owl.jpg
END:VEVENT
BEGIN:VEVENT
DTSTART;TZID=America/Kentucky/Louisville:20250111T110000
DTEND;TZID=America/Kentucky/Louisville:20250111T120000
DTSTAMP:20260425T094034
CREATED:20250102T161441Z
LAST-MODIFIED:20250102T161441Z
UID:61585-1736593200-1736596800@visitpikeville.com
SUMMARY:Story Time
DESCRIPTION:tory Time is for children ages 5 and under and features books\, action/movement\, songs\, and a craft. Story Time is held Thursdays at 11:00 and 2:00 and Saturdays at 11:00. \n\n\n\n\n\n\n  \nBesides being fun\, Story Time also helps develop early literacy and school readiness skills through reading\, singing\, listening\, playing\, and social interaction. This program lasts approximately 30 minutes\, and caregivers and children are encouraged to linger in the library afterwards to further socialize and choose books to take home.
URL:https://visitpikeville.com/event/story-time-2-2-2-2-2-2-2-2-2-2-2-2-2-2-2-2-2-2-2-2-2-2-2-2-2-2-2-2-2-2-2-2-2-2-2-2-2-2-2-2-2-2-2-2-2-2-2-2-2-2-2-2-2-2-2-3-2-2-2-2-2-2-2-2-2-2-2-2-2-2-2-2-2-2-2-2-2-2-2-2-2-2-2-2-2-2-2-2-2-2-2-2-2/
LOCATION:Pike County Public Library\, 126 Lee Avenue\, Pikeville\, KY\, 41501\, United States
CATEGORIES:Pike County Public Library
ATTACH;FMTTYPE=image/png:https://visitpikeville.com/wp-content/uploads/2023/12/Story_TimeLEE.png
END:VEVENT
BEGIN:VEVENT
DTSTART;TZID=America/Kentucky/Louisville:20250111T150000
DTEND;TZID=America/Kentucky/Louisville:20250111T170000
DTSTAMP:20260425T094034
CREATED:20250106T151044Z
LAST-MODIFIED:20250106T151044Z
UID:61755-1736607600-1736614800@visitpikeville.com
SUMMARY:Valentine Pup
DESCRIPTION:Please PRIVATE MESSAGE to reserve your spots.
URL:https://visitpikeville.com/event/valentine-pup/
LOCATION:2 Broke Art Teachers\, 4505 Weddington Square\,\, Pikeville\, KY\, 41501\, United States
CATEGORIES:Other
ATTACH;FMTTYPE=image/jpeg:https://visitpikeville.com/wp-content/uploads/2025/01/valentine-pup.jpg
END:VEVENT
BEGIN:VEVENT
DTSTART;TZID=America/Kentucky/Louisville:20250111T160000
DTEND;TZID=America/Kentucky/Louisville:20250111T170000
DTSTAMP:20260425T094034
CREATED:20250102T164747Z
LAST-MODIFIED:20250102T164747Z
UID:61621-1736611200-1736614800@visitpikeville.com
SUMMARY:Chess Group
DESCRIPTION:Chess Group meets alternating Saturdays at 4:00 at the Pike County Public Library (Lee Avenue).\nAll ages are welcome and no experience is required. Learn how to play chess or play against other enthusiasts.
URL:https://visitpikeville.com/event/chess-group-2-2-2-2-2-2-2-2-2-2-2-2-2-2-2-2-2-2-2-2-2-2-3/
LOCATION:Pike County Public Library\, 126 Lee Avenue\, Pikeville\, KY\, 41501\, United States
CATEGORIES:Pike County Public Library
ATTACH;FMTTYPE=image/jpeg:https://visitpikeville.com/wp-content/uploads/2025/01/chess-club.jpg
END:VEVENT
BEGIN:VEVENT
DTSTART;TZID=America/Kentucky/Louisville:20250111T193000
DTEND;TZID=America/Kentucky/Louisville:20250111T213000
DTSTAMP:20260425T094034
CREATED:20250102T152222Z
LAST-MODIFIED:20250102T152222Z
UID:61550-1736623800-1736631000@visitpikeville.com
SUMMARY:First Improv Show of the year
DESCRIPTION:Join us for our first improv show of the year! 18+\, free\, donations suggested
URL:https://visitpikeville.com/event/first-improv-show-of-the-year/
LOCATION:Appalachian Center for the Arts\, 218 2nd St\,\, Pikeville\, Ky\, 41501
CATEGORIES:The Appalachian Center for the Arts
ATTACH;FMTTYPE=image/jpeg:https://visitpikeville.com/wp-content/uploads/2025/01/dating.jpg
END:VEVENT
BEGIN:VEVENT
DTSTART;TZID=America/Kentucky/Louisville:20250111T200000
DTEND;TZID=America/Kentucky/Louisville:20250111T220000
DTSTAMP:20260425T094034
CREATED:20250102T154207Z
LAST-MODIFIED:20250102T154207Z
UID:61557-1736625600-1736632800@visitpikeville.com
SUMMARY:Pearse's Place Presents The Sons
DESCRIPTION:Starting our music off right in 2025!!
URL:https://visitpikeville.com/event/pearses-place-presents-the-sons/
LOCATION:Pearse’s Place\, 224 2nd St\,\, Pikeville\, KY\, 41501\, United States
CATEGORIES:Other
ATTACH;FMTTYPE=image/jpeg:https://visitpikeville.com/wp-content/uploads/2025/01/the-sosns.jpg
END:VEVENT
BEGIN:VEVENT
DTSTART;TZID=America/Kentucky/Louisville:20250113T171500
DTEND;TZID=America/Kentucky/Louisville:20250113T183000
DTSTAMP:20260425T094034
CREATED:20250102T143750Z
LAST-MODIFIED:20250102T143750Z
UID:61480-1736788500-1736793000@visitpikeville.com
SUMMARY:Adult Acting (ages 18+)
DESCRIPTION:January 13th-February 13th | $100 for semester\nMeets Mondays & Wednesdays\, 5:15-6:30 pm\nPerformance: February 13th\, 2025\nTaught by Claudia Dahlman \n\n\n\n\nAdult Acting: Scene Study- In this class\, actors of all levels will sharpen their craft by diving deep into scene work\, character development\, and creating an honest and multidimensional character based on the text. We’ll delve into techniques for understanding the dynamics of relationships within a scene and how to portray intentions and actions in a performance. We will be covering numerous scenes to present to the community at the end of the semester
URL:https://visitpikeville.com/event/adult-acting-ages-18-3/
LOCATION:Appalachian Center for the Arts\, 218 2nd St\,\, Pikeville\, Ky\, 41501
CATEGORIES:The Appalachian Center for the Arts
ATTACH;FMTTYPE=image/webp:https://visitpikeville.com/wp-content/uploads/2025/01/winter-25-classes.webp
END:VEVENT
BEGIN:VEVENT
DTSTART;TZID=America/Kentucky/Louisville:20250113T183000
DTEND;TZID=America/Kentucky/Louisville:20250113T200000
DTSTAMP:20260425T094034
CREATED:20250102T140944Z
LAST-MODIFIED:20250102T140944Z
UID:61459-1736793000-1736798400@visitpikeville.com
SUMMARY:Musical Theatre Ensembles (ages 9-18)
DESCRIPTION:January 13th – February 13th | $100 for semester\nMeets Mondays-Wednesdays 6:30-8:00 pm\nPerformance: February 13th\, 2025?\nTaught by Brian Bush and Daniela Velasquez \n\n\n\n\nThis class is dedicated to developing key ensemble skills for musical theatre performance. Musical theatre\, by nature\, combines three key elements: acting\, singing\, and dance. This class aims to explore all these aspects through the performance of an iconic musical theatre ensemble number. In this piece\, students will learn music\, choreography\, and dig into the storytelling that the song requires. This semester\, the class will also feature an audition focus. Students will be asked to prepare a 16-32 bar cut of a musical theatre song to be used for an audition. This piece will be worked on during class with the instructors. Ultimately\, these pieces will be shown to the community on a final “sharing” day. Join us for a fantastic dive into the world of group work in musical theatre!
URL:https://visitpikeville.com/event/musical-theatre-ensembles-ages-9-18-3/
LOCATION:Appalachian Center for the Arts\, 218 2nd St\,\, Pikeville\, Ky\, 41501
CATEGORIES:The Appalachian Center for the Arts
ATTACH;FMTTYPE=image/webp:https://visitpikeville.com/wp-content/uploads/2025/01/winter-25-classes.webp
END:VEVENT
BEGIN:VEVENT
DTSTART;TZID=America/Kentucky/Louisville:20250113T200000
DTEND;TZID=America/Kentucky/Louisville:20250113T210000
DTSTAMP:20260425T094034
CREATED:20250102T135332Z
LAST-MODIFIED:20250102T135332Z
UID:61439-1736798400-1736802000@visitpikeville.com
SUMMARY:Teen Acting (ages 12-18)
DESCRIPTION:January 13th-February 13th | $100 for semester\nMeets Mondays & Wednesdays\, 8:00-9:00 pm\nPerformance: February 13th\, 2025\nTaught by Daniela Velasquez and Claudia Dahlman \n\n\n\n\n\n\nWhether you hope to pursue a career on stage or just want to have fun working with other teens who love theatre\, this class is for you. \nOn stage\, we will learn essential acting techniques and apply them towards monologues and scenes. We will learn how to analyze a script\, and develop an honest\, multi-dimensional character based on the text. \nWhether you are an experienced actor\, or just looking to grow out of your comfort zone\, you will fit in and build your confidence in performing.
URL:https://visitpikeville.com/event/teen-acting-ages-12-18-3/
LOCATION:Appalachian Center for the Arts\, 218 2nd St\,\, Pikeville\, Ky\, 41501
CATEGORIES:The Appalachian Center for the Arts
ATTACH;FMTTYPE=image/webp:https://visitpikeville.com/wp-content/uploads/2025/01/winter-25-classes.webp
END:VEVENT
BEGIN:VEVENT
DTSTART;TZID=America/Kentucky/Louisville:20250114T120000
DTEND;TZID=America/Kentucky/Louisville:20250114T130000
DTSTAMP:20260425T094034
CREATED:20241209T124505Z
LAST-MODIFIED:20241216T124337Z
UID:60594-1736856000-1736859600@visitpikeville.com
SUMMARY:Lunch & Learn with KY Valor's Nicki Stewart
DESCRIPTION:FREE for Members\n$20 – Future Members
URL:https://visitpikeville.com/event/lunch-learn-with-ky-valors-nicki-stewart/
LOCATION:Garfield House\, 178 College Street\, Pikeville\, KY\, 41501\, United States
CATEGORIES:Southeast Kentucky Chamber
ATTACH;FMTTYPE=image/png:https://visitpikeville.com/wp-content/uploads/2024/12/LL-Jan2025-NickiStewart_rework.png
END:VEVENT
BEGIN:VEVENT
DTSTART;TZID=America/Kentucky/Louisville:20250114T163000
DTEND;TZID=America/Kentucky/Louisville:20250114T173000
DTSTAMP:20260425T094034
CREATED:20250102T165352Z
LAST-MODIFIED:20250102T165352Z
UID:61629-1736872200-1736875800@visitpikeville.com
SUMMARY:Goat milk Shampoo Workshop
DESCRIPTION:Get crafty and treat your hair to something special! Join us for a hands-on workshop where you’ll learn how to make your very own goat milk shampoo.\nGoat milk is packed with nutrients that nourish and moisturize hair\, leaving it soft and healthy. Whether you’re looking for a sustainable alternative to store-bought products or just want to try something new\, this program is perfect for you. Registration is required.\nThis program will be held at the following locations:\nPike County Public Library (Lee Ave): Jan 14th at 5:30 – Click here to register: https://informationplace.libnet.info/event/12619005\nElkhorn City Public Library: Jan 15th at 4:30 – Click here to register: https://informationplace.libnet.info/event/12619034\nBelfry Public Library: Jan 16th at 5:30 – Click here to register: https://informationplace.libnet.info/event/12619012
URL:https://visitpikeville.com/event/goat-milk-shampoo-workshop/
LOCATION:Pike County Public Library\, 126 Lee Avenue\, Pikeville\, KY\, 41501\, United States
CATEGORIES:Pike County Public Library
ATTACH;FMTTYPE=image/jpeg:https://visitpikeville.com/wp-content/uploads/2025/01/goat.jpg
END:VEVENT
END:VCALENDAR