BEGIN:VCALENDAR
VERSION:2.0
PRODID:-//Visit Pikeville - ECPv6.15.20//NONSGML v1.0//EN
CALSCALE:GREGORIAN
METHOD:PUBLISH
X-ORIGINAL-URL:https://visitpikeville.com
X-WR-CALDESC:Events for Visit Pikeville
REFRESH-INTERVAL;VALUE=DURATION:PT1H
X-Robots-Tag:noindex
X-PUBLISHED-TTL:PT1H
BEGIN:VTIMEZONE
TZID:America/Kentucky/Louisville
BEGIN:DAYLIGHT
TZOFFSETFROM:-0500
TZOFFSETTO:-0400
TZNAME:EDT
DTSTART:20240310T070000
END:DAYLIGHT
BEGIN:STANDARD
TZOFFSETFROM:-0400
TZOFFSETTO:-0500
TZNAME:EST
DTSTART:20241103T060000
END:STANDARD
BEGIN:DAYLIGHT
TZOFFSETFROM:-0500
TZOFFSETTO:-0400
TZNAME:EDT
DTSTART:20250309T070000
END:DAYLIGHT
BEGIN:STANDARD
TZOFFSETFROM:-0400
TZOFFSETTO:-0500
TZNAME:EST
DTSTART:20251102T060000
END:STANDARD
BEGIN:DAYLIGHT
TZOFFSETFROM:-0500
TZOFFSETTO:-0400
TZNAME:EDT
DTSTART:20260308T070000
END:DAYLIGHT
BEGIN:STANDARD
TZOFFSETFROM:-0400
TZOFFSETTO:-0500
TZNAME:EST
DTSTART:20261101T060000
END:STANDARD
END:VTIMEZONE
BEGIN:VEVENT
DTSTART;TZID=America/Kentucky/Louisville:20251106T140000
DTEND;TZID=America/Kentucky/Louisville:20251106T150000
DTSTAMP:20260421T191939
CREATED:20251103T140840Z
LAST-MODIFIED:20251103T140840Z
UID:70779-1762437600-1762441200@visitpikeville.com
SUMMARY:Story Time
DESCRIPTION:Story Time is for children ages 5 and under and features books\, action/movement\, songs\, and a craft. Story Time is held Thursdays at 11:00 and 2:00 and Saturdays at 11:00. \n\n\n\n\n\n\n  \nBesides being fun\, Story Time also helps develop early literacy and school readiness skills through reading\, singing\, listening\, playing\, and social interaction. This program lasts approximately 30 minutes\, and caregivers and children are encouraged to linger in the library afterwards to further socialize and choose books to take home. \n  \nStory Time begins the first week of September and ends the first week of May.
URL:https://visitpikeville.com/event/story-time-2-2-2-2-2-2-2-2-2-2-2-2-2-2-2-2-2-2-2-2-2-2-2-2-2-2-2-2-2-2-2-2-2-2-2-2-2-2-2-2-2-2-2-2-2-2-2-2-2-2-2-2-2-2-2-3-2-2-2-2-2-2-2-2-2-2-2-2-2-2-2-2-2-2-2-2-2-2-2-2-2-2-2-2-2-2-2-2-2-2-2-2-2-3-8/
LOCATION:Pike County Public Library\, 126 Lee Avenue\, Pikeville\, KY\, 41501\, United States
CATEGORIES:Pike County Public Library
ATTACH;FMTTYPE=image/png:https://visitpikeville.com/wp-content/uploads/2025/10/Story_Time_Schedule_25.png
END:VEVENT
BEGIN:VEVENT
DTSTART;TZID=America/Kentucky/Louisville:20251106T150000
DTEND;TZID=America/Kentucky/Louisville:20251106T163000
DTSTAMP:20260421T191939
CREATED:20251103T124618Z
LAST-MODIFIED:20251103T124618Z
UID:70692-1762441200-1762446600@visitpikeville.com
SUMMARY:Freedom from Smoking
DESCRIPTION:
URL:https://visitpikeville.com/event/freedom-from-smoking/
LOCATION:Pike County Health Department\, 119 River Drive\,\, Pikeville\, KY\, 41501\, United States
CATEGORIES:Pike County Health Department
ATTACH;FMTTYPE=image/jpeg:https://visitpikeville.com/wp-content/uploads/2025/11/health-dpt.jpg
END:VEVENT
BEGIN:VEVENT
DTSTART;TZID=America/Kentucky/Louisville:20251106T160000
DTEND;TZID=America/Kentucky/Louisville:20251106T170000
DTSTAMP:20260421T191939
CREATED:20251103T135657Z
LAST-MODIFIED:20251103T135657Z
UID:70761-1762444800-1762448400@visitpikeville.com
SUMMARY:Teen Guitar Class 2
DESCRIPTION:Beginner guitar lessons for patrons ages 13-17. This class meets weekly on Thursdays at 4:00. Please bring your own instrument. Registration required. \n\n\n\n\n\n\n  \nPlease call the library at 606-437-6001 to check availability.
URL:https://visitpikeville.com/event/teen-guitar-class-3-2-2-2-2-2-2-2-2-3-2-2-2-2-2-2-2-2-2-2-2-2-2-2/
LOCATION:Pike County Public Library\, 126 Lee Avenue\, Pikeville\, KY\, 41501\, United States
CATEGORIES:Pike County Public Library
ATTACH;FMTTYPE=image/png:https://visitpikeville.com/wp-content/uploads/2025/05/theory.png
END:VEVENT
BEGIN:VEVENT
DTSTART;TZID=America/Kentucky/Louisville:20251106T170000
DTEND;TZID=America/Kentucky/Louisville:20251106T180000
DTSTAMP:20260421T191939
CREATED:20251103T140119Z
LAST-MODIFIED:20251103T140119Z
UID:70769-1762448400-1762452000@visitpikeville.com
SUMMARY:Music Theory for Guitarists
DESCRIPTION:Understanding how music works will give you the tools you need to write riffs\, songs\, and solos\, and learn to improvise in a friendly hands-on environment. \n\n\n\n\n\n\nClass is held weekly at the Pike County Public Library (Lee Ave) every Thursday at 5:00. \nNo previous knowledge of music theory or reading music is necessary\, but this class is for adults and teens who already know how to play a little bit. \nRegistration required. Please call the library to check availability. 606-437-6001.
URL:https://visitpikeville.com/event/music-theory-for-guitarists-6-2-2-2-2-2-2-2-2-2-2-2-2/
LOCATION:Pike County Public Library\, 126 Lee Avenue\, Pikeville\, KY\, 41501\, United States
CATEGORIES:Pike County Public Library
ATTACH;FMTTYPE=image/png:https://visitpikeville.com/wp-content/uploads/2025/05/theory.png
END:VEVENT
BEGIN:VEVENT
DTSTART;TZID=America/Kentucky/Louisville:20251106T170000
DTEND;TZID=America/Kentucky/Louisville:20251106T184500
DTSTAMP:20260421T191939
CREATED:20251103T142415Z
LAST-MODIFIED:20251103T142415Z
UID:70809-1762448400-1762454700@visitpikeville.com
SUMMARY:Dungeons and Dragons
DESCRIPTION:Dungeons and Dragons Group meets every other Thursday at 5:00 at the Pike County Public Library (Lee Avenue). Beginners and experienced players alike are welcome. \n\n\n\n\n\n\n  \nDungeons and Dragons is a role playing game (RPG) where a single player plays as the Dungeon Master\, creating a world that the players interact with. Players act as a group of adventurers working together to complete quests\, slay monsters\, and achieve their own personal goals. The game uses a series of dice to help simulate how successful characters and monsters are at achieving their various goals.
URL:https://visitpikeville.com/event/dungeons-and-dragons-7-2-2-2-2-2-2-2-2/
LOCATION:Pike County Public Library\, 126 Lee Avenue\, Pikeville\, KY\, 41501\, United States
CATEGORIES:Pike County Public Library
ATTACH;FMTTYPE=image/png:https://visitpikeville.com/wp-content/uploads/2025/06/D_D_Group.png
END:VEVENT
BEGIN:VEVENT
DTSTART;TZID=America/Kentucky/Louisville:20251106T173000
DTEND;TZID=America/Kentucky/Louisville:20251106T183000
DTSTAMP:20260421T191939
CREATED:20251027T133357Z
LAST-MODIFIED:20251027T133357Z
UID:70365-1762450200-1762453800@visitpikeville.com
SUMMARY:Pinecone Christmas Tree
DESCRIPTION:Get into the holiday spirit at the Pike County Public Library! Join us on November 6th at 5:30 PM to create your own Pinecone Christmas Tree. This craft is intended for adults. All materials provided. No registration required.
URL:https://visitpikeville.com/event/pinecone-christmas-tree/
LOCATION:Pike County Public Library\, 126 Lee Avenue\, Pikeville\, KY\, 41501\, United States
CATEGORIES:Pike County Public Library
ATTACH;FMTTYPE=image/jpeg:https://visitpikeville.com/wp-content/uploads/2025/10/christmas-tree.jpg
END:VEVENT
BEGIN:VEVENT
DTSTART;TZID=America/Kentucky/Louisville:20251106T173000
DTEND;TZID=America/Kentucky/Louisville:20251106T193000
DTSTAMP:20260421T191939
CREATED:20251103T150922Z
LAST-MODIFIED:20251103T150922Z
UID:70842-1762450200-1762457400@visitpikeville.com
SUMMARY:Nice or Naughty List Paint Class
DESCRIPTION:Get ready for a festive night of creativity and fun! Paint your very own “Nice List” — personalize it with your favorite names and bring the holiday spirit to life. \n\n\n Thursday\, November 6th @ 5:30 PM\n Step-by-step instruction — perfect for beginners!\n 16×20 canvas — $25 per painter\n\n\nAll supplies included. Seats are limited\, so grab your spot before Santa checks his list twice! \n\n\n 2 Broke Art Teachers – Pikeville\, KY\n Private message to reserve your seat!
URL:https://visitpikeville.com/event/nice-or-naughty-list-paint-class/
LOCATION:2 Broke Art Teachers\, 4505 Weddington Square\,\, Pikeville\, KY\, 41501\, United States
CATEGORIES:Other
ATTACH;FMTTYPE=image/jpeg:https://visitpikeville.com/wp-content/uploads/2025/11/nice.jpg
END:VEVENT
BEGIN:VEVENT
DTSTART;TZID=America/Kentucky/Louisville:20251106T173000
DTEND;TZID=America/Kentucky/Louisville:20251106T210000
DTSTAMP:20260421T191939
CREATED:20251031T174235Z
LAST-MODIFIED:20251031T174235Z
UID:70511-1762450200-1762462800@visitpikeville.com
SUMMARY:Open War Gaming
DESCRIPTION:The Gaming Co @ 5:30pm
URL:https://visitpikeville.com/event/rpg-day-with-steven-2-3-3/
LOCATION:The Gaming Co.\, 265 Hambley Boulevard\,\, Pikeville\, KY\, 41501\, United States
CATEGORIES:Other
ATTACH;FMTTYPE=image/jpeg:https://visitpikeville.com/wp-content/uploads/2025/10/gaming-.jpg
END:VEVENT
BEGIN:VEVENT
DTSTART;TZID=America/Kentucky/Louisville:20251106T173000
DTEND;TZID=America/Kentucky/Louisville:20251106T210000
DTSTAMP:20260421T191939
CREATED:20251031T180958Z
LAST-MODIFIED:20251031T180958Z
UID:70537-1762450200-1762462800@visitpikeville.com
SUMMARY:Board Game Night With Nathan
DESCRIPTION:@The Gaming Co.
URL:https://visitpikeville.com/event/board-game-night-with-nathan/
LOCATION:The Gaming Co.\, 265 Hambley Boulevard\,\, Pikeville\, KY\, 41501\, United States
CATEGORIES:Other
ATTACH;FMTTYPE=image/jpeg:https://visitpikeville.com/wp-content/uploads/2025/10/board-game.jpg
END:VEVENT
BEGIN:VEVENT
DTSTART;TZID=America/Kentucky/Louisville:20251106T180000
DTEND;TZID=America/Kentucky/Louisville:20251106T200000
DTSTAMP:20260421T191939
CREATED:20251103T122909Z
LAST-MODIFIED:20251103T122909Z
UID:70675-1762452000-1762459200@visitpikeville.com
SUMMARY:Line Dancing
DESCRIPTION:No Sign-up Required
URL:https://visitpikeville.com/event/line-dancing-3/
LOCATION:Pike County Extension Office\, 148 Trivette Dr\, Pikeville\, KY\, 41501\, United States
CATEGORIES:Pike County Cooperative Extension Office
ATTACH;FMTTYPE=image/jpeg:https://visitpikeville.com/wp-content/uploads/2025/11/line.jpg
END:VEVENT
BEGIN:VEVENT
DTSTART;VALUE=DATE:20251107
DTEND;VALUE=DATE:20251108
DTSTAMP:20260421T191939
CREATED:20251013T124142Z
LAST-MODIFIED:20251013T124142Z
UID:69680-1762473600-1762559999@visitpikeville.com
SUMMARY:Esports vs University of Louisville
DESCRIPTION:Overwatch
URL:https://visitpikeville.com/event/esports-vs-university-of-louisville/
LOCATION:UPIKE\, 147 Sycamore St\,\, Pikeville\, KY\, 41501\, United States
CATEGORIES:UPike
ATTACH;FMTTYPE=image/png:https://visitpikeville.com/wp-content/uploads/2025/10/Screenshot-2025-10-13-at-8.40.30-AM.png
END:VEVENT
BEGIN:VEVENT
DTSTART;VALUE=DATE:20251107
DTEND;VALUE=DATE:20251108
DTSTAMP:20260421T191939
CREATED:20251031T182005Z
LAST-MODIFIED:20251031T182005Z
UID:70546-1762473600-1762559999@visitpikeville.com
SUMMARY:FNM: Spider-Man Play Booster Draft with Travis
DESCRIPTION:@ 6:00pm
URL:https://visitpikeville.com/event/fnm-spider-man-play-booster-draft-with-travis/
LOCATION:The Gaming Co.\, 265 Hambley Boulevard\,\, Pikeville\, KY\, 41501\, United States
CATEGORIES:Other
ATTACH;FMTTYPE=image/jpeg:https://visitpikeville.com/wp-content/uploads/2025/10/gaming-.jpg
END:VEVENT
BEGIN:VEVENT
DTSTART;TZID=America/Kentucky/Louisville:20251107T120000
DTEND;TZID=America/Kentucky/Louisville:20251107T130000
DTSTAMP:20260421T191939
CREATED:20251027T113550Z
LAST-MODIFIED:20251027T113550Z
UID:70303-1762516800-1762520400@visitpikeville.com
SUMMARY:Ribbon Cutting: Citizens Bank Weddington Plaza
DESCRIPTION:Friday\, November 7 | Noon
URL:https://visitpikeville.com/event/ribbon-cutting-citizens-bank-weddington-plaza/
LOCATION:Citizens Bank\, 4367 N Mayo Trail\,\, Pikeville\, KY\, 41501\, United States
CATEGORIES:Southeast Kentucky Chamber
ATTACH;FMTTYPE=image/png:https://visitpikeville.com/wp-content/uploads/2025/10/RibbonCutting-CitizensBank2.png
END:VEVENT
BEGIN:VEVENT
DTSTART;TZID=America/Kentucky/Louisville:20251107T130000
DTEND;TZID=America/Kentucky/Louisville:20251107T150000
DTSTAMP:20260421T191939
CREATED:20251103T124956Z
LAST-MODIFIED:20251103T124956Z
UID:70702-1762520400-1762527600@visitpikeville.com
SUMMARY:Child Passenger Safety Event
DESCRIPTION:
URL:https://visitpikeville.com/event/child-passenger-safety-event-2/
LOCATION:Pike County Health Department\, 119 River Drive\,\, Pikeville\, KY\, 41501\, United States
CATEGORIES:Pike County Health Department
ATTACH;FMTTYPE=image/jpeg:https://visitpikeville.com/wp-content/uploads/2025/11/health-dpt.jpg
END:VEVENT
BEGIN:VEVENT
DTSTART;TZID=America/Kentucky/Louisville:20251107T160000
DTEND;TZID=America/Kentucky/Louisville:20251107T170000
DTSTAMP:20260421T191939
CREATED:20251103T142535Z
LAST-MODIFIED:20251103T142535Z
UID:70813-1762531200-1762534800@visitpikeville.com
SUMMARY:Chess Club: Beginner's Theory
DESCRIPTION:New to chess? Learn the basics of the game in a fun\, beginner-friendly setting! \n\n\n\n\n\n\nWe’ll cover piece movement\, rules\, simple tactics\, and opening strategies to help you build a strong foundation. No experience needed! \nMeets alternating Fridays at 4:00 at the Pike County Public Library (Lee Avenue).
URL:https://visitpikeville.com/event/chess-club-beginners-theory-2-3/
LOCATION:Pike County Public Library\, 126 Lee Avenue\, Pikeville\, KY\, 41501\, United States
CATEGORIES:Pike County Public Library
ATTACH;FMTTYPE=image/png:https://visitpikeville.com/wp-content/uploads/2025/09/Chess_ClubUPDATED.png
END:VEVENT
BEGIN:VEVENT
DTSTART;TZID=America/Kentucky/Louisville:20251107T173000
DTEND;TZID=America/Kentucky/Louisville:20251107T193000
DTSTAMP:20260421T191939
CREATED:20251103T151330Z
LAST-MODIFIED:20251103T151330Z
UID:70848-1762536600-1762543800@visitpikeville.com
SUMMARY:Friday Night Paint Party
DESCRIPTION:Join 2 Broke Art Teachers on Friday\, Nov. 7 @ 5:30 for a fun and creative evening! Choose your favorite design from our 6 adorable options — perfect for all skill levels!\n\n\n Nativity Scene\n Cozy Snowman\n Cardinal & Family Cross\n Thanksgiving Turkey\n Gingerbread Duo\n Jolly Santa\n\n\n — no drawing required!\n Perfect for a night out\, a family activity\, or an early holiday gift!\nPikeville\, KY\n Private message to reserve your seats — spots fill fast!
URL:https://visitpikeville.com/event/friday-night-paint-party/
LOCATION:2 Broke Art Teachers\, 4505 Weddington Square\,\, Pikeville\, KY\, 41501\, United States
CATEGORIES:Other
ATTACH;FMTTYPE=image/jpeg:https://visitpikeville.com/wp-content/uploads/2025/11/friday.jpg
END:VEVENT
BEGIN:VEVENT
DTSTART;TZID=America/Kentucky/Louisville:20251107T173000
DTEND;TZID=America/Kentucky/Louisville:20251107T210000
DTSTAMP:20260421T191939
CREATED:20251031T174319Z
LAST-MODIFIED:20251031T174319Z
UID:70513-1762536600-1762549200@visitpikeville.com
SUMMARY:Open War Gaming
DESCRIPTION:The Gaming Co @ 5:30pm
URL:https://visitpikeville.com/event/rpg-day-with-steven-2-3-3-2/
LOCATION:The Gaming Co.\, 265 Hambley Boulevard\,\, Pikeville\, KY\, 41501\, United States
CATEGORIES:Other
ATTACH;FMTTYPE=image/jpeg:https://visitpikeville.com/wp-content/uploads/2025/10/gaming-.jpg
END:VEVENT
BEGIN:VEVENT
DTSTART;TZID=America/Kentucky/Louisville:20251107T193000
DTEND;TZID=America/Kentucky/Louisville:20251107T223000
DTSTAMP:20260421T191939
CREATED:20250317T141808Z
LAST-MODIFIED:20250317T141808Z
UID:63498-1762543800-1762554600@visitpikeville.com
SUMMARY:Warren Zeiders
DESCRIPTION:Warren Zeiders is bringing his Relapse\, Lies\, & Betrayal Tour to Pikeville\, KY on November 7th ! Get tickets this Friday\, and we’ll see y’all There https://www.ticketmaster.com/appalachian…/venue/180784
URL:https://visitpikeville.com/event/warren-zeiders/
LOCATION:KY
CATEGORIES:Appalachian Wireless Arena
ATTACH;FMTTYPE=image/jpeg:https://visitpikeville.com/wp-content/uploads/2025/03/WARREN.jpg
END:VEVENT
BEGIN:VEVENT
DTSTART;TZID=America/Kentucky/Louisville:20251108T080000
DTEND;TZID=America/Kentucky/Louisville:20251108T160000
DTSTAMP:20260421T191939
CREATED:20251013T144815Z
LAST-MODIFIED:20251013T144815Z
UID:69793-1762588800-1762617600@visitpikeville.com
SUMMARY:YMCA Holiday Craft Fair
DESCRIPTION:Looking for a unique\, handmade gifts or just a fun day out with family and friends? Come on out a shop local and support talented crafters at the YMCA Holiday Craft Fair!\nEnjoy a variety of vendors\, homemade crafts\, seasonal decor\, and more. It’s the perfect way to kick off the season while supporting our community!\nAdmission is only $2/personVendor booths available for only $25/spot\n#shoplocal #YMCACraftFair #YMCACommunity
URL:https://visitpikeville.com/event/ymca-holiday-craft-fair/
LOCATION:Pikeville YMCA\, 424 Bob Amos Dr\,\, Pikeville\, Ky\, 41501
CATEGORIES:Other
ATTACH;FMTTYPE=image/jpeg:https://visitpikeville.com/wp-content/uploads/2025/10/holiday.jpg
END:VEVENT
BEGIN:VEVENT
DTSTART;TZID=America/Kentucky/Louisville:20251108T090000
DTEND;TZID=America/Kentucky/Louisville:20251108T130000
DTSTAMP:20260421T191939
CREATED:20251006T125606Z
LAST-MODIFIED:20251006T125606Z
UID:69314-1762592400-1762606800@visitpikeville.com
SUMMARY:Pikeville Farmers Market
DESCRIPTION:Farmers Market season is starting to wind down! Make sure you come check it out before it’s too late 
URL:https://visitpikeville.com/event/pikeville-farmers-market-7-2-2-2-2-2-2-2-2-2/
LOCATION:Pikeville Farmer’s Market\, 130 Adams Lane\, Pikeville\, Ky
CATEGORIES:Pikeville Farmers Market
ATTACH;FMTTYPE=image/jpeg:https://visitpikeville.com/wp-content/uploads/2025/10/farmers-market.jpg
END:VEVENT
BEGIN:VEVENT
DTSTART;TZID=America/Kentucky/Louisville:20251108T100000
DTEND;TZID=America/Kentucky/Louisville:20251108T110000
DTSTAMP:20260421T191939
CREATED:20250922T133201Z
LAST-MODIFIED:20250922T133201Z
UID:68742-1762596000-1762599600@visitpikeville.com
SUMMARY:Pint Sized Pianist
DESCRIPTION:Ms. Beth is back for an encore! Explore the piano in this Music Appreciation class for ages 6 and under! Meets the second Saturday of the month at 10:00\, October-December. No registration required.
URL:https://visitpikeville.com/event/pint-sized-pianist-2/
LOCATION:Pike County Public Library\, 126 Lee Avenue\, Pikeville\, KY\, 41501\, United States
CATEGORIES:Pike County Public Library
ATTACH;FMTTYPE=image/jpeg:https://visitpikeville.com/wp-content/uploads/2025/09/pianist.jpg
END:VEVENT
BEGIN:VEVENT
DTSTART;TZID=America/Kentucky/Louisville:20251108T110000
DTEND;TZID=America/Kentucky/Louisville:20251108T120000
DTSTAMP:20260421T191939
CREATED:20251103T140949Z
LAST-MODIFIED:20251103T140949Z
UID:70781-1762599600-1762603200@visitpikeville.com
SUMMARY:Story Time
DESCRIPTION:Story Time is for children ages 5 and under and features books\, action/movement\, songs\, and a craft. Story Time is held Thursdays at 11:00 and 2:00 and Saturdays at 11:00. \n\n\n\n\n\n\n  \nBesides being fun\, Story Time also helps develop early literacy and school readiness skills through reading\, singing\, listening\, playing\, and social interaction. This program lasts approximately 30 minutes\, and caregivers and children are encouraged to linger in the library afterwards to further socialize and choose books to take home. \n  \nStory Time begins the first week of September and ends the first week of May.
URL:https://visitpikeville.com/event/story-time-2-2-2-2-2-2-2-2-2-2-2-2-2-2-2-2-2-2-2-2-2-2-2-2-2-2-2-2-2-2-2-2-2-2-2-2-2-2-2-2-2-2-2-2-2-2-2-2-2-2-2-2-2-2-2-3-2-2-2-2-2-2-2-2-2-2-2-2-2-2-2-2-2-2-2-2-2-2-2-2-2-2-2-2-2-2-2-2-2-2-2-2-2-3-9/
LOCATION:Pike County Public Library\, 126 Lee Avenue\, Pikeville\, KY\, 41501\, United States
CATEGORIES:Pike County Public Library
ATTACH;FMTTYPE=image/png:https://visitpikeville.com/wp-content/uploads/2025/10/Story_Time_Schedule_25.png
END:VEVENT
BEGIN:VEVENT
DTSTART;TZID=America/Kentucky/Louisville:20251108T120000
DTEND;TZID=America/Kentucky/Louisville:20251108T170000
DTSTAMP:20260421T191939
CREATED:20251020T142510Z
LAST-MODIFIED:20251020T142510Z
UID:70069-1762603200-1762621200@visitpikeville.com
SUMMARY:Sesame Street Ticket Event
DESCRIPTION:Come out and join us! Mr Gatti’s Pizza
URL:https://visitpikeville.com/event/sesame-street-ticket-event/
LOCATION:Mr Gatti’s Pizza\, 274 Cassady Blvd\,\, Pikeville\, KY\, 41501\, United States
CATEGORIES:Appalachian Wireless Arena
ATTACH;FMTTYPE=image/jpeg:https://visitpikeville.com/wp-content/uploads/2025/10/sesame-ticket.jpg
END:VEVENT
BEGIN:VEVENT
DTSTART;TZID=America/Kentucky/Louisville:20251108T130000
DTEND;TZID=America/Kentucky/Louisville:20251108T150000
DTSTAMP:20260421T191939
CREATED:20251103T150641Z
LAST-MODIFIED:20251103T150641Z
UID:70838-1762606800-1762614000@visitpikeville.com
SUMMARY:FAMILY PAINT CLASS
DESCRIPTION:Join 2 Broke Art Teachers for a cozy\, creative afternoon of painting fun!\n Saturday\, November 8th\, 2025 @ 1:00 PM\n $20 each\n Pikeville\, KY\n\n\nPerfect for families\, beginners\, and anyone ready to get festive! Choose your favorite from 9 adorable holiday designs — from elves and Grinches to snowmen and Santas. No experience needed !\n\n\n Reserve your seats early — spots fill fast!\n Private message us to sign up!
URL:https://visitpikeville.com/event/family-paint-class-8/
LOCATION:2 Broke Art Teachers\, 4505 Weddington Square\,\, Pikeville\, KY\, 41501\, United States
CATEGORIES:Other
ATTACH;FMTTYPE=image/jpeg:https://visitpikeville.com/wp-content/uploads/2025/11/family-paint-class.jpg
END:VEVENT
BEGIN:VEVENT
DTSTART;TZID=America/Kentucky/Louisville:20251108T130000
DTEND;TZID=America/Kentucky/Louisville:20251108T160000
DTSTAMP:20260421T191939
CREATED:20251031T191648Z
LAST-MODIFIED:20251031T192150Z
UID:70565-1762606800-1762617600@visitpikeville.com
SUMMARY:Pokemon TCG Standard with Hailey
DESCRIPTION:@ The Gaming Co
URL:https://visitpikeville.com/event/pokemon-tcg-standard-with-hailey/
LOCATION:The Gaming Co.\, 265 Hambley Boulevard\,\, Pikeville\, KY\, 41501\, United States
CATEGORIES:Other
ATTACH;FMTTYPE=image/jpeg:https://visitpikeville.com/wp-content/uploads/2025/10/gaming-.jpg
END:VEVENT
BEGIN:VEVENT
DTSTART;TZID=America/Kentucky/Louisville:20251108T130000
DTEND;TZID=America/Kentucky/Louisville:20251108T170000
DTSTAMP:20260421T191939
CREATED:20251031T175035Z
LAST-MODIFIED:20251031T175035Z
UID:70515-1762606800-1762621200@visitpikeville.com
SUMMARY:Open War Gaming
DESCRIPTION:The Gaming Co @ 1:00pm
URL:https://visitpikeville.com/event/rpg-day-with-steven-2-4/
LOCATION:The Gaming Co.\, 265 Hambley Boulevard\,\, Pikeville\, KY\, 41501\, United States
CATEGORIES:Other
ATTACH;FMTTYPE=image/jpeg:https://visitpikeville.com/wp-content/uploads/2025/10/gaming-.jpg
END:VEVENT
BEGIN:VEVENT
DTSTART;TZID=America/Kentucky/Louisville:20251108T130000
DTEND;TZID=America/Kentucky/Louisville:20251108T170000
DTSTAMP:20260421T191939
CREATED:20251031T190515Z
LAST-MODIFIED:20251031T190515Z
UID:70557-1762606800-1762621200@visitpikeville.com
SUMMARY:RPG Day with Steven
DESCRIPTION:@The Gaming Co
URL:https://visitpikeville.com/event/rpg-day-with-steven-3/
LOCATION:The Gaming Co.\, 265 Hambley Boulevard\,\, Pikeville\, KY\, 41501\, United States
CATEGORIES:Other
ATTACH;FMTTYPE=image/jpeg:https://visitpikeville.com/wp-content/uploads/2025/10/gaming-.jpg
END:VEVENT
BEGIN:VEVENT
DTSTART;TZID=America/Kentucky/Louisville:20251108T170000
DTEND;TZID=America/Kentucky/Louisville:20251108T190000
DTSTAMP:20260421T191939
CREATED:20251103T151157Z
LAST-MODIFIED:20251103T151157Z
UID:70845-1762621200-1762628400@visitpikeville.com
SUMMARY:GRINCHMAS PAINT CLASS
DESCRIPTION:Join us Saturday\, November 8th at 5:00 PM for a fun and festive night at 2 Broke Art Teachers in Pikeville\, KY!\n\n\nWe’ll guide you step-by-step as you paint this adorable Grinchmas scene — complete with Cindy Lou Who\, Max\, and the Grinch himself under the Christmas star \n\n\n Details:\n Step-by-step instruction\n Pre-drawn 16×20 canvas\n $25 per painter\n Please no kiddos under 10\n\n\nSeats fill fast — message us to reserve your spot and get into the holiday spirit with a little paint\, laughter\, and Grinchy cheer!
URL:https://visitpikeville.com/event/grinchmas-paint-class/
LOCATION:2 Broke Art Teachers\, 4505 Weddington Square\,\, Pikeville\, KY\, 41501\, United States
CATEGORIES:Other
ATTACH;FMTTYPE=image/jpeg:https://visitpikeville.com/wp-content/uploads/2025/11/grinchmas.jpg
END:VEVENT
BEGIN:VEVENT
DTSTART;TZID=America/Kentucky/Louisville:20251108T180000
DTEND;TZID=America/Kentucky/Louisville:20251108T210000
DTSTAMP:20260421T191939
CREATED:20251103T122502Z
LAST-MODIFIED:20251103T122502Z
UID:70672-1762624800-1762635600@visitpikeville.com
SUMMARY:Square Dancing
DESCRIPTION:Call 432-2534 for more info
URL:https://visitpikeville.com/event/square-dancing-2/
LOCATION:Pike County Extension Office\, 148 Trivette Dr\, Pikeville\, KY\, 41501\, United States
CATEGORIES:Pike County Cooperative Extension Office
ATTACH;FMTTYPE=image/jpeg:https://visitpikeville.com/wp-content/uploads/2025/11/square-dancing.jpg
END:VEVENT
BEGIN:VEVENT
DTSTART;TZID=America/Kentucky/Louisville:20251108T190000
DTEND;TZID=America/Kentucky/Louisville:20251108T220000
DTSTAMP:20260421T191939
CREATED:20250519T131029Z
LAST-MODIFIED:20250519T131029Z
UID:64642-1762628400-1762639200@visitpikeville.com
SUMMARY:Football vs Kentucky Christian University
DESCRIPTION:Game Day!
URL:https://visitpikeville.com/event/football-vs-kentucky-christian-university-4/
LOCATION:Hambley Athletic Complex\, 120 Championship Dr\,\, Pikeville\, KY\, 41501\, United States
CATEGORIES:UPike
ATTACH;FMTTYPE=image/png:https://visitpikeville.com/wp-content/uploads/2025/05/Screenshot-2025-05-19-at-9.09.17 AM.png
END:VEVENT
END:VCALENDAR