BEGIN:VCALENDAR
VERSION:2.0
PRODID:-//Visit Pikeville - ECPv6.15.20//NONSGML v1.0//EN
CALSCALE:GREGORIAN
METHOD:PUBLISH
X-WR-CALNAME:Visit Pikeville
X-ORIGINAL-URL:https://visitpikeville.com
X-WR-CALDESC:Events for Visit Pikeville
REFRESH-INTERVAL;VALUE=DURATION:PT1H
X-Robots-Tag:noindex
X-PUBLISHED-TTL:PT1H
BEGIN:VTIMEZONE
TZID:America/Kentucky/Louisville
BEGIN:DAYLIGHT
TZOFFSETFROM:-0500
TZOFFSETTO:-0400
TZNAME:EDT
DTSTART:20240310T070000
END:DAYLIGHT
BEGIN:STANDARD
TZOFFSETFROM:-0400
TZOFFSETTO:-0500
TZNAME:EST
DTSTART:20241103T060000
END:STANDARD
BEGIN:DAYLIGHT
TZOFFSETFROM:-0500
TZOFFSETTO:-0400
TZNAME:EDT
DTSTART:20250309T070000
END:DAYLIGHT
BEGIN:STANDARD
TZOFFSETFROM:-0400
TZOFFSETTO:-0500
TZNAME:EST
DTSTART:20251102T060000
END:STANDARD
BEGIN:DAYLIGHT
TZOFFSETFROM:-0500
TZOFFSETTO:-0400
TZNAME:EDT
DTSTART:20260308T070000
END:DAYLIGHT
BEGIN:STANDARD
TZOFFSETFROM:-0400
TZOFFSETTO:-0500
TZNAME:EST
DTSTART:20261101T060000
END:STANDARD
END:VTIMEZONE
BEGIN:VEVENT
DTSTART;TZID=America/Kentucky/Louisville:20250318T170000
DTEND;TZID=America/Kentucky/Louisville:20250318T180000
DTSTAMP:20260425T082223
CREATED:20250303T151127Z
LAST-MODIFIED:20250303T151127Z
UID:63208-1742317200-1742320800@visitpikeville.com
SUMMARY:Adult Guitar Class
DESCRIPTION:Beginner guitar lessons for patrons ages 18+. This class will be for 8 weeks\, meeting weekly in February and March. Please bring your own instrument. Registration required. \n\n\n\n\n\n\n  \nMeets every Tuesday at 5:00 Feb 4 – March 25.
URL:https://visitpikeville.com/event/adult-guitar-class-3-2-2/
LOCATION:Pike County Public Library\, 126 Lee Avenue\, Pikeville\, KY\, 41501\, United States
CATEGORIES:Pike County Health Department
ATTACH;FMTTYPE=image/png:https://visitpikeville.com/wp-content/uploads/2025/03/Beginner_Guitar_Classes.png
END:VEVENT
BEGIN:VEVENT
DTSTART;TZID=America/Kentucky/Louisville:20250318T150000
DTEND;TZID=America/Kentucky/Louisville:20250318T160000
DTSTAMP:20260425T082223
CREATED:20241008T143153Z
LAST-MODIFIED:20241008T143153Z
UID:58176-1742310000-1742313600@visitpikeville.com
SUMMARY:Men's Tennis vs Union Commonwealth University (Ky.)
DESCRIPTION:Game Day!!
URL:https://visitpikeville.com/event/mens-tennis-vs-union-commonwealth-university-ky/
LOCATION:Bob Amos Park\, 424 Bob Amos Dr\, Pikeville\, Ky\, 41501
CATEGORIES:UPike
ATTACH;FMTTYPE=image/png:https://visitpikeville.com/wp-content/uploads/2024/10/Screenshot-2024-10-08-at-10.31.01 AM.png
END:VEVENT
BEGIN:VEVENT
DTSTART;TZID=America/Kentucky/Louisville:20250318T150000
DTEND;TZID=America/Kentucky/Louisville:20250318T160000
DTSTAMP:20260425T082223
CREATED:20241008T143001Z
LAST-MODIFIED:20241008T143001Z
UID:58173-1742310000-1742313600@visitpikeville.com
SUMMARY:Women's Tennis vs Union Commonwealth University (Ky.)
DESCRIPTION:Game Day!!
URL:https://visitpikeville.com/event/womens-tennis-vs-union-commonwealth-university-ky/
LOCATION:Bob Amos Park\, 424 Bob Amos Dr\, Pikeville\, Ky\, 41501
CATEGORIES:UPike
ATTACH;FMTTYPE=image/png:https://visitpikeville.com/wp-content/uploads/2024/10/Screenshot-2024-10-08-at-10.28.44 AM.png
END:VEVENT
BEGIN:VEVENT
DTSTART;TZID=America/Kentucky/Louisville:20250318T140000
DTEND;TZID=America/Kentucky/Louisville:20250318T150000
DTSTAMP:20260425T082223
CREATED:20250303T150745Z
LAST-MODIFIED:20250303T150745Z
UID:63199-1742306400-1742310000@visitpikeville.com
SUMMARY:Teen Guitar Class B
DESCRIPTION:Beginner guitar lessons for patrons ages 13-17. This class will be for 8 weeks\, meeting weekly in March and April. Please bring your own instrument. Registration required. \n\n\n\n\n\n\n  \nMeets every Tuesday at 2:00 March 4 – April 22.
URL:https://visitpikeville.com/event/teen-guitar-class-b-2-2/
LOCATION:Pike County Public Library\, 126 Lee Avenue\, Pikeville\, KY\, 41501\, United States
CATEGORIES:Pike County Public Library
ATTACH;FMTTYPE=image/png:https://visitpikeville.com/wp-content/uploads/2025/03/Homeschool_Guitar_Lessons.png
END:VEVENT
BEGIN:VEVENT
DTSTART;TZID=America/Kentucky/Louisville:20250318T100000
DTEND;TZID=America/Kentucky/Louisville:20250318T110000
DTSTAMP:20260425T082223
CREATED:20250310T124637Z
LAST-MODIFIED:20250310T124637Z
UID:63400-1742292000-1742295600@visitpikeville.com
SUMMARY:Pike County Fiscal Court Meeting
DESCRIPTION:10:00 am @ Courthouse
URL:https://visitpikeville.com/event/pike-county-fiscal-court-meeting-2-2-2-2-2-2-2-2-3-2-2-2-2-2-2-2-2-2/
LOCATION:Courthouse\, 175 Main St.\, Pikeville\, KY\, 41501\, United States
CATEGORIES:City of Pikeville
ATTACH;FMTTYPE=image/png:https://visitpikeville.com/wp-content/uploads/2023/09/image001.png
END:VEVENT
BEGIN:VEVENT
DTSTART;TZID=America/Kentucky/Louisville:20250317T200000
DTEND;TZID=America/Kentucky/Louisville:20250317T220000
DTSTAMP:20260425T082223
CREATED:20250217T145737Z
LAST-MODIFIED:20250217T145737Z
UID:62891-1742241600-1742248800@visitpikeville.com
SUMMARY:Esports vs Kettering University
DESCRIPTION:Game Day!
URL:https://visitpikeville.com/event/esports-vs-kettering-university/
LOCATION:UPIKE\, 147 Sycamore St\,\, Pikeville\, KY\, 41501\, United States
CATEGORIES:UPike
ATTACH;FMTTYPE=image/png:https://visitpikeville.com/wp-content/uploads/2025/02/Screenshot-2025-02-17-at-9.56.12 AM.png
END:VEVENT
BEGIN:VEVENT
DTSTART;TZID=America/Kentucky/Louisville:20250317T160000
DTEND;TZID=America/Kentucky/Louisville:20250317T173000
DTSTAMP:20260425T082223
CREATED:20250303T145558Z
LAST-MODIFIED:20250303T145558Z
UID:63184-1742227200-1742232600@visitpikeville.com
SUMMARY:Teen Activity Club
DESCRIPTION:Teen Activity Club is a craft group for kids ages 13-18. Teen Activity Club meets at the Pike County Public Library (Lee Avenue) on alternating Mondays at 4:00.
URL:https://visitpikeville.com/event/teen-activity-club-8-2-2-2-2-2-2-2-2-2-2-2-2-2-2-2-2-2-2-2-2-2-2/
LOCATION:Pike County Public Library\, 126 Lee Avenue\, Pikeville\, KY\, 41501\, United States
CATEGORIES:Pike County Public Library
ATTACH;FMTTYPE=image/png:https://visitpikeville.com/wp-content/uploads/2023/12/Teen_Activity_Club.png
END:VEVENT
BEGIN:VEVENT
DTSTART;TZID=America/Kentucky/Louisville:20250316T150000
DTEND;TZID=America/Kentucky/Louisville:20250316T170000
DTSTAMP:20260425T082223
CREATED:20250113T142710Z
LAST-MODIFIED:20250113T142710Z
UID:62003-1742137200-1742144400@visitpikeville.com
SUMMARY:A DOLL'S HOUSE
DESCRIPTION:Artists Collaborative Theatre Presents: A DOLL’S HOUSE by Henrik Ibsen\, Translated by Amy Herzog\nTickets: $12.00\nSynopsis: Ibsen’s celebrated play thrust drama firmly into the modern age when it premiered in 1879. Now\, nearly 150 years later\, acclaimed playwright Amy Herzog makes freshly relevant a story that shocked audiences and brought forth a new era of theatre. The play follows the story of Nora\, a young wife and mother\, who appears to have a perfect life with her husband Torvald. However\, Nora has been keeping a secret from her husband that threatens to unravel her entire world.\nAll performances will be held at Pikeville High School
URL:https://visitpikeville.com/event/a-dolls-house-2-2-2-2-2/
LOCATION:Pikeville High School\, 120 Championship Dr\,\, Pikeville\, KY\, 41501\, United States
CATEGORIES:Other
ATTACH;FMTTYPE=image/jpeg:https://visitpikeville.com/wp-content/uploads/2025/01/a-dolls-house.jpg
END:VEVENT
BEGIN:VEVENT
DTSTART;TZID=America/Kentucky/Louisville:20250316T150000
DTEND;TZID=America/Kentucky/Louisville:20250316T170000
DTSTAMP:20260425T082223
CREATED:20241209T133709Z
LAST-MODIFIED:20241216T132219Z
UID:60630-1742137200-1742144400@visitpikeville.com
SUMMARY:Softball vs University of Michigan-Dearborn (Mich.)
DESCRIPTION:Game Day!
URL:https://visitpikeville.com/event/softball-vs-university-of-michigan-dearborn-mich-2/
LOCATION:Paul Butcher Field\, 134 Bank St\,\, Pikeville\, KY\, 41501\, United States
CATEGORIES:UPike
ATTACH;FMTTYPE=image/png:https://visitpikeville.com/wp-content/uploads/2024/12/Screenshot-2024-12-09-at-8.32.36 AM.png
END:VEVENT
BEGIN:VEVENT
DTSTART;TZID=America/Kentucky/Louisville:20250316T130000
DTEND;TZID=America/Kentucky/Louisville:20250316T150000
DTSTAMP:20260425T082223
CREATED:20241209T133636Z
LAST-MODIFIED:20241216T134943Z
UID:60627-1742130000-1742137200@visitpikeville.com
SUMMARY:Softball vs University of Michigan-Dearborn (Mich.)
DESCRIPTION:Game Day!
URL:https://visitpikeville.com/event/softball-vs-university-of-michigan-dearborn-mich/
LOCATION:Paul Butcher Field\, 134 Bank St\,\, Pikeville\, KY\, 41501\, United States
CATEGORIES:UPike
ATTACH;FMTTYPE=image/png:https://visitpikeville.com/wp-content/uploads/2024/12/Screenshot-2024-12-09-at-8.32.36 AM.png
END:VEVENT
BEGIN:VEVENT
DTSTART;TZID=America/Kentucky/Louisville:20250315T200000
DTEND;TZID=America/Kentucky/Louisville:20250315T220000
DTSTAMP:20260425T082223
CREATED:20250310T124541Z
LAST-MODIFIED:20250310T124541Z
UID:63398-1742068800-1742076000@visitpikeville.com
SUMMARY:The Sons @ Pearse's Place
DESCRIPTION:@8:00pm
URL:https://visitpikeville.com/event/the-sons-pearses-place/
LOCATION:Pearse’s Place\, 224 2nd St\,\, Pikeville\, KY\, 41501\, United States
CATEGORIES:Other
ATTACH;FMTTYPE=image/jpeg:https://visitpikeville.com/wp-content/uploads/2025/03/perses.jpg
END:VEVENT
BEGIN:VEVENT
DTSTART;TZID=America/Kentucky/Louisville:20250315T193000
DTEND;TZID=America/Kentucky/Louisville:20250315T220000
DTSTAMP:20260425T082223
CREATED:20250113T142626Z
LAST-MODIFIED:20250113T142626Z
UID:62001-1742067000-1742076000@visitpikeville.com
SUMMARY:A DOLL'S HOUSE
DESCRIPTION:Artists Collaborative Theatre Presents: A DOLL’S HOUSE by Henrik Ibsen\, Translated by Amy Herzog\nTickets: $12.00\nSynopsis: Ibsen’s celebrated play thrust drama firmly into the modern age when it premiered in 1879. Now\, nearly 150 years later\, acclaimed playwright Amy Herzog makes freshly relevant a story that shocked audiences and brought forth a new era of theatre. The play follows the story of Nora\, a young wife and mother\, who appears to have a perfect life with her husband Torvald. However\, Nora has been keeping a secret from her husband that threatens to unravel her entire world.\nAll performances will be held at Pikeville High School
URL:https://visitpikeville.com/event/a-dolls-house-2-2-2-2/
LOCATION:Pikeville High School\, 120 Championship Dr\,\, Pikeville\, KY\, 41501\, United States
CATEGORIES:Other
ATTACH;FMTTYPE=image/jpeg:https://visitpikeville.com/wp-content/uploads/2025/01/a-dolls-house.jpg
END:VEVENT
BEGIN:VEVENT
DTSTART;TZID=America/Kentucky/Louisville:20250315T190000
DTEND;TZID=America/Kentucky/Louisville:20250315T210000
DTSTAMP:20260425T082223
CREATED:20250310T131220Z
LAST-MODIFIED:20250310T131220Z
UID:63411-1742065200-1742072400@visitpikeville.com
SUMMARY:Truck of Flowers / Spring Fox
DESCRIPTION:Spring is in the air and also at our shop. Join us 2Broke Art Teachers for a beautiful evening of painting.
URL:https://visitpikeville.com/event/truck-of-flowers-spring-fox/
LOCATION:2 Broke Art Teachers\, 4505 Weddington Square\,\, Pikeville\, KY\, 41501\, United States
CATEGORIES:Other
ATTACH;FMTTYPE=image/jpeg:https://visitpikeville.com/wp-content/uploads/2025/03/truck.jpg
END:VEVENT
BEGIN:VEVENT
DTSTART;TZID=America/Kentucky/Louisville:20250315T150000
DTEND;TZID=America/Kentucky/Louisville:20250315T170000
DTSTAMP:20260425T082223
CREATED:20241209T132218Z
LAST-MODIFIED:20241209T132218Z
UID:60624-1742050800-1742058000@visitpikeville.com
SUMMARY:Softball vs Milligan University
DESCRIPTION:Game Day!
URL:https://visitpikeville.com/event/softball-vs-milligan-university-3-2/
LOCATION:Paul Butcher Field\, 134 Bank St\,\, Pikeville\, KY\, 41501\, United States
CATEGORIES:UPike
ATTACH;FMTTYPE=image/png:https://visitpikeville.com/wp-content/uploads/2024/12/Screenshot-2024-12-09-at-8.19.49 AM.png
END:VEVENT
BEGIN:VEVENT
DTSTART;TZID=America/Kentucky/Louisville:20250315T150000
DTEND;TZID=America/Kentucky/Louisville:20250315T170000
DTSTAMP:20260425T082223
CREATED:20241111T192128Z
LAST-MODIFIED:20241111T192128Z
UID:59569-1742050800-1742058000@visitpikeville.com
SUMMARY:Baseball vs Milligan University
DESCRIPTION:Game Day!!
URL:https://visitpikeville.com/event/baseball-vs-milligan-university-3-2-2/
LOCATION:Johnnie LeMaster Field\, 118 W River Dr\,\, Pikeville\, KY\, 41501\, United States
CATEGORIES:UPike
ATTACH;FMTTYPE=image/png:https://visitpikeville.com/wp-content/uploads/2024/11/Screenshot-2024-11-11-at-2.15.30 PM.png
END:VEVENT
BEGIN:VEVENT
DTSTART;TZID=America/Kentucky/Louisville:20250315T140000
DTEND;TZID=America/Kentucky/Louisville:20250315T150000
DTSTAMP:20260425T082223
CREATED:20241008T142813Z
LAST-MODIFIED:20241008T142813Z
UID:58170-1742047200-1742050800@visitpikeville.com
SUMMARY:Women's Tennis vs Milligan University
DESCRIPTION:Game Day!
URL:https://visitpikeville.com/event/womens-tennis-vs-milligan-university/
LOCATION:Bob Amos Park\, 424 Bob Amos Dr\, Pikeville\, Ky\, 41501
CATEGORIES:UPike
ATTACH;FMTTYPE=image/png:https://visitpikeville.com/wp-content/uploads/2024/10/Screenshot-2024-10-08-at-10.27.52 AM.png
END:VEVENT
BEGIN:VEVENT
DTSTART;TZID=America/Kentucky/Louisville:20250315T140000
DTEND;TZID=America/Kentucky/Louisville:20250315T150000
DTSTAMP:20260425T082223
CREATED:20241008T142558Z
LAST-MODIFIED:20241008T142558Z
UID:58167-1742047200-1742050800@visitpikeville.com
SUMMARY:Men's Tennis vs Milligan University
DESCRIPTION:Game Day!
URL:https://visitpikeville.com/event/mens-tennis-vs-milligan-university/
LOCATION:Bob Amos Park\, 424 Bob Amos Dr\, Pikeville\, Ky\, 41501
CATEGORIES:UPike
ATTACH;FMTTYPE=image/png:https://visitpikeville.com/wp-content/uploads/2024/10/Screenshot-2024-10-08-at-10.23.18 AM.png
END:VEVENT
BEGIN:VEVENT
DTSTART;TZID=America/Kentucky/Louisville:20250315T130000
DTEND;TZID=America/Kentucky/Louisville:20250315T150000
DTSTAMP:20260425T082223
CREATED:20241209T132114Z
LAST-MODIFIED:20241209T132114Z
UID:60621-1742043600-1742050800@visitpikeville.com
SUMMARY:Softball vs Milligan University
DESCRIPTION:Game Day!
URL:https://visitpikeville.com/event/softball-vs-milligan-university-3/
LOCATION:Paul Butcher Field\, 134 Bank St\,\, Pikeville\, KY\, 41501\, United States
CATEGORIES:UPike
ATTACH;FMTTYPE=image/png:https://visitpikeville.com/wp-content/uploads/2024/12/Screenshot-2024-12-09-at-8.19.49 AM.png
END:VEVENT
BEGIN:VEVENT
DTSTART;TZID=America/Kentucky/Louisville:20250315T120000
DTEND;TZID=America/Kentucky/Louisville:20250315T140000
DTSTAMP:20260425T082223
CREATED:20241111T192054Z
LAST-MODIFIED:20241111T192054Z
UID:59567-1742040000-1742047200@visitpikeville.com
SUMMARY:Baseball vs Milligan University
DESCRIPTION:Game Day!!
URL:https://visitpikeville.com/event/baseball-vs-milligan-university-3-2/
LOCATION:Johnnie LeMaster Field\, 118 W River Dr\,\, Pikeville\, KY\, 41501\, United States
CATEGORIES:UPike
ATTACH;FMTTYPE=image/png:https://visitpikeville.com/wp-content/uploads/2024/11/Screenshot-2024-11-11-at-2.15.30 PM.png
END:VEVENT
BEGIN:VEVENT
DTSTART;TZID=America/Kentucky/Louisville:20250315T110000
DTEND;TZID=America/Kentucky/Louisville:20250315T130000
DTSTAMP:20260425T082223
CREATED:20250303T145317Z
LAST-MODIFIED:20250303T145317Z
UID:63178-1742036400-1742043600@visitpikeville.com
SUMMARY:Quilters Group
DESCRIPTION:Pike County Public Library Quilters Group is a quilting social that also teaches quilting and needlework. Participants exchange patterns\, quilting ideas\, and sewing projects. Both beginners and experienced quilters are welcome! Quilters Group meets alternating Saturdays at noon at the Lee Avenue Library.\nFor more information\, contact Charlene at 606-437-6001 or charlene@pikelibrary.org
URL:https://visitpikeville.com/event/quilters-group-4-2-2-2-2-2-2-2-2-2-2-2-2-2-2-2-2-2-2-2-2-2-2-2-2-2-2-2-2-2-2-2-2-2/
LOCATION:Pike County Public Library\, 126 Lee Avenue\, Pikeville\, KY\, 41501\, United States
CATEGORIES:Pike County Public Library
ATTACH;FMTTYPE=image/jpeg:https://visitpikeville.com/wp-content/uploads/2024/06/quilters.jpeg
END:VEVENT
BEGIN:VEVENT
DTSTART;TZID=America/Kentucky/Louisville:20250315T110000
DTEND;TZID=America/Kentucky/Louisville:20250315T120000
DTSTAMP:20260425T082223
CREATED:20250303T143859Z
LAST-MODIFIED:20250303T143859Z
UID:63162-1742036400-1742040000@visitpikeville.com
SUMMARY:Story Time
DESCRIPTION:tory Time is for children ages 5 and under and features books\, action/movement\, songs\, and a craft. Story Time is held Thursdays at 11:00 and 2:00 and Saturdays at 11:00. \n\n\n\n\n\n\n  \nBesides being fun\, Story Time also helps develop early literacy and school readiness skills through reading\, singing\, listening\, playing\, and social interaction. This program lasts approximately 30 minutes\, and caregivers and children are encouraged to linger in the library afterwards to further socialize and choose books to take home.
URL:https://visitpikeville.com/event/story-time-2-2-2-2-2-2-2-2-2-2-2-2-2-2-2-2-2-2-2-2-2-2-2-2-2-2-2-2-2-2-2-2-2-2-2-2-2-2-2-2-2-2-2-2-2-2-2-2-2-2-2-2-2-2-2-3-2-2-2-2-2-2-2-2-2-2-2-2-2-2-2-2-2-2-2-2-2-2-2-2-2-2-2-2-2-2-2-2-2-2-2-2-2-18/
LOCATION:Pike County Public Library\, 126 Lee Avenue\, Pikeville\, KY\, 41501\, United States
CATEGORIES:Pike County Public Library
ATTACH;FMTTYPE=image/png:https://visitpikeville.com/wp-content/uploads/2023/12/Story_TimeLEE.png
END:VEVENT
BEGIN:VEVENT
DTSTART;TZID=America/Kentucky/Louisville:20250314T193000
DTEND;TZID=America/Kentucky/Louisville:20250314T220000
DTSTAMP:20260425T082223
CREATED:20250113T142547Z
LAST-MODIFIED:20250113T142547Z
UID:61999-1741980600-1741989600@visitpikeville.com
SUMMARY:A DOLL'S HOUSE
DESCRIPTION:Artists Collaborative Theatre Presents: A DOLL’S HOUSE by Henrik Ibsen\, Translated by Amy Herzog\nTickets: $12.00\nSynopsis: Ibsen’s celebrated play thrust drama firmly into the modern age when it premiered in 1879. Now\, nearly 150 years later\, acclaimed playwright Amy Herzog makes freshly relevant a story that shocked audiences and brought forth a new era of theatre. The play follows the story of Nora\, a young wife and mother\, who appears to have a perfect life with her husband Torvald. However\, Nora has been keeping a secret from her husband that threatens to unravel her entire world.\nAll performances will be held at Pikeville High School
URL:https://visitpikeville.com/event/a-dolls-house-2-2-2/
LOCATION:Pikeville High School\, 120 Championship Dr\,\, Pikeville\, KY\, 41501\, United States
CATEGORIES:Other
ATTACH;FMTTYPE=image/jpeg:https://visitpikeville.com/wp-content/uploads/2025/01/a-dolls-house.jpg
END:VEVENT
BEGIN:VEVENT
DTSTART;TZID=America/Kentucky/Louisville:20250314T193000
DTEND;TZID=America/Kentucky/Louisville:20250314T213000
DTSTAMP:20260425T082223
CREATED:20250310T124246Z
LAST-MODIFIED:20250310T124246Z
UID:63395-1741980600-1741987800@visitpikeville.com
SUMMARY:Ethan Allen at Pearse's Place
DESCRIPTION:@7:30pm
URL:https://visitpikeville.com/event/ethan-allen-at-pearses-place/
LOCATION:Pearse’s Place\, 224 2nd St\,\, Pikeville\, KY\, 41501\, United States
CATEGORIES:Other
ATTACH;FMTTYPE=image/jpeg:https://visitpikeville.com/wp-content/uploads/2025/03/perses.jpg
END:VEVENT
BEGIN:VEVENT
DTSTART;TZID=America/Kentucky/Louisville:20250314T193000
DTEND;TZID=America/Kentucky/Louisville:20250314T213000
DTSTAMP:20260425T082223
CREATED:20250217T144738Z
LAST-MODIFIED:20250217T144738Z
UID:62888-1741980600-1741987800@visitpikeville.com
SUMMARY:Esports vs Warner University (Fla.)
DESCRIPTION:Game Day!
URL:https://visitpikeville.com/event/esports-vs-warner-university-fla/
LOCATION:UPIKE\, 147 Sycamore St\,\, Pikeville\, KY\, 41501\, United States
CATEGORIES:UPike
ATTACH;FMTTYPE=image/png:https://visitpikeville.com/wp-content/uploads/2025/02/Screenshot-2025-02-17-at-9.44.50 AM.png
END:VEVENT
BEGIN:VEVENT
DTSTART;TZID=America/Kentucky/Louisville:20250314T190000
DTEND;TZID=America/Kentucky/Louisville:20250314T220000
DTSTAMP:20260425T082223
CREATED:20240506T140650Z
LAST-MODIFIED:20250227T162618Z
UID:50801-1741978800-1741989600@visitpikeville.com
SUMMARY:CANCELLED I love the 90’s
DESCRIPTION:Due to the arena becoming a disaster relief hub for supplies (Flooding) this show has been cancelled. We hope to be back to normal by March 20th.We will keep you posted!Refunds available at your point of purchase starting Monday\, March 3rd.\n\n\n_______________________________________\n\nI Love the 90’s\nMarch 14th\, 2025\nFeaturing Vanilla Ice\, Rob Base\, Tone Loc\, Young MC\, Tag Team\, & C+C Music Factory w/ Freedom Williams\nTickets are $36.50\, $46.50\, $56.50\, and $76.50\nTickets available at the Community Trust Bank Box Office or Ticketmaster.com\nhttps://www.ticketmaster.com/i-lov…/event/160060A68BF716EF
URL:https://visitpikeville.com/event/i-love-the-90s/
LOCATION:Appalachian Wireless Arena\, 126 Main Street\, Pikeville\, Ky\, 41501
CATEGORIES:Appalachian Wireless Arena
ATTACH;FMTTYPE=image/jpeg:https://visitpikeville.com/wp-content/uploads/2024/05/vanilla-ice.jpg
END:VEVENT
BEGIN:VEVENT
DTSTART;TZID=America/Kentucky/Louisville:20250314T173000
DTEND;TZID=America/Kentucky/Louisville:20250314T193000
DTSTAMP:20260425T082223
CREATED:20250310T131401Z
LAST-MODIFIED:20250310T131401Z
UID:63414-1741973400-1741980600@visitpikeville.com
SUMMARY:Pot of Gold
DESCRIPTION:Celebrate St.Patricks Day with us 2 Broke Art Teachersand paint this colorful “Pot of Gold.” So fun to paint and of course there’s gold glitter.
URL:https://visitpikeville.com/event/pot-of-gold/
LOCATION:2 Broke Art Teachers\, 4505 Weddington Square\,\, Pikeville\, KY\, 41501\, United States
CATEGORIES:Other
ATTACH;FMTTYPE=image/jpeg:https://visitpikeville.com/wp-content/uploads/2025/03/pot-of-gold.jpg
END:VEVENT
BEGIN:VEVENT
DTSTART;TZID=America/Kentucky/Louisville:20250314T163000
DTEND;TZID=America/Kentucky/Louisville:20250314T173000
DTSTAMP:20260425T082223
CREATED:20250303T153303Z
LAST-MODIFIED:20250303T153303Z
UID:63255-1741969800-1741973400@visitpikeville.com
SUMMARY:Kids Guitar Class A
DESCRIPTION:Beginner guitar lessons for children ages 8-12. This class will be for 8 weeks\, meeting weekly in February and March. Please bring your own instrument. Registration required. \n\n\n\n\n\n\n  \nMeets every Friday at 4:30 Feb 7 – March 28.
URL:https://visitpikeville.com/event/kids-guitar-class-a-2/
LOCATION:Pike County Public Library\, 126 Lee Avenue\, Pikeville\, KY\, 41501\, United States
CATEGORIES:Pike County Public Library
ATTACH;FMTTYPE=image/png:https://visitpikeville.com/wp-content/uploads/2025/03/kids-quitar-a.png
END:VEVENT
BEGIN:VEVENT
DTSTART;TZID=America/Kentucky/Louisville:20250314T150000
DTEND;TZID=America/Kentucky/Louisville:20250314T170000
DTSTAMP:20260425T082223
CREATED:20241111T191829Z
LAST-MODIFIED:20241111T191829Z
UID:59564-1741964400-1741971600@visitpikeville.com
SUMMARY:Baseball vs Milligan University
DESCRIPTION:Game Day!!
URL:https://visitpikeville.com/event/baseball-vs-milligan-university-3/
LOCATION:Johnnie LeMaster Field\, 118 W River Dr\,\, Pikeville\, KY\, 41501\, United States
CATEGORIES:UPike
ATTACH;FMTTYPE=image/png:https://visitpikeville.com/wp-content/uploads/2024/11/Screenshot-2024-11-11-at-2.15.30 PM.png
END:VEVENT
BEGIN:VEVENT
DTSTART;TZID=America/Kentucky/Louisville:20250314T070000
DTEND;TZID=America/Kentucky/Louisville:20250314T140000
DTSTAMP:20260425T082223
CREATED:20250310T130232Z
LAST-MODIFIED:20250310T130232Z
UID:63408-1741935600-1741960800@visitpikeville.com
SUMMARY:Blood Drive
DESCRIPTION:Blood Donors Are LEGEND DAIRY. \n\n\nIf you could reserve a spot to save a life\, would you do it? Would you hope someone would step up to help you\, your child\, your spouse\, or your parents in their time of need? Now’s your chance to be the legend in someone’s story.\n\n\n Just like milk fuels strong bones\, your donation fuels life for patients in need. Donate blood at our upcoming Legend Dairy Blood Drive and get a free “Legend Dairy” t-shirt-because heroes deserve legendary rewards!\n\n\n Reserve your spot now: https://my.kybloodcenter.org/…/sch…/drive_schedule/87073\n\n\n Pikeville Medical Center – Friday\,\nMarch 14 – May Tower – 2nd Floor Atrium – 7am-2pm\n\n\n Photo ID required\n\n\nDon’t let this opportunity MOOve past you!  Book your donation today and make a difference.  #LegendDairyDonor #SaveLives #GiveBlood
URL:https://visitpikeville.com/event/blood-drive-4/
LOCATION:Pikeville Medical Center\, 911 S Bypass Rd\,\, Pikeville\, KY\, 41501\, United States
CATEGORIES:Pikeville Medical Center
ATTACH;FMTTYPE=image/jpeg:https://visitpikeville.com/wp-content/uploads/2025/03/legend-dairy.jpg
END:VEVENT
BEGIN:VEVENT
DTSTART;TZID=America/Kentucky/Louisville:20250313T170000
DTEND;TZID=America/Kentucky/Louisville:20250313T184500
DTSTAMP:20260425T082223
CREATED:20250303T153722Z
LAST-MODIFIED:20250303T153722Z
UID:63265-1741885200-1741891500@visitpikeville.com
SUMMARY:Dungeons and Dragons
DESCRIPTION:Dungeons and Dragons Group meets every other Thursday at 5:00 at the Pike County Public Library (Lee Avenue). Beginners and experienced players alike are welcome.
URL:https://visitpikeville.com/event/dungeons-and-dragons-5-2-2-2-2-2-2-2-2-2-2-2-2-2-2-2-2-2-3-2-2-2-2-2-2/
LOCATION:Pike County Public Library\, 126 Lee Avenue\, Pikeville\, KY\, 41501\, United States
CATEGORIES:Pike County Public Library
ATTACH;FMTTYPE=image/png:https://visitpikeville.com/wp-content/uploads/2023/12/D_D_Group.png
END:VEVENT
END:VCALENDAR