BEGIN:VCALENDAR
VERSION:2.0
PRODID:-//Visit Pikeville - ECPv6.15.20//NONSGML v1.0//EN
CALSCALE:GREGORIAN
METHOD:PUBLISH
X-WR-CALNAME:Visit Pikeville
X-ORIGINAL-URL:https://visitpikeville.com
X-WR-CALDESC:Events for Visit Pikeville
REFRESH-INTERVAL;VALUE=DURATION:PT1H
X-Robots-Tag:noindex
X-PUBLISHED-TTL:PT1H
BEGIN:VTIMEZONE
TZID:America/Kentucky/Louisville
BEGIN:DAYLIGHT
TZOFFSETFROM:-0500
TZOFFSETTO:-0400
TZNAME:EDT
DTSTART:20240310T070000
END:DAYLIGHT
BEGIN:STANDARD
TZOFFSETFROM:-0400
TZOFFSETTO:-0500
TZNAME:EST
DTSTART:20241103T060000
END:STANDARD
BEGIN:DAYLIGHT
TZOFFSETFROM:-0500
TZOFFSETTO:-0400
TZNAME:EDT
DTSTART:20250309T070000
END:DAYLIGHT
BEGIN:STANDARD
TZOFFSETFROM:-0400
TZOFFSETTO:-0500
TZNAME:EST
DTSTART:20251102T060000
END:STANDARD
BEGIN:DAYLIGHT
TZOFFSETFROM:-0500
TZOFFSETTO:-0400
TZNAME:EDT
DTSTART:20260308T070000
END:DAYLIGHT
BEGIN:STANDARD
TZOFFSETFROM:-0400
TZOFFSETTO:-0500
TZNAME:EST
DTSTART:20261101T060000
END:STANDARD
END:VTIMEZONE
BEGIN:VEVENT
DTSTART;TZID=America/Kentucky/Louisville:20250313T110000
DTEND;TZID=America/Kentucky/Louisville:20250313T120000
DTSTAMP:20260425T094344
CREATED:20250303T143741Z
LAST-MODIFIED:20250303T143741Z
UID:63158-1741863600-1741867200@visitpikeville.com
SUMMARY:Story Time
DESCRIPTION:tory Time is for children ages 5 and under and features books\, action/movement\, songs\, and a craft. Story Time is held Thursdays at 11:00 and 2:00 and Saturdays at 11:00. \n\n\n\n\n\n\n  \nBesides being fun\, Story Time also helps develop early literacy and school readiness skills through reading\, singing\, listening\, playing\, and social interaction. This program lasts approximately 30 minutes\, and caregivers and children are encouraged to linger in the library afterwards to further socialize and choose books to take home.
URL:https://visitpikeville.com/event/story-time-2-2-2-2-2-2-2-2-2-2-2-2-2-2-2-2-2-2-2-2-2-2-2-2-2-2-2-2-2-2-2-2-2-2-2-2-2-2-2-2-2-2-2-2-2-2-2-2-2-2-2-2-2-2-2-3-2-2-2-2-2-2-2-2-2-2-2-2-2-2-2-2-2-2-2-2-2-2-2-2-2-2-2-2-2-2-2-2-2-2-2-2-2-16/
LOCATION:Pike County Public Library\, 126 Lee Avenue\, Pikeville\, KY\, 41501\, United States
CATEGORIES:Pike County Public Library
ATTACH;FMTTYPE=image/png:https://visitpikeville.com/wp-content/uploads/2023/12/Story_TimeLEE.png
END:VEVENT
BEGIN:VEVENT
DTSTART;TZID=America/Kentucky/Louisville:20250313T080000
DTEND;TZID=America/Kentucky/Louisville:20250314T133000
DTSTAMP:20260425T094344
CREATED:20241216T155339Z
LAST-MODIFIED:20241216T155339Z
UID:60941-1741852800-1741959000@visitpikeville.com
SUMMARY:KAER's 2025 Conference - 'A New Era'
DESCRIPTION:Get ready for KAER’s 2025 Conference – ‘A New Era’ – on Thursday\, March 13\, and Friday\, March 14\, 2025\, at the University of Pikeville. Two Ways to Shine – Presentation OR *new this year* the professional showcase! Who Should Apply? Educators\, service providers\, O&M specialists\, counselors\, tech innovators\, anyone with game-changing ideas Deadline to apply — January 31\, 2025
URL:https://visitpikeville.com/event/kaers-2025-conference-a-new-era/
LOCATION:University Of Pikeville\, 147 Sycamore St\,\, Pikeville\, KY\, 41501\, United States
CATEGORIES:UPike
ATTACH;FMTTYPE=image/jpeg:https://visitpikeville.com/wp-content/uploads/2024/12/kaer.jpg
END:VEVENT
BEGIN:VEVENT
DTSTART;TZID=America/Kentucky/Louisville:20250312T190000
DTEND;TZID=America/Kentucky/Louisville:20250312T210000
DTSTAMP:20260425T094344
CREATED:20250310T123635Z
LAST-MODIFIED:20250310T123635Z
UID:63388-1741806000-1741813200@visitpikeville.com
SUMMARY:Open Mic Night at Pearse's Place
DESCRIPTION:Hosted By Johnny Pop Day
URL:https://visitpikeville.com/event/open-mic-night-at-pearses-place/
LOCATION:Pearse’s Place\, 224 2nd St\,\, Pikeville\, KY\, 41501\, United States
CATEGORIES:Other
ATTACH;FMTTYPE=image/jpeg:https://visitpikeville.com/wp-content/uploads/2025/03/open-mic.jpg
END:VEVENT
BEGIN:VEVENT
DTSTART;TZID=America/Kentucky/Louisville:20250312T163000
DTEND;TZID=America/Kentucky/Louisville:20250312T173000
DTSTAMP:20260425T094344
CREATED:20250303T152152Z
LAST-MODIFIED:20250303T152152Z
UID:63228-1741797000-1741800600@visitpikeville.com
SUMMARY:Teen Guitar Class A
DESCRIPTION:Beginner guitar lessons for patrons ages 13-17. This class will be for 8 weeks\, meeting weekly in February and March. Please bring your own instrument. Registration required. \n\n\n\n\n\n\n  \nMeets every Wednesday at 4:30 Feb 5 – March 26.
URL:https://visitpikeville.com/event/teen-guitar-class-a-2/
LOCATION:Pike County Public Library\, 126 Lee Avenue\, Pikeville\, KY\, 41501\, United States
CATEGORIES:Pike County Public Library
ATTACH;FMTTYPE=image/png:https://visitpikeville.com/wp-content/uploads/2025/03/teen-guitar-a.png
END:VEVENT
BEGIN:VEVENT
DTSTART;TZID=America/Kentucky/Louisville:20250311T190000
DTEND;TZID=America/Kentucky/Louisville:20250311T210000
DTSTAMP:20260425T094344
CREATED:20250217T144333Z
LAST-MODIFIED:20250217T144333Z
UID:62885-1741719600-1741726800@visitpikeville.com
SUMMARY:Esports vs Arcadia University
DESCRIPTION:Game Day!
URL:https://visitpikeville.com/event/esports-vs-arcadia-university/
LOCATION:UPIKE\, 147 Sycamore St\,\, Pikeville\, KY\, 41501\, United States
CATEGORIES:UPike
ATTACH;FMTTYPE=image/png:https://visitpikeville.com/wp-content/uploads/2025/02/Screenshot-2025-02-17-at-9.41.55 AM.png
END:VEVENT
BEGIN:VEVENT
DTSTART;TZID=America/Kentucky/Louisville:20250311T173000
DTEND;TZID=America/Kentucky/Louisville:20250311T193000
DTSTAMP:20260425T094344
CREATED:20250310T131653Z
LAST-MODIFIED:20250310T131653Z
UID:63417-1741714200-1741721400@visitpikeville.com
SUMMARY:Pre Drawn Stretch Canvas
DESCRIPTION:Join us 2Broke Art Teachers this Tuesday and select the painting you want to paint. Send us a private message and we will have all you need in supplies and instructions to let you bring home a beautiful painting.
URL:https://visitpikeville.com/event/pre-drawn-stretch-canvas/
LOCATION:2 Broke Art Teachers\, 4505 Weddington Square\,\, Pikeville\, KY\, 41501\, United States
CATEGORIES:Other
ATTACH;FMTTYPE=image/png:https://visitpikeville.com/wp-content/uploads/2025/03/Screenshot-2025-03-10-at-9.15.25 AM.png
END:VEVENT
BEGIN:VEVENT
DTSTART;TZID=America/Kentucky/Louisville:20250311T173000
DTEND;TZID=America/Kentucky/Louisville:20250311T183000
DTSTAMP:20260425T094344
CREATED:20250303T151528Z
LAST-MODIFIED:20250303T151528Z
UID:63215-1741714200-1741717800@visitpikeville.com
SUMMARY:Sign Language Class
DESCRIPTION:Learn the basics of American Sign Language with this 4-week introductory class! \n\n\n\n\n\n\n  \nThis class meets every Tuesday in March at 5:30 at the Pike County Public Library (Lee Avenue) and is suitable for all ages. No registration required. \nPlease note the Sign Language Class at the library is a free community event that does not result in participants earning any kind of diploma\, legal certificate\, or credential.
URL:https://visitpikeville.com/event/sign-language-class-4-2/
LOCATION:Pike County Public Library\, 126 Lee Avenue\, Pikeville\, KY\, 41501\, United States
CATEGORIES:Pike County Public Library
ATTACH;FMTTYPE=image/png:https://visitpikeville.com/wp-content/uploads/2025/03/SignLangMAR.png
END:VEVENT
BEGIN:VEVENT
DTSTART;TZID=America/Kentucky/Louisville:20250311T170000
DTEND;TZID=America/Kentucky/Louisville:20250311T180000
DTSTAMP:20260425T094344
CREATED:20250303T151059Z
LAST-MODIFIED:20250303T151059Z
UID:63206-1741712400-1741716000@visitpikeville.com
SUMMARY:Adult Guitar Class
DESCRIPTION:Beginner guitar lessons for patrons ages 18+. This class will be for 8 weeks\, meeting weekly in February and March. Please bring your own instrument. Registration required. \n\n\n\n\n\n\n  \nMeets every Tuesday at 5:00 Feb 4 – March 25.
URL:https://visitpikeville.com/event/adult-guitar-class-3-2/
LOCATION:Pike County Public Library\, 126 Lee Avenue\, Pikeville\, KY\, 41501\, United States
CATEGORIES:Pike County Health Department
ATTACH;FMTTYPE=image/png:https://visitpikeville.com/wp-content/uploads/2025/03/Beginner_Guitar_Classes.png
END:VEVENT
BEGIN:VEVENT
DTSTART;TZID=America/Kentucky/Louisville:20250311T170000
DTEND;TZID=America/Kentucky/Louisville:20250311T180000
DTSTAMP:20260425T094344
CREATED:20250224T195150Z
LAST-MODIFIED:20250224T195150Z
UID:63047-1741712400-1741716000@visitpikeville.com
SUMMARY:Bluey Visits The Library
DESCRIPTION:Join us for a special visit from Bluey\, everyone’s favorite playful pup! Families are invited to meet Bluey and make a craft to take home. Don’t forget your camera for photo ops\, and check out a Bluey book before you go! No registration required.\nThis program will be held at the following times:Phelps Public Library…Mar 11 | 2:00Pike County Public Library (Lee Ave)…Mar 11 | 5:00Vesta Roberts Johnson Memorial Library…Mar 12 | 4:30Elkhorn City Public Library…Mar 13 | 5:00Belfry Public Library…Mar 14 | 4:30
URL:https://visitpikeville.com/event/bluey-visits-the-library-2/
LOCATION:Pike County Public Library\, 126 Lee Avenue\, Pikeville\, KY\, 41501\, United States
CATEGORIES:Pike County Public Library
ATTACH;FMTTYPE=image/jpeg:https://visitpikeville.com/wp-content/uploads/2025/02/bluey.jpg
END:VEVENT
BEGIN:VEVENT
DTSTART;TZID=America/Kentucky/Louisville:20250311T150000
DTEND;TZID=America/Kentucky/Louisville:20250311T170000
DTSTAMP:20260425T094344
CREATED:20241111T191342Z
LAST-MODIFIED:20241111T191342Z
UID:59561-1741705200-1741712400@visitpikeville.com
SUMMARY:Baseball vs Campbellsville University
DESCRIPTION:Game Day!!
URL:https://visitpikeville.com/event/baseball-vs-campbellsville-university-3/
LOCATION:Johnnie LeMaster Field\, 118 W River Dr\,\, Pikeville\, KY\, 41501\, United States
CATEGORIES:UPike
ATTACH;FMTTYPE=image/png:https://visitpikeville.com/wp-content/uploads/2024/11/Screenshot-2024-11-11-at-2.12.17 PM.png
END:VEVENT
BEGIN:VEVENT
DTSTART;TZID=America/Kentucky/Louisville:20250311T140000
DTEND;TZID=America/Kentucky/Louisville:20250311T150000
DTSTAMP:20260425T094344
CREATED:20250303T150718Z
LAST-MODIFIED:20250303T150718Z
UID:63197-1741701600-1741705200@visitpikeville.com
SUMMARY:Teen Guitar Class B
DESCRIPTION:Beginner guitar lessons for patrons ages 13-17. This class will be for 8 weeks\, meeting weekly in March and April. Please bring your own instrument. Registration required. \n\n\n\n\n\n\n  \nMeets every Tuesday at 2:00 March 4 – April 22.
URL:https://visitpikeville.com/event/teen-guitar-class-b-2/
LOCATION:Pike County Public Library\, 126 Lee Avenue\, Pikeville\, KY\, 41501\, United States
CATEGORIES:Pike County Public Library
ATTACH;FMTTYPE=image/png:https://visitpikeville.com/wp-content/uploads/2025/03/Homeschool_Guitar_Lessons.png
END:VEVENT
BEGIN:VEVENT
DTSTART;TZID=America/Kentucky/Louisville:20250311T120000
DTEND;TZID=America/Kentucky/Louisville:20250311T130000
DTSTAMP:20260425T094344
CREATED:20250210T131544Z
LAST-MODIFIED:20250210T131544Z
UID:62739-1741694400-1741698000@visitpikeville.com
SUMMARY:Lunch & Learn with Big Sandy ADD's Blake Moss
DESCRIPTION:Free for members!\nFuture-members: $20
URL:https://visitpikeville.com/event/lunch-learn-with-big-sandy-adds-blake-moss/
LOCATION:Garfield House\, 178 College Street\, Pikeville\, KY\, 41501\, United States
CATEGORIES:Southeast Kentucky Chamber
ATTACH;FMTTYPE=image/png:https://visitpikeville.com/wp-content/uploads/2025/02/LL-March2025-BlakeMoss.png
END:VEVENT
BEGIN:VEVENT
DTSTART;TZID=America/Kentucky/Louisville:20250310T193000
DTEND;TZID=America/Kentucky/Louisville:20250310T213000
DTSTAMP:20260425T094344
CREATED:20250217T144049Z
LAST-MODIFIED:20250217T144049Z
UID:62882-1741635000-1741642200@visitpikeville.com
SUMMARY:Esports vs Lander University
DESCRIPTION:Game Day!
URL:https://visitpikeville.com/event/esports-vs-lander-university/
LOCATION:UPIKE\, 147 Sycamore St\,\, Pikeville\, KY\, 41501\, United States
CATEGORIES:UPike
ATTACH;FMTTYPE=image/png:https://visitpikeville.com/wp-content/uploads/2025/02/Screenshot-2025-02-17-at-9.39.25 AM.png
END:VEVENT
BEGIN:VEVENT
DTSTART;TZID=America/Kentucky/Louisville:20250310T180000
DTEND;TZID=America/Kentucky/Louisville:20250310T190000
DTSTAMP:20260425T094344
CREATED:20250310T123101Z
LAST-MODIFIED:20250310T123101Z
UID:63384-1741629600-1741633200@visitpikeville.com
SUMMARY:City Commission Meeting
DESCRIPTION:6pm @ City Hall
URL:https://visitpikeville.com/event/city-commission-meeting-2-2-2-2-2-2-2-2-2-2-2-2-2-2-2-2-2-2-2-2-2-2-2-2-2-2-2/
LOCATION:Pikeville City Hall\, 243 Main St #1786\,\, Pikeville\, KY\, 41501\, United States
CATEGORIES:City of Pikeville
ATTACH;FMTTYPE=image/png:https://visitpikeville.com/wp-content/uploads/2023/09/image001.png
END:VEVENT
BEGIN:VEVENT
DTSTART;TZID=America/Kentucky/Louisville:20250310T171500
DTEND;TZID=America/Kentucky/Louisville:20250310T183000
DTSTAMP:20260425T094344
CREATED:20250120T145343Z
LAST-MODIFIED:20250120T145343Z
UID:62243-1741626900-1741631400@visitpikeville.com
SUMMARY:Visual Arts Club
DESCRIPTION:Calling all art lovers! We will be hosting a Visual Arts Club in partnership with our Community Arts agent and our FCS Agent. This club is targeted for ages 9-18. We will be focusing on different art techniques that can enhance your fair projects. Give us a call at the Pike County Extension Office to register. Spots are limited. \n606-432-2534
URL:https://visitpikeville.com/event/visual-arts-club-2-2/
LOCATION:Pike County Extension Office\, 148 Trivette Dr\, Pikeville\, KY\, 41501\, United States
CATEGORIES:Pike County Cooperative Extension Office
ATTACH;FMTTYPE=image/jpeg:https://visitpikeville.com/wp-content/uploads/2025/01/visual-arts.jpg
END:VEVENT
BEGIN:VEVENT
DTSTART;TZID=America/Kentucky/Louisville:20250309T150000
DTEND;TZID=America/Kentucky/Louisville:20250309T170000
DTSTAMP:20260425T094344
CREATED:20250113T142413Z
LAST-MODIFIED:20250113T142413Z
UID:61997-1741532400-1741539600@visitpikeville.com
SUMMARY:A DOLL'S HOUSE
DESCRIPTION:Artists Collaborative Theatre Presents: A DOLL’S HOUSE by Henrik Ibsen\, Translated by Amy Herzog\nTickets: $12.00\nSynopsis: Ibsen’s celebrated play thrust drama firmly into the modern age when it premiered in 1879. Now\, nearly 150 years later\, acclaimed playwright Amy Herzog makes freshly relevant a story that shocked audiences and brought forth a new era of theatre. The play follows the story of Nora\, a young wife and mother\, who appears to have a perfect life with her husband Torvald. However\, Nora has been keeping a secret from her husband that threatens to unravel her entire world.\nAll performances will be held at Pikeville High School
URL:https://visitpikeville.com/event/a-dolls-house-2-2/
LOCATION:Pikeville High School\, 120 Championship Dr\,\, Pikeville\, KY\, 41501\, United States
CATEGORIES:Other
ATTACH;FMTTYPE=image/jpeg:https://visitpikeville.com/wp-content/uploads/2025/01/a-dolls-house.jpg
END:VEVENT
BEGIN:VEVENT
DTSTART;TZID=America/Kentucky/Louisville:20250308T193000
DTEND;TZID=America/Kentucky/Louisville:20250308T220000
DTSTAMP:20260425T094344
CREATED:20250113T142016Z
LAST-MODIFIED:20250113T142016Z
UID:61995-1741462200-1741471200@visitpikeville.com
SUMMARY:A DOLL'S HOUSE
DESCRIPTION:Artists Collaborative Theatre Presents: A DOLL’S HOUSE by Henrik Ibsen\, Translated by Amy Herzog\nTickets: $12.00\nSynopsis: Ibsen’s celebrated play thrust drama firmly into the modern age when it premiered in 1879. Now\, nearly 150 years later\, acclaimed playwright Amy Herzog makes freshly relevant a story that shocked audiences and brought forth a new era of theatre. The play follows the story of Nora\, a young wife and mother\, who appears to have a perfect life with her husband Torvald. However\, Nora has been keeping a secret from her husband that threatens to unravel her entire world.\nAll performances will be held at Pikeville High School
URL:https://visitpikeville.com/event/a-dolls-house-2/
LOCATION:Pikeville High School\, 120 Championship Dr\,\, Pikeville\, KY\, 41501\, United States
CATEGORIES:Other
ATTACH;FMTTYPE=image/jpeg:https://visitpikeville.com/wp-content/uploads/2025/01/a-dolls-house.jpg
END:VEVENT
BEGIN:VEVENT
DTSTART;TZID=America/Kentucky/Louisville:20250308T180000
DTEND;TZID=America/Kentucky/Louisville:20250308T200000
DTSTAMP:20260425T094344
CREATED:20250303T160214Z
LAST-MODIFIED:20250303T160214Z
UID:63287-1741456800-1741464000@visitpikeville.com
SUMMARY:Ducks on a Pond
DESCRIPTION:$30
URL:https://visitpikeville.com/event/ducks-on-a-pond/
LOCATION:2 Broke Art Teachers\, 4505 Weddington Square\,\, Pikeville\, KY\, 41501\, United States
CATEGORIES:Other
ATTACH;FMTTYPE=image/jpeg:https://visitpikeville.com/wp-content/uploads/2025/03/ducks.jpg
END:VEVENT
BEGIN:VEVENT
DTSTART;TZID=America/Kentucky/Louisville:20250308T160000
DTEND;TZID=America/Kentucky/Louisville:20250308T170000
DTSTAMP:20260425T094344
CREATED:20250303T153540Z
LAST-MODIFIED:20250303T153540Z
UID:63261-1741449600-1741453200@visitpikeville.com
SUMMARY:Chess Group
DESCRIPTION:Chess Group meets alternating Saturdays at 4:00 at the Pike County Public Library (Lee Avenue).\nAll ages are welcome and no experience is required. Learn how to play chess or play against other enthusiasts.
URL:https://visitpikeville.com/event/chess-group-2-2-2-2-2-2-2-2-2-2-2-2-2-2-2-2-2-2-2-2-2-2-3-2-2-2-2/
LOCATION:Pike County Public Library\, 126 Lee Avenue\, Pikeville\, KY\, 41501\, United States
CATEGORIES:Pike County Public Library
ATTACH;FMTTYPE=image/jpeg:https://visitpikeville.com/wp-content/uploads/2025/01/chess-club.jpg
END:VEVENT
BEGIN:VEVENT
DTSTART;TZID=America/Kentucky/Louisville:20250308T130000
DTEND;TZID=America/Kentucky/Louisville:20250308T150000
DTSTAMP:20260425T094344
CREATED:20250303T155945Z
LAST-MODIFIED:20250303T155945Z
UID:63284-1741438800-1741446000@visitpikeville.com
SUMMARY:Lepracon
DESCRIPTION:Kid friendly painting for everyone
URL:https://visitpikeville.com/event/lepracon/
LOCATION:2 Broke Art Teachers\, 4505 Weddington Square\,\, Pikeville\, KY\, 41501\, United States
CATEGORIES:Other
ATTACH;FMTTYPE=image/jpeg:https://visitpikeville.com/wp-content/uploads/2025/03/lepracon.jpg
END:VEVENT
BEGIN:VEVENT
DTSTART;TZID=America/Kentucky/Louisville:20250308T110000
DTEND;TZID=America/Kentucky/Louisville:20250308T120000
DTSTAMP:20260425T094344
CREATED:20250303T143710Z
LAST-MODIFIED:20250303T143710Z
UID:63156-1741431600-1741435200@visitpikeville.com
SUMMARY:Story Time
DESCRIPTION:tory Time is for children ages 5 and under and features books\, action/movement\, songs\, and a craft. Story Time is held Thursdays at 11:00 and 2:00 and Saturdays at 11:00. \n\n\n\n\n\n\n  \nBesides being fun\, Story Time also helps develop early literacy and school readiness skills through reading\, singing\, listening\, playing\, and social interaction. This program lasts approximately 30 minutes\, and caregivers and children are encouraged to linger in the library afterwards to further socialize and choose books to take home.
URL:https://visitpikeville.com/event/story-time-2-2-2-2-2-2-2-2-2-2-2-2-2-2-2-2-2-2-2-2-2-2-2-2-2-2-2-2-2-2-2-2-2-2-2-2-2-2-2-2-2-2-2-2-2-2-2-2-2-2-2-2-2-2-2-3-2-2-2-2-2-2-2-2-2-2-2-2-2-2-2-2-2-2-2-2-2-2-2-2-2-2-2-2-2-2-2-2-2-2-2-2-2-15/
LOCATION:Pike County Public Library\, 126 Lee Avenue\, Pikeville\, KY\, 41501\, United States
CATEGORIES:Pike County Public Library
ATTACH;FMTTYPE=image/png:https://visitpikeville.com/wp-content/uploads/2023/12/Story_TimeLEE.png
END:VEVENT
BEGIN:VEVENT
DTSTART;TZID=America/Kentucky/Louisville:20250307T193000
DTEND;TZID=America/Kentucky/Louisville:20250307T220000
DTSTAMP:20260425T094344
CREATED:20250113T141937Z
LAST-MODIFIED:20250113T141937Z
UID:61992-1741375800-1741384800@visitpikeville.com
SUMMARY:A DOLL'S HOUSE
DESCRIPTION:Artists Collaborative Theatre Presents: A DOLL’S HOUSE by Henrik Ibsen\, Translated by Amy Herzog\nTickets: $12.00\nSynopsis: Ibsen’s celebrated play thrust drama firmly into the modern age when it premiered in 1879. Now\, nearly 150 years later\, acclaimed playwright Amy Herzog makes freshly relevant a story that shocked audiences and brought forth a new era of theatre. The play follows the story of Nora\, a young wife and mother\, who appears to have a perfect life with her husband Torvald. However\, Nora has been keeping a secret from her husband that threatens to unravel her entire world.\nAll performances will be held at Pikeville High School
URL:https://visitpikeville.com/event/a-dolls-house/
LOCATION:Pikeville High School\, 120 Championship Dr\,\, Pikeville\, KY\, 41501\, United States
CATEGORIES:Other
ATTACH;FMTTYPE=image/jpeg:https://visitpikeville.com/wp-content/uploads/2025/01/a-dolls-house.jpg
END:VEVENT
BEGIN:VEVENT
DTSTART;TZID=America/Kentucky/Louisville:20250307T190000
DTEND;TZID=America/Kentucky/Louisville:20250307T210000
DTSTAMP:20260425T094344
CREATED:20250217T143744Z
LAST-MODIFIED:20250217T143744Z
UID:62879-1741374000-1741381200@visitpikeville.com
SUMMARY:Esports vs Transylvania University
DESCRIPTION:Game Day!
URL:https://visitpikeville.com/event/esports-vs-transylvania-university/
LOCATION:UPIKE\, 147 Sycamore St\,\, Pikeville\, KY\, 41501\, United States
CATEGORIES:UPike
ATTACH;FMTTYPE=image/png:https://visitpikeville.com/wp-content/uploads/2025/02/Screenshot-2025-02-17-at-9.34.17 AM.png
END:VEVENT
BEGIN:VEVENT
DTSTART;TZID=America/Kentucky/Louisville:20250307T190000
DTEND;TZID=America/Kentucky/Louisville:20250307T210000
DTSTAMP:20260425T094344
CREATED:20241202T123029Z
LAST-MODIFIED:20241202T123029Z
UID:60317-1741374000-1741381200@visitpikeville.com
SUMMARY:Peter Antoniou Psychic Comedian
DESCRIPTION:From amazing the judges on America’s Got Talent\, to headlining in Las Vegas\, to selling out shows in London’s West End\, Peter Antoniou’s mind reading skills have astounded audiences around the globe. Combining razor-sharp British wit with a stunning ability to know exactly what you are thinking\, Peter’s shows are interactive and unforgettable. Join him as he reads minds and tickles funny bones\, telling jokes and fortunes live onstage. \n“You are a wizard” – Simon Cowell\n“Should be put on a pedestal above his competitors” – Broadway Baby\n“It’s unbelievable what you can do” – Howie Mandel\n“Sharp and Fast… a balance of humour and amazement” – The Scotsman\n“You are the total package” – Heidi Klum
URL:https://visitpikeville.com/event/peter-antoniou-psychic-comedian/
LOCATION:Appalachian Center for the Arts\, 218 2nd St\,\, Pikeville\, Ky\, 41501
CATEGORIES:The Appalachian Center for the Arts
ATTACH;FMTTYPE=image/jpeg:https://visitpikeville.com/wp-content/uploads/2024/12/peter.jpg
END:VEVENT
BEGIN:VEVENT
DTSTART;TZID=America/Kentucky/Louisville:20250307T173000
DTEND;TZID=America/Kentucky/Louisville:20250307T183000
DTSTAMP:20260425T094344
CREATED:20250303T160338Z
LAST-MODIFIED:20250303T160338Z
UID:63290-1741368600-1741372200@visitpikeville.com
SUMMARY:Spring Break
DESCRIPTION:$30
URL:https://visitpikeville.com/event/spring-break/
LOCATION:2 Broke Art Teachers\, 4505 Weddington Square\,\, Pikeville\, KY\, 41501\, United States
CATEGORIES:Other
ATTACH;FMTTYPE=image/jpeg:https://visitpikeville.com/wp-content/uploads/2025/03/spring-break.jpg
END:VEVENT
BEGIN:VEVENT
DTSTART;TZID=America/Kentucky/Louisville:20250307T163000
DTEND;TZID=America/Kentucky/Louisville:20250307T173000
DTSTAMP:20260425T094344
CREATED:20250303T153232Z
LAST-MODIFIED:20250303T153232Z
UID:63252-1741365000-1741368600@visitpikeville.com
SUMMARY:Kids Guitar Class A
DESCRIPTION:Beginner guitar lessons for children ages 8-12. This class will be for 8 weeks\, meeting weekly in February and March. Please bring your own instrument. Registration required. \n\n\n\n\n\n\n  \nMeets every Friday at 4:30 Feb 7 – March 28.
URL:https://visitpikeville.com/event/kids-guitar-class-a/
LOCATION:Pike County Public Library\, 126 Lee Avenue\, Pikeville\, KY\, 41501\, United States
CATEGORIES:Pike County Public Library
ATTACH;FMTTYPE=image/png:https://visitpikeville.com/wp-content/uploads/2025/03/kids-quitar-a.png
END:VEVENT
BEGIN:VEVENT
DTSTART;TZID=America/Kentucky/Louisville:20250307T150000
DTEND;TZID=America/Kentucky/Louisville:20250307T160000
DTSTAMP:20260425T094344
CREATED:20241008T142218Z
LAST-MODIFIED:20241008T142218Z
UID:58164-1741359600-1741363200@visitpikeville.com
SUMMARY:Men's Tennis vs Montreat College (N.C.)
DESCRIPTION:Game Day!!
URL:https://visitpikeville.com/event/mens-tennis-vs-montreat-college-n-c/
LOCATION:Bob Amos Park\, 424 Bob Amos Dr\, Pikeville\, Ky\, 41501
CATEGORIES:UPike
ATTACH;FMTTYPE=image/png:https://visitpikeville.com/wp-content/uploads/2024/10/Screenshot-2024-10-08-at-10.06.24 AM.png
END:VEVENT
BEGIN:VEVENT
DTSTART;TZID=America/Kentucky/Louisville:20250307T150000
DTEND;TZID=America/Kentucky/Louisville:20250307T160000
DTSTAMP:20260425T094344
CREATED:20241008T140615Z
LAST-MODIFIED:20241008T140615Z
UID:58162-1741359600-1741363200@visitpikeville.com
SUMMARY:Women's Tennis vs Montreat College (N.C.)
DESCRIPTION:Gane Day!!
URL:https://visitpikeville.com/event/womens-tennis-vs-montreat-college-n-c/
LOCATION:Bob Amos Park\, 424 Bob Amos Dr\, Pikeville\, Ky\, 41501
CATEGORIES:UPike
ATTACH;FMTTYPE=image/png:https://visitpikeville.com/wp-content/uploads/2024/10/Screenshot-2024-10-08-at-9.53.39 AM.png
END:VEVENT
BEGIN:VEVENT
DTSTART;TZID=America/Kentucky/Louisville:20250307T080000
DTEND;TZID=America/Kentucky/Louisville:20250310T163000
DTSTAMP:20260425T094344
CREATED:20250303T142801Z
LAST-MODIFIED:20250303T142801Z
UID:63150-1741334400-1741624200@visitpikeville.com
SUMMARY:Extended Hours
DESCRIPTION:The Pike County Health Department locations\, Pikeville and Belfry\, will have extended hours through March 7th for vaccination services. Belfry location will also provide services tomorrow\, February 27\, 2025\, from 9:00 am to 4:00 pm.
URL:https://visitpikeville.com/event/extended-hours-2/
LOCATION:Pike County Health Department\, 119 River Drive\,\, Pikeville\, KY\, 41501\, United States
CATEGORIES:Pike County Health Department
ATTACH;FMTTYPE=image/jpeg:https://visitpikeville.com/wp-content/uploads/2025/03/EXTENDED.jpg
END:VEVENT
BEGIN:VEVENT
DTSTART;TZID=America/Kentucky/Louisville:20250306T190000
DTEND;TZID=America/Kentucky/Louisville:20250306T210000
DTSTAMP:20260425T094344
CREATED:20250303T135743Z
LAST-MODIFIED:20250303T135743Z
UID:63141-1741287600-1741294800@visitpikeville.com
SUMMARY:They Promised Her The Moon
DESCRIPTION:UPIKE Theatre is proud to present our production of “They Promised Her the Moon” by Laurel Ollstein directed by our very own UPIKE Theatre student\, Amanda Tharp!Based on the true story of American pilot Jerrie Cobb\, the first woman to be selected for test for space flight\, our student-led production of this show is a compelling story you won’t want to miss out on.UPIKE Theatre will be collecting cash donations for flood relief at the door in lieu of an admission fee.
URL:https://visitpikeville.com/event/they-promised-her-the-moon-2/
LOCATION:Appalachian Center for the Arts\, 218 2nd St\,\, Pikeville\, Ky\, 41501
CATEGORIES:The Appalachian Center for the Arts
ATTACH;FMTTYPE=image/jpeg:https://visitpikeville.com/wp-content/uploads/2025/03/moon.jpg
END:VEVENT
END:VCALENDAR