BEGIN:VCALENDAR
VERSION:2.0
PRODID:-//Visit Pikeville - ECPv6.15.20//NONSGML v1.0//EN
CALSCALE:GREGORIAN
METHOD:PUBLISH
X-ORIGINAL-URL:https://visitpikeville.com
X-WR-CALDESC:Events for Visit Pikeville
REFRESH-INTERVAL;VALUE=DURATION:PT1H
X-Robots-Tag:noindex
X-PUBLISHED-TTL:PT1H
BEGIN:VTIMEZONE
TZID:America/Kentucky/Louisville
BEGIN:DAYLIGHT
TZOFFSETFROM:-0500
TZOFFSETTO:-0400
TZNAME:EDT
DTSTART:20230312T070000
END:DAYLIGHT
BEGIN:STANDARD
TZOFFSETFROM:-0400
TZOFFSETTO:-0500
TZNAME:EST
DTSTART:20231105T060000
END:STANDARD
BEGIN:DAYLIGHT
TZOFFSETFROM:-0500
TZOFFSETTO:-0400
TZNAME:EDT
DTSTART:20240310T070000
END:DAYLIGHT
BEGIN:STANDARD
TZOFFSETFROM:-0400
TZOFFSETTO:-0500
TZNAME:EST
DTSTART:20241103T060000
END:STANDARD
BEGIN:DAYLIGHT
TZOFFSETFROM:-0500
TZOFFSETTO:-0400
TZNAME:EDT
DTSTART:20250309T070000
END:DAYLIGHT
BEGIN:STANDARD
TZOFFSETFROM:-0400
TZOFFSETTO:-0500
TZNAME:EST
DTSTART:20251102T060000
END:STANDARD
BEGIN:DAYLIGHT
TZOFFSETFROM:-0500
TZOFFSETTO:-0400
TZNAME:EDT
DTSTART:20260308T070000
END:DAYLIGHT
BEGIN:STANDARD
TZOFFSETFROM:-0400
TZOFFSETTO:-0500
TZNAME:EST
DTSTART:20261101T060000
END:STANDARD
END:VTIMEZONE
BEGIN:VEVENT
DTSTART;TZID=America/Kentucky/Louisville:20241221T150000
DTEND;TZID=America/Kentucky/Louisville:20241221T170000
DTSTAMP:20260425T095041
CREATED:20240729T140709Z
LAST-MODIFIED:20240729T140709Z
UID:54220-1734793200-1734800400@visitpikeville.com
SUMMARY:Young Adult Craft Class
DESCRIPTION:This social craft class for young adults ages 18-25 meets alternating Saturdays at 3:00. No registration required.
URL:https://visitpikeville.com/event/young-adult-craft-class-2-2-2-2-2-2-2-2-2/
LOCATION:Pike County Public Library\, 126 Lee Avenue\, Pikeville\, KY\, 41501\, United States
CATEGORIES:Pike County Public Library
ATTACH;FMTTYPE=image/jpeg:https://visitpikeville.com/wp-content/uploads/2024/07/young.jpg
END:VEVENT
BEGIN:VEVENT
DTSTART;TZID=America/Kentucky/Louisville:20241221T150000
DTEND;TZID=America/Kentucky/Louisville:20241221T180000
DTSTAMP:20260425T095041
CREATED:20241216T145632Z
LAST-MODIFIED:20241216T145632Z
UID:60918-1734793200-1734804000@visitpikeville.com
SUMMARY:Do Overs
DESCRIPTION:$30
URL:https://visitpikeville.com/event/do-overs/
LOCATION:2 Broke Art Teachers\, 4505 Weddington Square\,\, Pikeville\, KY\, 41501\, United States
CATEGORIES:Other
ATTACH;FMTTYPE=image/jpeg:https://visitpikeville.com/wp-content/uploads/2024/12/do-overs.jpg
END:VEVENT
BEGIN:VEVENT
DTSTART;TZID=America/Kentucky/Louisville:20241221T170000
DTEND;TZID=America/Kentucky/Louisville:20241221T200000
DTSTAMP:20260425T095041
CREATED:20240610T135650Z
LAST-MODIFIED:20240610T135650Z
UID:52837-1734800400-1734811200@visitpikeville.com
SUMMARY:Pikeville 200 Gala
DESCRIPTION:Dinner and Entertainment
URL:https://visitpikeville.com/event/pikeville-200-gala-2/
LOCATION:Appalachian Wireless Arena\, 126 Main Street\, Pikeville\, Ky\, 41501
CATEGORIES:Appalachian Wireless Arena,City of Pikeville
ATTACH;FMTTYPE=image/jpeg:https://visitpikeville.com/wp-content/uploads/2024/06/bicentennial-events-scaled.jpeg
END:VEVENT
BEGIN:VEVENT
DTSTART;TZID=America/Kentucky/Louisville:20241221T170000
DTEND;TZID=America/Kentucky/Louisville:20241221T230000
DTSTAMP:20260425T095041
CREATED:20241021T111538Z
LAST-MODIFIED:20241111T183436Z
UID:58779-1734800400-1734822000@visitpikeville.com
SUMMARY:Pikeville 200 Gala
DESCRIPTION:Get Tickets\nJoin us for a wonderful evening of food and entertainment to celebrate the Pikeville bicentennial held at the Appalachian Wireless Arena. \nSaturday\, December 21\, 2024\n5:00 pm – 11:00 pm \nEntertainment\n5:00 -7:00 pm Dave Adkins and Mountain Soul\n7:30 – 8:30 pm Pike County Central Jazz Band\n9:00 – 11:00 pm Julie Goff & the Swagtones \nCelebration Dinner\nCharcuterie Displayed Appetizers 5:00 – 6:30 pm \nServed Buffet opens at 6.30 pm\nPrime Rib w/au jus & horseradish sauce\nPan seared chilli garlic red King Salmon\nRoasted Red & Gold Potatoes – Charred Asparagus w/Lemon and Parmesan\nSweet & Savoury Corn Pudding \nDesserts: Strawberry Cake\, Chocolate Cake & Bread Pudding \nPrimere of The River Talks. an introduction to Pikeville history\nReview of Pikeville 200 Activities & Events \n*Door Prizes – Silent Auction\n*Cash Bar \nDress: Formal\, Black Tie optional
URL:https://visitpikeville.com/event/pikeville-200-gala/
LOCATION:Appalachian Wireless Arena\, 126 Main Street\, Pikeville\, Ky\, 41501
CATEGORIES:The Appalachian Center for the Arts
ATTACH;FMTTYPE=image/jpeg:https://visitpikeville.com/wp-content/uploads/2024/10/Pikeville200Gala1.jpg
END:VEVENT
BEGIN:VEVENT
DTSTART;TZID=America/Kentucky/Louisville:20241221T190000
DTEND;TZID=America/Kentucky/Louisville:20241221T210000
DTSTAMP:20260425T095041
CREATED:20241216T144146Z
LAST-MODIFIED:20241216T144146Z
UID:60915-1734807600-1734814800@visitpikeville.com
SUMMARY:Snowman with Poinsettia
DESCRIPTION:16″ x 20″
URL:https://visitpikeville.com/event/snowman-with-poinsettia/
LOCATION:2 Broke Art Teachers\, 4505 Weddington Square\,\, Pikeville\, KY\, 41501\, United States
CATEGORIES:Other
ATTACH;FMTTYPE=image/jpeg:https://visitpikeville.com/wp-content/uploads/2024/12/snowman-1.jpg
END:VEVENT
BEGIN:VEVENT
DTSTART;TZID=America/Kentucky/Louisville:20241221T193000
DTEND;TZID=America/Kentucky/Louisville:20241221T213000
DTSTAMP:20260425T095041
CREATED:20231218T140723Z
LAST-MODIFIED:20231218T140723Z
UID:44092-1734809400-1734816600@visitpikeville.com
SUMMARY:App Radio Hour Featuring Miracle On 34th Street
DESCRIPTION:Welcome to the APP Radio Hour\, where we turn back the clock to a time when radio was king! Featuring the classic holiday story of “Miracle on 34th Street”\, this enchanting radio play will transport you to a time when families gathered around the radio to share in the joy of storytelling. As you listen to the timeless tale of Kris Kringle and his belief in the spirit of Christmas\, you’ll also be treated to the tunes of talented local musicians and other variety acts adding an extra layer of charm and festivity to the experience. It’s a perfect blend of classic storytelling and local talent that will leave you with a smile and a song in your heart.
URL:https://visitpikeville.com/event/app-radio-hour-featuring-miracle-on-34th-street-2-2-2-2/
LOCATION:Appalachian Center for the Arts\, 218 2nd St\,\, Pikeville\, Ky\, 41501
CATEGORIES:The Appalachian Center for the Arts
ATTACH;FMTTYPE=image/webp:https://visitpikeville.com/wp-content/uploads/2023/12/miracle-web-600.webp
END:VEVENT
BEGIN:VEVENT
DTSTART;TZID=America/Kentucky/Louisville:20241221T193000
DTEND;TZID=America/Kentucky/Louisville:20241221T223000
DTSTAMP:20260425T095041
CREATED:20241209T145700Z
LAST-MODIFIED:20241216T162056Z
UID:60689-1734809400-1734820200@visitpikeville.com
SUMMARY:Live Music at Bank 253
DESCRIPTION:The Hall Brothers Band @ Bank 253
URL:https://visitpikeville.com/event/live-music-at-bank-253-2-2-2-2-3-2-2/
LOCATION:KY
CATEGORIES:Other
ATTACH;FMTTYPE=image/jpeg:https://visitpikeville.com/wp-content/uploads/2024/12/hall.jpg
END:VEVENT
BEGIN:VEVENT
DTSTART;TZID=America/Kentucky/Louisville:20241221T200000
DTEND;TZID=America/Kentucky/Louisville:20241221T220000
DTSTAMP:20260425T095041
CREATED:20241205T190018Z
LAST-MODIFIED:20241205T190343Z
UID:60497-1734811200-1734818400@visitpikeville.com
SUMMARY:Christmas Party featuring Carlos SantanaClaus and DJ Charo.
DESCRIPTION:@Pearse’s Place
URL:https://visitpikeville.com/event/christmas-party-featuring-carlos-santanaclaus-and-dj-charo/
LOCATION:Pearse’s Place\, 224 2nd St\,\, Pikeville\, KY\, 41501\, United States
CATEGORIES:Other
ATTACH;FMTTYPE=image/jpeg:https://visitpikeville.com/wp-content/uploads/2024/12/20241110_185728-scaled.jpg
END:VEVENT
BEGIN:VEVENT
DTSTART;TZID=America/Kentucky/Louisville:20241222T140000
DTEND;TZID=America/Kentucky/Louisville:20241222T180000
DTSTAMP:20260425T095041
CREATED:20241118T141343Z
LAST-MODIFIED:20241118T141343Z
UID:59881-1734876000-1734890400@visitpikeville.com
SUMMARY:Winterfest
DESCRIPTION:Enjoy holiday magic with ice skating\, carriage rides\, and mini-train rides. Schools\, churches\, and other large groups can contact kevin@appwirelessarena.com for special skate times and group pricing. Don’t miss out on the fun! #visitpikeville
URL:https://visitpikeville.com/event/winterfest-5-2-2-2-2-2-2-2-2-2-2-2-2-2/
LOCATION:Pikeville City Park\, 101 Cumberland Ct\,\, Pikeville\, KY\, 41501
CATEGORIES:City of Pikeville,Pikeville Tourism
ATTACH;FMTTYPE=image/jpeg:https://visitpikeville.com/wp-content/uploads/2024/11/winterfest-1.jpg
END:VEVENT
BEGIN:VEVENT
DTSTART;TZID=America/Kentucky/Louisville:20241222T150000
DTEND;TZID=America/Kentucky/Louisville:20241222T170000
DTSTAMP:20260425T095041
CREATED:20231218T140802Z
LAST-MODIFIED:20231218T140802Z
UID:44094-1734879600-1734886800@visitpikeville.com
SUMMARY:App Radio Hour Featuring Miracle On 34th Street
DESCRIPTION:Welcome to the APP Radio Hour\, where we turn back the clock to a time when radio was king! Featuring the classic holiday story of “Miracle on 34th Street”\, this enchanting radio play will transport you to a time when families gathered around the radio to share in the joy of storytelling. As you listen to the timeless tale of Kris Kringle and his belief in the spirit of Christmas\, you’ll also be treated to the tunes of talented local musicians and other variety acts adding an extra layer of charm and festivity to the experience. It’s a perfect blend of classic storytelling and local talent that will leave you with a smile and a song in your heart.
URL:https://visitpikeville.com/event/app-radio-hour-featuring-miracle-on-34th-street-2-2-2-2-2/
LOCATION:Appalachian Center for the Arts\, 218 2nd St\,\, Pikeville\, Ky\, 41501
CATEGORIES:The Appalachian Center for the Arts
ATTACH;FMTTYPE=image/webp:https://visitpikeville.com/wp-content/uploads/2023/12/miracle-web-600.webp
END:VEVENT
BEGIN:VEVENT
DTSTART;TZID=America/Kentucky/Louisville:20241223T080000
DTEND;TZID=America/Kentucky/Louisville:20250118T200000
DTSTAMP:20260425T095041
CREATED:20241223T133723Z
LAST-MODIFIED:20241223T133723Z
UID:61125-1734940800-1737230400@visitpikeville.com
SUMMARY:2025 design contest
DESCRIPTION:“Your Story Begins Here” 2025 design contest!\n\n\nOpen to all ages. Submit your art to Shannon@theapparts.org\n\n\nIf your design is chosen\, it will be featured on our 2025 APP T-Shirts!\n\n\nDeadline for entry is January 18 at 10 PM
URL:https://visitpikeville.com/event/2025-design-contest/
LOCATION:Appalachian Center for the Arts\, 218 2nd St\,\, Pikeville\, Ky\, 41501
CATEGORIES:The Appalachian Center for the Arts
ATTACH;FMTTYPE=image/jpeg:https://visitpikeville.com/wp-content/uploads/2024/12/design.jpg
END:VEVENT
BEGIN:VEVENT
DTSTART;TZID=America/Kentucky/Louisville:20241223T170000
DTEND;TZID=America/Kentucky/Louisville:20241223T190000
DTSTAMP:20260425T095041
CREATED:20241223T154221Z
LAST-MODIFIED:20241223T154221Z
UID:61145-1734973200-1734980400@visitpikeville.com
SUMMARY:Santa At Winterfest
DESCRIPTION:Ho Ho Hurry! Today’s your LAST chance to see Santa before he heads out for his big night!\n\n\nCatch the jolly guy himself at Winterfest in Pikeville City Park TONIGHT\, Monday the 23rd\, from 5 PM to 7 PM. \n\n\nBring your wish list\, your best smiles\, and maybe a cookie or two (Santa runs on snacks)!  Don’t forget to bring your own camera or phone for FREE pictures with Santa!  Don’t miss the magic!\n#visitpikeville\n#Winterfest
URL:https://visitpikeville.com/event/santa-at-winterfest/
LOCATION:Pikeville City Park\, 101 Cumberland Ct\,\, Pikeville\, KY\, 41501
CATEGORIES:City of Pikeville,Pikeville Tourism
ATTACH;FMTTYPE=image/jpeg:https://visitpikeville.com/wp-content/uploads/2024/12/santa-1.jpg
END:VEVENT
BEGIN:VEVENT
DTSTART;TZID=America/Kentucky/Louisville:20241223T180000
DTEND;TZID=America/Kentucky/Louisville:20241223T190000
DTSTAMP:20260425T095041
CREATED:20241209T150008Z
LAST-MODIFIED:20241209T150008Z
UID:60691-1734976800-1734980400@visitpikeville.com
SUMMARY:City Commission Meeting
DESCRIPTION:6pm @ City Hall
URL:https://visitpikeville.com/event/city-commission-meeting-2-2-2-2-2-2-2-2-2-2-2-2-2-2-2-2-2-2-2-2-2-2-2-2/
LOCATION:Pikeville City Hall\, 243 Main St #1786\,\, Pikeville\, KY\, 41501\, United States
CATEGORIES:City of Pikeville
ATTACH;FMTTYPE=image/png:https://visitpikeville.com/wp-content/uploads/2023/09/image001.png
END:VEVENT
BEGIN:VEVENT
DTSTART;TZID=America/Kentucky/Louisville:20241223T210000
DTEND;TZID=America/Kentucky/Louisville:20241223T220000
DTSTAMP:20260425T095041
CREATED:20241209T151336Z
LAST-MODIFIED:20241209T151336Z
UID:60693-1734987600-1734991200@visitpikeville.com
SUMMARY:Pikeville Medical Center 100 Celebration
DESCRIPTION:Fireworks display at dark
URL:https://visitpikeville.com/event/pikeville-medical-center-100-celebration/
LOCATION:Pikeville Medical Center\, 911 S Bypass Rd\,\, Pikeville\, KY\, 41501\, United States
CATEGORIES:Other
ATTACH;FMTTYPE=image/png:https://visitpikeville.com/wp-content/uploads/2024/12/Screenshot-2024-12-09-at-10.13.21 AM.png
END:VEVENT
BEGIN:VEVENT
DTSTART;TZID=America/Kentucky/Louisville:20241226T110000
DTEND;TZID=America/Kentucky/Louisville:20241226T120000
DTSTAMP:20260425T095041
CREATED:20241202T131321Z
LAST-MODIFIED:20241202T131321Z
UID:60344-1735210800-1735214400@visitpikeville.com
SUMMARY:Story Time
DESCRIPTION:tory Time is for children ages 5 and under and features books\, action/movement\, songs\, and a craft. Story Time is held Thursdays at 11:00 and 2:00 and Saturdays at 11:00. \n\n\n\n\n\n\n  \nBesides being fun\, Story Time also helps develop early literacy and school readiness skills through reading\, singing\, listening\, playing\, and social interaction. This program lasts approximately 30 minutes\, and caregivers and children are encouraged to linger in the library afterwards to further socialize and choose books to take home.
URL:https://visitpikeville.com/event/story-time-2-2-2-2-2-2-2-2-2-2-2-2-2-2-2-2-2-2-2-2-2-2-2-2-2-2-2-2-2-2-2-2-2-2-2-2-2-2-2-2-2-2-2-2-2-2-2-2-2-2-2-2-2-2-2-3-2-2-2-2-2-2-2-2-2-2-2-2-2-2-2-2-2-2-2-2-2-2-2-2-2-2-2-2-2-2-2-2/
LOCATION:Pike County Public Library\, 126 Lee Avenue\, Pikeville\, KY\, 41501\, United States
CATEGORIES:Pike County Public Library
ATTACH;FMTTYPE=image/png:https://visitpikeville.com/wp-content/uploads/2023/12/Story_TimeLEE.png
END:VEVENT
BEGIN:VEVENT
DTSTART;TZID=America/Kentucky/Louisville:20241226T140000
DTEND;TZID=America/Kentucky/Louisville:20241226T150000
DTSTAMP:20260425T095041
CREATED:20241202T131356Z
LAST-MODIFIED:20241202T131356Z
UID:60346-1735221600-1735225200@visitpikeville.com
SUMMARY:Story Time
DESCRIPTION:tory Time is for children ages 5 and under and features books\, action/movement\, songs\, and a craft. Story Time is held Thursdays at 11:00 and 2:00 and Saturdays at 11:00. \n\n\n\n\n\n\n  \nBesides being fun\, Story Time also helps develop early literacy and school readiness skills through reading\, singing\, listening\, playing\, and social interaction. This program lasts approximately 30 minutes\, and caregivers and children are encouraged to linger in the library afterwards to further socialize and choose books to take home.
URL:https://visitpikeville.com/event/story-time-2-2-2-2-2-2-2-2-2-2-2-2-2-2-2-2-2-2-2-2-2-2-2-2-2-2-2-2-2-2-2-2-2-2-2-2-2-2-2-2-2-2-2-2-2-2-2-2-2-2-2-2-2-2-2-3-2-2-2-2-2-2-2-2-2-2-2-2-2-2-2-2-2-2-2-2-2-2-2-2-2-2-2-2-2-2-2-2-2/
LOCATION:Pike County Public Library\, 126 Lee Avenue\, Pikeville\, KY\, 41501\, United States
CATEGORIES:Pike County Public Library
ATTACH;FMTTYPE=image/png:https://visitpikeville.com/wp-content/uploads/2023/12/Story_TimeLEE.png
END:VEVENT
BEGIN:VEVENT
DTSTART;TZID=America/Kentucky/Louisville:20241226T150000
DTEND;TZID=America/Kentucky/Louisville:20241226T220000
DTSTAMP:20260425T095041
CREATED:20241118T141423Z
LAST-MODIFIED:20241118T141423Z
UID:59883-1735225200-1735250400@visitpikeville.com
SUMMARY:Winterfest
DESCRIPTION:Enjoy holiday magic with ice skating\, carriage rides\, and mini-train rides. Schools\, churches\, and other large groups can contact kevin@appwirelessarena.com for special skate times and group pricing. Don’t miss out on the fun! #visitpikeville
URL:https://visitpikeville.com/event/winterfest-5-2-2-2-2-2-2-2-2-2-2-2-2-2-2/
LOCATION:Pikeville City Park\, 101 Cumberland Ct\,\, Pikeville\, KY\, 41501
CATEGORIES:City of Pikeville,Pikeville Tourism
ATTACH;FMTTYPE=image/jpeg:https://visitpikeville.com/wp-content/uploads/2024/11/winterfest-1.jpg
END:VEVENT
BEGIN:VEVENT
DTSTART;TZID=America/Kentucky/Louisville:20241226T180000
DTEND;TZID=America/Kentucky/Louisville:20241226T190000
DTSTAMP:20260425T095041
CREATED:20240923T132938Z
LAST-MODIFIED:20240923T132938Z
UID:57470-1735236000-1735239600@visitpikeville.com
SUMMARY:Toastmasters: Learn Public Speaking
DESCRIPTION:Toasters International is a nonprofit educational organization that teaches public speaking and leadership skills through a worldwide network of clubs.\nThere’s no pressure to participate until you are ready and comfortable. Mountains Movers is the local Toastmasters club in Pike County and meets each month on the second and fourth Thursday at 6:00 p.m. at the Pike County Public Library (Lee Avenue). Anyone is welcome to attend!\nNo registration required.
URL:https://visitpikeville.com/event/toastmasters-learn-public-speaking-2-2-2-2/
LOCATION:Pike County Public Library\, 126 Lee Avenue\, Pikeville\, KY\, 41501\, United States
CATEGORIES:Pike County Public Library
ATTACH;FMTTYPE=image/jpeg:https://visitpikeville.com/wp-content/uploads/2024/09/public-speaking.jpg
END:VEVENT
BEGIN:VEVENT
DTSTART;TZID=America/Kentucky/Louisville:20241227T090000
DTEND;TZID=America/Kentucky/Louisville:20241227T180000
DTSTAMP:20260425T095041
CREATED:20241209T152207Z
LAST-MODIFIED:20241209T152207Z
UID:60696-1735290000-1735322400@visitpikeville.com
SUMMARY:Hatfield McCoy Feud Wrestling Tournament
DESCRIPTION:Dec 27\, 2024\, 9:00 AM – 6:00 PM \nPikeville\, 126 Main St\, Pikeville\, KY 41501\, USA
URL:https://visitpikeville.com/event/hatfield-mccoy-feud-wrestling-tournament/
LOCATION:Appalachian Wireless Arena\, 126 Main Street\, Pikeville\, Ky\, 41501
CATEGORIES:Appalachian Wireless Arena
ATTACH;FMTTYPE=image/webp:https://visitpikeville.com/wp-content/uploads/2024/12/hatfield.webp
END:VEVENT
BEGIN:VEVENT
DTSTART;TZID=America/Kentucky/Louisville:20241227T150000
DTEND;TZID=America/Kentucky/Louisville:20241227T220000
DTSTAMP:20260425T095041
CREATED:20241118T141454Z
LAST-MODIFIED:20241118T141454Z
UID:59885-1735311600-1735336800@visitpikeville.com
SUMMARY:Winterfest
DESCRIPTION:Enjoy holiday magic with ice skating\, carriage rides\, and mini-train rides. Schools\, churches\, and other large groups can contact kevin@appwirelessarena.com for special skate times and group pricing. Don’t miss out on the fun! #visitpikeville
URL:https://visitpikeville.com/event/winterfest-5-2-2-2-2-2-2-2-2-2-2-2-2-2-2-2/
LOCATION:Pikeville City Park\, 101 Cumberland Ct\,\, Pikeville\, KY\, 41501
CATEGORIES:City of Pikeville,Pikeville Tourism
ATTACH;FMTTYPE=image/jpeg:https://visitpikeville.com/wp-content/uploads/2024/11/winterfest-1.jpg
END:VEVENT
BEGIN:VEVENT
DTSTART;TZID=America/Kentucky/Louisville:20241227T170000
DTEND;TZID=America/Kentucky/Louisville:20241227T180000
DTSTAMP:20260425T095041
CREATED:20241202T134001Z
LAST-MODIFIED:20241202T134001Z
UID:60370-1735318800-1735322400@visitpikeville.com
SUMMARY:Toddler Piano Time
DESCRIPTION:Explore the piano in this Music Appreciation class for ages under 5! Meets alternating Fridays at 5:00. Registration is required. Please call the library to register: 606-437-6001.
URL:https://visitpikeville.com/event/toddler-piano-time-3-2/
LOCATION:Pike County Public Library\, 126 Lee Avenue\, Pikeville\, KY\, 41501\, United States
CATEGORIES:Pike County Public Library
ATTACH;FMTTYPE=image/png:https://visitpikeville.com/wp-content/uploads/2024/12/Toddler_Piano_Time.png
END:VEVENT
BEGIN:VEVENT
DTSTART;TZID=America/Kentucky/Louisville:20241227T200000
DTEND;TZID=America/Kentucky/Louisville:20241227T220000
DTSTAMP:20260425T095041
CREATED:20241202T135745Z
LAST-MODIFIED:20241202T135745Z
UID:60384-1735329600-1735336800@visitpikeville.com
SUMMARY:KLB w/ The Protectors
DESCRIPTION:@ Pearse’s Place
URL:https://visitpikeville.com/event/klb-w-the-protectors/
LOCATION:Pearse’s Place\, 224 2nd St\,\, Pikeville\, KY\, 41501\, United States
CATEGORIES:Other
ATTACH;FMTTYPE=image/jpeg:https://visitpikeville.com/wp-content/uploads/2024/12/klb.jpg
END:VEVENT
BEGIN:VEVENT
DTSTART;TZID=America/Kentucky/Louisville:20241227T200000
DTEND;TZID=America/Kentucky/Louisville:20241227T220000
DTSTAMP:20260425T095041
CREATED:20241209T152935Z
LAST-MODIFIED:20241223T140114Z
UID:60706-1735329600-1735336800@visitpikeville.com
SUMMARY:Live Music
DESCRIPTION:Kris Bentley
URL:https://visitpikeville.com/event/live-music-5-2/
LOCATION:Pearse’s Place\, 224 2nd St\,\, Pikeville\, KY\, 41501\, United States
CATEGORIES:Other
ATTACH;FMTTYPE=image/jpeg:https://visitpikeville.com/wp-content/uploads/2024/12/KRIS.jpg
END:VEVENT
BEGIN:VEVENT
DTSTART;TZID=America/Kentucky/Louisville:20241228T090000
DTEND;TZID=America/Kentucky/Louisville:20241228T170000
DTSTAMP:20260425T095041
CREATED:20241209T152316Z
LAST-MODIFIED:20241209T152316Z
UID:60699-1735376400-1735405200@visitpikeville.com
SUMMARY:Hatfield McCoy Feud Wrestling Tournament
DESCRIPTION:Dec 28\, 2024\, 9:00 AM – 5:00 PM \nPikeville\, 126 Main St\, Pikeville\, KY 41501\, USA
URL:https://visitpikeville.com/event/hatfield-mccoy-feud-wrestling-tournament-2/
LOCATION:Appalachian Wireless Arena\, 126 Main Street\, Pikeville\, Ky\, 41501
CATEGORIES:Appalachian Wireless Arena
ATTACH;FMTTYPE=image/webp:https://visitpikeville.com/wp-content/uploads/2024/12/hatfield.webp
END:VEVENT
BEGIN:VEVENT
DTSTART;TZID=America/Kentucky/Louisville:20241228T110000
DTEND;TZID=America/Kentucky/Louisville:20241228T120000
DTSTAMP:20260425T095041
CREATED:20241202T131436Z
LAST-MODIFIED:20241202T131436Z
UID:60348-1735383600-1735387200@visitpikeville.com
SUMMARY:Story Time
DESCRIPTION:tory Time is for children ages 5 and under and features books\, action/movement\, songs\, and a craft. Story Time is held Thursdays at 11:00 and 2:00 and Saturdays at 11:00. \n\n\n\n\n\n\n  \nBesides being fun\, Story Time also helps develop early literacy and school readiness skills through reading\, singing\, listening\, playing\, and social interaction. This program lasts approximately 30 minutes\, and caregivers and children are encouraged to linger in the library afterwards to further socialize and choose books to take home.
URL:https://visitpikeville.com/event/story-time-2-2-2-2-2-2-2-2-2-2-2-2-2-2-2-2-2-2-2-2-2-2-2-2-2-2-2-2-2-2-2-2-2-2-2-2-2-2-2-2-2-2-2-2-2-2-2-2-2-2-2-2-2-2-2-3-2-2-2-2-2-2-2-2-2-2-2-2-2-2-2-2-2-2-2-2-2-2-2-2-2-2-2-2-2-2-2-2-2-2/
LOCATION:Pike County Public Library\, 126 Lee Avenue\, Pikeville\, KY\, 41501\, United States
CATEGORIES:Pike County Public Library
ATTACH;FMTTYPE=image/png:https://visitpikeville.com/wp-content/uploads/2023/12/Story_TimeLEE.png
END:VEVENT
BEGIN:VEVENT
DTSTART;TZID=America/Kentucky/Louisville:20241228T110000
DTEND;TZID=America/Kentucky/Louisville:20241228T220000
DTSTAMP:20260425T095041
CREATED:20241118T141538Z
LAST-MODIFIED:20241118T141538Z
UID:59887-1735383600-1735423200@visitpikeville.com
SUMMARY:Winterfest
DESCRIPTION:Enjoy holiday magic with ice skating\, carriage rides\, and mini-train rides. Schools\, churches\, and other large groups can contact kevin@appwirelessarena.com for special skate times and group pricing. Don’t miss out on the fun! #visitpikeville
URL:https://visitpikeville.com/event/winterfest-5-2-2-2-2-2-2-2-2-2-2-2-2-2-2-2-2/
LOCATION:Pikeville City Park\, 101 Cumberland Ct\,\, Pikeville\, KY\, 41501
CATEGORIES:City of Pikeville,Pikeville Tourism
ATTACH;FMTTYPE=image/jpeg:https://visitpikeville.com/wp-content/uploads/2024/11/winterfest-1.jpg
END:VEVENT
BEGIN:VEVENT
DTSTART;TZID=America/Kentucky/Louisville:20241228T160000
DTEND;TZID=America/Kentucky/Louisville:20241228T170000
DTSTAMP:20260425T095041
CREATED:20241202T134323Z
LAST-MODIFIED:20241202T134323Z
UID:60375-1735401600-1735405200@visitpikeville.com
SUMMARY:Chess Club
DESCRIPTION:Chess Group meets alternating Saturdays at 4:00 at the Pike County Public Library (Lee Avenue).
URL:https://visitpikeville.com/event/chess-group-2-2-2-2-2-2-2-2-2-2-2-2-2-2-2-2-2-2-2-2-2-2-2-2-2-2-2-2/
LOCATION:Pike County Public Library\, 126 Lee Avenue\, Pikeville\, KY\, 41501\, United States
CATEGORIES:Pike County Public Library
ATTACH;FMTTYPE=image/png:https://visitpikeville.com/wp-content/uploads/2024/12/Chess_Club_SAT.png
END:VEVENT
BEGIN:VEVENT
DTSTART;TZID=America/Kentucky/Louisville:20241228T160000
DTEND;TZID=America/Kentucky/Louisville:20241228T180000
DTSTAMP:20260425T095041
CREATED:20240411T201313Z
LAST-MODIFIED:20240411T201313Z
UID:49575-1735401600-1735408800@visitpikeville.com
SUMMARY:Pikeville 200 Plaza Dedication
DESCRIPTION:
URL:https://visitpikeville.com/event/pikeville-200-plaza-dedication/
LOCATION:Overlook Events Center\, 891 Bob Amos Drive\, Pikeville\, KY\, 41501\, United States
CATEGORIES:City of Pikeville
ATTACH;FMTTYPE=image/png:https://visitpikeville.com/wp-content/uploads/2024/04/pikeville-bicentennial-1500x500-1.png
END:VEVENT
BEGIN:VEVENT
DTSTART;TZID=America/Kentucky/Louisville:20241228T180000
DTEND;TZID=America/Kentucky/Louisville:20241228T210000
DTSTAMP:20260425T095041
CREATED:20240411T201844Z
LAST-MODIFIED:20241228T003302Z
UID:49580-1735408800-1735419600@visitpikeville.com
SUMMARY:City of Pikeville Postpones Drone and Fireworks Show Due to Weather Forecast
DESCRIPTION:Pikeville\, KY – December 26\, 2024 – Due to unfavorable weather conditions\nforecasted for this weekend\, the City of Pikeville has made the decision to\npostpone the highly anticipated Drone Show and Combined Fireworks Display\nthat was set to take place on Saturday\, December 28th\, at 6 PM at the Hambley\nAthletic Complex.\nThe event was scheduled to celebrate two major milestones: the 100th\nanniversary of Pikeville Medical Center and the 200th anniversary of Pikeville\nitself. While we were excited to bring this special celebration to our community\,\nsafety is our top priority\, and the forecasted weather conditions are not conducive\nto holding such a spectacular event.\nWe are currently working with our partners to determine a new date that will allow\nus to safely host the event and provide our community with the experience it\ndeserves. We will make an official announcement regarding the rescheduled\nevent as soon as the new date is confirmed.\nWe thank the community for their understanding and support\, and we look\nforward to celebrating these historic milestones with you soon.\nFor more updates and information\, please follow the City of Pikeville on social\nmedia or visit www.pikevilleky.gov. \nPress-Release.-Drone-Show-Postponed-12.26.24
URL:https://visitpikeville.com/event/pikeville-200-drone-show-fireworks/
LOCATION:Hambley Athletic Complex\, 120 Championship Dr\,\, Pikeville\, KY\, 41501\, United States
CATEGORIES:City of Pikeville
ATTACH;FMTTYPE=image/png:https://visitpikeville.com/wp-content/uploads/2024/04/PMC-City-Fireworks-Social-Media-1500x650-1.png
END:VEVENT
BEGIN:VEVENT
DTSTART;TZID=America/Kentucky/Louisville:20241228T193000
DTEND;TZID=America/Kentucky/Louisville:20241228T213000
DTSTAMP:20260425T095041
CREATED:20241209T153721Z
LAST-MODIFIED:20241209T153721Z
UID:60709-1735414200-1735421400@visitpikeville.com
SUMMARY:Live Music at Bank 253
DESCRIPTION:@ Bank 253
URL:https://visitpikeville.com/event/live-music-at-bank-253-2-2-2-2-3-2-2-2/
LOCATION:KY
CATEGORIES:Other
ATTACH;FMTTYPE=image/jpeg:https://visitpikeville.com/wp-content/uploads/2024/10/bank-253.jpg
END:VEVENT
END:VCALENDAR