BEGIN:VCALENDAR
VERSION:2.0
PRODID:-//Visit Pikeville - ECPv6.15.20//NONSGML v1.0//EN
CALSCALE:GREGORIAN
METHOD:PUBLISH
X-WR-CALNAME:Visit Pikeville
X-ORIGINAL-URL:https://visitpikeville.com
X-WR-CALDESC:Events for Visit Pikeville
REFRESH-INTERVAL;VALUE=DURATION:PT1H
X-Robots-Tag:noindex
X-PUBLISHED-TTL:PT1H
BEGIN:VTIMEZONE
TZID:America/Kentucky/Louisville
BEGIN:DAYLIGHT
TZOFFSETFROM:-0500
TZOFFSETTO:-0400
TZNAME:EDT
DTSTART:20230312T070000
END:DAYLIGHT
BEGIN:STANDARD
TZOFFSETFROM:-0400
TZOFFSETTO:-0500
TZNAME:EST
DTSTART:20231105T060000
END:STANDARD
BEGIN:DAYLIGHT
TZOFFSETFROM:-0500
TZOFFSETTO:-0400
TZNAME:EDT
DTSTART:20240310T070000
END:DAYLIGHT
BEGIN:STANDARD
TZOFFSETFROM:-0400
TZOFFSETTO:-0500
TZNAME:EST
DTSTART:20241103T060000
END:STANDARD
BEGIN:DAYLIGHT
TZOFFSETFROM:-0500
TZOFFSETTO:-0400
TZNAME:EDT
DTSTART:20250309T070000
END:DAYLIGHT
BEGIN:STANDARD
TZOFFSETFROM:-0400
TZOFFSETTO:-0500
TZNAME:EST
DTSTART:20251102T060000
END:STANDARD
END:VTIMEZONE
BEGIN:VEVENT
DTSTART;TZID=America/Kentucky/Louisville:20241010T140000
DTEND;TZID=America/Kentucky/Louisville:20241010T150000
DTSTAMP:20260425T074023
CREATED:20240930T150552Z
LAST-MODIFIED:20240930T150552Z
UID:57837-1728568800-1728572400@visitpikeville.com
SUMMARY:Story Time
DESCRIPTION:tory Time is for children ages 5 and under and features books\, action/movement\, songs\, and a craft. Story Time is held Thursdays at 11:00 and 2:00 and Saturdays at 11:00. \n\n\n\n\n\n\n  \nBesides being fun\, Story Time also helps develop early literacy and school readiness skills through reading\, singing\, listening\, playing\, and social interaction. This program lasts approximately 30 minutes\, and caregivers and children are encouraged to linger in the library afterwards to further socialize and choose books to take home.
URL:https://visitpikeville.com/event/story-time-2-2-2-2-2-2-2-2-2-2-2-2-2-2-2-2-2-2-2-2-2-2-2-2-2-2-2-2-2-2-2-2-2-2-2-2-2-2-2-2-2-2-2-2-2-2-2-2-2-2-2-2-2-2-2-3-2-2-2-2-2-2-2-2-2-2-2-2-2/
LOCATION:Pike County Public Library\, 126 Lee Avenue\, Pikeville\, KY\, 41501\, United States
CATEGORIES:Pike County Public Library
ATTACH;FMTTYPE=image/png:https://visitpikeville.com/wp-content/uploads/2023/12/Story_TimeLEE.png
END:VEVENT
BEGIN:VEVENT
DTSTART;TZID=America/Kentucky/Louisville:20241010T170000
DTEND;TZID=America/Kentucky/Louisville:20241010T184500
DTSTAMP:20260425T074023
CREATED:20240930T152839Z
LAST-MODIFIED:20240930T152839Z
UID:57870-1728579600-1728585900@visitpikeville.com
SUMMARY:Dungeons and Dragons
DESCRIPTION:Dungeons and Dragons Group meets every other Thursday at 5:00 at the Pike County Public Library (Lee Avenue). Beginners and experienced players alike are welcome.
URL:https://visitpikeville.com/event/dungeons-and-dragons-5-2-2-2-2-2-2-2-2-2-2-2-2-2-2-2-2/
LOCATION:Pike County Public Library\, 126 Lee Avenue\, Pikeville\, KY\, 41501\, United States
CATEGORIES:Pike County Public Library
ATTACH;FMTTYPE=image/png:https://visitpikeville.com/wp-content/uploads/2023/12/D_D_Group.png
END:VEVENT
BEGIN:VEVENT
DTSTART;TZID=America/Kentucky/Louisville:20241010T170000
DTEND;TZID=America/Kentucky/Louisville:20241010T210000
DTSTAMP:20260425T074023
CREATED:20241008T151115Z
LAST-MODIFIED:20241008T151115Z
UID:58199-1728579600-1728594000@visitpikeville.com
SUMMARY:Beginners Sewing
DESCRIPTION:Come and Join Us
URL:https://visitpikeville.com/event/beginners-sewing-2-2-2-2-2-2-2-2-2-2-2-2-2-2-2-2-2-2-2-2-2-2-2-2-2-2-2-2-2/
LOCATION:Bridgett’s Quilting and Fabric Shop\, 237 2nd St\,\, Pikeville\, KY\, 41501\, United States
CATEGORIES:Pikeville Main Street
ATTACH;FMTTYPE=image/jpeg:https://visitpikeville.com/wp-content/uploads/2023/10/bridgetts.jpeg
END:VEVENT
BEGIN:VEVENT
DTSTART;TZID=America/Kentucky/Louisville:20241010T173000
DTEND;TZID=America/Kentucky/Louisville:20241010T183000
DTSTAMP:20260425T074023
CREATED:20240930T152003Z
LAST-MODIFIED:20240930T152003Z
UID:57859-1728581400-1728585000@visitpikeville.com
SUMMARY:Sign Language Class
DESCRIPTION:Learn American Sign Language with interpreter Tracy Jackson\, with classes held every Thursday at 5:30 at the Pike County Public Library (Lee Avenue). Suitable for all ages. No registration required.
URL:https://visitpikeville.com/event/sign-language-class-3-2-2-2-2-2-2-2-2-2/
LOCATION:Pike County Public Library\, 126 Lee Avenue\, Pikeville\, KY\, 41501\, United States
CATEGORIES:Pike County Public Library
ATTACH;FMTTYPE=image/png:https://visitpikeville.com/wp-content/uploads/2024/08/Sign_Language_Class.png
END:VEVENT
BEGIN:VEVENT
DTSTART;TZID=America/Kentucky/Louisville:20241010T173000
DTEND;TZID=America/Kentucky/Louisville:20241010T183000
DTSTAMP:20260425T074023
CREATED:20240930T152715Z
LAST-MODIFIED:20240930T152715Z
UID:57867-1728581400-1728585000@visitpikeville.com
SUMMARY:Painting Class: Pumpkins
DESCRIPTION:The Pike County Extension Office will led a painting class featuring pumpkins on canvas at the Pike County Public Library on October 10 at 5:30. Registration is required. For teens-adults.\nTo register\, click here: https://informationplace.libnet.info/event/11927260
URL:https://visitpikeville.com/event/painting-class-pumpkins/
LOCATION:Pike County Public Library\, 126 Lee Avenue\, Pikeville\, KY\, 41501\, United States
CATEGORIES:Pike County Public Library
ATTACH;FMTTYPE=image/jpeg:https://visitpikeville.com/wp-content/uploads/2024/09/PUMPKINS.jpg
END:VEVENT
BEGIN:VEVENT
DTSTART;TZID=America/Kentucky/Louisville:20241010T180000
DTEND;TZID=America/Kentucky/Louisville:20241010T190000
DTSTAMP:20260425T074023
CREATED:20240923T132654Z
LAST-MODIFIED:20240923T132654Z
UID:57461-1728583200-1728586800@visitpikeville.com
SUMMARY:Toastmasters: Learn Public Speaking
DESCRIPTION:Toasters International is a nonprofit educational organization that teaches public speaking and leadership skills through a worldwide network of clubs.\nThere’s no pressure to participate until you are ready and comfortable. Mountains Movers is the local Toastmasters club in Pike County and meets each month on the second and fourth Thursday at 6:00 p.m. at the Pike County Public Library (Lee Avenue). Anyone is welcome to attend!\nNo registration required.
URL:https://visitpikeville.com/event/toastmasters-learn-public-speaking/
LOCATION:Pike County Public Library\, 126 Lee Avenue\, Pikeville\, KY\, 41501\, United States
CATEGORIES:Pike County Public Library
ATTACH;FMTTYPE=image/jpeg:https://visitpikeville.com/wp-content/uploads/2024/09/public-speaking.jpg
END:VEVENT
BEGIN:VEVENT
DTSTART;TZID=America/Kentucky/Louisville:20241010T183000
DTEND;TZID=America/Kentucky/Louisville:20241010T203000
DTSTAMP:20260425T074023
CREATED:20241008T150939Z
LAST-MODIFIED:20241008T150939Z
UID:58196-1728585000-1728592200@visitpikeville.com
SUMMARY:Trivia night at Bank 253
DESCRIPTION:Get ready for next Thursday! Trivia Thursday is near. Enjoy prizes and exclusive drink specials.
URL:https://visitpikeville.com/event/trivia-night-at-bank-253/
LOCATION:Bank 253\, 253 2nd St\,\, Pikeville\, KY\, 41501\, United States
CATEGORIES:Other
ATTACH;FMTTYPE=image/jpeg:https://visitpikeville.com/wp-content/uploads/2024/10/trivia-night.jpg
END:VEVENT
BEGIN:VEVENT
DTSTART;TZID=America/Kentucky/Louisville:20241010T193000
DTEND;TZID=America/Kentucky/Louisville:20241010T213000
DTSTAMP:20260425T074023
CREATED:20231218T135655Z
LAST-MODIFIED:20231218T135655Z
UID:44068-1728588600-1728595800@visitpikeville.com
SUMMARY:Sleep in Safety - The Death of Octavia Hatcher
DESCRIPTION:Since the early part of the 20th century\, Octavia Hatcher’s monument has watched over the city of Pikeville from the cemetery on the hill. Octavia’s brief marriage to prominent Pikeville businessman James Hatcher ended suddenly when she suffered an unknown illness that resulted in her being buried alive. This original\, tragic story of her life and death is a chilling account which may explain why many say her spirit walks the graveyard to this day.
URL:https://visitpikeville.com/event/sleep-in-safety-the-death-of-octavia-hatcher/
LOCATION:Appalachian Center for the Arts\, 218 2nd St\,\, Pikeville\, Ky\, 41501
CATEGORIES:The Appalachian Center for the Arts
ATTACH;FMTTYPE=image/webp:https://visitpikeville.com/wp-content/uploads/2023/12/octvia-web-600.webp
END:VEVENT
BEGIN:VEVENT
DTSTART;TZID=America/Kentucky/Louisville:20241011T183000
DTEND;TZID=America/Kentucky/Louisville:20241011T203000
DTSTAMP:20260425T074023
CREATED:20240722T130316Z
LAST-MODIFIED:20240722T130316Z
UID:53715-1728671400-1728678600@visitpikeville.com
SUMMARY:Volleyball vs Johnson University
DESCRIPTION:Game Day!
URL:https://visitpikeville.com/event/volleyball-vs-johnson-university-2/
LOCATION:UPIKE GYM\, Hibbard St\,\, Pikeville\, KY\, 41501\, United States
CATEGORIES:UPike
ATTACH;FMTTYPE=image/png:https://visitpikeville.com/wp-content/uploads/2024/07/Screen-Shot-2024-07-22-at-9.01.52-AM.png
END:VEVENT
BEGIN:VEVENT
DTSTART;TZID=America/Kentucky/Louisville:20241011T193000
DTEND;TZID=America/Kentucky/Louisville:20241011T213000
DTSTAMP:20260425T074023
CREATED:20231218T135756Z
LAST-MODIFIED:20231218T135756Z
UID:44071-1728675000-1728682200@visitpikeville.com
SUMMARY:Sleep in Safety - The Death of Octavia Hatcher
DESCRIPTION:Since the early part of the 20th century\, Octavia Hatcher’s monument has watched over the city of Pikeville from the cemetery on the hill. Octavia’s brief marriage to prominent Pikeville businessman James Hatcher ended suddenly when she suffered an unknown illness that resulted in her being buried alive. This original\, tragic story of her life and death is a chilling account which may explain why many say her spirit walks the graveyard to this day.
URL:https://visitpikeville.com/event/sleep-in-safety-the-death-of-octavia-hatcher-2/
LOCATION:Appalachian Center for the Arts\, 218 2nd St\,\, Pikeville\, Ky\, 41501
CATEGORIES:The Appalachian Center for the Arts
ATTACH;FMTTYPE=image/webp:https://visitpikeville.com/wp-content/uploads/2023/12/octvia-web-600.webp
END:VEVENT
BEGIN:VEVENT
DTSTART;TZID=America/Kentucky/Louisville:20241011T193000
DTEND;TZID=America/Kentucky/Louisville:20241011T213000
DTSTAMP:20260425T074023
CREATED:20240916T143540Z
LAST-MODIFIED:20240916T143540Z
UID:57156-1728675000-1728682200@visitpikeville.com
SUMMARY:Wait Until Dark
DESCRIPTION:Opening night of our 2024-2025 season!
URL:https://visitpikeville.com/event/wait-until-dark/
LOCATION:Pikeville High School\, 120 Championship Dr\,\, Pikeville\, KY\, 41501\, United States
CATEGORIES:Other
ATTACH;FMTTYPE=image/jpeg:https://visitpikeville.com/wp-content/uploads/2024/09/act.jpg
END:VEVENT
BEGIN:VEVENT
DTSTART;TZID=America/Kentucky/Louisville:20241011T203000
DTEND;TZID=America/Kentucky/Louisville:20241011T223000
DTSTAMP:20260425T074023
CREATED:20240903T131742Z
LAST-MODIFIED:20240903T131742Z
UID:56366-1728678600-1728685800@visitpikeville.com
SUMMARY:Kudzu Killers
DESCRIPTION:Expect more great music in the fall!
URL:https://visitpikeville.com/event/kudzu-killers-2/
LOCATION:Pearse’s Place\, 224 2nd St\,\, Pikeville\, KY\, 41501\, United States
CATEGORIES:Other
ATTACH;FMTTYPE=image/jpeg:https://visitpikeville.com/wp-content/uploads/2024/09/kudzu.jpg
END:VEVENT
BEGIN:VEVENT
DTSTART;TZID=America/Kentucky/Louisville:20241012T090000
DTEND;TZID=America/Kentucky/Louisville:20241012T110000
DTSTAMP:20260425T074023
CREATED:20240909T131613Z
LAST-MODIFIED:20240909T131613Z
UID:56830-1728723600-1728730800@visitpikeville.com
SUMMARY:Bake Off
DESCRIPTION:Ages 5-16 cupcakes\, brownies\, cookies \n17-Up cakes\, pies and biscuits
URL:https://visitpikeville.com/event/bake-off/
LOCATION:Pikeville Farmer’s Market\, 130 Adams Lane\, Pikeville\, Ky
CATEGORIES:Other
ATTACH;FMTTYPE=image/jpeg:https://visitpikeville.com/wp-content/uploads/2024/09/bake-off.jpg
END:VEVENT
BEGIN:VEVENT
DTSTART;TZID=America/Kentucky/Louisville:20241012T090000
DTEND;TZID=America/Kentucky/Louisville:20241012T130000
DTSTAMP:20260425T074023
CREATED:20240513T175745Z
LAST-MODIFIED:20240513T175745Z
UID:51295-1728723600-1728738000@visitpikeville.com
SUMMARY:Pikeville Farmer's Market
DESCRIPTION:Tuesday from 4:30-7:00 \nSaturday 9:00-1:00 \n 
URL:https://visitpikeville.com/event/pikeville-farmers-market-5-2-2-2-2-2-2-2-2-2-2-2-2-2-2-2-2-2-2-2-2-2-2/
LOCATION:Pikeville Farmer’s Market\, 130 Adams Lane\, Pikeville\, Ky
CATEGORIES:Other
ATTACH;FMTTYPE=image/jpeg:https://visitpikeville.com/wp-content/uploads/2024/05/farmers-market.jpeg
END:VEVENT
BEGIN:VEVENT
DTSTART;TZID=America/Kentucky/Louisville:20241012T090000
DTEND;TZID=America/Kentucky/Louisville:20241012T170000
DTSTAMP:20260425T074023
CREATED:20240909T132139Z
LAST-MODIFIED:20240909T132139Z
UID:56836-1728723600-1728752400@visitpikeville.com
SUMMARY:Fall Festival
DESCRIPTION:Music-Food-Fun
URL:https://visitpikeville.com/event/fall-festival/
LOCATION:Pikeville Farmer’s Market\, 130 Adams Lane\, Pikeville\, Ky
CATEGORIES:Other
ATTACH;FMTTYPE=image/jpeg:https://visitpikeville.com/wp-content/uploads/2024/09/fall-1.jpg
END:VEVENT
BEGIN:VEVENT
DTSTART;TZID=America/Kentucky/Louisville:20241012T110000
DTEND;TZID=America/Kentucky/Louisville:20241012T120000
DTSTAMP:20260425T074023
CREATED:20240930T150631Z
LAST-MODIFIED:20240930T150631Z
UID:57839-1728730800-1728734400@visitpikeville.com
SUMMARY:Story Time
DESCRIPTION:tory Time is for children ages 5 and under and features books\, action/movement\, songs\, and a craft. Story Time is held Thursdays at 11:00 and 2:00 and Saturdays at 11:00. \n\n\n\n\n\n\n  \nBesides being fun\, Story Time also helps develop early literacy and school readiness skills through reading\, singing\, listening\, playing\, and social interaction. This program lasts approximately 30 minutes\, and caregivers and children are encouraged to linger in the library afterwards to further socialize and choose books to take home.
URL:https://visitpikeville.com/event/story-time-2-2-2-2-2-2-2-2-2-2-2-2-2-2-2-2-2-2-2-2-2-2-2-2-2-2-2-2-2-2-2-2-2-2-2-2-2-2-2-2-2-2-2-2-2-2-2-2-2-2-2-2-2-2-2-3-2-2-2-2-2-2-2-2-2-2-2-2-2-2/
LOCATION:Pike County Public Library\, 126 Lee Avenue\, Pikeville\, KY\, 41501\, United States
CATEGORIES:Pike County Public Library
ATTACH;FMTTYPE=image/png:https://visitpikeville.com/wp-content/uploads/2023/12/Story_TimeLEE.png
END:VEVENT
BEGIN:VEVENT
DTSTART;TZID=America/Kentucky/Louisville:20241012T110000
DTEND;TZID=America/Kentucky/Louisville:20241012T120000
DTSTAMP:20260425T074023
CREATED:20241008T131455Z
LAST-MODIFIED:20241008T131455Z
UID:58148-1728730800-1728734400@visitpikeville.com
SUMMARY:Volleyball vs Union Commonwealth University (Ky.)
DESCRIPTION:Game Day!
URL:https://visitpikeville.com/event/volleyball-vs-union-commonwealth-university-ky/
LOCATION:UPIKE GYM\, Hibbard St\,\, Pikeville\, KY\, 41501\, United States
CATEGORIES:UPike
ATTACH;FMTTYPE=image/png:https://visitpikeville.com/wp-content/uploads/2024/10/Screenshot-2024-10-08-at-9.05.18 AM.png
END:VEVENT
BEGIN:VEVENT
DTSTART;TZID=America/Kentucky/Louisville:20241012T110000
DTEND;TZID=America/Kentucky/Louisville:20241012T130000
DTSTAMP:20260425T074023
CREATED:20240930T153027Z
LAST-MODIFIED:20240930T153027Z
UID:57874-1728730800-1728738000@visitpikeville.com
SUMMARY:Quilters Group
DESCRIPTION:Pike County Public Library Quilters Group is a quilting social that also teaches quilting and needlework. Participants exchange patterns\, quilting ideas\, and sewing projects. Both beginners and experienced quilters are welcome! Quilters Group meets alternating Saturdays at noon at the Lee Avenue Library.\nFor more information\, contact Charlene at 606-437-6001 or charlene@pikelibrary.org
URL:https://visitpikeville.com/event/quilters-group-4-2-2-2-2-2-2-2-2-2-2-2-2-2-2-2-2-2-2-2-2-2-2-2-2-2-2/
LOCATION:Pike County Public Library\, 126 Lee Avenue\, Pikeville\, KY\, 41501\, United States
CATEGORIES:Pike County Public Library
ATTACH;FMTTYPE=image/jpeg:https://visitpikeville.com/wp-content/uploads/2024/06/quilters.jpeg
END:VEVENT
BEGIN:VEVENT
DTSTART;TZID=America/Kentucky/Louisville:20241012T120000
DTEND;TZID=America/Kentucky/Louisville:20241012T130000
DTSTAMP:20260425T074023
CREATED:20240916T133904Z
LAST-MODIFIED:20240916T133904Z
UID:57123-1728734400-1728738000@visitpikeville.com
SUMMARY:Chili Cook Off
DESCRIPTION:Pike County Conservation District
URL:https://visitpikeville.com/event/chili-cook-off/
LOCATION:Pikeville Farmer’s Market\, 130 Adams Lane\, Pikeville\, Ky
CATEGORIES:Other
ATTACH;FMTTYPE=image/jpeg:https://visitpikeville.com/wp-content/uploads/2024/09/chili.jpg
END:VEVENT
BEGIN:VEVENT
DTSTART;TZID=America/Kentucky/Louisville:20241012T120000
DTEND;TZID=America/Kentucky/Louisville:20241012T190000
DTSTAMP:20260425T074023
CREATED:20240930T141059Z
LAST-MODIFIED:20240930T141059Z
UID:57800-1728734400-1728759600@visitpikeville.com
SUMMARY:PIKEVILLE PRIDE 2024
DESCRIPTION:Celebrating FIVE years of Pride in beautiful downtown Pikeville\, KY!\nJoin us for a day full of affirmations\, love\, acceptance and of course\, rainbows.\nFEATURING: The Kentucky Gentlemen Wayne Graham SlutPill Pumpkin Guts\nAND GUEST SPEAKERS• Lt. Governor Jacqueline Coleman• Poet Laureate of Kentucky and New York Times Best-Selling author Silas House• Lexington City Council candidate and noted trans activist Emma Curtis• Celebrated Appalachian author Willie Carver Jr.\nPLUS AN INCREDIBLE DRAG LINEUP OF SUPERSTARS AND LEGENDS!– Benita Bloom\, Courtnee D LaRyann\, Dakota B. Cox\, Duchess Dynamite\, Justin Dreamz\, Mya Pinion St. James\, Olivia Knowles\, and Viktor Diamond. Two drag sets hosted by Rachel Sparks and Wendy Williams!\n DRAG HEADLINER DUSTY RAY BOTTOMS FROM SEASON 10 OF THE EMMY AWARD-WINNING HIT TELEVISION SHOW RUPAUL’S DRAG RACE \nMark your calendars and join us! 10/12/2024 12PM – 7PM Appalachian Wireless Arena Plaza (126 Main Street Pikeville\, KY)\nThis event is FREE and open to all-ages. Tickets are REQUIRED for entry into the arena plaza area (where the Mountaintop Media Stage is located) and are now available at bit.ly/Pride2024Tix. This event is all ages and family friendly.\n**This event is organized by Pikeville Pride\, a 501c3 non-profit dedicated to highlighting the visibility and inclusion of LGBTQ+ in Eastern Kentucky. To donate\, visit bit.ly/DonateIn2024Pride. This event is not sponsored nor endorsed by the City of Pikeville or any other governmental agency.**\n\nY’ALL MEANS ALL – always!
URL:https://visitpikeville.com/event/pikeville-pride-2024/
LOCATION:Appalachian Wireless Arena Plaza\, 126 Main Street\, Pikeville\, KY\, 41501\, United States
CATEGORIES:Other
ATTACH;FMTTYPE=image/jpeg:https://visitpikeville.com/wp-content/uploads/2024/09/PRIDE.jpg
END:VEVENT
BEGIN:VEVENT
DTSTART;TZID=America/Kentucky/Louisville:20241012T150000
DTEND;TZID=America/Kentucky/Louisville:20241012T170000
DTSTAMP:20260425T074023
CREATED:20240729T140217Z
LAST-MODIFIED:20240729T140217Z
UID:54210-1728745200-1728752400@visitpikeville.com
SUMMARY:Young Adult Craft Class
DESCRIPTION:This social craft class for young adults ages 18-25 meets alternating Saturdays at 3:00. No registration required.
URL:https://visitpikeville.com/event/young-adult-craft-class-2-2-2-2/
LOCATION:Pike County Public Library\, 126 Lee Avenue\, Pikeville\, KY\, 41501\, United States
CATEGORIES:Pike County Public Library
ATTACH;FMTTYPE=image/jpeg:https://visitpikeville.com/wp-content/uploads/2024/07/young.jpg
END:VEVENT
BEGIN:VEVENT
DTSTART;TZID=America/Kentucky/Louisville:20241012T150000
DTEND;TZID=America/Kentucky/Louisville:20241012T170000
DTSTAMP:20260425T074023
CREATED:20240916T143850Z
LAST-MODIFIED:20240916T143850Z
UID:57159-1728745200-1728752400@visitpikeville.com
SUMMARY:Wait Until Dark
DESCRIPTION:Opening night of our 2024-2025 season!
URL:https://visitpikeville.com/event/wait-until-dark-2/
LOCATION:Pikeville High School\, 120 Championship Dr\,\, Pikeville\, KY\, 41501\, United States
CATEGORIES:Other
ATTACH;FMTTYPE=image/jpeg:https://visitpikeville.com/wp-content/uploads/2024/09/act.jpg
END:VEVENT
BEGIN:VEVENT
DTSTART;TZID=America/Kentucky/Louisville:20241012T160000
DTEND;TZID=America/Kentucky/Louisville:20241012T170000
DTSTAMP:20260425T074023
CREATED:20240909T131835Z
LAST-MODIFIED:20240909T131835Z
UID:56833-1728748800-1728752400@visitpikeville.com
SUMMARY:Corn Eating Contest
DESCRIPTION:Free to Enter
URL:https://visitpikeville.com/event/corn-eating-contest/
LOCATION:Pikeville Farmer’s Market\, 130 Adams Lane\, Pikeville\, Ky
CATEGORIES:Other
ATTACH;FMTTYPE=image/jpeg:https://visitpikeville.com/wp-content/uploads/2024/09/corn.jpg
END:VEVENT
BEGIN:VEVENT
DTSTART;TZID=America/Kentucky/Louisville:20241012T193000
DTEND;TZID=America/Kentucky/Louisville:20241012T213000
DTSTAMP:20260425T074023
CREATED:20231218T135839Z
LAST-MODIFIED:20231218T135839Z
UID:44073-1728761400-1728768600@visitpikeville.com
SUMMARY:Sleep in Safety - The Death of Octavia Hatcher
DESCRIPTION:Since the early part of the 20th century\, Octavia Hatcher’s monument has watched over the city of Pikeville from the cemetery on the hill. Octavia’s brief marriage to prominent Pikeville businessman James Hatcher ended suddenly when she suffered an unknown illness that resulted in her being buried alive. This original\, tragic story of her life and death is a chilling account which may explain why many say her spirit walks the graveyard to this day.
URL:https://visitpikeville.com/event/sleep-in-safety-the-death-of-octavia-hatcher-2-2/
LOCATION:Appalachian Center for the Arts\, 218 2nd St\,\, Pikeville\, Ky\, 41501
CATEGORIES:The Appalachian Center for the Arts
ATTACH;FMTTYPE=image/webp:https://visitpikeville.com/wp-content/uploads/2023/12/octvia-web-600.webp
END:VEVENT
BEGIN:VEVENT
DTSTART;TZID=America/Kentucky/Louisville:20241012T193000
DTEND;TZID=America/Kentucky/Louisville:20241012T213000
DTSTAMP:20260425T074023
CREATED:20240916T143929Z
LAST-MODIFIED:20240916T143929Z
UID:57161-1728761400-1728768600@visitpikeville.com
SUMMARY:Wait Until Dark
DESCRIPTION:Opening night of our 2024-2025 season!
URL:https://visitpikeville.com/event/wait-until-dark-2-2/
LOCATION:Pikeville High School\, 120 Championship Dr\,\, Pikeville\, KY\, 41501\, United States
CATEGORIES:Other
ATTACH;FMTTYPE=image/jpeg:https://visitpikeville.com/wp-content/uploads/2024/09/act.jpg
END:VEVENT
BEGIN:VEVENT
DTSTART;TZID=America/Kentucky/Louisville:20241012T193000
DTEND;TZID=America/Kentucky/Louisville:20241012T213000
DTSTAMP:20260425T074023
CREATED:20241008T151746Z
LAST-MODIFIED:20241008T151746Z
UID:58201-1728761400-1728768600@visitpikeville.com
SUMMARY:Live Music at Bank 253
DESCRIPTION:@ Bank 253
URL:https://visitpikeville.com/event/live-music-at-bank-253/
LOCATION:KY
CATEGORIES:Other
ATTACH;FMTTYPE=image/jpeg:https://visitpikeville.com/wp-content/uploads/2024/10/bank-253.jpg
END:VEVENT
BEGIN:VEVENT
DTSTART;TZID=America/Kentucky/Louisville:20241012T200000
DTEND;TZID=America/Kentucky/Louisville:20241012T233000
DTSTAMP:20260425T074023
CREATED:20240923T124219Z
LAST-MODIFIED:20240923T124219Z
UID:57441-1728763200-1728775800@visitpikeville.com
SUMMARY:Wayne Graham
DESCRIPTION:Wayne Graham is a band from southeast Kentucky made up of two brothers\, Hayden and Kenny Miles. Their sound is eclectic yet familiar; a combination that resonates with young and old listeners alike. It has been said that they both are old souls and that comes through clearly in their music. The two brothers started making music together very early on. Growing up in a musical family\, they learned a little bit from everyone. They were involved in a couple of projects before they started Wayne Graham in 2010. They named the band after their grandfathers\, Wayne Miles and Graham Kincer. Our music is about family\, when you take a listen you become part of the story\, because we sing about the joys and trials that every family faces. Two brothers who play rock music from the mountains of Kentucky.
URL:https://visitpikeville.com/event/wayne-graham/
LOCATION:Appalachian Wireless Arena\, 126 Main Street\, Pikeville\, Ky\, 41501
CATEGORIES:Appalachian Wireless Arena
ATTACH;FMTTYPE=image/jpeg:https://visitpikeville.com/wp-content/uploads/2024/09/WAYNE.jpeg
END:VEVENT
BEGIN:VEVENT
DTSTART;TZID=America/Kentucky/Louisville:20241013T150000
DTEND;TZID=America/Kentucky/Louisville:20241013T170000
DTSTAMP:20260425T074023
CREATED:20231218T135927Z
LAST-MODIFIED:20231218T135927Z
UID:44075-1728831600-1728838800@visitpikeville.com
SUMMARY:Sleep in Safety - The Death of Octavia Hatcher
DESCRIPTION:Since the early part of the 20th century\, Octavia Hatcher’s monument has watched over the city of Pikeville from the cemetery on the hill. Octavia’s brief marriage to prominent Pikeville businessman James Hatcher ended suddenly when she suffered an unknown illness that resulted in her being buried alive. This original\, tragic story of her life and death is a chilling account which may explain why many say her spirit walks the graveyard to this day.
URL:https://visitpikeville.com/event/sleep-in-safety-the-death-of-octavia-hatcher-2-2-2/
LOCATION:Appalachian Center for the Arts\, 218 2nd St\,\, Pikeville\, Ky\, 41501
CATEGORIES:The Appalachian Center for the Arts
ATTACH;FMTTYPE=image/webp:https://visitpikeville.com/wp-content/uploads/2023/12/octvia-web-600.webp
END:VEVENT
BEGIN:VEVENT
DTSTART;TZID=America/Kentucky/Louisville:20241013T150000
DTEND;TZID=America/Kentucky/Louisville:20241013T170000
DTSTAMP:20260425T074023
CREATED:20240916T144019Z
LAST-MODIFIED:20240916T144019Z
UID:57163-1728831600-1728838800@visitpikeville.com
SUMMARY:Wait Until Dark
DESCRIPTION:Opening night of our 2024-2025 season!
URL:https://visitpikeville.com/event/wait-until-dark-2-2-2/
LOCATION:Pikeville High School\, 120 Championship Dr\,\, Pikeville\, KY\, 41501\, United States
CATEGORIES:Other
ATTACH;FMTTYPE=image/jpeg:https://visitpikeville.com/wp-content/uploads/2024/09/act.jpg
END:VEVENT
BEGIN:VEVENT
DTSTART;TZID=America/Kentucky/Louisville:20241013T150000
DTEND;TZID=America/Kentucky/Louisville:20241013T170000
DTSTAMP:20260425T074023
CREATED:20241008T150428Z
LAST-MODIFIED:20241008T150428Z
UID:58193-1728831600-1728838800@visitpikeville.com
SUMMARY:UPIKE Concert Band Concert
DESCRIPTION:UPIKE Music is proud to present the second installment of the 2024-2025 concert season\, the UPIKE Concert Band Concert. Under the direction of Professor Slade Presley Denman\, the UPIKE Concert Band will be performing a series of pieces that highlight the prestige\, dedication\, and sense of tradition that the UPIKE Concert Band strives to achieve with every performance. All are welcome to come out and enjoy an afternoon of great music!\nAdmission is FREE!
URL:https://visitpikeville.com/event/upike-concert-band-concert/
LOCATION:Record Memorial & Booth Auditorium\, 147 Sycamore Street\,\, KY\, 41501\, United States
CATEGORIES:UPike
ATTACH;FMTTYPE=image/jpeg:https://visitpikeville.com/wp-content/uploads/2024/10/concert-band.jpg
END:VEVENT
END:VCALENDAR