BEGIN:VCALENDAR
VERSION:2.0
PRODID:-//Visit Pikeville - ECPv6.15.20//NONSGML v1.0//EN
CALSCALE:GREGORIAN
METHOD:PUBLISH
X-WR-CALNAME:Visit Pikeville
X-ORIGINAL-URL:https://visitpikeville.com
X-WR-CALDESC:Events for Visit Pikeville
REFRESH-INTERVAL;VALUE=DURATION:PT1H
X-Robots-Tag:noindex
X-PUBLISHED-TTL:PT1H
BEGIN:VTIMEZONE
TZID:America/Kentucky/Louisville
BEGIN:DAYLIGHT
TZOFFSETFROM:-0500
TZOFFSETTO:-0400
TZNAME:EDT
DTSTART:20230312T070000
END:DAYLIGHT
BEGIN:STANDARD
TZOFFSETFROM:-0400
TZOFFSETTO:-0500
TZNAME:EST
DTSTART:20231105T060000
END:STANDARD
BEGIN:DAYLIGHT
TZOFFSETFROM:-0500
TZOFFSETTO:-0400
TZNAME:EDT
DTSTART:20240310T070000
END:DAYLIGHT
BEGIN:STANDARD
TZOFFSETFROM:-0400
TZOFFSETTO:-0500
TZNAME:EST
DTSTART:20241103T060000
END:STANDARD
BEGIN:DAYLIGHT
TZOFFSETFROM:-0500
TZOFFSETTO:-0400
TZNAME:EDT
DTSTART:20250309T070000
END:DAYLIGHT
BEGIN:STANDARD
TZOFFSETFROM:-0400
TZOFFSETTO:-0500
TZNAME:EST
DTSTART:20251102T060000
END:STANDARD
END:VTIMEZONE
BEGIN:VEVENT
DTSTART;TZID=America/Kentucky/Louisville:20240930T160000
DTEND;TZID=America/Kentucky/Louisville:20240930T173000
DTSTAMP:20260425T072628
CREATED:20240903T145610Z
LAST-MODIFIED:20240903T145610Z
UID:56474-1727712000-1727717400@visitpikeville.com
SUMMARY:Anime Group
DESCRIPTION:Watch anime\, get to know fellow fans\, talk about your favorite shows and manga series\, discuss cosplay ideas & techniques\, and more! Meets alternating Mondays at the Lee Avenue library at 4:00.
URL:https://visitpikeville.com/event/anime-group-5-2-2-2-2-2-2-2-2-2-2-2-2-2-2/
LOCATION:Pike County Public Library\, 126 Lee Avenue\, Pikeville\, KY\, 41501\, United States
CATEGORIES:Pike County Public Library
ATTACH;FMTTYPE=image/jpeg:https://visitpikeville.com/wp-content/uploads/2023/12/AnimeGroup.jpeg
END:VEVENT
BEGIN:VEVENT
DTSTART;TZID=America/Kentucky/Louisville:20241001T080000
DTEND;TZID=America/Kentucky/Louisville:20241001T170000
DTSTAMP:20260425T072628
CREATED:20240903T142550Z
LAST-MODIFIED:20240903T142550Z
UID:56411-1727769600-1727802000@visitpikeville.com
SUMMARY:Paint the Town Pink Breast Cancer Awareness Decorating Contest
DESCRIPTION:How exciting to see the return of the Paint the Town Pink contest! The project is designed to help promote breast cancer awareness and the importance of regular screenings! Thank you to HR Jackson Law P.L.L.C. (Helena R. Jackson Esq.) for sponsoring the contest and the 2024 Paint Pikeville Pink 1 mile/5K/10K event!!Winner announced the morning of race day on October 5\, 2024!runsignup.com/Race/KY/Pikeville/PaintPikevillePink
URL:https://visitpikeville.com/event/paint-the-town-pink-breast-cancer-awareness-decorating-contest/
LOCATION:Downtown Pikeville\, Pikeville\, Ky\, 41501
CATEGORIES:Pike County Health Department
ATTACH;FMTTYPE=image/jpeg:https://visitpikeville.com/wp-content/uploads/2024/09/decorating.jpg
END:VEVENT
BEGIN:VEVENT
DTSTART;TZID=America/Kentucky/Louisville:20241001T163000
DTEND;TZID=America/Kentucky/Louisville:20241001T190000
DTSTAMP:20260425T072629
CREATED:20240513T175458Z
LAST-MODIFIED:20240513T175458Z
UID:51289-1727800200-1727809200@visitpikeville.com
SUMMARY:Pikeville Farmer's Market
DESCRIPTION:Tuesday from 4:30-7:00 \nSaturday 9:00-1:00 \n 
URL:https://visitpikeville.com/event/pikeville-farmers-market-5-3-2-2-3-2-2-2-2-2-2-2-2-2-2-2-2-2-2-2/
LOCATION:Pikeville Farmer’s Market\, 130 Adams Lane\, Pikeville\, Ky
CATEGORIES:Other
ATTACH;FMTTYPE=image/jpeg:https://visitpikeville.com/wp-content/uploads/2024/05/farmers-market.jpeg
END:VEVENT
BEGIN:VEVENT
DTSTART;TZID=America/Kentucky/Louisville:20241001T183000
DTEND;TZID=America/Kentucky/Louisville:20241001T203000
DTSTAMP:20260425T072629
CREATED:20240722T125911Z
LAST-MODIFIED:20240722T125911Z
UID:53709-1727807400-1727814600@visitpikeville.com
SUMMARY:Volleyball vs Tennessee Wesleyan University
DESCRIPTION:Game Day!
URL:https://visitpikeville.com/event/volleyball-vs-tennessee-wesleyan-university-2/
LOCATION:UPIKE GYM\, Hibbard St\,\, Pikeville\, KY\, 41501\, United States
CATEGORIES:UPike
ATTACH;FMTTYPE=image/png:https://visitpikeville.com/wp-content/uploads/2024/07/Screen-Shot-2024-07-22-at-8.57.47-AM.png
END:VEVENT
BEGIN:VEVENT
DTSTART;TZID=America/Kentucky/Louisville:20241001T193000
DTEND;TZID=America/Kentucky/Louisville:20241001T213000
DTSTAMP:20260425T072629
CREATED:20240826T122918Z
LAST-MODIFIED:20240930T140243Z
UID:55876-1727811000-1727818200@visitpikeville.com
SUMMARY:CANCELLED The Black Crowes
DESCRIPTION:We ain’t done yet! The Black Crowes are bringing their Happiness Bastards Tour (The Reprise) to Pikeville\, KY on October 1 at The Appalachian Wireless Arena!  Don’t miss out\, tickets are on sale NOW!\nVisit the Community Trust Bank Box Office or Ticketmaster.com.\nhttps://www.ticketmaster.com/…/event/1600611017DF85D1…
URL:https://visitpikeville.com/event/the-black-crowes/
LOCATION:Appalachian Wireless Arena\, 126 Main Street\, Pikeville\, Ky\, 41501
CATEGORIES:Appalachian Wireless Arena
ATTACH;FMTTYPE=image/jpeg:https://visitpikeville.com/wp-content/uploads/2024/08/crowes.jpg
END:VEVENT
BEGIN:VEVENT
DTSTART;TZID=America/Kentucky/Louisville:20241002T120000
DTEND;TZID=America/Kentucky/Louisville:20241002T130000
DTSTAMP:20260425T072629
CREATED:20240930T150158Z
LAST-MODIFIED:20240930T150158Z
UID:57826-1727870400-1727874000@visitpikeville.com
SUMMARY:Intro to Microsoft Excel
DESCRIPTION:Learn the basics of Microsoft Excel in this one-hour workshop with SOAR. This tool is great for organizing\, formatting\, and calculating data. \n\n\n\n\n\n\n  \nIf you are interested in this class\, please register with this link: https://airtable.com/appAdlNOjfJRV0ubv/
URL:https://visitpikeville.com/event/intro-to-microsoft-excel/
LOCATION:Pike County Public Library\, 126 Lee Avenue\, Pikeville\, KY\, 41501\, United States
CATEGORIES:Pike County Public Library
ATTACH;FMTTYPE=image/png:https://visitpikeville.com/wp-content/uploads/2024/09/ExcelSOAR.png
END:VEVENT
BEGIN:VEVENT
DTSTART;TZID=America/Kentucky/Louisville:20241002T160000
DTEND;TZID=America/Kentucky/Louisville:20241002T170000
DTSTAMP:20260425T072629
CREATED:20240930T145650Z
LAST-MODIFIED:20240930T145650Z
UID:57820-1727884800-1727888400@visitpikeville.com
SUMMARY:BASIC COMPUTER SKILLS
DESCRIPTION:Learn technology basics like e-mail\, smart phones\, social media\, and more. Meets alternating Wednesdays at 4:00.
URL:https://visitpikeville.com/event/basic-computer-skills-3-2-2-2-2-2-2-2-2-2-2-2-2-2-2-2-2/
LOCATION:Pike County Public Library\, 126 Lee Avenue\, Pikeville\, KY\, 41501\, United States
CATEGORIES:Pike County Public Library
ATTACH;FMTTYPE=image/png:https://visitpikeville.com/wp-content/uploads/2024/06/Basic_Computer_Skills.png
END:VEVENT
BEGIN:VEVENT
DTSTART;TZID=America/Kentucky/Louisville:20241002T170000
DTEND;TZID=America/Kentucky/Louisville:20241002T180000
DTSTAMP:20260425T072629
CREATED:20240903T124935Z
LAST-MODIFIED:20240903T124935Z
UID:56355-1727888400-1727892000@visitpikeville.com
SUMMARY:Art Together Series of classes
DESCRIPTION:*Update*- CLASSES ARE FULLWe’re so excited to bring back our Art Together Series of classes! Check out this flyer for info\, and give us a call to sign up!
URL:https://visitpikeville.com/event/art-together-series-of-classes-2-2-2/
LOCATION:Pike Co. Extension Community Arts\, 148 Trivette Dr\, Pikeville\, KY\, United States
CATEGORIES:Pike County Extension Community Arts
ATTACH;FMTTYPE=image/jpeg:https://visitpikeville.com/wp-content/uploads/2024/09/art.jpg
END:VEVENT
BEGIN:VEVENT
DTSTART;TZID=America/Kentucky/Louisville:20241002T180000
DTEND;TZID=America/Kentucky/Louisville:20241002T200000
DTSTAMP:20260425T072629
CREATED:20240916T135632Z
LAST-MODIFIED:20240916T135632Z
UID:57136-1727892000-1727899200@visitpikeville.com
SUMMARY:Future National Veterans Assistance
DESCRIPTION:A special Veteran Peer Group event with campfire coffee\, music\, and songs. The Post is requesting Community Veterans to attend with their spouse\, children\, and Branch pride.At Muddy Boots Stables; top of the hill.
URL:https://visitpikeville.com/event/future-national-veterans-assistance/
LOCATION:Overlook Events Center\, 891 Bob Amos Drive\, Pikeville\, KY\, 41501\, United States
CATEGORIES:Other
ATTACH;FMTTYPE=image/jpeg:https://visitpikeville.com/wp-content/uploads/2024/09/future-veterans.jpg
END:VEVENT
BEGIN:VEVENT
DTSTART;TZID=America/Kentucky/Louisville:20241003T100000
DTEND;TZID=America/Kentucky/Louisville:20241003T110000
DTSTAMP:20260425T072629
CREATED:20240923T125647Z
LAST-MODIFIED:20240923T125647Z
UID:57447-1727949600-1727953200@visitpikeville.com
SUMMARY:4-H Homeschool Club
DESCRIPTION:We are teaming up with Pike County Libraries to offer a new 4-H Homeschool Club! Join us for our first meeting at the Pike County Extension Office on October 3rd from 10-11. Please call us at 432-2534 to register.
URL:https://visitpikeville.com/event/4-h-homeschool-club/
LOCATION:Pike County Extension Office\, 148 Trivette Dr\, Pikeville\, KY\, 41501\, United States
CATEGORIES:Pike County Cooperative Extension Office,Pike County Public Library
ATTACH;FMTTYPE=image/jpeg:https://visitpikeville.com/wp-content/uploads/2024/09/homeschool.jpg
END:VEVENT
BEGIN:VEVENT
DTSTART;TZID=America/Kentucky/Louisville:20241003T110000
DTEND;TZID=America/Kentucky/Louisville:20241003T120000
DTSTAMP:20260425T072629
CREATED:20240930T150331Z
LAST-MODIFIED:20240930T150331Z
UID:57829-1727953200-1727956800@visitpikeville.com
SUMMARY:Story Time
DESCRIPTION:tory Time is for children ages 5 and under and features books\, action/movement\, songs\, and a craft. Story Time is held Thursdays at 11:00 and 2:00 and Saturdays at 11:00. \n\n\n\n\n\n\n  \nBesides being fun\, Story Time also helps develop early literacy and school readiness skills through reading\, singing\, listening\, playing\, and social interaction. This program lasts approximately 30 minutes\, and caregivers and children are encouraged to linger in the library afterwards to further socialize and choose books to take home.
URL:https://visitpikeville.com/event/story-time-2-2-2-2-2-2-2-2-2-2-2-2-2-2-2-2-2-2-2-2-2-2-2-2-2-2-2-2-2-2-2-2-2-2-2-2-2-2-2-2-2-2-2-2-2-2-2-2-2-2-2-2-2-2-2-3-2-2-2-2-2-2-2-2-2/
LOCATION:Pike County Public Library\, 126 Lee Avenue\, Pikeville\, KY\, 41501\, United States
CATEGORIES:Pike County Public Library
ATTACH;FMTTYPE=image/png:https://visitpikeville.com/wp-content/uploads/2023/12/Story_TimeLEE.png
END:VEVENT
BEGIN:VEVENT
DTSTART;TZID=America/Kentucky/Louisville:20241003T140000
DTEND;TZID=America/Kentucky/Louisville:20241003T150000
DTSTAMP:20260425T072629
CREATED:20240930T150402Z
LAST-MODIFIED:20240930T150402Z
UID:57831-1727964000-1727967600@visitpikeville.com
SUMMARY:Story Time
DESCRIPTION:tory Time is for children ages 5 and under and features books\, action/movement\, songs\, and a craft. Story Time is held Thursdays at 11:00 and 2:00 and Saturdays at 11:00. \n\n\n\n\n\n\n  \nBesides being fun\, Story Time also helps develop early literacy and school readiness skills through reading\, singing\, listening\, playing\, and social interaction. This program lasts approximately 30 minutes\, and caregivers and children are encouraged to linger in the library afterwards to further socialize and choose books to take home.
URL:https://visitpikeville.com/event/story-time-2-2-2-2-2-2-2-2-2-2-2-2-2-2-2-2-2-2-2-2-2-2-2-2-2-2-2-2-2-2-2-2-2-2-2-2-2-2-2-2-2-2-2-2-2-2-2-2-2-2-2-2-2-2-2-3-2-2-2-2-2-2-2-2-2-2/
LOCATION:Pike County Public Library\, 126 Lee Avenue\, Pikeville\, KY\, 41501\, United States
CATEGORIES:Pike County Public Library
ATTACH;FMTTYPE=image/png:https://visitpikeville.com/wp-content/uploads/2023/12/Story_TimeLEE.png
END:VEVENT
BEGIN:VEVENT
DTSTART;TZID=America/Kentucky/Louisville:20241003T173000
DTEND;TZID=America/Kentucky/Louisville:20241003T183000
DTSTAMP:20260425T072629
CREATED:20240930T151934Z
LAST-MODIFIED:20240930T151934Z
UID:57857-1727976600-1727980200@visitpikeville.com
SUMMARY:Sign Language Class
DESCRIPTION:Learn American Sign Language with interpreter Tracy Jackson\, with classes held every Thursday at 5:30 at the Pike County Public Library (Lee Avenue). Suitable for all ages. No registration required.
URL:https://visitpikeville.com/event/sign-language-class-3-2-2-2-2-2-2-2-2/
LOCATION:Pike County Public Library\, 126 Lee Avenue\, Pikeville\, KY\, 41501\, United States
CATEGORIES:Pike County Public Library
ATTACH;FMTTYPE=image/png:https://visitpikeville.com/wp-content/uploads/2024/08/Sign_Language_Class.png
END:VEVENT
BEGIN:VEVENT
DTSTART;TZID=America/Kentucky/Louisville:20241003T190000
DTEND;TZID=America/Kentucky/Louisville:20241003T210000
DTSTAMP:20260425T072629
CREATED:20240401T152320Z
LAST-MODIFIED:20240401T152320Z
UID:49332-1727982000-1727989200@visitpikeville.com
SUMMARY:Koe Wetzel
DESCRIPTION:Sale Dates and Times:\nPublic Onsale : Fri\, 5 Apr 2024 at 10:00 AM\nArtist Presale : Tue\, 2 Apr 2024 at 12:00 PM\nAEG PRESALE : Wed\, 3 Apr 2024 at 10:00 AM\nSPOTIFY PRESALE : Wed\, 3 Apr 2024 at 12:00 PM\nBANDS IN TOWN PRESALE : Wed\, 3 Apr 2024 at 12:00 PM\nLOCAL PRESALE : Thu\, 4 Apr 2024 at 10:00 AM\nVIP Packages Presale : Tue\, 2 Apr 2024 at 12:00 PM\nVIP Package Public Onsale : Fri\, 5 Apr 2024 at 10:00 AM\nOfficial Platinum Presale : Tue\, 2 Apr 2024 at 12:00 PM\nOfficial Platinum Onsale : Fri\, 5 Apr 2024 at 10:00 AM
URL:https://visitpikeville.com/event/koe-wetzel-2/
LOCATION:Appalachian Wireless Arena\, 126 Main Street\, Pikeville\, Ky\, 41501
CATEGORIES:Appalachian Wireless Arena
ATTACH;FMTTYPE=image/jpeg:https://visitpikeville.com/wp-content/uploads/2024/04/koe.jpeg
END:VEVENT
BEGIN:VEVENT
DTSTART;TZID=America/Kentucky/Louisville:20241004T170000
DTEND;TZID=America/Kentucky/Louisville:20241004T180000
DTSTAMP:20260425T072629
CREATED:20240930T152042Z
LAST-MODIFIED:20240930T152042Z
UID:57861-1728061200-1728064800@visitpikeville.com
SUMMARY:Toddler Piano Time
DESCRIPTION:Explore the piano in this Music Appreciation class for ages under 5! Meets alternating Fridays at 5:00. Registration is required. Please call the library to register: 606-437-6001.
URL:https://visitpikeville.com/event/toddler-piano-time-2-2/
LOCATION:Pike County Public Library\, 126 Lee Avenue\, Pikeville\, KY\, 41501\, United States
CATEGORIES:Pike County Public Library
ATTACH;FMTTYPE=image/png:https://visitpikeville.com/wp-content/uploads/2024/09/Toddler_Piano_Time.png
END:VEVENT
BEGIN:VEVENT
DTSTART;TZID=America/Kentucky/Louisville:20241004T183000
DTEND;TZID=America/Kentucky/Louisville:20241004T213000
DTSTAMP:20260425T072629
CREATED:20240930T143741Z
LAST-MODIFIED:20240930T143741Z
UID:57808-1728066600-1728077400@visitpikeville.com
SUMMARY:University of Pikeville Homecoming\, Pep Rally & Concert
DESCRIPTION:Featuring Cooper Greer with special guest Zoe Howard
URL:https://visitpikeville.com/event/university-of-pikeville-homecoming-pep-rally-concert/
LOCATION:Mountain Top Media Stage\, 126 Main St\,\, Pikeville\, KY\, 41501\, United States
CATEGORIES:Mountain Top Media,Pikeville Main Street
ATTACH;FMTTYPE=image/jpeg:https://visitpikeville.com/wp-content/uploads/2024/09/homecoming-1.jpg
END:VEVENT
BEGIN:VEVENT
DTSTART;TZID=America/Kentucky/Louisville:20241004T193000
DTEND;TZID=America/Kentucky/Louisville:20241004T213000
DTSTAMP:20260425T072629
CREATED:20240930T144140Z
LAST-MODIFIED:20240930T144140Z
UID:57811-1728070200-1728077400@visitpikeville.com
SUMMARY:All Hallows Prov
DESCRIPTION:Are you looking for a fun evening to kick off spooky season? Join us Friday October 4th at 7:30 PM for All Hallows Prov!\n\n\nFree fun with a suggested $5 donation
URL:https://visitpikeville.com/event/all-hallows-prov/
LOCATION:Appalachian Center for the Arts\, 218 2nd St\,\, Pikeville\, Ky\, 41501
CATEGORIES:The Appalachian Center for the Arts
ATTACH;FMTTYPE=image/jpeg:https://visitpikeville.com/wp-content/uploads/2024/09/all-hallows.jpg
END:VEVENT
BEGIN:VEVENT
DTSTART;TZID=America/Kentucky/Louisville:20241004T200000
DTEND;TZID=America/Kentucky/Louisville:20241004T220000
DTSTAMP:20260425T072629
CREATED:20240930T144929Z
LAST-MODIFIED:20240930T144929Z
UID:57814-1728072000-1728079200@visitpikeville.com
SUMMARY:Brittany Mullins
DESCRIPTION:Live Acoustic
URL:https://visitpikeville.com/event/brittany-mullins/
LOCATION:Pearse’s Place\, 224 2nd St\,\, Pikeville\, KY\, 41501\, United States
CATEGORIES:Other
ATTACH;FMTTYPE=image/jpeg:https://visitpikeville.com/wp-content/uploads/2024/09/brittany-1.jpg
END:VEVENT
BEGIN:VEVENT
DTSTART;TZID=America/Kentucky/Louisville:20241005T080000
DTEND;TZID=America/Kentucky/Louisville:20241005T170000
DTSTAMP:20260425T072629
CREATED:20240722T133926Z
LAST-MODIFIED:20240722T133926Z
UID:53734-1728115200-1728147600@visitpikeville.com
SUMMARY:Paint Pikeville Pink
DESCRIPTION:It’s back!! The beloved breast cancer awareness event from previous years will return in 2024! With a 1 mile walk\, 5K\, and 10K selection available\, we have a race distance for everyone!. All events will begin at 9:00 am on Main Street in front of the Billy Johnson Stage. The race event will include a variety of activities at the start/finish line for participants to learn more about breast cancer resources\, honor survivors\, and remember those who lost their valiant battle.  There will be fun games and activities for everyone in the family\, and this year’s race swag will include t-shirts\, medals\, and age awards. Be sure to join us and enjoy plenty of food\, fun\, and family at the finish line!
URL:https://visitpikeville.com/event/paint-pikeville-pink/
LOCATION:Main Street\, Main Street\, Pikeville\, KY\, 41501\, United States
CATEGORIES:Southeast Kentucky Chamber
ATTACH;FMTTYPE=image/jpeg:https://visitpikeville.com/wp-content/uploads/2024/07/paint-pikeville.jpg
END:VEVENT
BEGIN:VEVENT
DTSTART;TZID=America/Kentucky/Louisville:20241005T080000
DTEND;TZID=America/Kentucky/Louisville:20241005T170000
DTSTAMP:20260425T072629
CREATED:20240903T142232Z
LAST-MODIFIED:20240903T142232Z
UID:56408-1728115200-1728147600@visitpikeville.com
SUMMARY:Paint Pikeville Pink Quilt Show
DESCRIPTION:Showcase your quilt at the 2024 Paint Pikeville Pink Quilt Show
URL:https://visitpikeville.com/event/paint-pikeville-pink-quilt-show/
LOCATION:Main Street\, Main Street\, Pikeville\, KY\, 41501\, United States
CATEGORIES:Pike County Health Department
ATTACH;FMTTYPE=image/jpeg:https://visitpikeville.com/wp-content/uploads/2024/09/quilt-show.jpg
END:VEVENT
BEGIN:VEVENT
DTSTART;TZID=America/Kentucky/Louisville:20241005T090000
DTEND;TZID=America/Kentucky/Louisville:20241005T130000
DTSTAMP:20260425T072629
CREATED:20240513T175559Z
LAST-MODIFIED:20240513T175559Z
UID:51291-1728118800-1728133200@visitpikeville.com
SUMMARY:Pikeville Farmer's Market
DESCRIPTION:Tuesday from 4:30-7:00 \nSaturday 9:00-1:00 \n 
URL:https://visitpikeville.com/event/pikeville-farmers-market-5-2-2-2-2-2-2-2-2-2-2-2-2-2-2-2-2-2-2-2-2-2/
LOCATION:Pikeville Farmer’s Market\, 130 Adams Lane\, Pikeville\, Ky
CATEGORIES:Other
ATTACH;FMTTYPE=image/jpeg:https://visitpikeville.com/wp-content/uploads/2024/05/farmers-market.jpeg
END:VEVENT
BEGIN:VEVENT
DTSTART;TZID=America/Kentucky/Louisville:20241005T100000
DTEND;TZID=America/Kentucky/Louisville:20241005T140000
DTSTAMP:20260425T072629
CREATED:20240909T133814Z
LAST-MODIFIED:20240909T133814Z
UID:56850-1728122400-1728136800@visitpikeville.com
SUMMARY:“Boo”-Tox party
DESCRIPTION:Our annual “Boo”-Tox party is coming up!Botox $10 per unit\, Xeomin $8 per unit\, & $50 Lip Flips 
URL:https://visitpikeville.com/event/boo-tox-party/
LOCATION:Pinch Aesthetics\, 124 Division Street Suite 1\, Pikeville\, KY\, 41501\, United States
CATEGORIES:Pikeville Main Street
ATTACH;FMTTYPE=image/jpeg:https://visitpikeville.com/wp-content/uploads/2024/09/bootox.jpg
END:VEVENT
BEGIN:VEVENT
DTSTART;TZID=America/Kentucky/Louisville:20241005T110000
DTEND;TZID=America/Kentucky/Louisville:20241005T120000
DTSTAMP:20260425T072629
CREATED:20240930T150453Z
LAST-MODIFIED:20240930T150453Z
UID:57833-1728126000-1728129600@visitpikeville.com
SUMMARY:Story Time
DESCRIPTION:tory Time is for children ages 5 and under and features books\, action/movement\, songs\, and a craft. Story Time is held Thursdays at 11:00 and 2:00 and Saturdays at 11:00. \n\n\n\n\n\n\n  \nBesides being fun\, Story Time also helps develop early literacy and school readiness skills through reading\, singing\, listening\, playing\, and social interaction. This program lasts approximately 30 minutes\, and caregivers and children are encouraged to linger in the library afterwards to further socialize and choose books to take home.
URL:https://visitpikeville.com/event/story-time-2-2-2-2-2-2-2-2-2-2-2-2-2-2-2-2-2-2-2-2-2-2-2-2-2-2-2-2-2-2-2-2-2-2-2-2-2-2-2-2-2-2-2-2-2-2-2-2-2-2-2-2-2-2-2-3-2-2-2-2-2-2-2-2-2-2-2/
LOCATION:Pike County Public Library\, 126 Lee Avenue\, Pikeville\, KY\, 41501\, United States
CATEGORIES:Pike County Public Library
ATTACH;FMTTYPE=image/png:https://visitpikeville.com/wp-content/uploads/2023/12/Story_TimeLEE.png
END:VEVENT
BEGIN:VEVENT
DTSTART;TZID=America/Kentucky/Louisville:20241005T130000
DTEND;TZID=America/Kentucky/Louisville:20241005T140000
DTSTAMP:20260425T072629
CREATED:20240903T150431Z
LAST-MODIFIED:20240903T150431Z
UID:56486-1728133200-1728136800@visitpikeville.com
SUMMARY:The Basics of Paranormal
DESCRIPTION:ParaVizionz Paranormal Society will lead a presentation on The Basics of Paranormal\, including aspects of equipment\, shows\, EMF\, Orbs\, Poltergeist\, Residual and Intelligent activity.\nThis program will be held at the Pike County Public Library (Lee Avenue) on Saturday\, October 5th at 1:00. No registration is required.\nBased in Cincinnati\, ParaVizionz Paranormal Society is a professional paranormal investigation and research team from varied backgrounds that began in 2002. Their ultimate goal is to provide clients with potential explanations and possible solutions to ease any discomfort they may have at their home or business. By utilizing the wide spectrum of specialized equipment and technology in their arsenal\, all data collected during an investigation is thoroughly reviewed. Together the team possesses over 50 years of investigating experience.
URL:https://visitpikeville.com/event/the-basics-of-paranormal/
LOCATION:Pike County Public Library\, 126 Lee Avenue\, Pikeville\, KY\, 41501\, United States
CATEGORIES:Pike County Public Library
ATTACH;FMTTYPE=image/jpeg:https://visitpikeville.com/wp-content/uploads/2024/09/paranormal.jpg
END:VEVENT
BEGIN:VEVENT
DTSTART;TZID=America/Kentucky/Louisville:20241005T133000
DTEND;TZID=America/Kentucky/Louisville:20241005T153000
DTSTAMP:20260425T072629
CREATED:20240701T131014Z
LAST-MODIFIED:20240701T131014Z
UID:53055-1728135000-1728142200@visitpikeville.com
SUMMARY:Football vs Reinhardt University
DESCRIPTION:Game Day!
URL:https://visitpikeville.com/event/football-vs-reinhardt-university/
LOCATION:Pikeville High School\, 120 Championship Dr\,\, Pikeville\, KY\, 41501\, United States
CATEGORIES:UPike
ATTACH;FMTTYPE=image/png:https://visitpikeville.com/wp-content/uploads/2024/07/Screen-Shot-2024-07-01-at-9.08.19-AM.png
END:VEVENT
BEGIN:VEVENT
DTSTART;TZID=America/Kentucky/Louisville:20241005T190000
DTEND;TZID=America/Kentucky/Louisville:20241005T220000
DTSTAMP:20260425T072629
CREATED:20240715T182945Z
LAST-MODIFIED:20240715T182945Z
UID:53402-1728154800-1728165600@visitpikeville.com
SUMMARY:Main Street Live
DESCRIPTION:Part 2 of Main Street Live at the Mountain Top Media StageSaturday Night Special!!!
URL:https://visitpikeville.com/event/main-street-live-2-2/
LOCATION:Mountain Top Media Stage\, 126 Main St\,\, Pikeville\, KY\, 41501\, United States
CATEGORIES:Mountain Top Media
ATTACH;FMTTYPE=image/jpeg:https://visitpikeville.com/wp-content/uploads/2024/07/main-street.jpg
END:VEVENT
BEGIN:VEVENT
DTSTART;TZID=America/Kentucky/Louisville:20241005T190000
DTEND;TZID=America/Kentucky/Louisville:20241005T220000
DTSTAMP:20260425T072629
CREATED:20240729T131408Z
LAST-MODIFIED:20240729T131408Z
UID:54166-1728154800-1728165600@visitpikeville.com
SUMMARY:2nd Shift
DESCRIPTION:Event by Main Street Live at the Mountain Top Media Stage
URL:https://visitpikeville.com/event/2nd-shift/
LOCATION:Mountain Top Media Stage\, 126 Main St\,\, Pikeville\, KY\, 41501\, United States
CATEGORIES:Mountain Top Media
ATTACH;FMTTYPE=image/jpeg:https://visitpikeville.com/wp-content/uploads/2024/07/2nd.jpg
END:VEVENT
BEGIN:VEVENT
DTSTART;TZID=America/Kentucky/Louisville:20241005T193000
DTEND;TZID=America/Kentucky/Louisville:20241005T213000
DTSTAMP:20260425T072629
CREATED:20240916T145241Z
LAST-MODIFIED:20240916T145241Z
UID:57178-1728156600-1728163800@visitpikeville.com
SUMMARY:Homecoming Celebration
DESCRIPTION:All former UPIKE Band members are invited to join  The UPIKE Marching Band in a stand-still performance at this years Homecoming Game
URL:https://visitpikeville.com/event/homecoming-celebration/
LOCATION:Hambley Athletic Complex\, 120 Championship Dr\,\, Pikeville\, KY\, 41501\, United States
CATEGORIES:Other
ATTACH;FMTTYPE=image/jpeg:https://visitpikeville.com/wp-content/uploads/2024/09/homecoming.jpg
END:VEVENT
BEGIN:VEVENT
DTSTART;TZID=America/Kentucky/Louisville:20241005T200000
DTEND;TZID=America/Kentucky/Louisville:20241005T220000
DTSTAMP:20260425T072629
CREATED:20240909T122221Z
LAST-MODIFIED:20240909T122221Z
UID:56810-1728158400-1728165600@visitpikeville.com
SUMMARY:Watch a Movie with Actor Anthony Michael Hall
DESCRIPTION:Spend a thrilling evening with actor Anthony Michael Hall as he regales you with stories from his experiences on the sets of some of his classic movies such as Sixteen Candles\, The Breakfast Club and Weird Science. \nJoin this 80’s icon for an intimate screening of his movie\, Dead In Tombstone along with a Q&A session. Afterwards there will be an opportunity for autographs\, merchandise and a photo. \n* Doors open at 7:00 pm\, Movie starts at 8:00 pm\n* Show is all ages\, recommended over 17\n* Meet & Greet is free for single photo. Autographs can be discussed with actor at the merch table. \nTickets\nVIP Reserved Seating $40\nGeneral Admission $25
URL:https://visitpikeville.com/event/watch-a-movie-with-actor-anthony-michael-hall/
LOCATION:Appalachian Center for the Arts\, 218 2nd St\,\, Pikeville\, Ky\, 41501
CATEGORIES:The Appalachian Center for the Arts
ATTACH;FMTTYPE=image/jpeg:https://visitpikeville.com/wp-content/uploads/2024/09/movie.jpg
END:VEVENT
BEGIN:VEVENT
DTSTART;TZID=America/Kentucky/Louisville:20241008T120000
DTEND;TZID=America/Kentucky/Louisville:20241008T130000
DTSTAMP:20260425T072629
CREATED:20240916T123758Z
LAST-MODIFIED:20240916T123758Z
UID:57101-1728388800-1728392400@visitpikeville.com
SUMMARY:Lunch & Learn with Sec. Jeff Noel
DESCRIPTION:Free for members \nFuture members $20
URL:https://visitpikeville.com/event/lunch-learn-with-sec-jeff-noel/
LOCATION:Garfield House\, 178 College Street\, Pikeville\, KY\, 41501\, United States
CATEGORIES:Southeast Kentucky Chamber
ATTACH;FMTTYPE=image/png:https://visitpikeville.com/wp-content/uploads/2024/09/LL-Sept2024-Sec.JeffNoel.png
END:VEVENT
END:VCALENDAR