BEGIN:VCALENDAR
VERSION:2.0
PRODID:-//Visit Pikeville - ECPv6.15.20//NONSGML v1.0//EN
CALSCALE:GREGORIAN
METHOD:PUBLISH
X-WR-CALNAME:Visit Pikeville
X-ORIGINAL-URL:https://visitpikeville.com
X-WR-CALDESC:Events for Visit Pikeville
REFRESH-INTERVAL;VALUE=DURATION:PT1H
X-Robots-Tag:noindex
X-PUBLISHED-TTL:PT1H
BEGIN:VTIMEZONE
TZID:America/Kentucky/Louisville
BEGIN:DAYLIGHT
TZOFFSETFROM:-0500
TZOFFSETTO:-0400
TZNAME:EDT
DTSTART:20230312T070000
END:DAYLIGHT
BEGIN:STANDARD
TZOFFSETFROM:-0400
TZOFFSETTO:-0500
TZNAME:EST
DTSTART:20231105T060000
END:STANDARD
BEGIN:DAYLIGHT
TZOFFSETFROM:-0500
TZOFFSETTO:-0400
TZNAME:EDT
DTSTART:20240310T070000
END:DAYLIGHT
BEGIN:STANDARD
TZOFFSETFROM:-0400
TZOFFSETTO:-0500
TZNAME:EST
DTSTART:20241103T060000
END:STANDARD
BEGIN:DAYLIGHT
TZOFFSETFROM:-0500
TZOFFSETTO:-0400
TZNAME:EDT
DTSTART:20250309T070000
END:DAYLIGHT
BEGIN:STANDARD
TZOFFSETFROM:-0400
TZOFFSETTO:-0500
TZNAME:EST
DTSTART:20251102T060000
END:STANDARD
END:VTIMEZONE
BEGIN:VEVENT
DTSTART;TZID=America/Kentucky/Louisville:20240905T170000
DTEND;TZID=America/Kentucky/Louisville:20240905T183000
DTSTAMP:20260425T074030
CREATED:20240819T212425Z
LAST-MODIFIED:20240819T212425Z
UID:55515-1725555600-1725561000@visitpikeville.com
SUMMARY:Appalachian Culture Club
DESCRIPTION:We are so excited to offer our new upcoming program! Looking for a great afterschool club that focuses on keeping our Appalachian culture alive? A club where you can learn how to make chicken scratch\, authentic homemade candy\, corn husk dolls\, and more?? Look no further! Pike County 4-H is partnering with the Pike County Homemakers for our new Appalachian Culture Club! This club will be targeted towards ages 9-18. Spots are limited\, so please call the Pike County Extension Office to register!
URL:https://visitpikeville.com/event/appalachian-culture-club/
LOCATION:Pike County Extension Office\, 148 Trivette Dr\, Pikeville\, KY\, 41501\, United States
CATEGORIES:Pike County Extension Community Arts
ATTACH;FMTTYPE=image/jpeg:https://visitpikeville.com/wp-content/uploads/2024/08/4h.jpg
END:VEVENT
BEGIN:VEVENT
DTSTART;TZID=America/Kentucky/Louisville:20240905T170000
DTEND;TZID=America/Kentucky/Louisville:20240905T210000
DTSTAMP:20260425T074030
CREATED:20240903T141423Z
LAST-MODIFIED:20240903T141423Z
UID:56397-1725555600-1725570000@visitpikeville.com
SUMMARY:Beginners Sewing
DESCRIPTION:Come and Join Us
URL:https://visitpikeville.com/event/beginners-sewing-2-2-2-2-2-2-2-2-2-2-2-2-2-2-2-2-2-2-2-2-2-2-2-2-2/
LOCATION:Bridgett’s Quilting and Fabric Shop\, 237 2nd St\,\, Pikeville\, KY\, 41501\, United States
CATEGORIES:Pikeville Main Street
ATTACH;FMTTYPE=image/jpeg:https://visitpikeville.com/wp-content/uploads/2023/10/bridgetts.jpeg
END:VEVENT
BEGIN:VEVENT
DTSTART;TZID=America/Kentucky/Louisville:20240905T173000
DTEND;TZID=America/Kentucky/Louisville:20240905T183000
DTSTAMP:20260425T074030
CREATED:20240903T143003Z
LAST-MODIFIED:20240903T143003Z
UID:56418-1725557400-1725561000@visitpikeville.com
SUMMARY:Sign Language Class
DESCRIPTION:Learn American Sign Language with interpreter Tracy Jackson\, with classes held every Thursday at 5:30 at the Pike County Public Library (Lee Avenue). Suitable for all ages. No registration required.
URL:https://visitpikeville.com/event/sign-language-class-3-2-2-2-2/
LOCATION:Pike County Public Library\, 126 Lee Avenue\, Pikeville\, KY\, 41501\, United States
CATEGORIES:Pike County Public Library
ATTACH;FMTTYPE=image/png:https://visitpikeville.com/wp-content/uploads/2024/08/Sign_Language_Class.png
END:VEVENT
BEGIN:VEVENT
DTSTART;TZID=America/Kentucky/Louisville:20240906T090000
DTEND;TZID=America/Kentucky/Louisville:20240907T170000
DTSTAMP:20260425T074030
CREATED:20240827T115541Z
LAST-MODIFIED:20240827T115541Z
UID:55961-1725613200-1725728400@visitpikeville.com
SUMMARY:Pikeville Community Yard Sale
DESCRIPTION:Everyone in downtown Pikeville is invited to participate in a Community Yard Sale!\nDon’t have a space? No problem! Connection Church has offered to rent spaces in their parking lot for $20! Please contact Dusty Campbell at (606) 594-8543 for more information and to reserve a space!\nIf planning participate as a seller\, please fill out the form at the link below so we can get you added to the list and map we will post!\nhttps://docs.google.com/…/1FAIpQLSc8UkIAdEtL4a…/viewform\n*Please keep in mind you may only set up on private property that you own or have permission to use.*Each yard sale is individually hosted\, so times will vary.*We will post a spreadsheet with the general area\, types of items\, and day the yard sale will be set up as we get closer to the event.*We will post a map of the yard sales participating as it gets closer.
URL:https://visitpikeville.com/event/pikeville-community-yard-sale/
LOCATION:Downtown Pikeville\, Pikeville\, Ky\, 41501
CATEGORIES:Other
ATTACH;FMTTYPE=image/jpeg:https://visitpikeville.com/wp-content/uploads/2024/08/yard.jpg
END:VEVENT
BEGIN:VEVENT
DTSTART;TZID=America/Kentucky/Louisville:20240906T170000
DTEND;TZID=America/Kentucky/Louisville:20240906T180000
DTSTAMP:20260425T074030
CREATED:20240903T143528Z
LAST-MODIFIED:20240903T143528Z
UID:56428-1725642000-1725645600@visitpikeville.com
SUMMARY:Toddler Piano Time
DESCRIPTION:Explore the piano in this Music Appreciation class for ages under 5! Meets alternating Fridays at 5:00. Registration is required. Please call the library to register: 606-437-6001.
URL:https://visitpikeville.com/event/toddler-piano-time/
LOCATION:Pike County Public Library\, 126 Lee Avenue\, Pikeville\, KY\, 41501\, United States
CATEGORIES:Pike County Public Library
ATTACH;FMTTYPE=image/png:https://visitpikeville.com/wp-content/uploads/2024/09/Toddler_Piano_Time.png
END:VEVENT
BEGIN:VEVENT
DTSTART;TZID=America/Kentucky/Louisville:20240906T173000
DTEND;TZID=America/Kentucky/Louisville:20240906T203000
DTSTAMP:20260425T074030
CREATED:20240903T150937Z
LAST-MODIFIED:20240903T150937Z
UID:56492-1725643800-1725654600@visitpikeville.com
SUMMARY:His & Hers Boots
DESCRIPTION:You pick the boots you want to paint designs are pre drawnStep by step instructions from in personArt teachers
URL:https://visitpikeville.com/event/his-hers-boots/
LOCATION:2 Broke Art Teachers\, 4505 Weddington Square\,\, Pikeville\, KY\, 41501\, United States
CATEGORIES:Other
ATTACH;FMTTYPE=image/jpeg:https://visitpikeville.com/wp-content/uploads/2024/09/his.jpg
END:VEVENT
BEGIN:VEVENT
DTSTART;TZID=America/Kentucky/Louisville:20240906T190000
DTEND;TZID=America/Kentucky/Louisville:20240906T220000
DTSTAMP:20260425T074030
CREATED:20240715T135415Z
LAST-MODIFIED:20240715T135415Z
UID:53387-1725649200-1725660000@visitpikeville.com
SUMMARY:Main Street Live
DESCRIPTION:Part 2 of Main Street Live at the Mountain Top Media StageSaturday Night Special!!!
URL:https://visitpikeville.com/event/main-street-live/
LOCATION:Mountain Top Media Stage\, 126 Main St\,\, Pikeville\, KY\, 41501\, United States
CATEGORIES:Mountain Top Media
ATTACH;FMTTYPE=image/jpeg:https://visitpikeville.com/wp-content/uploads/2024/07/main-street.jpg
END:VEVENT
BEGIN:VEVENT
DTSTART;TZID=America/Kentucky/Louisville:20240906T190000
DTEND;TZID=America/Kentucky/Louisville:20240906T220000
DTSTAMP:20260425T074030
CREATED:20240729T132445Z
LAST-MODIFIED:20240729T132445Z
UID:54172-1725649200-1725660000@visitpikeville.com
SUMMARY:The Creekers
DESCRIPTION:Free Entertainmenthttps://www.facebook.com/TheCreekersBand
URL:https://visitpikeville.com/event/the-creekers/
LOCATION:Mountain Top Media Stage\, 126 Main St\,\, Pikeville\, KY\, 41501\, United States
CATEGORIES:Mountain Top Media
ATTACH;FMTTYPE=image/jpeg:https://visitpikeville.com/wp-content/uploads/2024/07/creekers.jpg
END:VEVENT
BEGIN:VEVENT
DTSTART;TZID=America/Kentucky/Louisville:20240906T193000
DTEND;TZID=America/Kentucky/Louisville:20240906T213000
DTSTAMP:20260425T074030
CREATED:20240903T124103Z
LAST-MODIFIED:20240903T124103Z
UID:56342-1725651000-1725658200@visitpikeville.com
SUMMARY:Fall-ing for you
DESCRIPTION:IMPROV! At the APP presents Fall-ing for you with the Strength in Numbers improv troupe!
URL:https://visitpikeville.com/event/fall-ing-for-you/
LOCATION:Appalachian Center for the Arts\, 218 2nd St\,\, Pikeville\, Ky\, 41501
CATEGORIES:The Appalachian Center for the Arts
ATTACH;FMTTYPE=image/jpeg:https://visitpikeville.com/wp-content/uploads/2024/09/fall.jpg
END:VEVENT
BEGIN:VEVENT
DTSTART;TZID=America/Kentucky/Louisville:20240906T210000
DTEND;TZID=America/Kentucky/Louisville:20240906T230000
DTSTAMP:20260425T074030
CREATED:20240903T135706Z
LAST-MODIFIED:20240903T135706Z
UID:56374-1725656400-1725663600@visitpikeville.com
SUMMARY:DJ at Bank 253
DESCRIPTION:9:00pm – 11:00pm
URL:https://visitpikeville.com/event/dj-at-bank-253/
LOCATION:Bank 253\, 253 2nd St\,\, Pikeville\, KY\, 41501\, United States
CATEGORIES:Other
ATTACH;FMTTYPE=image/jpeg:https://visitpikeville.com/wp-content/uploads/2024/09/bank-253.jpg
END:VEVENT
BEGIN:VEVENT
DTSTART;TZID=America/Kentucky/Louisville:20240907T090000
DTEND;TZID=America/Kentucky/Louisville:20240907T123000
DTSTAMP:20260425T074030
CREATED:20240715T130832Z
LAST-MODIFIED:20240715T130832Z
UID:53379-1725699600-1725712200@visitpikeville.com
SUMMARY:Colors of Courage 5K
DESCRIPTION:Held in downtown Pikeville\, KY\, Colors of Courage is an annual 5K hosted as a fundraiser for the Lawson Cancer Center at Pikeville Medical Center. All proceeds go directly to patients at the LCC.
URL:https://visitpikeville.com/event/colors-of-courage-5k/
LOCATION:Pikeville Medical Center Business Complex\, 164 Main Street\, Pikeville\, KY\, 41501\, United States
CATEGORIES:Other
ATTACH;FMTTYPE=image/png:https://visitpikeville.com/wp-content/uploads/2024/07/colors.png
END:VEVENT
BEGIN:VEVENT
DTSTART;TZID=America/Kentucky/Louisville:20240907T090000
DTEND;TZID=America/Kentucky/Louisville:20240907T130000
DTSTAMP:20260425T074030
CREATED:20240513T174904Z
LAST-MODIFIED:20240513T174904Z
UID:51275-1725699600-1725714000@visitpikeville.com
SUMMARY:Pikeville Farmer's Market
DESCRIPTION:Tuesday from 4:30-7:00 \nSaturday 9:00-1:00 \n 
URL:https://visitpikeville.com/event/pikeville-farmers-market-5-2-2-2-2-2-2-2-2-2-2-2-2-2-2-2-2-2/
LOCATION:Pikeville Farmer’s Market\, 130 Adams Lane\, Pikeville\, Ky
CATEGORIES:Other
ATTACH;FMTTYPE=image/jpeg:https://visitpikeville.com/wp-content/uploads/2024/05/farmers-market.jpeg
END:VEVENT
BEGIN:VEVENT
DTSTART;TZID=America/Kentucky/Louisville:20240907T130000
DTEND;TZID=America/Kentucky/Louisville:20240907T160000
DTSTAMP:20260425T074030
CREATED:20240903T151104Z
LAST-MODIFIED:20240903T151104Z
UID:56495-1725714000-1725724800@visitpikeville.com
SUMMARY:Kid Friendly Dragon
DESCRIPTION:Kids and adults alike will have fun painting the cute dragon. 11” x 14” pre drawn canvas. $25.
URL:https://visitpikeville.com/event/kid-friendly-dragon/
LOCATION:2 Broke Art Teachers\, 4505 Weddington Square\,\, Pikeville\, KY\, 41501\, United States
CATEGORIES:Other
ATTACH;FMTTYPE=image/jpeg:https://visitpikeville.com/wp-content/uploads/2024/09/dragon.jpg
END:VEVENT
BEGIN:VEVENT
DTSTART;TZID=America/Kentucky/Louisville:20240907T150000
DTEND;TZID=America/Kentucky/Louisville:20240907T160000
DTSTAMP:20260425T074030
CREATED:20240903T143836Z
LAST-MODIFIED:20240903T143836Z
UID:56433-1725721200-1725724800@visitpikeville.com
SUMMARY:Kids Cooking Class: Broccoli Cheddar Soup
DESCRIPTION:Kids age 6-12 learn to make a new dish every month. All materials provided. September’s dish is Broccoli Cheddar Soup.\nThis program will take place on Saturday\, September 7th at 3:00 at the Pike County Public Library (Lee Avenue).\nRegistration is required. Click here to register: https://informationplace.libnet.info/event/11692622
URL:https://visitpikeville.com/event/kids-cooking-class-broccoli-cheddar-soup/
LOCATION:Pike County Public Library\, 126 Lee Avenue\, Pikeville\, KY\, 41501\, United States
CATEGORIES:Pike County Public Library
ATTACH;FMTTYPE=image/jpeg:https://visitpikeville.com/wp-content/uploads/2024/09/cooking-class.jpg
END:VEVENT
BEGIN:VEVENT
DTSTART;TZID=America/Kentucky/Louisville:20240907T153000
DTEND;TZID=America/Kentucky/Louisville:20240907T173000
DTSTAMP:20260425T074030
CREATED:20240722T124716Z
LAST-MODIFIED:20240722T124716Z
UID:53697-1725723000-1725730200@visitpikeville.com
SUMMARY:Football vs Georgetown College
DESCRIPTION:Game Day!
URL:https://visitpikeville.com/event/football-vs-georgetown-college/
LOCATION:Pikeville High School\, 120 Championship Dr\,\, Pikeville\, KY\, 41501\, United States
CATEGORIES:UPike
ATTACH;FMTTYPE=image/png:https://visitpikeville.com/wp-content/uploads/2024/07/Screen-Shot-2024-07-22-at-8.43.22-AM.png
END:VEVENT
BEGIN:VEVENT
DTSTART;TZID=America/Kentucky/Louisville:20240907T180000
DTEND;TZID=America/Kentucky/Louisville:20240907T210000
DTSTAMP:20260425T074030
CREATED:20240903T151233Z
LAST-MODIFIED:20240903T151233Z
UID:56498-1725732000-1725742800@visitpikeville.com
SUMMARY:Painting your own door hanger
DESCRIPTION:5 different pre drawn designs on 18” wooden cut out pumpkins. You choose the one you want to paint. Our 2 art teachers will assist.
URL:https://visitpikeville.com/event/painting-your-own-door-hanger/
LOCATION:2 Broke Art Teachers\, 4505 Weddington Square\,\, Pikeville\, KY\, 41501\, United States
CATEGORIES:Other
ATTACH;FMTTYPE=image/jpeg:https://visitpikeville.com/wp-content/uploads/2024/09/door.jpg
END:VEVENT
BEGIN:VEVENT
DTSTART;TZID=America/Kentucky/Louisville:20240907T193000
DTEND;TZID=America/Kentucky/Louisville:20240907T223000
DTSTAMP:20260425T074030
CREATED:20240903T135843Z
LAST-MODIFIED:20240903T135843Z
UID:56377-1725737400-1725748200@visitpikeville.com
SUMMARY:Brody Birchfield
DESCRIPTION:7:30pm – 10:30pm
URL:https://visitpikeville.com/event/brody-birchfield-2/
LOCATION:Bank 253\, 253 2nd St\,\, Pikeville\, KY\, 41501\, United States
CATEGORIES:Other
ATTACH;FMTTYPE=image/jpeg:https://visitpikeville.com/wp-content/uploads/2024/09/bank-253.jpg
END:VEVENT
BEGIN:VEVENT
DTSTART;TZID=America/Kentucky/Louisville:20240907T200000
DTEND;TZID=America/Kentucky/Louisville:20240907T223000
DTSTAMP:20260425T074030
CREATED:20240528T131119Z
LAST-MODIFIED:20240528T131119Z
UID:52217-1725739200-1725748200@visitpikeville.com
SUMMARY:CUFFS & HOSES 5K/10K BLOCK PARTY
DESCRIPTION:Come and join us for a run and a block party to support a great cause!  Your perfect opportunity is Saturday night\, September 7th\, 8:00pm for the race and 6 pm for the Block Party in downtown Pikeville!!  The streets will be lined with lights and sirens from the Pikeville Police and Fire Department. There will be music at the Mountain Top Media with Midlife Crisis and the Swagtones bringing some amazing music to dance and enjoy! There will also be a dunk booth for you to Dunk a First Responder\, food trucks\, inflatables\, and more!  This year the monies raised along with the registration fees will help with our Christmas with the First Responder program and other community outreach projects for children all throughout Pike County!  The run/walk start/finish line will be at located by the Mountain Top Media Stage on Main Street in downtown Pikeville.  We will follow the 5k route\, but we get to run at night!!   Finisher medals\, t-shirts\, chip timing\, finish line pictures and videos\, 1 free beer token for those who are ages 21+ and 1 free Dunk a First Responder chance for those under the age of 21\, are included in your race fee! 5K Run/Walk registration is $35 10K registration is $35 Virtual Run registration is $35
URL:https://visitpikeville.com/event/cuffs-hoses-5k-10k-block-party-2/
LOCATION:Mountain Top Media Stage\, 126 Main St\,\, Pikeville\, KY\, 41501\, United States
CATEGORIES:Mountain Top Media
ATTACH;FMTTYPE=image/png:https://visitpikeville.com/wp-content/uploads/2024/05/race131815-logo-0.bIQI2b.png
END:VEVENT
BEGIN:VEVENT
DTSTART;TZID=America/Kentucky/Louisville:20240907T200000
DTEND;TZID=America/Kentucky/Louisville:20240907T230000
DTSTAMP:20260425T074030
CREATED:20240903T135057Z
LAST-MODIFIED:20240903T135057Z
UID:56371-1725739200-1725750000@visitpikeville.com
SUMMARY:The Hall Brothers band
DESCRIPTION:Get ready for an exciting month of music in September! Mark your calendars now!
URL:https://visitpikeville.com/event/the-hall-brothers-band/
LOCATION:Pearse’s Place\, 224 2nd St\,\, Pikeville\, KY\, 41501\, United States
CATEGORIES:Other
ATTACH;FMTTYPE=image/jpeg:https://visitpikeville.com/wp-content/uploads/2024/09/hall.jpg
END:VEVENT
BEGIN:VEVENT
DTSTART;TZID=America/Kentucky/Louisville:20240909T080000
DTEND;TZID=America/Kentucky/Louisville:20240909T170000
DTSTAMP:20260425T074030
CREATED:20240715T185035Z
LAST-MODIFIED:20240715T185035Z
UID:53413-1725868800-1725901200@visitpikeville.com
SUMMARY:Christmas with a First Responder Golf Scramble
DESCRIPTION:Grab your clubs and get a team together for our Christmas with a First Responder Golf Scramble on September 9th at Green Meadow Country Club!! Contact us to register your team today!!
URL:https://visitpikeville.com/event/christmas-with-a-first-responder-golf-scramble-3/
LOCATION:Green Meadow Country Club\, 6887 N Mayo Trail\, Pikeville\, KY\, 41501\, United States
CATEGORIES:Pikeville Police Department
ATTACH;FMTTYPE=image/jpeg:https://visitpikeville.com/wp-content/uploads/2024/07/tire.jpg
END:VEVENT
BEGIN:VEVENT
DTSTART;TZID=America/Kentucky/Louisville:20240909T123000
DTEND;TZID=America/Kentucky/Louisville:20240909T171500
DTSTAMP:20260425T074030
CREATED:20240909T134457Z
LAST-MODIFIED:20240909T134457Z
UID:56856-1725885000-1725902100@visitpikeville.com
SUMMARY:Halloween Circus
DESCRIPTION:Get ready to witness the awe-inspiring feats of The Original Queen City Stunt Show\, brought to you by the renowned Cincinnati Circus.\nThis thrilling Halloween-themed performance features a world class troupe of aerialists\, acrobats\, and stunt performers who will push the boundaries of human ability and leave you breathless—all while wearing spooky costumes! Hold your breath while our skilled aerialists perform on our amazing Wheel of Death\, daring Aerial Acrobatics show off their balance and skill\, chair stacking\, and much more! Includes audience volunteers\, surprises\, and fire!\nThe Halloween Circus will perform outdoors in the field behind the Pike County Public Library (Lee Avenue) on Saturday\, October 26th. The show runs 45 minutes and begins at 12:30\, 2:30\, and 4:30. Join the fun and wear your Halloween costume!\nWeather permitting. No registration required.
URL:https://visitpikeville.com/event/halloween-circus/
LOCATION:Pike County Public Library\, 126 Lee Avenue\, Pikeville\, KY\, 41501\, United States
CATEGORIES:Pike County Public Library
ATTACH;FMTTYPE=image/jpeg:https://visitpikeville.com/wp-content/uploads/2024/09/circus.jpg
END:VEVENT
BEGIN:VEVENT
DTSTART;TZID=America/Kentucky/Louisville:20240909T160000
DTEND;TZID=America/Kentucky/Louisville:20240909T170000
DTSTAMP:20260425T074030
CREATED:20240909T132452Z
LAST-MODIFIED:20240909T132452Z
UID:56839-1725897600-1725901200@visitpikeville.com
SUMMARY:Blessing Day
DESCRIPTION:Safe Haven Baby Boxes
URL:https://visitpikeville.com/event/blessing-day/
LOCATION:Pikeville Fire Department Station 3\, 156 Hambley Blvd.\, Pikeville\, KY\, 41501\, United States
CATEGORIES:Other
ATTACH;FMTTYPE=image/jpeg:https://visitpikeville.com/wp-content/uploads/2024/09/blessing.jpg
END:VEVENT
BEGIN:VEVENT
DTSTART;TZID=America/Kentucky/Louisville:20240909T170000
DTEND;TZID=America/Kentucky/Louisville:20240909T183000
DTSTAMP:20260425T074030
CREATED:20240819T212512Z
LAST-MODIFIED:20240819T212512Z
UID:55518-1725901200-1725906600@visitpikeville.com
SUMMARY:Appalachian Culture Club
DESCRIPTION:We are so excited to offer our new upcoming program! Looking for a great afterschool club that focuses on keeping our Appalachian culture alive? A club where you can learn how to make chicken scratch\, authentic homemade candy\, corn husk dolls\, and more?? Look no further! Pike County 4-H is partnering with the Pike County Homemakers for our new Appalachian Culture Club! This club will be targeted towards ages 9-18. Spots are limited\, so please call the Pike County Extension Office to register!
URL:https://visitpikeville.com/event/appalachian-culture-club-2/
LOCATION:Pike County Extension Office\, 148 Trivette Dr\, Pikeville\, KY\, 41501\, United States
CATEGORIES:Pike County Extension Community Arts
ATTACH;FMTTYPE=image/jpeg:https://visitpikeville.com/wp-content/uploads/2024/08/4h.jpg
END:VEVENT
BEGIN:VEVENT
DTSTART;TZID=America/Kentucky/Louisville:20240909T180000
DTEND;TZID=America/Kentucky/Louisville:20240909T190000
DTSTAMP:20260425T074030
CREATED:20240909T132652Z
LAST-MODIFIED:20240909T132652Z
UID:56842-1725904800-1725908400@visitpikeville.com
SUMMARY:City Commission Meeting
DESCRIPTION:6pm @ City Hall
URL:https://visitpikeville.com/event/city-commission-meeting-2-2-2-2-2-2-2-2-2-2-2-2-2-2-2-2-2-2/
LOCATION:Pikeville City Hall\, 243 Main St #1786\,\, Pikeville\, KY\, 41501\, United States
CATEGORIES:City of Pikeville
ATTACH;FMTTYPE=image/png:https://visitpikeville.com/wp-content/uploads/2023/09/image001.png
END:VEVENT
BEGIN:VEVENT
DTSTART;TZID=America/Kentucky/Louisville:20240910T150000
DTEND;TZID=America/Kentucky/Louisville:20240910T190000
DTSTAMP:20260425T074030
CREATED:20240909T123728Z
LAST-MODIFIED:20240909T123728Z
UID:56818-1725980400-1725994800@visitpikeville.com
SUMMARY:Security Interviews
DESCRIPTION:Looking to work in security?!?! Here is your opportunity!\nSee Tommy Kidd\, Head of Security\n126 Main Street Pikeville on Sept 10th from 3-7pm. Looking to hire for Nelly show… and the rest of the year!
URL:https://visitpikeville.com/event/security-interviews/
LOCATION:Appalachian Wireless Arena\, 126 Main Street\, Pikeville\, Ky\, 41501
CATEGORIES:Appalachian Wireless Arena
ATTACH;FMTTYPE=image/jpeg:https://visitpikeville.com/wp-content/uploads/2024/09/security.jpg
END:VEVENT
BEGIN:VEVENT
DTSTART;TZID=America/Kentucky/Louisville:20240910T163000
DTEND;TZID=America/Kentucky/Louisville:20240910T190000
DTSTAMP:20260425T074030
CREATED:20240513T174951Z
LAST-MODIFIED:20240513T174951Z
UID:51277-1725985800-1725994800@visitpikeville.com
SUMMARY:Pikeville Farmer's Market
DESCRIPTION:Tuesday from 4:30-7:00 \nSaturday 9:00-1:00 \n 
URL:https://visitpikeville.com/event/pikeville-farmers-market-5-3-2-2-3-2-2-2-2-2-2-2-2-2-2-2-2/
LOCATION:Pikeville Farmer’s Market\, 130 Adams Lane\, Pikeville\, Ky
CATEGORIES:Other
ATTACH;FMTTYPE=image/jpeg:https://visitpikeville.com/wp-content/uploads/2024/05/farmers-market.jpeg
END:VEVENT
BEGIN:VEVENT
DTSTART;TZID=America/Kentucky/Louisville:20240910T170000
DTEND;TZID=America/Kentucky/Louisville:20240910T180000
DTSTAMP:20260425T074030
CREATED:20240903T144153Z
LAST-MODIFIED:20240903T144153Z
UID:56436-1725987600-1725991200@visitpikeville.com
SUMMARY:Book Talks
DESCRIPTION:Every Other Tuesday at 5pm-6pm
URL:https://visitpikeville.com/event/book-talks-book-club-9-2-2-2-2-2-2-2-2-2-2-2-2-2-2-2-2-2-2-2-2-2-2-2-2-2/
LOCATION:Pike County Public Library\, 126 Lee Avenue\, Pikeville\, KY\, 41501\, United States
CATEGORIES:Pike County Public Library
ATTACH;FMTTYPE=image/jpeg:https://visitpikeville.com/wp-content/uploads/2023/06/book-talks.jpeg
END:VEVENT
BEGIN:VEVENT
DTSTART;TZID=America/Kentucky/Louisville:20240910T173000
DTEND;TZID=America/Kentucky/Louisville:20240910T173000
DTSTAMP:20260425T074030
CREATED:20240826T131247Z
LAST-MODIFIED:20240826T131247Z
UID:55884-1725989400-1725989400@visitpikeville.com
SUMMARY:Pirate Scavenger Hunt at the Story Trail
DESCRIPTION:Ahoy\, mateys! Set sail on a thrilling adventure at the Story Trail with our Pirate Scavenger Hunt! Families will read “Pirate Pete’s Talk Like a Pirate” by Kim Kennedy as they walk the path\, following clues that lead to the pirate’s treasure.\nThis program will take place on Tuesday\, September 10th at 5:30 at the Story Trail\, located at Bob Amos Park between the Muddy Boots horse stables and Overlook Events Center. No registration is required.\nIn the event of inclement weather\, this event will be postponed.
URL:https://visitpikeville.com/event/pirate-scavenger-hunt-at-the-story-trail/
LOCATION:The Story Trail\, 424 Bob Amos Dr\,\, Pikeville\, KY\, 41501\, United States
CATEGORIES:City of Pikeville,Pike County Public Library
ATTACH;FMTTYPE=image/jpeg:https://visitpikeville.com/wp-content/uploads/2024/08/pirate.jpg
END:VEVENT
BEGIN:VEVENT
DTSTART;TZID=America/Kentucky/Louisville:20240910T173000
DTEND;TZID=America/Kentucky/Louisville:20240910T203000
DTSTAMP:20260425T074030
CREATED:20240909T140551Z
LAST-MODIFIED:20240909T140551Z
UID:56868-1725989400-1726000200@visitpikeville.com
SUMMARY:Fall Initials
DESCRIPTION:This beautiful acrylic 16” x20” canvas painting will look beautiful on your mantel or wall to usher in the fall season. Learn new painting techniques demonstrated by a talented art teacher. Everyone’s painting will be uniquely your own. Show off your skills by attending this special painting event. $30. covers supplies and instruction.
URL:https://visitpikeville.com/event/fall-initials/
LOCATION:2 Broke Art Teachers\, 4505 Weddington Square\,\, Pikeville\, KY\, 41501\, United States
CATEGORIES:Other
ATTACH;FMTTYPE=image/jpeg:https://visitpikeville.com/wp-content/uploads/2024/09/initial.jpg
END:VEVENT
BEGIN:VEVENT
DTSTART;TZID=America/Kentucky/Louisville:20240911T160000
DTEND;TZID=America/Kentucky/Louisville:20240911T170000
DTSTAMP:20260425T074030
CREATED:20240903T145118Z
LAST-MODIFIED:20240903T145118Z
UID:56460-1726070400-1726074000@visitpikeville.com
SUMMARY:Teen Activity Club
DESCRIPTION:Teen Activity Club is a craft group for kids ages 13-18 that meets at the Pike County Public Library (Lee Avenue) on alternating Wednesdays at 4:00.
URL:https://visitpikeville.com/event/teen-activity-club-8-2-2-2-2-2-2-2-2-2-2-2-2-2/
LOCATION:Pike County Public Library\, 126 Lee Avenue\, Pikeville\, KY\, 41501\, United States
CATEGORIES:Pike County Public Library
ATTACH;FMTTYPE=image/png:https://visitpikeville.com/wp-content/uploads/2023/12/Teen_Activity_Club.png
END:VEVENT
END:VCALENDAR