BEGIN:VCALENDAR
VERSION:2.0
PRODID:-//Visit Pikeville - ECPv6.15.20//NONSGML v1.0//EN
CALSCALE:GREGORIAN
METHOD:PUBLISH
X-WR-CALNAME:Visit Pikeville
X-ORIGINAL-URL:https://visitpikeville.com
X-WR-CALDESC:Events for Visit Pikeville
REFRESH-INTERVAL;VALUE=DURATION:PT1H
X-Robots-Tag:noindex
X-PUBLISHED-TTL:PT1H
BEGIN:VTIMEZONE
TZID:America/Kentucky/Louisville
BEGIN:DAYLIGHT
TZOFFSETFROM:-0500
TZOFFSETTO:-0400
TZNAME:EDT
DTSTART:20230312T070000
END:DAYLIGHT
BEGIN:STANDARD
TZOFFSETFROM:-0400
TZOFFSETTO:-0500
TZNAME:EST
DTSTART:20231105T060000
END:STANDARD
BEGIN:DAYLIGHT
TZOFFSETFROM:-0500
TZOFFSETTO:-0400
TZNAME:EDT
DTSTART:20240310T070000
END:DAYLIGHT
BEGIN:STANDARD
TZOFFSETFROM:-0400
TZOFFSETTO:-0500
TZNAME:EST
DTSTART:20241103T060000
END:STANDARD
BEGIN:DAYLIGHT
TZOFFSETFROM:-0500
TZOFFSETTO:-0400
TZNAME:EDT
DTSTART:20250309T070000
END:DAYLIGHT
BEGIN:STANDARD
TZOFFSETFROM:-0400
TZOFFSETTO:-0500
TZNAME:EST
DTSTART:20251102T060000
END:STANDARD
END:VTIMEZONE
BEGIN:VEVENT
DTSTART;TZID=America/Kentucky/Louisville:20240820T163000
DTEND;TZID=America/Kentucky/Louisville:20240820T190000
DTSTAMP:20260425T071125
CREATED:20240513T174352Z
LAST-MODIFIED:20240513T174352Z
UID:51265-1724171400-1724180400@visitpikeville.com
SUMMARY:Pikeville Farmer's Market
DESCRIPTION:Tuesday from 4:30-7:00 \nSaturday 9:00-1:00 \n 
URL:https://visitpikeville.com/event/pikeville-farmers-market-5-3-2-2-3-2-2-2-2-2-2-2-2-2/
LOCATION:Pikeville Farmer’s Market\, 130 Adams Lane\, Pikeville\, Ky
CATEGORIES:Other
ATTACH;FMTTYPE=image/jpeg:https://visitpikeville.com/wp-content/uploads/2024/05/farmers-market.jpeg
END:VEVENT
BEGIN:VEVENT
DTSTART;TZID=America/Kentucky/Louisville:20240820T170000
DTEND;TZID=America/Kentucky/Louisville:20240820T190000
DTSTAMP:20260425T071125
CREATED:20240729T140949Z
LAST-MODIFIED:20240729T140949Z
UID:54222-1724173200-1724180400@visitpikeville.com
SUMMARY:Native Nations: Mohawk of Kahnawake
DESCRIPTION:Learn how Indigenous peoples used music\, dance\, storytelling and art to teach their way of living in harmony with Mother Earth.\nThis program includes a presentation on Mohawk music and dance\, and participants will make a necklace. It will be held at the Pike County Public Library (Lee Avenue) on August 20 at 5:00. No registration is required. It is suitable for all ages.\nKwaronhia:wi Susan Mullins is a Mohawk\, from the Kahnawake Reserve located in Canada in the province of Quebec near Montreal. She kept her heritage alive while studying in the U.S.A. As a child she was taught Native dance\, music\, and crafts as well as the history of the Northeast Woodland Native peoples. Our ancestors gave us knowledge to pass on to future generations leaving positive impressions that can endure for all mankind.\nSusan tries to leave children and adults who participate in the Native Nations program with the desire to learn about their own heritage and to compare the differences in cultures. She is a Kentucky Arts Council roster artist\, PRI (Partners for Rural Impact) Arts and Humanities programs. She is a Commission on the Native American Heritage Commission for the State of Kentucky. She has many Tip grants and worked in numerous schools throughout KY. Including village programs in all areas of Kentucky\, Georgia\, Florida\, and Alabama.\nThe Kentucky Arts Council\, the state arts agency\, supports Pike County Public Library District with state tax dollars and federal funding from the National Endowment for the Arts.
URL:https://visitpikeville.com/event/native-nations-mohawk-of-kahnawake/
LOCATION:Pike County Public Library\, 126 Lee Avenue\, Pikeville\, KY\, 41501\, United States
CATEGORIES:Pike County Public Library
ATTACH;FMTTYPE=image/jpeg:https://visitpikeville.com/wp-content/uploads/2024/07/native.jpg
END:VEVENT
BEGIN:VEVENT
DTSTART;TZID=America/Kentucky/Louisville:20240820T180000
DTEND;TZID=America/Kentucky/Louisville:20240820T200000
DTSTAMP:20260425T071125
CREATED:20240819T165245Z
LAST-MODIFIED:20240819T165245Z
UID:55501-1724176800-1724184000@visitpikeville.com
SUMMARY:Infant and Child Loss Support group
DESCRIPTION:Groups are held on the third Tuesday of each month
URL:https://visitpikeville.com/event/infant-and-child-loss-support-group-3/
LOCATION:Pike County Health Department\, 119 River Drive\,\, Pikeville\, KY\, 41501\, United States
CATEGORIES:Pike County Health Department
ATTACH;FMTTYPE=image/jpeg:https://visitpikeville.com/wp-content/uploads/2024/08/child.jpg
END:VEVENT
BEGIN:VEVENT
DTSTART;TZID=America/Kentucky/Louisville:20240820T190000
DTEND;TZID=America/Kentucky/Louisville:20240820T210000
DTSTAMP:20260425T071125
CREATED:20240819T132954Z
LAST-MODIFIED:20240819T132954Z
UID:55490-1724180400-1724187600@visitpikeville.com
SUMMARY:Women’s Football Clinic
DESCRIPTION:Join us for our Women’s Football Clinic 
URL:https://visitpikeville.com/event/womens-football-clinic/
LOCATION:UPIKE\, 147 Sycamore St\,\, Pikeville\, KY\, 41501\, United States
CATEGORIES:UPike
ATTACH;FMTTYPE=image/jpeg:https://visitpikeville.com/wp-content/uploads/2024/08/clinic.jpg
END:VEVENT
BEGIN:VEVENT
DTSTART;TZID=America/Kentucky/Louisville:20240821T160000
DTEND;TZID=America/Kentucky/Louisville:20240821T170000
DTSTAMP:20260425T071125
CREATED:20240805T134725Z
LAST-MODIFIED:20240805T134725Z
UID:54680-1724256000-1724259600@visitpikeville.com
SUMMARY:BASIC COMPUTER SKILLS
DESCRIPTION:Learn technology basics like e-mail\, smart phones\, social media\, and more. Meets alternating Wednesdays at 4:00.
URL:https://visitpikeville.com/event/basic-computer-skills-3-2-2-2-2-2-2-2-2-2-2-2-2-2/
LOCATION:Pike County Public Library\, 126 Lee Avenue\, Pikeville\, KY\, 41501\, United States
CATEGORIES:Pike County Public Library
ATTACH;FMTTYPE=image/png:https://visitpikeville.com/wp-content/uploads/2024/06/Basic_Computer_Skills.png
END:VEVENT
BEGIN:VEVENT
DTSTART;TZID=America/Kentucky/Louisville:20240822T170000
DTEND;TZID=America/Kentucky/Louisville:20240822T210000
DTSTAMP:20260425T071125
CREATED:20240805T123905Z
LAST-MODIFIED:20240805T123905Z
UID:54644-1724346000-1724360400@visitpikeville.com
SUMMARY:Beginners Sewing
DESCRIPTION:Come and Join Us
URL:https://visitpikeville.com/event/beginners-sewing-2-2-2-2-2-2-2-2-2-2-2-2-2-2-2-2-2-2-2-2-2-2-2/
LOCATION:Bridgett’s Quilting and Fabric Shop\, 237 2nd St\,\, Pikeville\, KY\, 41501\, United States
CATEGORIES:Pikeville Main Street
ATTACH;FMTTYPE=image/jpeg:https://visitpikeville.com/wp-content/uploads/2023/10/bridgetts.jpeg
END:VEVENT
BEGIN:VEVENT
DTSTART;TZID=America/Kentucky/Louisville:20240822T173000
DTEND;TZID=America/Kentucky/Louisville:20240822T183000
DTSTAMP:20260425T071125
CREATED:20240805T135512Z
LAST-MODIFIED:20240805T135512Z
UID:54687-1724347800-1724351400@visitpikeville.com
SUMMARY:Sign Language Class
DESCRIPTION:Learn American Sign Language with interpreter Tracy Jackson\, with classes held every Thursday at 5:30 at the Pike County Public Library (Lee Avenue). Suitable for all ages. No registration required.
URL:https://visitpikeville.com/event/sign-language-class-3-2-2/
LOCATION:Pike County Public Library\, 126 Lee Avenue\, Pikeville\, KY\, 41501\, United States
CATEGORIES:Pike County Public Library
ATTACH;FMTTYPE=image/png:https://visitpikeville.com/wp-content/uploads/2024/08/Sign_Language_Class.png
END:VEVENT
BEGIN:VEVENT
DTSTART;TZID=America/Kentucky/Louisville:20240822T173000
DTEND;TZID=America/Kentucky/Louisville:20240822T183000
DTSTAMP:20260425T071125
CREATED:20240819T132249Z
LAST-MODIFIED:20240819T132249Z
UID:55484-1724347800-1724351400@visitpikeville.com
SUMMARY:Meet The Cheerleader
DESCRIPTION:Join us for a fun night of painting with the Cheerleader!  We have her scheduled on Thursday\, August 22nd at 5:30 PM at our location in Weddington Square Plaza. Private message us to reserve your spot!  We’re also offering private parties for this painting\, so feel free to reach out to us for date availability.
URL:https://visitpikeville.com/event/meet-the-cheerleader/
LOCATION:2 Broke Art Teachers\, 4505 Weddington Square\,\, Pikeville\, KY\, 41501\, United States
CATEGORIES:Other
ATTACH;FMTTYPE=image/jpeg:https://visitpikeville.com/wp-content/uploads/2024/08/cheer.jpg
END:VEVENT
BEGIN:VEVENT
DTSTART;TZID=America/Kentucky/Louisville:20240823T193000
DTEND;TZID=America/Kentucky/Louisville:20240823T213000
DTSTAMP:20260425T071125
CREATED:20231218T135111Z
LAST-MODIFIED:20231218T135111Z
UID:44062-1724441400-1724448600@visitpikeville.com
SUMMARY:Working a Musical Localized Edition
DESCRIPTION:Based on Studs Terkel’s best-selling book of interviews with American workers\, Working paints a vivid portrait of the workers that the world so often takes for granted: the schoolteacher\, the phone operator\, the waitress\, the millworker\, the mason\, and the housewife\, just to name a few. Nominated for six Tony Awards\, this classic has been updated for a modern age\, featuring songs by Lin-Manuel Miranda\, Stephen Schwartz\, Craig Carnelia\, James Taylor\, Micki Grant\, and more. This localized edition will feature actual interviews from the hard working individuals of our community.
URL:https://visitpikeville.com/event/working-a-musical-localized-edition-2-2-2/
LOCATION:Appalachian Center for the Arts\, 218 2nd St\,\, Pikeville\, Ky\, 41501
CATEGORIES:The Appalachian Center for the Arts
ATTACH;FMTTYPE=image/webp:https://visitpikeville.com/wp-content/uploads/2023/12/working-web-600.webp
END:VEVENT
BEGIN:VEVENT
DTSTART;TZID=America/Kentucky/Louisville:20240824T090000
DTEND;TZID=America/Kentucky/Louisville:20240824T130000
DTSTAMP:20260425T071125
CREATED:20240513T174441Z
LAST-MODIFIED:20240513T174441Z
UID:51267-1724490000-1724504400@visitpikeville.com
SUMMARY:Pikeville Farmer's Market
DESCRIPTION:Tuesday from 4:30-7:00 \nSaturday 9:00-1:00 \n 
URL:https://visitpikeville.com/event/pikeville-farmers-market-5-2-2-2-2-2-2-2-2-2-2-2-2-2-2-2/
LOCATION:Pikeville Farmer’s Market\, 130 Adams Lane\, Pikeville\, Ky
CATEGORIES:Other
ATTACH;FMTTYPE=image/jpeg:https://visitpikeville.com/wp-content/uploads/2024/05/farmers-market.jpeg
END:VEVENT
BEGIN:VEVENT
DTSTART;TZID=America/Kentucky/Louisville:20240824T090000
DTEND;TZID=America/Kentucky/Louisville:20240824T170000
DTSTAMP:20260425T071125
CREATED:20240715T184409Z
LAST-MODIFIED:20240715T184409Z
UID:53410-1724490000-1724518800@visitpikeville.com
SUMMARY:2024 Levisa Fork Pikeville City Tire Round Up!
DESCRIPTION:Join us on August 24 at 9am behind Fazoli’s for the 2024 Levisa Fork Pikeville City Tire Round Up! This important event focuses on collecting tires from the river to help keep our waterways clean. Participate in making a positive environmental impact and support our community’s efforts for a cleaner\, greener Pikeville.\n\n\n#visitpikeville\n#tireroundup2024\n#trailtown
URL:https://visitpikeville.com/event/2024-levisa-fork-pikeville-city-tire-round-up/
LOCATION:Fazoli’s of Pikeville\, 1302 South Mayo Trail\,\, Pikeville\, KY\, 41501\, United States
CATEGORIES:City of Pikeville,Pikeville Tourism
ATTACH;FMTTYPE=image/jpeg:https://visitpikeville.com/wp-content/uploads/2024/07/tire.jpg
END:VEVENT
BEGIN:VEVENT
DTSTART;TZID=America/Kentucky/Louisville:20240824T090000
DTEND;TZID=America/Kentucky/Louisville:20240824T170000
DTSTAMP:20260425T071125
CREATED:20240715T185430Z
LAST-MODIFIED:20240715T185430Z
UID:53415-1724490000-1724518800@visitpikeville.com
SUMMARY:First Responder Softball Tournament!!
DESCRIPTION:Get a team together and join us for the 1st Christmas with a First Responder Softball Tournament!!All proceeds from this tournament will go toward our Christmas with a First Responder program!Stop by the Police Station at\, 111 Scotty Hamilton Way\, to register your team by August 20th and plan to come out and join the fun on August 24!
URL:https://visitpikeville.com/event/first-responder-softball-tournament/
LOCATION:Bob Amos Park\, 424 Bob Amos Dr\, Pikeville\, Ky\, 41501
CATEGORIES:Pikeville Police Department
ATTACH;FMTTYPE=image/jpeg:https://visitpikeville.com/wp-content/uploads/2024/07/softball.jpg
END:VEVENT
BEGIN:VEVENT
DTSTART;TZID=America/Kentucky/Louisville:20240824T090000
DTEND;TZID=America/Kentucky/Louisville:20240824T190000
DTSTAMP:20260425T071125
CREATED:20240805T133232Z
LAST-MODIFIED:20240805T133232Z
UID:54661-1724490000-1724526000@visitpikeville.com
SUMMARY:2nd Annual Hunting the 606 Outdoor Expo
DESCRIPTION:$20 GENERAL ADMISSION\, KIDS 15 AND UNDER FREE! FOR MORE INFORMATION AND BOOTH RENTALS CALL OR TEXT (606)497-0599 OR (606)339-7823.
URL:https://visitpikeville.com/event/2nd-annual-hunting-the-606-outdoor-expo/
LOCATION:Appalachian Wireless Arena\, 126 Main Street\, Pikeville\, Ky\, 41501
CATEGORIES:Appalachian Wireless Arena
ATTACH;FMTTYPE=image/webp:https://visitpikeville.com/wp-content/uploads/2024/08/hunting.webp
END:VEVENT
BEGIN:VEVENT
DTSTART;TZID=America/Kentucky/Louisville:20240824T170000
DTEND;TZID=America/Kentucky/Louisville:20240824T180000
DTSTAMP:20260425T071125
CREATED:20240701T123207Z
LAST-MODIFIED:20240701T123207Z
UID:53025-1724518800-1724522400@visitpikeville.com
SUMMARY:Women's Soccer vs WVU-Tech
DESCRIPTION:Game Day!!
URL:https://visitpikeville.com/event/womens-soccer-vs-wvu-tech/
LOCATION:Bob Amos Park\, 424 Bob Amos Dr\, Pikeville\, Ky\, 41501
CATEGORIES:UPike
ATTACH;FMTTYPE=image/png:https://visitpikeville.com/wp-content/uploads/2024/07/Screen-Shot-2024-07-01-at-8.29.57-AM.png
END:VEVENT
BEGIN:VEVENT
DTSTART;TZID=America/Kentucky/Louisville:20240824T193000
DTEND;TZID=America/Kentucky/Louisville:20240824T213000
DTSTAMP:20260425T071125
CREATED:20231218T135207Z
LAST-MODIFIED:20231218T135207Z
UID:44064-1724527800-1724535000@visitpikeville.com
SUMMARY:Working a Musical Localized Edition
DESCRIPTION:Based on Studs Terkel’s best-selling book of interviews with American workers\, Working paints a vivid portrait of the workers that the world so often takes for granted: the schoolteacher\, the phone operator\, the waitress\, the millworker\, the mason\, and the housewife\, just to name a few. Nominated for six Tony Awards\, this classic has been updated for a modern age\, featuring songs by Lin-Manuel Miranda\, Stephen Schwartz\, Craig Carnelia\, James Taylor\, Micki Grant\, and more. This localized edition will feature actual interviews from the hard working individuals of our community.
URL:https://visitpikeville.com/event/working-a-musical-localized-edition-2-2-2-2/
LOCATION:Appalachian Center for the Arts\, 218 2nd St\,\, Pikeville\, Ky\, 41501
CATEGORIES:The Appalachian Center for the Arts
ATTACH;FMTTYPE=image/webp:https://visitpikeville.com/wp-content/uploads/2023/12/working-web-600.webp
END:VEVENT
BEGIN:VEVENT
DTSTART;TZID=America/Kentucky/Louisville:20240824T213000
DTEND;TZID=America/Kentucky/Louisville:20240825T010000
DTSTAMP:20260425T071125
CREATED:20240812T131908Z
LAST-MODIFIED:20240812T131908Z
UID:55082-1724535000-1724547600@visitpikeville.com
SUMMARY:Booze Before Books
DESCRIPTION:Welcome back students!
URL:https://visitpikeville.com/event/booze-before-books/
LOCATION:Bank 253\, 253 2nd St\,\, Pikeville\, KY\, 41501\, United States
CATEGORIES:Other
ATTACH;FMTTYPE=image/jpeg:https://visitpikeville.com/wp-content/uploads/2024/08/booze.jpg
END:VEVENT
BEGIN:VEVENT
DTSTART;TZID=America/Kentucky/Louisville:20240825T150000
DTEND;TZID=America/Kentucky/Louisville:20240825T170000
DTSTAMP:20260425T071125
CREATED:20231218T135327Z
LAST-MODIFIED:20231218T135327Z
UID:44066-1724598000-1724605200@visitpikeville.com
SUMMARY:Working a Musical Localized Edition
DESCRIPTION:Based on Studs Terkel’s best-selling book of interviews with American workers\, Working paints a vivid portrait of the workers that the world so often takes for granted: the schoolteacher\, the phone operator\, the waitress\, the millworker\, the mason\, and the housewife\, just to name a few. Nominated for six Tony Awards\, this classic has been updated for a modern age\, featuring songs by Lin-Manuel Miranda\, Stephen Schwartz\, Craig Carnelia\, James Taylor\, Micki Grant\, and more. This localized edition will feature actual interviews from the hard working individuals of our community.
URL:https://visitpikeville.com/event/working-a-musical-localized-edition-2-2-2-2-2/
LOCATION:Appalachian Center for the Arts\, 218 2nd St\,\, Pikeville\, Ky\, 41501
CATEGORIES:The Appalachian Center for the Arts
ATTACH;FMTTYPE=image/webp:https://visitpikeville.com/wp-content/uploads/2023/12/working-web-600.webp
END:VEVENT
BEGIN:VEVENT
DTSTART;TZID=America/Kentucky/Louisville:20240826T100000
DTEND;TZID=America/Kentucky/Louisville:20240826T150000
DTSTAMP:20260425T071125
CREATED:20240812T134049Z
LAST-MODIFIED:20240812T134049Z
UID:55102-1724666400-1724684400@visitpikeville.com
SUMMARY:Job Fair
DESCRIPTION:PIKE COUNTY – Are you searching for a rewarding career in Behavioral Health?\nMountain Comprehensive Care Center is hosting a job fair on Monday\, August 26th\, 2024\, 10AM-3PM at the Goodwill Opportunity Center in downtown Pikeville at 126 Trivette Drive\, Suite 104. Mountain will be hiring on-site for a variety of positions\, including Bachelor’s-level Mental Health Associates\, Licensed Master’s-level Therapists\, Case Managers\, Community Support Associates\, and more. Heroes Work Here!\nWe are HIRING ON SITE for behavioral health positions including:\n• Bachelor’s* and Master’s-Level** Behavioral Therapists/Mental Health Associates• Support Staff HS/GED; 1 Year Experience in Billing• Targeted Case Managers – BS/BA in Human Services*\, 1 Year Experience• Community Support Associate – HS/GED; 1 Year Behavioral Health Experience• Peer Support Specialists – 1 Year in Recovery; PSS Certificationand more!\n*BS/BA Human Services: i.e.\, Psychology\, Sociology\, Social Work\, Counseling**Master’s Licensure: i.e.\, CSW\, MFTA\, LPCA\, LPCC\, LCSW\, LMFT\, or equivalent\nJoin us for this exciting opportunity!\nPlease bring the following required documentation:• Social Security Card *• Driver’s License *• Resume• Proof of Car Insurance showing you as a listed driver• Highest Level Diploma or Official Transcript **• Voided Check with your name on it for Direct Deposit• Names\, Social Security Numbers and Dates of Birth of Beneficiaries\n* Name on your SS Card and Driver’s License must match.** If you do not have an official transcript\, please order it and have it mailed to: MCCC | Attn: Kathy Goble-Baldridge | 104 South Front Ave. | Prestonsburg\, KY 41653 . If you have access to your unofficial transcript please bring that with you to the job fair\, along with your diploma.\nMountain Comprehensive Care Center\, Inc. is an Equal Opportunity Affirmative Action Employer.\nEmployment opportunity is offered based on job qualifications regardless of race\, religion\, color\, national origin\, gender\, pregnancy\, sexual orientation\, age\, physical or mental disability\, protected veteran or victimization status.
URL:https://visitpikeville.com/event/job-fair-2/
LOCATION:Uniplex Building\, 126 Trivette Dr\,\, Pikeville\, KY\, 41501\, United States
CATEGORIES:Other
ATTACH;FMTTYPE=image/jpeg:https://visitpikeville.com/wp-content/uploads/2024/08/job.jpg
END:VEVENT
BEGIN:VEVENT
DTSTART;TZID=America/Kentucky/Louisville:20240827T120000
DTEND;TZID=America/Kentucky/Louisville:20240827T130000
DTSTAMP:20260425T071125
CREATED:20240812T115528Z
LAST-MODIFIED:20240812T115528Z
UID:55065-1724760000-1724763600@visitpikeville.com
SUMMARY:Lunch & Learn with Jon Dye
DESCRIPTION:Join us for an educational session about the Employee Child Care Assistance Partnership and how your business can partner with the Kentucky Chamber of Commerce to provide child care to your employees!
URL:https://visitpikeville.com/event/lunch-learn-with-jon-dye/
LOCATION:Garfield House\, 178 College Street\, Pikeville\, KY\, 41501\, United States
CATEGORIES:Southeast Kentucky Chamber
ATTACH;FMTTYPE=image/png:https://visitpikeville.com/wp-content/uploads/2024/08/LL-Aug2024-JonDye.png
END:VEVENT
BEGIN:VEVENT
DTSTART;TZID=America/Kentucky/Louisville:20240827T163000
DTEND;TZID=America/Kentucky/Louisville:20240827T190000
DTSTAMP:20260425T071125
CREATED:20240513T174532Z
LAST-MODIFIED:20240513T174532Z
UID:51269-1724776200-1724785200@visitpikeville.com
SUMMARY:Pikeville Farmer's Market
DESCRIPTION:Tuesday from 4:30-7:00 \nSaturday 9:00-1:00 \n 
URL:https://visitpikeville.com/event/pikeville-farmers-market-5-3-2-2-3-2-2-2-2-2-2-2-2-2-2/
LOCATION:Pikeville Farmer’s Market\, 130 Adams Lane\, Pikeville\, Ky
CATEGORIES:Other
ATTACH;FMTTYPE=image/jpeg:https://visitpikeville.com/wp-content/uploads/2024/05/farmers-market.jpeg
END:VEVENT
BEGIN:VEVENT
DTSTART;TZID=America/Kentucky/Louisville:20240827T170000
DTEND;TZID=America/Kentucky/Louisville:20240827T180000
DTSTAMP:20260425T071125
CREATED:20240805T140525Z
LAST-MODIFIED:20240805T140525Z
UID:54693-1724778000-1724781600@visitpikeville.com
SUMMARY:Book Talks
DESCRIPTION:Every Other Tuesday at 5pm-6pm
URL:https://visitpikeville.com/event/book-talks-book-club-9-2-2-2-2-2-2-2-2-2-2-2-2-2-2-2-2-2-2-2-2-2-2-2-2/
LOCATION:Pike County Public Library\, 126 Lee Avenue\, Pikeville\, KY\, 41501\, United States
CATEGORIES:Pike County Public Library
ATTACH;FMTTYPE=image/jpeg:https://visitpikeville.com/wp-content/uploads/2023/06/book-talks.jpeg
END:VEVENT
BEGIN:VEVENT
DTSTART;TZID=America/Kentucky/Louisville:20240827T173000
DTEND;TZID=America/Kentucky/Louisville:20240827T193000
DTSTAMP:20260425T071125
CREATED:20240826T135520Z
LAST-MODIFIED:20240826T135520Z
UID:55912-1724779800-1724787000@visitpikeville.com
SUMMARY:2 Broke Art Teachers: Art Class
DESCRIPTION:$30 includes 16″x 20″ stretched canvas and all materials needed plus instruction.
URL:https://visitpikeville.com/event/2-broke-art-teachers-art-class/
LOCATION:2 Broke Art Teachers\, 4505 Weddington Square\,\, Pikeville\, KY\, 41501\, United States
CATEGORIES:Other
ATTACH;FMTTYPE=image/jpeg:https://visitpikeville.com/wp-content/uploads/2024/08/welcome.jpg
END:VEVENT
BEGIN:VEVENT
DTSTART;TZID=America/Kentucky/Louisville:20240827T190000
DTEND;TZID=America/Kentucky/Louisville:20240827T200000
DTSTAMP:20260425T071125
CREATED:20240701T123426Z
LAST-MODIFIED:20240701T123426Z
UID:53028-1724785200-1724788800@visitpikeville.com
SUMMARY:Men's Soccer vs Midway University
DESCRIPTION:Game Day!!
URL:https://visitpikeville.com/event/mens-soccer-vs-midway-university-2/
LOCATION:Bob Amos Park\, 424 Bob Amos Dr\, Pikeville\, Ky\, 41501
CATEGORIES:UPike
ATTACH;FMTTYPE=image/png:https://visitpikeville.com/wp-content/uploads/2024/07/Screen-Shot-2024-07-01-at-8.32.47-AM.png
END:VEVENT
BEGIN:VEVENT
DTSTART;TZID=America/Kentucky/Louisville:20240828T160000
DTEND;TZID=America/Kentucky/Louisville:20240828T170000
DTSTAMP:20260425T071125
CREATED:20240805T140748Z
LAST-MODIFIED:20240805T140748Z
UID:54697-1724860800-1724864400@visitpikeville.com
SUMMARY:Teen Activity Club
DESCRIPTION:Teen Activity Club is a craft group for kids ages 13-18 that meets at the Pike County Public Library (Lee Avenue) on alternating Wednesdays at 4:00.
URL:https://visitpikeville.com/event/teen-activity-club-8-2-2-2-2-2-2-2-2-2-2-2-2/
LOCATION:Pike County Public Library\, 126 Lee Avenue\, Pikeville\, KY\, 41501\, United States
CATEGORIES:Pike County Public Library
ATTACH;FMTTYPE=image/png:https://visitpikeville.com/wp-content/uploads/2023/12/Teen_Activity_Club.png
END:VEVENT
BEGIN:VEVENT
DTSTART;TZID=America/Kentucky/Louisville:20240828T173000
DTEND;TZID=America/Kentucky/Louisville:20240828T193000
DTSTAMP:20260425T071125
CREATED:20240826T135052Z
LAST-MODIFIED:20240826T135052Z
UID:55909-1724866200-1724873400@visitpikeville.com
SUMMARY:Football Paint Party!
DESCRIPTION:$30 Includes materials and instructions
URL:https://visitpikeville.com/event/football-paint-party/
LOCATION:2 Broke Art Teachers\, 4505 Weddington Square\,\, Pikeville\, KY\, 41501\, United States
CATEGORIES:Other
ATTACH;FMTTYPE=image/jpeg:https://visitpikeville.com/wp-content/uploads/2024/08/football.jpg
END:VEVENT
BEGIN:VEVENT
DTSTART;TZID=America/Kentucky/Louisville:20240829T170000
DTEND;TZID=America/Kentucky/Louisville:20240829T184500
DTSTAMP:20260425T071125
CREATED:20240805T134324Z
LAST-MODIFIED:20240805T134324Z
UID:54672-1724950800-1724957100@visitpikeville.com
SUMMARY:Dungeons and Dragons
DESCRIPTION:Dungeons and Dragons Group meets every other Thursday at 5:00 at the Pike County Public Library (Lee Avenue). Beginners and experienced players alike are welcome.
URL:https://visitpikeville.com/event/dungeons-and-dragons-5-2-2-2-2-2-2-2-2-2-2-2-2-2/
LOCATION:Pike County Public Library\, 126 Lee Avenue\, Pikeville\, KY\, 41501\, United States
CATEGORIES:Pike County Public Library
ATTACH;FMTTYPE=image/png:https://visitpikeville.com/wp-content/uploads/2023/12/D_D_Group.png
END:VEVENT
BEGIN:VEVENT
DTSTART;TZID=America/Kentucky/Louisville:20240829T170000
DTEND;TZID=America/Kentucky/Louisville:20240829T210000
DTSTAMP:20260425T071125
CREATED:20240805T123937Z
LAST-MODIFIED:20240805T123937Z
UID:54646-1724950800-1724965200@visitpikeville.com
SUMMARY:Beginners Sewing
DESCRIPTION:Come and Join Us
URL:https://visitpikeville.com/event/beginners-sewing-2-2-2-2-2-2-2-2-2-2-2-2-2-2-2-2-2-2-2-2-2-2-2-2/
LOCATION:Bridgett’s Quilting and Fabric Shop\, 237 2nd St\,\, Pikeville\, KY\, 41501\, United States
CATEGORIES:Pikeville Main Street
ATTACH;FMTTYPE=image/jpeg:https://visitpikeville.com/wp-content/uploads/2023/10/bridgetts.jpeg
END:VEVENT
BEGIN:VEVENT
DTSTART;TZID=America/Kentucky/Louisville:20240829T173000
DTEND;TZID=America/Kentucky/Louisville:20240829T183000
DTSTAMP:20260425T071125
CREATED:20240805T135556Z
LAST-MODIFIED:20240805T135556Z
UID:54689-1724952600-1724956200@visitpikeville.com
SUMMARY:Sign Language Class
DESCRIPTION:Learn American Sign Language with interpreter Tracy Jackson\, with classes held every Thursday at 5:30 at the Pike County Public Library (Lee Avenue). Suitable for all ages. No registration required.
URL:https://visitpikeville.com/event/sign-language-class-3-2-2-2/
LOCATION:Pike County Public Library\, 126 Lee Avenue\, Pikeville\, KY\, 41501\, United States
CATEGORIES:Pike County Public Library
ATTACH;FMTTYPE=image/png:https://visitpikeville.com/wp-content/uploads/2024/08/Sign_Language_Class.png
END:VEVENT
BEGIN:VEVENT
DTSTART;TZID=America/Kentucky/Louisville:20240829T190000
DTEND;TZID=America/Kentucky/Louisville:20240829T210000
DTSTAMP:20260425T071125
CREATED:20240701T124417Z
LAST-MODIFIED:20240729T123447Z
UID:53034-1724958000-1724965200@visitpikeville.com
SUMMARY:Football vs Campbellsville University
DESCRIPTION:Game Day!!
URL:https://visitpikeville.com/event/football-vs-campbellsville-university/
LOCATION:Pikeville High School\, 120 Championship Dr\,\, Pikeville\, KY\, 41501\, United States
CATEGORIES:UPike
ATTACH;FMTTYPE=image/png:https://visitpikeville.com/wp-content/uploads/2024/07/Screen-Shot-2024-07-01-at-8.40.02-AM.png
END:VEVENT
BEGIN:VEVENT
DTSTART;TZID=America/Kentucky/Louisville:20240830T160000
DTEND;TZID=America/Kentucky/Louisville:20240830T170000
DTSTAMP:20260425T071125
CREATED:20240812T120416Z
LAST-MODIFIED:20240812T120416Z
UID:55068-1725033600-1725037200@visitpikeville.com
SUMMARY:Women's Soccer vs Alice Lloyd College (Ky.)
DESCRIPTION:Game Day!!
URL:https://visitpikeville.com/event/womens-soccer-vs-alice-lloyd-college-ky/
LOCATION:Bob Amos Park\, 424 Bob Amos Dr\, Pikeville\, Ky\, 41501
CATEGORIES:UPike
ATTACH;FMTTYPE=image/png:https://visitpikeville.com/wp-content/uploads/2024/08/Screen-Shot-2024-08-12-at-8.01.45-AM.png
END:VEVENT
END:VCALENDAR