BEGIN:VCALENDAR
VERSION:2.0
PRODID:-//Visit Pikeville - ECPv6.15.20//NONSGML v1.0//EN
CALSCALE:GREGORIAN
METHOD:PUBLISH
X-WR-CALNAME:Visit Pikeville
X-ORIGINAL-URL:https://visitpikeville.com
X-WR-CALDESC:Events for Visit Pikeville
REFRESH-INTERVAL;VALUE=DURATION:PT1H
X-Robots-Tag:noindex
X-PUBLISHED-TTL:PT1H
BEGIN:VTIMEZONE
TZID:America/Kentucky/Louisville
BEGIN:DAYLIGHT
TZOFFSETFROM:-0500
TZOFFSETTO:-0400
TZNAME:EDT
DTSTART:20230312T070000
END:DAYLIGHT
BEGIN:STANDARD
TZOFFSETFROM:-0400
TZOFFSETTO:-0500
TZNAME:EST
DTSTART:20231105T060000
END:STANDARD
BEGIN:DAYLIGHT
TZOFFSETFROM:-0500
TZOFFSETTO:-0400
TZNAME:EDT
DTSTART:20240310T070000
END:DAYLIGHT
BEGIN:STANDARD
TZOFFSETFROM:-0400
TZOFFSETTO:-0500
TZNAME:EST
DTSTART:20241103T060000
END:STANDARD
BEGIN:DAYLIGHT
TZOFFSETFROM:-0500
TZOFFSETTO:-0400
TZNAME:EDT
DTSTART:20250309T070000
END:DAYLIGHT
BEGIN:STANDARD
TZOFFSETFROM:-0400
TZOFFSETTO:-0500
TZNAME:EST
DTSTART:20251102T060000
END:STANDARD
END:VTIMEZONE
BEGIN:VEVENT
DTSTART;TZID=America/Kentucky/Louisville:20241019T203000
DTEND;TZID=America/Kentucky/Louisville:20241019T223000
DTSTAMP:20260425T074023
CREATED:20240923T131859Z
LAST-MODIFIED:20240923T131859Z
UID:57458-1729369800-1729377000@visitpikeville.com
SUMMARY:Live Music
DESCRIPTION:Brittany Mullins and The Rizzlers
URL:https://visitpikeville.com/event/live-music-3/
LOCATION:Pearse’s Place\, 224 2nd St\,\, Pikeville\, KY\, 41501\, United States
CATEGORIES:Other
ATTACH;FMTTYPE=image/jpeg:https://visitpikeville.com/wp-content/uploads/2024/09/brittany.jpg
END:VEVENT
BEGIN:VEVENT
DTSTART;TZID=America/Kentucky/Louisville:20241020T150000
DTEND;TZID=America/Kentucky/Louisville:20241020T170000
DTSTAMP:20260425T074023
CREATED:20231218T140156Z
LAST-MODIFIED:20231218T140156Z
UID:44081-1729436400-1729443600@visitpikeville.com
SUMMARY:Sleep in Safety - The Death of Octavia Hatcher
DESCRIPTION:Since the early part of the 20th century\, Octavia Hatcher’s monument has watched over the city of Pikeville from the cemetery on the hill. Octavia’s brief marriage to prominent Pikeville businessman James Hatcher ended suddenly when she suffered an unknown illness that resulted in her being buried alive. This original\, tragic story of her life and death is a chilling account which may explain why many say her spirit walks the graveyard to this day.
URL:https://visitpikeville.com/event/sleep-in-safety-the-death-of-octavia-hatcher-2-2-2-2-2-2/
LOCATION:Appalachian Center for the Arts\, 218 2nd St\,\, Pikeville\, Ky\, 41501
CATEGORIES:The Appalachian Center for the Arts
ATTACH;FMTTYPE=image/webp:https://visitpikeville.com/wp-content/uploads/2023/12/octvia-web-600.webp
END:VEVENT
BEGIN:VEVENT
DTSTART;TZID=America/Kentucky/Louisville:20241020T150000
DTEND;TZID=America/Kentucky/Louisville:20241020T170000
DTSTAMP:20260425T074023
CREATED:20240916T144348Z
LAST-MODIFIED:20240916T144348Z
UID:57173-1729436400-1729443600@visitpikeville.com
SUMMARY:Wait Until Dark
DESCRIPTION:Opening night of our 2024-2025 season!
URL:https://visitpikeville.com/event/wait-until-dark-2-2-2-2-2-2-2-2/
LOCATION:Pikeville High School\, 120 Championship Dr\,\, Pikeville\, KY\, 41501\, United States
CATEGORIES:Other
ATTACH;FMTTYPE=image/jpeg:https://visitpikeville.com/wp-content/uploads/2024/09/act.jpg
END:VEVENT
BEGIN:VEVENT
DTSTART;TZID=America/Kentucky/Louisville:20241021T170000
DTEND;TZID=America/Kentucky/Louisville:20241021T190000
DTSTAMP:20260425T074023
CREATED:20240930T173104Z
LAST-MODIFIED:20240930T173104Z
UID:57899-1729530000-1729537200@visitpikeville.com
SUMMARY:6Th Annual Trunk or Treat at Texas Roadhouse
DESCRIPTION:Join us at Texas Roadhouse in Pikeville Monday\, October 21\, from 5pm – 7pm for a fun evening of trunk or treating! Enjoy decorated trunks\, games\, and plenty of treats. Bring your family and friends\, and don’t forget your costumes!\nWe can’t wait to see you here.
URL:https://visitpikeville.com/event/6th-annual-trunk-or-treat-at-texas-roadhouse/
LOCATION:Texas Roadhouse\, 130 Justice Way\,\, Pikeville\, Ky\, 41501
CATEGORIES:Other
ATTACH;FMTTYPE=image/jpeg:https://visitpikeville.com/wp-content/uploads/2024/09/texas.jpg
END:VEVENT
BEGIN:VEVENT
DTSTART;TZID=America/Kentucky/Louisville:20241022T163000
DTEND;TZID=America/Kentucky/Louisville:20241022T190000
DTSTAMP:20260425T074023
CREATED:20240513T180001Z
LAST-MODIFIED:20240513T180001Z
UID:51301-1729614600-1729623600@visitpikeville.com
SUMMARY:Pikeville Farmer's Market
DESCRIPTION:Tuesday from 4:30-7:00 \nSaturday 9:00-1:00 \n 
URL:https://visitpikeville.com/event/pikeville-farmers-market-5-3-2-2-3-2-2-2-2-2-2-2-2-2-2-2-2-2-2-2-2-2-2/
LOCATION:Pikeville Farmer’s Market\, 130 Adams Lane\, Pikeville\, Ky
CATEGORIES:Other
ATTACH;FMTTYPE=image/jpeg:https://visitpikeville.com/wp-content/uploads/2024/05/farmers-market.jpeg
END:VEVENT
BEGIN:VEVENT
DTSTART;TZID=America/Kentucky/Louisville:20241022T170000
DTEND;TZID=America/Kentucky/Louisville:20241022T180000
DTSTAMP:20260425T074023
CREATED:20240930T154459Z
LAST-MODIFIED:20240930T154459Z
UID:57891-1729616400-1729620000@visitpikeville.com
SUMMARY:Spooky Potion Bottles
DESCRIPTION:Decorate a spooky bottle for a magic potion at the library! For ages 12 and under. No registration required.\nThis program will be held October 15th at 5:00 at Belfry Public Library\, and October 22nd at 5:00 for Pike County Public Library (Lee Avenue\, Elkhorn City Public Library\, Phelps Public Library\, and Vesta Roberts Johnson Memorial Library.
URL:https://visitpikeville.com/event/spooky-potion-bottles/
LOCATION:Pike County Public Library\, 126 Lee Avenue\, Pikeville\, KY\, 41501\, United States
CATEGORIES:Pike County Public Library
ATTACH;FMTTYPE=image/jpeg:https://visitpikeville.com/wp-content/uploads/2024/09/spooky-1.jpg
END:VEVENT
BEGIN:VEVENT
DTSTART;TZID=America/Kentucky/Louisville:20241022T183000
DTEND;TZID=America/Kentucky/Louisville:20241022T203000
DTSTAMP:20260425T074023
CREATED:20240722T130645Z
LAST-MODIFIED:20240722T130645Z
UID:53718-1729621800-1729629000@visitpikeville.com
SUMMARY:Volleyball vs Kentucky Christian University
DESCRIPTION:Game Day!
URL:https://visitpikeville.com/event/volleyball-vs-kentucky-christian-university-2/
LOCATION:UPIKE GYM\, Hibbard St\,\, Pikeville\, KY\, 41501\, United States
CATEGORIES:UPike
ATTACH;FMTTYPE=image/png:https://visitpikeville.com/wp-content/uploads/2024/07/Screen-Shot-2024-07-22-at-9.05.09-AM.png
END:VEVENT
BEGIN:VEVENT
DTSTART;TZID=America/Kentucky/Louisville:20241022T190000
DTEND;TZID=America/Kentucky/Louisville:20241022T210000
DTSTAMP:20260425T074023
CREATED:20240520T122638Z
LAST-MODIFIED:20240520T122638Z
UID:51775-1729623600-1729630800@visitpikeville.com
SUMMARY:Godsmack
DESCRIPTION:ON SALE NOW!!!!!\nGodsmack\nwith Special guests NOTHING MORE\nand FLAT BLACK\nOctober 22\nAppalachian Wireless Arena\nPikeville\, KY\nhttps://www.ticketmaster.com/event/160060AD9E912371\nTickets are $39.50\, $49.50\, $59.50\, $75.00\, $99.00\, and $125.00\nTickets available at the Community Trust Bank Box Office or Ticketmaster.com.
URL:https://visitpikeville.com/event/godsmack/
LOCATION:Appalachian Wireless Arena\, 126 Main Street\, Pikeville\, Ky\, 41501
CATEGORIES:Appalachian Wireless Arena
ATTACH;FMTTYPE=image/jpeg:https://visitpikeville.com/wp-content/uploads/2024/05/godsmack.jpeg
END:VEVENT
BEGIN:VEVENT
DTSTART;TZID=America/Kentucky/Louisville:20241023T073000
DTEND;TZID=America/Kentucky/Louisville:20241023T093000
DTSTAMP:20260425T074023
CREATED:20241008T125545Z
LAST-MODIFIED:20241008T125545Z
UID:58142-1729668600-1729675800@visitpikeville.com
SUMMARY:Coffee and Conversation
DESCRIPTION:Join us at the Chamber for coffee and conversation. Network with Chamber members\, and learn how to join the Southeast Kentucky Chamber. We look forward to starting the day with you\, sharing ideas\, and learning more about your business’s opportunities and challenges!
URL:https://visitpikeville.com/event/coffee-and-conversation-3/
LOCATION:Garfield House\, 178 College Street\, Pikeville\, KY\, 41501\, United States
CATEGORIES:Southeast Kentucky Chamber
ATTACH;FMTTYPE=image/png:https://visitpikeville.com/wp-content/uploads/2024/10/CoffeeConversation.png
END:VEVENT
BEGIN:VEVENT
DTSTART;TZID=America/Kentucky/Louisville:20241023T130000
DTEND;TZID=America/Kentucky/Louisville:20241023T140000
DTSTAMP:20260425T074023
CREATED:20240701T133239Z
LAST-MODIFIED:20240701T133239Z
UID:53077-1729688400-1729692000@visitpikeville.com
SUMMARY:Women's Soccer vs Truett McConnell University
DESCRIPTION:Game Day!
URL:https://visitpikeville.com/event/womens-soccer-vs-truett-mcconnell-university/
LOCATION:Bob Amos Park\, 424 Bob Amos Dr\, Pikeville\, Ky\, 41501
CATEGORIES:UPike
ATTACH;FMTTYPE=image/png:https://visitpikeville.com/wp-content/uploads/2024/07/Screen-Shot-2024-07-01-at-9.29.57-AM.png
END:VEVENT
BEGIN:VEVENT
DTSTART;TZID=America/Kentucky/Louisville:20241023T170000
DTEND;TZID=America/Kentucky/Louisville:20241023T180000
DTSTAMP:20260425T074023
CREATED:20240701T133414Z
LAST-MODIFIED:20240701T133414Z
UID:53080-1729702800-1729706400@visitpikeville.com
SUMMARY:Men's Soccer vs Truett McConnell University
DESCRIPTION:Game Day!
URL:https://visitpikeville.com/event/mens-soccer-vs-truett-mcconnell-university/
LOCATION:Bob Amos Park\, 424 Bob Amos Dr\, Pikeville\, Ky\, 41501
CATEGORIES:UPike
ATTACH;FMTTYPE=image/png:https://visitpikeville.com/wp-content/uploads/2024/07/Screen-Shot-2024-07-01-at-9.32.46-AM.png
END:VEVENT
BEGIN:VEVENT
DTSTART;TZID=America/Kentucky/Louisville:20241024T110000
DTEND;TZID=America/Kentucky/Louisville:20241024T120000
DTSTAMP:20260425T074023
CREATED:20240930T151007Z
LAST-MODIFIED:20240930T151007Z
UID:57847-1729767600-1729771200@visitpikeville.com
SUMMARY:Story Time
DESCRIPTION:tory Time is for children ages 5 and under and features books\, action/movement\, songs\, and a craft. Story Time is held Thursdays at 11:00 and 2:00 and Saturdays at 11:00. \n\n\n\n\n\n\n  \nBesides being fun\, Story Time also helps develop early literacy and school readiness skills through reading\, singing\, listening\, playing\, and social interaction. This program lasts approximately 30 minutes\, and caregivers and children are encouraged to linger in the library afterwards to further socialize and choose books to take home.
URL:https://visitpikeville.com/event/story-time-2-2-2-2-2-2-2-2-2-2-2-2-2-2-2-2-2-2-2-2-2-2-2-2-2-2-2-2-2-2-2-2-2-2-2-2-2-2-2-2-2-2-2-2-2-2-2-2-2-2-2-2-2-2-2-3-2-2-2-2-2-2-2-2-2-2-2-2-2-2-2-2-2-2/
LOCATION:Pike County Public Library\, 126 Lee Avenue\, Pikeville\, KY\, 41501\, United States
CATEGORIES:Pike County Public Library
ATTACH;FMTTYPE=image/png:https://visitpikeville.com/wp-content/uploads/2023/12/Story_TimeLEE.png
END:VEVENT
BEGIN:VEVENT
DTSTART;TZID=America/Kentucky/Louisville:20241024T140000
DTEND;TZID=America/Kentucky/Louisville:20241024T150000
DTSTAMP:20260425T074023
CREATED:20240930T151042Z
LAST-MODIFIED:20240930T151042Z
UID:57849-1729778400-1729782000@visitpikeville.com
SUMMARY:Story Time
DESCRIPTION:tory Time is for children ages 5 and under and features books\, action/movement\, songs\, and a craft. Story Time is held Thursdays at 11:00 and 2:00 and Saturdays at 11:00. \n\n\n\n\n\n\n  \nBesides being fun\, Story Time also helps develop early literacy and school readiness skills through reading\, singing\, listening\, playing\, and social interaction. This program lasts approximately 30 minutes\, and caregivers and children are encouraged to linger in the library afterwards to further socialize and choose books to take home.
URL:https://visitpikeville.com/event/story-time-2-2-2-2-2-2-2-2-2-2-2-2-2-2-2-2-2-2-2-2-2-2-2-2-2-2-2-2-2-2-2-2-2-2-2-2-2-2-2-2-2-2-2-2-2-2-2-2-2-2-2-2-2-2-2-3-2-2-2-2-2-2-2-2-2-2-2-2-2-2-2-2-2-2-2/
LOCATION:Pike County Public Library\, 126 Lee Avenue\, Pikeville\, KY\, 41501\, United States
CATEGORIES:Pike County Public Library
ATTACH;FMTTYPE=image/png:https://visitpikeville.com/wp-content/uploads/2023/12/Story_TimeLEE.png
END:VEVENT
BEGIN:VEVENT
DTSTART;TZID=America/Kentucky/Louisville:20241024T170000
DTEND;TZID=America/Kentucky/Louisville:20241024T184500
DTSTAMP:20260425T074023
CREATED:20240930T152915Z
LAST-MODIFIED:20240930T152915Z
UID:57872-1729789200-1729795500@visitpikeville.com
SUMMARY:Dungeons and Dragons
DESCRIPTION:Dungeons and Dragons Group meets every other Thursday at 5:00 at the Pike County Public Library (Lee Avenue). Beginners and experienced players alike are welcome.
URL:https://visitpikeville.com/event/dungeons-and-dragons-5-2-2-2-2-2-2-2-2-2-2-2-2-2-2-2-2-2/
LOCATION:Pike County Public Library\, 126 Lee Avenue\, Pikeville\, KY\, 41501\, United States
CATEGORIES:Pike County Public Library
ATTACH;FMTTYPE=image/png:https://visitpikeville.com/wp-content/uploads/2023/12/D_D_Group.png
END:VEVENT
BEGIN:VEVENT
DTSTART;TZID=America/Kentucky/Louisville:20241024T170000
DTEND;TZID=America/Kentucky/Louisville:20241024T210000
DTSTAMP:20260425T074023
CREATED:20241008T152343Z
LAST-MODIFIED:20241008T152343Z
UID:58214-1729789200-1729803600@visitpikeville.com
SUMMARY:Beginners Sewing
DESCRIPTION:Come and Join Us
URL:https://visitpikeville.com/event/beginners-sewing-2-2-2-2-2-2-2-2-2-2-2-2-2-2-2-2-2-2-2-2-2-2-2-2-2-2-2-2-2-2-2/
LOCATION:Bridgett’s Quilting and Fabric Shop\, 237 2nd St\,\, Pikeville\, KY\, 41501\, United States
CATEGORIES:Pikeville Main Street
ATTACH;FMTTYPE=image/jpeg:https://visitpikeville.com/wp-content/uploads/2023/10/bridgetts.jpeg
END:VEVENT
BEGIN:VEVENT
DTSTART;TZID=America/Kentucky/Louisville:20241024T180000
DTEND;TZID=America/Kentucky/Louisville:20241024T190000
DTSTAMP:20260425T074023
CREATED:20240923T132749Z
LAST-MODIFIED:20240923T132749Z
UID:57464-1729792800-1729796400@visitpikeville.com
SUMMARY:Toastmasters: Learn Public Speaking
DESCRIPTION:Toasters International is a nonprofit educational organization that teaches public speaking and leadership skills through a worldwide network of clubs.\nThere’s no pressure to participate until you are ready and comfortable. Mountains Movers is the local Toastmasters club in Pike County and meets each month on the second and fourth Thursday at 6:00 p.m. at the Pike County Public Library (Lee Avenue). Anyone is welcome to attend!\nNo registration required.
URL:https://visitpikeville.com/event/toastmasters-learn-public-speaking-2/
LOCATION:Pike County Public Library\, 126 Lee Avenue\, Pikeville\, KY\, 41501\, United States
CATEGORIES:Pike County Public Library
ATTACH;FMTTYPE=image/jpeg:https://visitpikeville.com/wp-content/uploads/2024/09/public-speaking.jpg
END:VEVENT
BEGIN:VEVENT
DTSTART;TZID=America/Kentucky/Louisville:20241024T180000
DTEND;TZID=America/Kentucky/Louisville:20241024T210000
DTSTAMP:20260425T074023
CREATED:20240826T123601Z
LAST-MODIFIED:20240826T123601Z
UID:55881-1729792800-1729803600@visitpikeville.com
SUMMARY:Nightmare on Main Street
DESCRIPTION:Get ready for a spooktacular night at the 14th Annual City of Pikeville’s Nightmare on Main Street! On October 24\, 2024\, from 6PM to 9PM\, the streets will come alive with ghouls\, goblins\, and costumed creatures of all kinds. This frightfully fun event\, brought to you by the City of Pikeville\, local businesses\, and generous citizens\, promises a safe and spooky trick-or-treating experience. With no cars allowed\, the eerie streets are perfect for ghostly strolls and spine-chilling decorating contests. Park your broomsticks for free at the Pikeville Parking Garage or Riverfill Parking Lot\, and if you or your business dare to be a treater\, sign up at www.visitpikeville.com under the Events tab. Don’t miss out on the most fang-tastic night of the year!\n\n\n#visitpikeville\n#nightmareonmain
URL:https://visitpikeville.com/event/nightmare-on-main-street/
LOCATION:Main Street\, Main Street\, Pikeville\, KY\, 41501\, United States
CATEGORIES:City of Pikeville,Pikeville Tourism
ATTACH;FMTTYPE=image/jpeg:https://visitpikeville.com/wp-content/uploads/2024/08/nightmare.jpg
END:VEVENT
BEGIN:VEVENT
DTSTART;TZID=America/Kentucky/Louisville:20241026T090000
DTEND;TZID=America/Kentucky/Louisville:20241026T130000
DTSTAMP:20260425T074023
CREATED:20240513T180058Z
LAST-MODIFIED:20240513T180058Z
UID:51303-1729933200-1729947600@visitpikeville.com
SUMMARY:Pikeville Farmer's Market
DESCRIPTION:Tuesday from 4:30-7:00 \nSaturday 9:00-1:00 \n 
URL:https://visitpikeville.com/event/pikeville-farmers-market-5-2-2-2-2-2-2-2-2-2-2-2-2-2-2-2-2-2-2-2-2-2-2-2-2/
LOCATION:Pikeville Farmer’s Market\, 130 Adams Lane\, Pikeville\, Ky
CATEGORIES:Other
ATTACH;FMTTYPE=image/jpeg:https://visitpikeville.com/wp-content/uploads/2024/05/farmers-market.jpeg
END:VEVENT
BEGIN:VEVENT
DTSTART;TZID=America/Kentucky/Louisville:20241026T110000
DTEND;TZID=America/Kentucky/Louisville:20241026T120000
DTSTAMP:20260425T074023
CREATED:20240930T151133Z
LAST-MODIFIED:20240930T151133Z
UID:57851-1729940400-1729944000@visitpikeville.com
SUMMARY:Story Time
DESCRIPTION:tory Time is for children ages 5 and under and features books\, action/movement\, songs\, and a craft. Story Time is held Thursdays at 11:00 and 2:00 and Saturdays at 11:00. \n\n\n\n\n\n\n  \nBesides being fun\, Story Time also helps develop early literacy and school readiness skills through reading\, singing\, listening\, playing\, and social interaction. This program lasts approximately 30 minutes\, and caregivers and children are encouraged to linger in the library afterwards to further socialize and choose books to take home.
URL:https://visitpikeville.com/event/story-time-2-2-2-2-2-2-2-2-2-2-2-2-2-2-2-2-2-2-2-2-2-2-2-2-2-2-2-2-2-2-2-2-2-2-2-2-2-2-2-2-2-2-2-2-2-2-2-2-2-2-2-2-2-2-2-3-2-2-2-2-2-2-2-2-2-2-2-2-2-2-2-2-2-2-2-2/
LOCATION:Pike County Public Library\, 126 Lee Avenue\, Pikeville\, KY\, 41501\, United States
CATEGORIES:Pike County Public Library
ATTACH;FMTTYPE=image/png:https://visitpikeville.com/wp-content/uploads/2023/12/Story_TimeLEE.png
END:VEVENT
BEGIN:VEVENT
DTSTART;TZID=America/Kentucky/Louisville:20241026T110000
DTEND;TZID=America/Kentucky/Louisville:20241026T130000
DTSTAMP:20260425T074023
CREATED:20240930T153113Z
LAST-MODIFIED:20240930T153113Z
UID:57877-1729940400-1729947600@visitpikeville.com
SUMMARY:Quilters Group
DESCRIPTION:Pike County Public Library Quilters Group is a quilting social that also teaches quilting and needlework. Participants exchange patterns\, quilting ideas\, and sewing projects. Both beginners and experienced quilters are welcome! Quilters Group meets alternating Saturdays at noon at the Lee Avenue Library.\nFor more information\, contact Charlene at 606-437-6001 or charlene@pikelibrary.org
URL:https://visitpikeville.com/event/quilters-group-4-2-2-2-2-2-2-2-2-2-2-2-2-2-2-2-2-2-2-2-2-2-2-2-2-2-2-2/
LOCATION:Pike County Public Library\, 126 Lee Avenue\, Pikeville\, KY\, 41501\, United States
CATEGORIES:Pike County Public Library
ATTACH;FMTTYPE=image/jpeg:https://visitpikeville.com/wp-content/uploads/2024/06/quilters.jpeg
END:VEVENT
BEGIN:VEVENT
DTSTART;TZID=America/Kentucky/Louisville:20241026T123000
DTEND;TZID=America/Kentucky/Louisville:20241026T131500
DTSTAMP:20260425T074023
CREATED:20240916T134908Z
LAST-MODIFIED:20240916T134908Z
UID:57129-1729945800-1729948500@visitpikeville.com
SUMMARY:Halloween Circus
DESCRIPTION:Get ready to witness the awe-inspiring feats of The Original Queen City Stunt Show\, brought to you by the renowned Cincinnati Circus.\nThis thrilling Halloween-themed performance features a world class troupe of aerialists\, acrobats\, and stunt performers who will push the boundaries of human ability and leave you breathless—all while wearing spooky costumes! Hold your breath while our skilled aerialists perform on our amazing Wheel of Death\, daring Aerial Acrobatics show off their balance and skill\, chair stacking\, and much more! Includes audience volunteers\, surprises\, and fire!\nThe Halloween Circus will perform outdoors in the field behind the Pike County Public Library (Lee Avenue) on Saturday\, October 26th. The show runs 45 minutes and begins at 12:30\, 2:30\, and 4:30. Join the fun and wear your Halloween costume!\nWeather permitting. No registration required.
URL:https://visitpikeville.com/event/halloween-circus-2/
LOCATION:Pike County Public Library\, 126 Lee Avenue\, Pikeville\, KY\, 41501\, United States
CATEGORIES:Pike County Public Library
ATTACH;FMTTYPE=image/jpeg:https://visitpikeville.com/wp-content/uploads/2024/09/halloween-circus.jpg
END:VEVENT
BEGIN:VEVENT
DTSTART;TZID=America/Kentucky/Louisville:20241026T143000
DTEND;TZID=America/Kentucky/Louisville:20241026T151500
DTSTAMP:20260425T074023
CREATED:20240916T135020Z
LAST-MODIFIED:20240916T135020Z
UID:57132-1729953000-1729955700@visitpikeville.com
SUMMARY:Halloween Circus
DESCRIPTION:Get ready to witness the awe-inspiring feats of The Original Queen City Stunt Show\, brought to you by the renowned Cincinnati Circus.\nThis thrilling Halloween-themed performance features a world class troupe of aerialists\, acrobats\, and stunt performers who will push the boundaries of human ability and leave you breathless—all while wearing spooky costumes! Hold your breath while our skilled aerialists perform on our amazing Wheel of Death\, daring Aerial Acrobatics show off their balance and skill\, chair stacking\, and much more! Includes audience volunteers\, surprises\, and fire!\nThe Halloween Circus will perform outdoors in the field behind the Pike County Public Library (Lee Avenue) on Saturday\, October 26th. The show runs 45 minutes and begins at 12:30\, 2:30\, and 4:30. Join the fun and wear your Halloween costume!\nWeather permitting. No registration required.
URL:https://visitpikeville.com/event/halloween-circus-2-2/
LOCATION:Pike County Public Library\, 126 Lee Avenue\, Pikeville\, KY\, 41501\, United States
CATEGORIES:Pike County Public Library
ATTACH;FMTTYPE=image/jpeg:https://visitpikeville.com/wp-content/uploads/2024/09/halloween-circus.jpg
END:VEVENT
BEGIN:VEVENT
DTSTART;TZID=America/Kentucky/Louisville:20241026T150000
DTEND;TZID=America/Kentucky/Louisville:20241026T170000
DTSTAMP:20260425T074023
CREATED:20240729T140300Z
LAST-MODIFIED:20240729T140300Z
UID:54212-1729954800-1729962000@visitpikeville.com
SUMMARY:Young Adult Craft Class
DESCRIPTION:This social craft class for young adults ages 18-25 meets alternating Saturdays at 3:00. No registration required.
URL:https://visitpikeville.com/event/young-adult-craft-class-2-2-2-2-2/
LOCATION:Pike County Public Library\, 126 Lee Avenue\, Pikeville\, KY\, 41501\, United States
CATEGORIES:Pike County Public Library
ATTACH;FMTTYPE=image/jpeg:https://visitpikeville.com/wp-content/uploads/2024/07/young.jpg
END:VEVENT
BEGIN:VEVENT
DTSTART;TZID=America/Kentucky/Louisville:20241026T163000
DTEND;TZID=America/Kentucky/Louisville:20241026T171500
DTSTAMP:20260425T074023
CREATED:20240916T135105Z
LAST-MODIFIED:20240916T135105Z
UID:57134-1729960200-1729962900@visitpikeville.com
SUMMARY:Halloween Circus
DESCRIPTION:Get ready to witness the awe-inspiring feats of The Original Queen City Stunt Show\, brought to you by the renowned Cincinnati Circus.\nThis thrilling Halloween-themed performance features a world class troupe of aerialists\, acrobats\, and stunt performers who will push the boundaries of human ability and leave you breathless—all while wearing spooky costumes! Hold your breath while our skilled aerialists perform on our amazing Wheel of Death\, daring Aerial Acrobatics show off their balance and skill\, chair stacking\, and much more! Includes audience volunteers\, surprises\, and fire!\nThe Halloween Circus will perform outdoors in the field behind the Pike County Public Library (Lee Avenue) on Saturday\, October 26th. The show runs 45 minutes and begins at 12:30\, 2:30\, and 4:30. Join the fun and wear your Halloween costume!\nWeather permitting. No registration required.
URL:https://visitpikeville.com/event/halloween-circus-2-2-2/
LOCATION:Pike County Public Library\, 126 Lee Avenue\, Pikeville\, KY\, 41501\, United States
CATEGORIES:Pike County Public Library
ATTACH;FMTTYPE=image/jpeg:https://visitpikeville.com/wp-content/uploads/2024/09/halloween-circus.jpg
END:VEVENT
BEGIN:VEVENT
DTSTART;TZID=America/Kentucky/Louisville:20241026T190000
DTEND;TZID=America/Kentucky/Louisville:20241026T210000
DTSTAMP:20260425T074023
CREATED:20240701T133634Z
LAST-MODIFIED:20240701T133634Z
UID:53083-1729969200-1729976400@visitpikeville.com
SUMMARY:Football vs Bluefield University
DESCRIPTION:Game Day!
URL:https://visitpikeville.com/event/football-vs-bluefield-university/
LOCATION:Pikeville High School\, 120 Championship Dr\,\, Pikeville\, KY\, 41501\, United States
CATEGORIES:UPike
ATTACH;FMTTYPE=image/png:https://visitpikeville.com/wp-content/uploads/2024/07/Screen-Shot-2024-07-01-at-9.34.29-AM.png
END:VEVENT
BEGIN:VEVENT
DTSTART;TZID=America/Kentucky/Louisville:20241026T190000
DTEND;TZID=America/Kentucky/Louisville:20241026T220000
DTSTAMP:20260425T074023
CREATED:20240930T145227Z
LAST-MODIFIED:20240930T145227Z
UID:57817-1729969200-1729980000@visitpikeville.com
SUMMARY:Halloween Party
DESCRIPTION:Live Music by The Swagtones
URL:https://visitpikeville.com/event/halloween-party/
LOCATION:Dueling Barrels\, 226 2nd Street\, Pikeville\, KY\, 41501\, United States
CATEGORIES:Other
ATTACH;FMTTYPE=image/jpeg:https://visitpikeville.com/wp-content/uploads/2024/09/halloween.jpg
END:VEVENT
BEGIN:VEVENT
DTSTART;TZID=America/Kentucky/Louisville:20241026T193000
DTEND;TZID=America/Kentucky/Louisville:20241026T233000
DTSTAMP:20260425T074023
CREATED:20240923T124922Z
LAST-MODIFIED:20240923T124922Z
UID:57444-1729971000-1729985400@visitpikeville.com
SUMMARY:The Dead Ball
DESCRIPTION:The Dead Ball is back! Ticket sale COMING SOON! The ball will be held at the Appalachian Wireless Arena Ballroom. Tickets will be available through the www.theapparts.org website.
URL:https://visitpikeville.com/event/the-dead-ball-3/
LOCATION:Appalachian Wireless Arena\, 126 Main Street\, Pikeville\, Ky\, 41501
CATEGORIES:Appalachian Wireless Arena,The Appalachian Center for the Arts
ATTACH;FMTTYPE=image/jpeg:https://visitpikeville.com/wp-content/uploads/2024/09/DEAD-BALL.jpg
END:VEVENT
BEGIN:VEVENT
DTSTART;TZID=America/Kentucky/Louisville:20241026T213000
DTEND;TZID=America/Kentucky/Louisville:20241027T013000
DTSTAMP:20260425T074023
CREATED:20241021T115527Z
LAST-MODIFIED:20241021T115527Z
UID:58789-1729978200-1729992600@visitpikeville.com
SUMMARY:Halloween Party
DESCRIPTION:Halloween festivities are underway! Join us Saturday night at 9:30pm for our Halloween party\, featuring specialty drinks and prizes.
URL:https://visitpikeville.com/event/halloween-party-2/
LOCATION:Bank 253\, 253 2nd St\,\, Pikeville\, KY\, 41501\, United States
CATEGORIES:Other
ATTACH;FMTTYPE=image/jpeg:https://visitpikeville.com/wp-content/uploads/2024/10/halloween-party.jpg
END:VEVENT
BEGIN:VEVENT
DTSTART;TZID=America/Kentucky/Louisville:20241027T170000
DTEND;TZID=America/Kentucky/Louisville:20241027T190000
DTSTAMP:20260425T074023
CREATED:20240917T143421Z
LAST-MODIFIED:20240917T144159Z
UID:57206-1730048400-1730055600@visitpikeville.com
SUMMARY:Trunk-or-Treat Extravaganza
DESCRIPTION:Join Us! \nCandy\, Costumes\, Fun \nLive Music \nInflatables \nFood
URL:https://visitpikeville.com/event/trunk-or-treat-extravaganza/
LOCATION:FIRST PRESBYTERIAN CHURCH\, 508 Cedar Creek Rd.\, Pikeville\, KY\, 41501\, United States
CATEGORIES:Other
ATTACH;FMTTYPE=image/jpeg:https://visitpikeville.com/wp-content/uploads/2024/09/trunk-or-treat.jpg
END:VEVENT
BEGIN:VEVENT
DTSTART;TZID=America/Kentucky/Louisville:20241027T170000
DTEND;TZID=America/Kentucky/Louisville:20241027T190000
DTSTAMP:20260425T074023
CREATED:20241001T181102Z
LAST-MODIFIED:20241001T181102Z
UID:57936-1730048400-1730055600@visitpikeville.com
SUMMARY:Trunk or Treat
DESCRIPTION:Food\, Candy\, Entertainment
URL:https://visitpikeville.com/event/trunk-or-treat/
LOCATION:First Baptist Church\, 126 4th Street\, Pikeville\, KY\, 41501\, United States
CATEGORIES:Other
ATTACH;FMTTYPE=image/jpeg:https://visitpikeville.com/wp-content/uploads/2024/10/1.jpeg
END:VEVENT
END:VCALENDAR