BEGIN:VCALENDAR
VERSION:2.0
PRODID:-//Visit Pikeville - ECPv6.15.20//NONSGML v1.0//EN
CALSCALE:GREGORIAN
METHOD:PUBLISH
X-WR-CALNAME:Visit Pikeville
X-ORIGINAL-URL:https://visitpikeville.com
X-WR-CALDESC:Events for Visit Pikeville
REFRESH-INTERVAL;VALUE=DURATION:PT1H
X-Robots-Tag:noindex
X-PUBLISHED-TTL:PT1H
BEGIN:VTIMEZONE
TZID:America/Kentucky/Louisville
BEGIN:DAYLIGHT
TZOFFSETFROM:-0500
TZOFFSETTO:-0400
TZNAME:EDT
DTSTART:20230312T070000
END:DAYLIGHT
BEGIN:STANDARD
TZOFFSETFROM:-0400
TZOFFSETTO:-0500
TZNAME:EST
DTSTART:20231105T060000
END:STANDARD
BEGIN:DAYLIGHT
TZOFFSETFROM:-0500
TZOFFSETTO:-0400
TZNAME:EDT
DTSTART:20240310T070000
END:DAYLIGHT
BEGIN:STANDARD
TZOFFSETFROM:-0400
TZOFFSETTO:-0500
TZNAME:EST
DTSTART:20241103T060000
END:STANDARD
BEGIN:DAYLIGHT
TZOFFSETFROM:-0500
TZOFFSETTO:-0400
TZNAME:EDT
DTSTART:20250309T070000
END:DAYLIGHT
BEGIN:STANDARD
TZOFFSETFROM:-0400
TZOFFSETTO:-0500
TZNAME:EST
DTSTART:20251102T060000
END:STANDARD
END:VTIMEZONE
BEGIN:VEVENT
DTSTART;TZID=America/Kentucky/Louisville:20240914T090000
DTEND;TZID=America/Kentucky/Louisville:20240914T130000
DTSTAMP:20260425T072629
CREATED:20240513T175052Z
LAST-MODIFIED:20240513T175052Z
UID:51279-1726304400-1726318800@visitpikeville.com
SUMMARY:Pikeville Farmer's Market
DESCRIPTION:Tuesday from 4:30-7:00 \nSaturday 9:00-1:00 \n 
URL:https://visitpikeville.com/event/pikeville-farmers-market-5-2-2-2-2-2-2-2-2-2-2-2-2-2-2-2-2-2-2/
LOCATION:Pikeville Farmer’s Market\, 130 Adams Lane\, Pikeville\, Ky
CATEGORIES:Other
ATTACH;FMTTYPE=image/jpeg:https://visitpikeville.com/wp-content/uploads/2024/05/farmers-market.jpeg
END:VEVENT
BEGIN:VEVENT
DTSTART;TZID=America/Kentucky/Louisville:20240914T100000
DTEND;TZID=America/Kentucky/Louisville:20240914T140000
DTSTAMP:20260425T072629
CREATED:20240826T131618Z
LAST-MODIFIED:20240826T131618Z
UID:55887-1726308000-1726322400@visitpikeville.com
SUMMARY:Teen VR Party
DESCRIPTION:Teens and young adults say goodbye to summer with friends and VR games. No registration required.\nThis program will be held on Saturday\, September 14 from 10:00-2:00 at the Pike County Public Library (Lee Avenue) in the Teen Room.
URL:https://visitpikeville.com/event/teen-vr-party/
LOCATION:Pike County Public Library\, 126 Lee Avenue\, Pikeville\, KY\, 41501\, United States
CATEGORIES:Pike County Public Library
ATTACH;FMTTYPE=image/jpeg:https://visitpikeville.com/wp-content/uploads/2024/08/vr.jpg
END:VEVENT
BEGIN:VEVENT
DTSTART;TZID=America/Kentucky/Louisville:20240914T110000
DTEND;TZID=America/Kentucky/Louisville:20240914T120000
DTSTAMP:20260425T072629
CREATED:20240903T144537Z
LAST-MODIFIED:20240903T144537Z
UID:56446-1726311600-1726315200@visitpikeville.com
SUMMARY:Story Time
DESCRIPTION:tory Time is for children ages 5 and under and features books\, action/movement\, songs\, and a craft. Story Time is held Thursdays at 11:00 and 2:00 and Saturdays at 11:00. \n\n\n\n\n\n\n  \nBesides being fun\, Story Time also helps develop early literacy and school readiness skills through reading\, singing\, listening\, playing\, and social interaction. This program lasts approximately 30 minutes\, and caregivers and children are encouraged to linger in the library afterwards to further socialize and choose books to take home.
URL:https://visitpikeville.com/event/story-time-2-2-2-2-2-2-2-2-2-2-2-2-2-2-2-2-2-2-2-2-2-2-2-2-2-2-2-2-2-2-2-2-2-2-2-2-2-2-2-2-2-2-2-2-2-2-2-2-2-2-2-2-2-2-2-3-2-2/
LOCATION:Pike County Public Library\, 126 Lee Avenue\, Pikeville\, KY\, 41501\, United States
CATEGORIES:Pike County Public Library
ATTACH;FMTTYPE=image/png:https://visitpikeville.com/wp-content/uploads/2023/12/Story_TimeLEE.png
END:VEVENT
BEGIN:VEVENT
DTSTART;TZID=America/Kentucky/Louisville:20240914T110000
DTEND;TZID=America/Kentucky/Louisville:20240914T130000
DTSTAMP:20260425T072629
CREATED:20240903T145335Z
LAST-MODIFIED:20240903T145335Z
UID:56468-1726311600-1726318800@visitpikeville.com
SUMMARY:Quilters Group
DESCRIPTION:Pike County Public Library Quilters Group is a quilting social that also teaches quilting and needlework. Participants exchange patterns\, quilting ideas\, and sewing projects. Both beginners and experienced quilters are welcome! Quilters Group meets alternating Saturdays at noon at the Lee Avenue Library.\nFor more information\, contact Charlene at 606-437-6001 or charlene@pikelibrary.org
URL:https://visitpikeville.com/event/quilters-group-4-2-2-2-2-2-2-2-2-2-2-2-2-2-2-2-2-2-2-2-2-2-2-2-2/
LOCATION:Pike County Public Library\, 126 Lee Avenue\, Pikeville\, KY\, 41501\, United States
CATEGORIES:Pike County Public Library
ATTACH;FMTTYPE=image/jpeg:https://visitpikeville.com/wp-content/uploads/2024/06/quilters.jpeg
END:VEVENT
BEGIN:VEVENT
DTSTART;TZID=America/Kentucky/Louisville:20240914T130000
DTEND;TZID=America/Kentucky/Louisville:20240914T150000
DTSTAMP:20260425T072629
CREATED:20240701T125302Z
LAST-MODIFIED:20240701T125302Z
UID:53040-1726318800-1726326000@visitpikeville.com
SUMMARY:Women's Soccer vs Johnson University
DESCRIPTION:Game Day!!
URL:https://visitpikeville.com/event/womens-soccer-vs-johnson-university/
LOCATION:Bob Amos Park\, 424 Bob Amos Dr\, Pikeville\, Ky\, 41501
CATEGORIES:UPike
ATTACH;FMTTYPE=image/png:https://visitpikeville.com/wp-content/uploads/2024/07/Screen-Shot-2024-07-01-at-8.49.57-AM.png
END:VEVENT
BEGIN:VEVENT
DTSTART;TZID=America/Kentucky/Louisville:20240914T130000
DTEND;TZID=America/Kentucky/Louisville:20240914T230000
DTSTAMP:20260425T072629
CREATED:20240903T125645Z
LAST-MODIFIED:20240903T125645Z
UID:56357-1726318800-1726354800@visitpikeville.com
SUMMARY:Horseshoe Tournament
DESCRIPTION:2 person team \nEntry $20
URL:https://visitpikeville.com/event/horseshoe-tournament/
LOCATION:MineShaft Harley-Davidson\, 114 Harley Dr\, Pikeville\, KY\, 41501
CATEGORIES:Other
ATTACH;FMTTYPE=image/jpeg:https://visitpikeville.com/wp-content/uploads/2024/09/horseshoe.jpg
END:VEVENT
BEGIN:VEVENT
DTSTART;TZID=America/Kentucky/Louisville:20240914T150000
DTEND;TZID=America/Kentucky/Louisville:20240914T170000
DTSTAMP:20260425T072629
CREATED:20240729T140025Z
LAST-MODIFIED:20240729T140025Z
UID:54206-1726326000-1726333200@visitpikeville.com
SUMMARY:Young Adult Craft Class
DESCRIPTION:This social craft class for young adults ages 18-25 meets alternating Saturdays at 3:00. No registration required.
URL:https://visitpikeville.com/event/young-adult-craft-class-2-2/
LOCATION:Pike County Public Library\, 126 Lee Avenue\, Pikeville\, KY\, 41501\, United States
CATEGORIES:Pike County Public Library
ATTACH;FMTTYPE=image/jpeg:https://visitpikeville.com/wp-content/uploads/2024/07/young.jpg
END:VEVENT
BEGIN:VEVENT
DTSTART;TZID=America/Kentucky/Louisville:20240914T153000
DTEND;TZID=America/Kentucky/Louisville:20240914T173000
DTSTAMP:20260425T072629
CREATED:20240701T125558Z
LAST-MODIFIED:20240701T125558Z
UID:53043-1726327800-1726335000@visitpikeville.com
SUMMARY:Men's Soccer vs Johnson University
DESCRIPTION:Game Day!!
URL:https://visitpikeville.com/event/mens-soccer-vs-johnson-university/
LOCATION:Bob Amos Park\, 424 Bob Amos Dr\, Pikeville\, Ky\, 41501
CATEGORIES:UPike
ATTACH;FMTTYPE=image/png:https://visitpikeville.com/wp-content/uploads/2024/07/Screen-Shot-2024-07-01-at-8.53.22-AM.png
END:VEVENT
BEGIN:VEVENT
DTSTART;TZID=America/Kentucky/Louisville:20240914T200000
DTEND;TZID=America/Kentucky/Louisville:20240914T220000
DTSTAMP:20260425T072629
CREATED:20240429T134212Z
LAST-MODIFIED:20240429T134212Z
UID:50382-1726344000-1726351200@visitpikeville.com
SUMMARY:Nelly
DESCRIPTION:September 14th \n8pm \nAppalachian Wireless Arena \nTickets on sale Friday\, May 3rd at 10am.\nFor tickets visit the Community Trust Bank Box Office or Ticketmaster.om \nTicket prices $39.50\, $55.00\, $75.00\, $95.00\, and $125.00\nSupport to be announced soon! 
URL:https://visitpikeville.com/event/nelly/
LOCATION:Appalachian Wireless Arena\, 126 Main Street\, Pikeville\, Ky\, 41501
CATEGORIES:Appalachian Wireless Arena
ATTACH;FMTTYPE=image/jpeg:https://visitpikeville.com/wp-content/uploads/2024/04/nelly.jpeg
END:VEVENT
BEGIN:VEVENT
DTSTART;TZID=America/Kentucky/Louisville:20240914T220000
DTEND;TZID=America/Kentucky/Louisville:20240915T003000
DTSTAMP:20260425T072629
CREATED:20240903T140253Z
LAST-MODIFIED:20240903T140253Z
UID:56383-1726351200-1726360200@visitpikeville.com
SUMMARY:DJ at Bank253
DESCRIPTION:10:00pm – 12:30am
URL:https://visitpikeville.com/event/dj-at-bank253/
LOCATION:Bank 253\, 253 2nd St\,\, Pikeville\, KY\, 41501\, United States
CATEGORIES:Other
ATTACH;FMTTYPE=image/jpeg:https://visitpikeville.com/wp-content/uploads/2024/09/bank-253.jpg
END:VEVENT
BEGIN:VEVENT
DTSTART;TZID=America/Kentucky/Louisville:20240916T090000
DTEND;TZID=America/Kentucky/Louisville:20240916T150000
DTSTAMP:20260425T072629
CREATED:20240909T134814Z
LAST-MODIFIED:20240909T134814Z
UID:56859-1726477200-1726498800@visitpikeville.com
SUMMARY:Pikeville Job Fair
DESCRIPTION:Are you ready to take the next step in your healthcare career? Join us at the Pikeville Medical Center (PMC) On-The-Spot Hiring Event! This is your chance to become a part of the PMC team and make a difference in our community.\nWhat to Expect:On-The-Spot Hiring: Bring your passion and skills; we’ll handle the rest! Interviews and job offers will be made on the spot.What to Bring: Please bring two forms of ID for identification purposes.Location: The event will be held at the Workforce Innovation Center\, behind the Landmark Hotel.\nWhy Join PMC?Pikeville Medical Center is committed to excellence in healthcare. We offer competitive salaries\, comprehensive benefits\, and a supportive work environment. Whether you’re a seasoned professional or just starting your career\, we have opportunities for you to grow and thrive.\nHow to Prepare:\nArrive Early: We anticipate a large turnout\, so plan to arrive early.Dress Professionally: First impressions matter\, so dress to impress.RSVP Today: Let us know you’re coming by clicking “Interested” or “Going” on this event. We can’t wait to meet you!\nQuestions? Feel free to message us directly or leave a comment here in the event!\nDon’t miss this incredible opportunity to join a team that cares. See you on September 16th!
URL:https://visitpikeville.com/event/pikeville-job-fair-6/
LOCATION:Workforce Innovation Center at Pikeville Medical Center\, 190 S Mayo Trail\,\, Pikeville\, KY\, 41501\, United States
CATEGORIES:Other
ATTACH;FMTTYPE=image/jpeg:https://visitpikeville.com/wp-content/uploads/2024/09/job-fair.jpg
END:VEVENT
BEGIN:VEVENT
DTSTART;TZID=America/Kentucky/Louisville:20240916T090000
DTEND;TZID=America/Kentucky/Louisville:20240916T150000
DTSTAMP:20260425T072629
CREATED:20240916T132916Z
LAST-MODIFIED:20240916T132916Z
UID:57119-1726477200-1726498800@visitpikeville.com
SUMMARY:Car Seat Check Event
DESCRIPTION:National Certified Technicians on site
URL:https://visitpikeville.com/event/car-seat-check-event-2/
LOCATION:Compassion Pediatrics\, 140 Adams Lane\, Pikeville\, KY\, 41501\, United States
CATEGORIES:Pike County Health Department
ATTACH;FMTTYPE=image/jpeg:https://visitpikeville.com/wp-content/uploads/2024/09/compassion.jpg
END:VEVENT
BEGIN:VEVENT
DTSTART;TZID=America/Kentucky/Louisville:20240916T160000
DTEND;TZID=America/Kentucky/Louisville:20240916T173000
DTSTAMP:20260425T072629
CREATED:20240903T145543Z
LAST-MODIFIED:20240903T145543Z
UID:56472-1726502400-1726507800@visitpikeville.com
SUMMARY:Anime Group
DESCRIPTION:Watch anime\, get to know fellow fans\, talk about your favorite shows and manga series\, discuss cosplay ideas & techniques\, and more! Meets alternating Mondays at the Lee Avenue library at 4:00.
URL:https://visitpikeville.com/event/anime-group-5-2-2-2-2-2-2-2-2-2-2-2-2-2/
LOCATION:Pike County Public Library\, 126 Lee Avenue\, Pikeville\, KY\, 41501\, United States
CATEGORIES:Pike County Public Library
ATTACH;FMTTYPE=image/jpeg:https://visitpikeville.com/wp-content/uploads/2023/12/AnimeGroup.jpeg
END:VEVENT
BEGIN:VEVENT
DTSTART;TZID=America/Kentucky/Louisville:20240917T100000
DTEND;TZID=America/Kentucky/Louisville:20240917T110000
DTSTAMP:20260425T072629
CREATED:20240909T133250Z
LAST-MODIFIED:20240909T133250Z
UID:56848-1726567200-1726570800@visitpikeville.com
SUMMARY:Pike County Fiscal Court Meeting
DESCRIPTION:10:00 am @ Courthouse
URL:https://visitpikeville.com/event/pike-county-fiscal-court-meeting-2-2-2-2-2-2-2-2-3-2-2-2/
LOCATION:Courthouse\, 175 Main St.\, Pikeville\, KY\, 41501\, United States
CATEGORIES:City of Pikeville
ATTACH;FMTTYPE=image/png:https://visitpikeville.com/wp-content/uploads/2023/09/image001.png
END:VEVENT
BEGIN:VEVENT
DTSTART;TZID=America/Kentucky/Louisville:20240917T163000
DTEND;TZID=America/Kentucky/Louisville:20240917T190000
DTSTAMP:20260425T072629
CREATED:20240513T175130Z
LAST-MODIFIED:20240513T175130Z
UID:51281-1726590600-1726599600@visitpikeville.com
SUMMARY:Pikeville Farmer's Market
DESCRIPTION:Tuesday from 4:30-7:00 \nSaturday 9:00-1:00 \n 
URL:https://visitpikeville.com/event/pikeville-farmers-market-5-3-2-2-3-2-2-2-2-2-2-2-2-2-2-2-2-2/
LOCATION:Pikeville Farmer’s Market\, 130 Adams Lane\, Pikeville\, Ky
CATEGORIES:Other
ATTACH;FMTTYPE=image/jpeg:https://visitpikeville.com/wp-content/uploads/2024/05/farmers-market.jpeg
END:VEVENT
BEGIN:VEVENT
DTSTART;TZID=America/Kentucky/Louisville:20240917T173000
DTEND;TZID=America/Kentucky/Louisville:20240917T183000
DTSTAMP:20260425T072629
CREATED:20240903T145859Z
LAST-MODIFIED:20240903T145859Z
UID:56476-1726594200-1726597800@visitpikeville.com
SUMMARY:Spud Run: Potato Car Derby
DESCRIPTION:Fit a potato with wheels and axels and decorate it for the Spud Run! Awards will be given for Best Looking\, Fastest\, Funniest Looking\, and People’s Choice at this Potato Car Derby. No registration is required. All materials provided.\nThis program for kids 12 and under will be held at the following times:\nTuesday\, September 17th at 5:30 – Pike County Public Library (Lee Avenue)\, Elkhorn City Public Library\, Vesta Roberts Johnson Memorial Library\nThursday\, September 19th at 5:30 – Belfry Public Library\nThursday\, September 26th at 5:30 – Phelps Public Library
URL:https://visitpikeville.com/event/spud-run-potato-car-derby/
LOCATION:Pike County Public Library\, 126 Lee Avenue\, Pikeville\, KY\, 41501\, United States
CATEGORIES:Pike County Public Library
ATTACH;FMTTYPE=image/jpeg:https://visitpikeville.com/wp-content/uploads/2024/09/spud.jpg
END:VEVENT
BEGIN:VEVENT
DTSTART;TZID=America/Kentucky/Louisville:20240917T173000
DTEND;TZID=America/Kentucky/Louisville:20240917T203000
DTSTAMP:20260425T072629
CREATED:20240916T143134Z
LAST-MODIFIED:20240916T143134Z
UID:57152-1726594200-1726605000@visitpikeville.com
SUMMARY:Witchy Woman
DESCRIPTION:Includes all materials and step by step instructions from our art teachers
URL:https://visitpikeville.com/event/witchy-woman/
LOCATION:2 Broke Art Teachers\, 4505 Weddington Square\,\, Pikeville\, KY\, 41501\, United States
CATEGORIES:Other
ATTACH;FMTTYPE=image/jpeg:https://visitpikeville.com/wp-content/uploads/2024/09/witchy.jpg
END:VEVENT
BEGIN:VEVENT
DTSTART;TZID=America/Kentucky/Louisville:20240917T183000
DTEND;TZID=America/Kentucky/Louisville:20240917T203000
DTSTAMP:20260425T072629
CREATED:20240722T125106Z
LAST-MODIFIED:20240722T125106Z
UID:53700-1726597800-1726605000@visitpikeville.com
SUMMARY:Volleyball vs Milligan University
DESCRIPTION:Game Day!
URL:https://visitpikeville.com/event/volleyball-vs-milligan-university-2/
LOCATION:UPIKE\, 147 Sycamore St\,\, Pikeville\, KY\, 41501\, United States
CATEGORIES:UPike
ATTACH;FMTTYPE=image/png:https://visitpikeville.com/wp-content/uploads/2024/07/Screen-Shot-2024-07-22-at-8.49.45-AM.png
END:VEVENT
BEGIN:VEVENT
DTSTART;TZID=America/Kentucky/Louisville:20240918T110000
DTEND;TZID=America/Kentucky/Louisville:20240918T140000
DTSTAMP:20260425T072629
CREATED:20240916T131131Z
LAST-MODIFIED:20240916T131131Z
UID:57110-1726657200-1726668000@visitpikeville.com
SUMMARY:Blood Drive
DESCRIPTION:Mr Gatti’s Pizza is holding a blood drive on September 18th!!Come out to support this great cause! Free buffet pass and limited-edition T-shirts for all who donate!!
URL:https://visitpikeville.com/event/blood-drive-2/
LOCATION:Mr Gatti’s Pizza\, 274 Cassady Blvd\,\, Pikeville\, KY\, 41501\, United States
CATEGORIES:Southeast Kentucky Chamber
ATTACH;FMTTYPE=image/jpeg:https://visitpikeville.com/wp-content/uploads/2024/09/BLOOD-DRIVE.jpg
END:VEVENT
BEGIN:VEVENT
DTSTART;TZID=America/Kentucky/Louisville:20240918T160000
DTEND;TZID=America/Kentucky/Louisville:20240918T170000
DTSTAMP:20260425T072629
CREATED:20240903T142925Z
LAST-MODIFIED:20240903T142925Z
UID:56416-1726675200-1726678800@visitpikeville.com
SUMMARY:BASIC COMPUTER SKILLS
DESCRIPTION:Learn technology basics like e-mail\, smart phones\, social media\, and more. Meets alternating Wednesdays at 4:00.
URL:https://visitpikeville.com/event/basic-computer-skills-3-2-2-2-2-2-2-2-2-2-2-2-2-2-2-2/
LOCATION:Pike County Public Library\, 126 Lee Avenue\, Pikeville\, KY\, 41501\, United States
CATEGORIES:Pike County Public Library
ATTACH;FMTTYPE=image/png:https://visitpikeville.com/wp-content/uploads/2024/06/Basic_Computer_Skills.png
END:VEVENT
BEGIN:VEVENT
DTSTART;TZID=America/Kentucky/Louisville:20240918T170000
DTEND;TZID=America/Kentucky/Louisville:20240918T180000
DTSTAMP:20260425T072629
CREATED:20240701T130000Z
LAST-MODIFIED:20240701T130000Z
UID:53046-1726678800-1726682400@visitpikeville.com
SUMMARY:Men's Soccer vs Carolina University
DESCRIPTION:Game Day!
URL:https://visitpikeville.com/event/mens-soccer-vs-carolina-university/
LOCATION:Bob Amos Park\, 424 Bob Amos Dr\, Pikeville\, Ky\, 41501
CATEGORIES:UPike
ATTACH;FMTTYPE=image/png:https://visitpikeville.com/wp-content/uploads/2024/07/Screen-Shot-2024-07-01-at-8.56.49-AM.png
END:VEVENT
BEGIN:VEVENT
DTSTART;TZID=America/Kentucky/Louisville:20240918T170000
DTEND;TZID=America/Kentucky/Louisville:20240918T180000
DTSTAMP:20260425T072629
CREATED:20240903T124844Z
LAST-MODIFIED:20240903T124844Z
UID:56351-1726678800-1726682400@visitpikeville.com
SUMMARY:Art Together Series of classes
DESCRIPTION:*Update*- CLASSES ARE FULLWe’re so excited to bring back our Art Together Series of classes! Check out this flyer for info\, and give us a call to sign up!
URL:https://visitpikeville.com/event/art-together-series-of-classes-2/
LOCATION:Pike Co. Extension Community Arts\, 148 Trivette Dr\, Pikeville\, KY\, United States
CATEGORIES:Pike County Extension Community Arts
ATTACH;FMTTYPE=image/jpeg:https://visitpikeville.com/wp-content/uploads/2024/09/art.jpg
END:VEVENT
BEGIN:VEVENT
DTSTART;TZID=America/Kentucky/Louisville:20240919T110000
DTEND;TZID=America/Kentucky/Louisville:20240919T120000
DTSTAMP:20260425T072629
CREATED:20240903T144658Z
LAST-MODIFIED:20240903T144658Z
UID:56448-1726743600-1726747200@visitpikeville.com
SUMMARY:Story Time
DESCRIPTION:tory Time is for children ages 5 and under and features books\, action/movement\, songs\, and a craft. Story Time is held Thursdays at 11:00 and 2:00 and Saturdays at 11:00. \n\n\n\n\n\n\n  \nBesides being fun\, Story Time also helps develop early literacy and school readiness skills through reading\, singing\, listening\, playing\, and social interaction. This program lasts approximately 30 minutes\, and caregivers and children are encouraged to linger in the library afterwards to further socialize and choose books to take home.
URL:https://visitpikeville.com/event/story-time-2-2-2-2-2-2-2-2-2-2-2-2-2-2-2-2-2-2-2-2-2-2-2-2-2-2-2-2-2-2-2-2-2-2-2-2-2-2-2-2-2-2-2-2-2-2-2-2-2-2-2-2-2-2-2-3-2-2-2/
LOCATION:Pike County Public Library\, 126 Lee Avenue\, Pikeville\, KY\, 41501\, United States
CATEGORIES:Pike County Public Library
ATTACH;FMTTYPE=image/png:https://visitpikeville.com/wp-content/uploads/2023/12/Story_TimeLEE.png
END:VEVENT
BEGIN:VEVENT
DTSTART;TZID=America/Kentucky/Louisville:20240919T110000
DTEND;TZID=America/Kentucky/Louisville:20240919T190000
DTSTAMP:20260425T072629
CREATED:20240903T124421Z
LAST-MODIFIED:20240903T124421Z
UID:56345-1726743600-1726772400@visitpikeville.com
SUMMARY:Job fair!!!
DESCRIPTION:Share and come out!!!\nSeptember 19th\n11-7pm\n#jobs #comework #comewor
URL:https://visitpikeville.com/event/job-fair-3/
LOCATION:Appalachian Wireless Arena\, 126 Main Street\, Pikeville\, Ky\, 41501
CATEGORIES:Appalachian Wireless Arena
ATTACH;FMTTYPE=image/jpeg:https://visitpikeville.com/wp-content/uploads/2024/09/job.jpg
END:VEVENT
BEGIN:VEVENT
DTSTART;TZID=America/Kentucky/Louisville:20240919T140000
DTEND;TZID=America/Kentucky/Louisville:20240919T150000
DTSTAMP:20260425T072629
CREATED:20240903T144740Z
LAST-MODIFIED:20240903T144740Z
UID:56450-1726754400-1726758000@visitpikeville.com
SUMMARY:Story Time
DESCRIPTION:tory Time is for children ages 5 and under and features books\, action/movement\, songs\, and a craft. Story Time is held Thursdays at 11:00 and 2:00 and Saturdays at 11:00. \n\n\n\n\n\n\n  \nBesides being fun\, Story Time also helps develop early literacy and school readiness skills through reading\, singing\, listening\, playing\, and social interaction. This program lasts approximately 30 minutes\, and caregivers and children are encouraged to linger in the library afterwards to further socialize and choose books to take home.
URL:https://visitpikeville.com/event/story-time-2-2-2-2-2-2-2-2-2-2-2-2-2-2-2-2-2-2-2-2-2-2-2-2-2-2-2-2-2-2-2-2-2-2-2-2-2-2-2-2-2-2-2-2-2-2-2-2-2-2-2-2-2-2-2-3-2-2-2-2/
LOCATION:Pike County Public Library\, 126 Lee Avenue\, Pikeville\, KY\, 41501\, United States
CATEGORIES:Pike County Public Library
ATTACH;FMTTYPE=image/png:https://visitpikeville.com/wp-content/uploads/2023/12/Story_TimeLEE.png
END:VEVENT
BEGIN:VEVENT
DTSTART;TZID=America/Kentucky/Louisville:20240919T140000
DTEND;TZID=America/Kentucky/Louisville:20240919T160000
DTSTAMP:20260425T072629
CREATED:20240916T132531Z
LAST-MODIFIED:20240916T132635Z
UID:57116-1726754400-1726761600@visitpikeville.com
SUMMARY:Car Seat Check Event
DESCRIPTION:National Certified Technicians on Site
URL:https://visitpikeville.com/event/car-seat-check-event/
LOCATION:Pikeville Walmart Supercenter\, 254 Cassady Blvd\,\, Pikeville\, KY\, 41501\, United States
CATEGORIES:Pike County Health Department
ATTACH;FMTTYPE=image/jpeg:https://visitpikeville.com/wp-content/uploads/2024/09/car-seat.jpg
END:VEVENT
BEGIN:VEVENT
DTSTART;TZID=America/Kentucky/Louisville:20240919T160000
DTEND;TZID=America/Kentucky/Louisville:20240919T200000
DTSTAMP:20260425T072629
CREATED:20240916T131446Z
LAST-MODIFIED:20240916T131446Z
UID:57113-1726761600-1726776000@visitpikeville.com
SUMMARY:Talk like a Pirate Day
DESCRIPTION:Show us your best impression to win
URL:https://visitpikeville.com/event/talk-like-a-pirate-day/
LOCATION:Mr Gatti’s Pizza\, 274 Cassady Blvd\,\, Pikeville\, KY\, 41501\, United States
CATEGORIES:Southeast Kentucky Chamber
ATTACH;FMTTYPE=image/jpeg:https://visitpikeville.com/wp-content/uploads/2024/09/pirate.jpg
END:VEVENT
BEGIN:VEVENT
DTSTART;TZID=America/Kentucky/Louisville:20240919T170000
DTEND;TZID=America/Kentucky/Louisville:20240919T190000
DTSTAMP:20260425T072629
CREATED:20240219T165108Z
LAST-MODIFIED:20240219T165108Z
UID:47594-1726765200-1726772400@visitpikeville.com
SUMMARY:Heart Healthy Cooking Classes!
DESCRIPTION:Join us for Food for Life – A Heart Healthy Cooking Classes! Sign up for one or more of our classes in the 2024 series.\nFeb. 22\, 2024 – One Pot Cheesy Spaghetti and Easy Fruit Salad\nApril 25\, 2024 – Cabbage Roll Stew and Seasonal Fruit Crisp\nJune 6\, 2024 – Apple Chicken Salad and Peanut Butter Oatmeal Bits\nSept. 19\, 2024 – Autumn Sweet Potato Chili and Baked Fruit\nNov. 7\, 2024 – Chicken and Dumpling Soup and Apple Nachos\nPre-registration is required. Please email Kelly Elkins at kelkins@arh.org to reserve your spot in one or more classes. Space is limited.
URL:https://visitpikeville.com/event/heart-healthy-cooking-classes-2-2-2/
LOCATION:Pike County Cooperative Extension Office\, 148 Trivette Dr\, Pikeville\, KY\, 41501\, United States
CATEGORIES:Pike County Cooperative Extension Office
ATTACH;FMTTYPE=image/jpeg:https://visitpikeville.com/wp-content/uploads/2024/02/learntocook.jpeg
END:VEVENT
BEGIN:VEVENT
DTSTART;TZID=America/Kentucky/Louisville:20240919T170000
DTEND;TZID=America/Kentucky/Louisville:20240919T210000
DTSTAMP:20260425T072629
CREATED:20240903T141515Z
LAST-MODIFIED:20240903T141515Z
UID:56401-1726765200-1726779600@visitpikeville.com
SUMMARY:Beginners Sewing
DESCRIPTION:Come and Join Us
URL:https://visitpikeville.com/event/beginners-sewing-2-2-2-2-2-2-2-2-2-2-2-2-2-2-2-2-2-2-2-2-2-2-2-2-2-2-2/
LOCATION:Bridgett’s Quilting and Fabric Shop\, 237 2nd St\,\, Pikeville\, KY\, 41501\, United States
CATEGORIES:Pikeville Main Street
ATTACH;FMTTYPE=image/jpeg:https://visitpikeville.com/wp-content/uploads/2023/10/bridgetts.jpeg
END:VEVENT
BEGIN:VEVENT
DTSTART;TZID=America/Kentucky/Louisville:20240919T173000
DTEND;TZID=America/Kentucky/Louisville:20240919T183000
DTSTAMP:20260425T072629
CREATED:20240826T131920Z
LAST-MODIFIED:20240826T131920Z
UID:55890-1726767000-1726770600@visitpikeville.com
SUMMARY:Paint Pouring Workshop
DESCRIPTION:Come and explore the world of paint pouring! Select your colors\, learn techniques and create your pour masterpieces. Registration is required. This program will take place at the Pike County Public Library (Lee Avenue) outdoors in the field behind the library.\nTeens-Adults Session: September 19 at 5:30Register here: https://informationplace.libnet.info/event/11627575\nKids (Ages 5-12) Session: September 21 at 10:00Register here: https://informationplace.libnet.info/event/11627583\nOur instructor\, Brooke Harris\, is a painter who calls Lexington\, Kentucky home. Most of Brooke’s paintings use acrylic paint to create abstract scenes of time and space. While the paintings are non-referential\, they are strangely familiar and evoke memory and emotion. They depict metaphors of something greater than the physical: a spiritual reality expressed in paint. Brooke is a writing professor for Indiana Wesleyan University and is an award-winning poet and artist. Her art can be seen in galleries across the Central Kentucky area. She teaches paint workshops to all ages and is particularly interested in helping people express creativity and reflect on what it is to be human while creating art.\nThe Kentucky Arts Council\, the state arts agency\, supports Pike County Public Library District with state tax dollars and federal funding from the National Endowment for the Arts.
URL:https://visitpikeville.com/event/paint-pouring-workshop/
LOCATION:Pike County Public Library\, 126 Lee Avenue\, Pikeville\, KY\, 41501\, United States
CATEGORIES:Pike County Public Library
ATTACH;FMTTYPE=image/jpeg:https://visitpikeville.com/wp-content/uploads/2024/08/paint.jpg
END:VEVENT
END:VCALENDAR