BEGIN:VCALENDAR
VERSION:2.0
PRODID:-//Visit Pikeville - ECPv6.15.20//NONSGML v1.0//EN
CALSCALE:GREGORIAN
METHOD:PUBLISH
X-WR-CALNAME:Visit Pikeville
X-ORIGINAL-URL:https://visitpikeville.com
X-WR-CALDESC:Events for Visit Pikeville
REFRESH-INTERVAL;VALUE=DURATION:PT1H
X-Robots-Tag:noindex
X-PUBLISHED-TTL:PT1H
BEGIN:VTIMEZONE
TZID:America/Kentucky/Louisville
BEGIN:DAYLIGHT
TZOFFSETFROM:-0500
TZOFFSETTO:-0400
TZNAME:EDT
DTSTART:20230312T070000
END:DAYLIGHT
BEGIN:STANDARD
TZOFFSETFROM:-0400
TZOFFSETTO:-0500
TZNAME:EST
DTSTART:20231105T060000
END:STANDARD
BEGIN:DAYLIGHT
TZOFFSETFROM:-0500
TZOFFSETTO:-0400
TZNAME:EDT
DTSTART:20240310T070000
END:DAYLIGHT
BEGIN:STANDARD
TZOFFSETFROM:-0400
TZOFFSETTO:-0500
TZNAME:EST
DTSTART:20241103T060000
END:STANDARD
BEGIN:DAYLIGHT
TZOFFSETFROM:-0500
TZOFFSETTO:-0400
TZNAME:EDT
DTSTART:20250309T070000
END:DAYLIGHT
BEGIN:STANDARD
TZOFFSETFROM:-0400
TZOFFSETTO:-0500
TZNAME:EST
DTSTART:20251102T060000
END:STANDARD
END:VTIMEZONE
BEGIN:VEVENT
DTSTART;TZID=America/Kentucky/Louisville:20241001T080000
DTEND;TZID=America/Kentucky/Louisville:20241001T170000
DTSTAMP:20260425T074052
CREATED:20240903T142550Z
LAST-MODIFIED:20240903T142550Z
UID:56411-1727769600-1727802000@visitpikeville.com
SUMMARY:Paint the Town Pink Breast Cancer Awareness Decorating Contest
DESCRIPTION:How exciting to see the return of the Paint the Town Pink contest! The project is designed to help promote breast cancer awareness and the importance of regular screenings! Thank you to HR Jackson Law P.L.L.C. (Helena R. Jackson Esq.) for sponsoring the contest and the 2024 Paint Pikeville Pink 1 mile/5K/10K event!!Winner announced the morning of race day on October 5\, 2024!runsignup.com/Race/KY/Pikeville/PaintPikevillePink
URL:https://visitpikeville.com/event/paint-the-town-pink-breast-cancer-awareness-decorating-contest/
LOCATION:Downtown Pikeville\, Pikeville\, Ky\, 41501
CATEGORIES:Pike County Health Department
ATTACH;FMTTYPE=image/jpeg:https://visitpikeville.com/wp-content/uploads/2024/09/decorating.jpg
END:VEVENT
BEGIN:VEVENT
DTSTART;TZID=America/Kentucky/Louisville:20240930T160000
DTEND;TZID=America/Kentucky/Louisville:20240930T173000
DTSTAMP:20260425T074052
CREATED:20240903T145610Z
LAST-MODIFIED:20240903T145610Z
UID:56474-1727712000-1727717400@visitpikeville.com
SUMMARY:Anime Group
DESCRIPTION:Watch anime\, get to know fellow fans\, talk about your favorite shows and manga series\, discuss cosplay ideas & techniques\, and more! Meets alternating Mondays at the Lee Avenue library at 4:00.
URL:https://visitpikeville.com/event/anime-group-5-2-2-2-2-2-2-2-2-2-2-2-2-2-2/
LOCATION:Pike County Public Library\, 126 Lee Avenue\, Pikeville\, KY\, 41501\, United States
CATEGORIES:Pike County Public Library
ATTACH;FMTTYPE=image/jpeg:https://visitpikeville.com/wp-content/uploads/2023/12/AnimeGroup.jpeg
END:VEVENT
BEGIN:VEVENT
DTSTART;TZID=America/Kentucky/Louisville:20240928T193000
DTEND;TZID=America/Kentucky/Louisville:20240928T223000
DTSTAMP:20260425T074052
CREATED:20240903T141049Z
LAST-MODIFIED:20240903T141049Z
UID:56395-1727551800-1727562600@visitpikeville.com
SUMMARY:Daryl Amburgy
DESCRIPTION:7:30pm – 10:30pm
URL:https://visitpikeville.com/event/daryl-amburgy/
LOCATION:Bank 253\, 253 2nd St\,\, Pikeville\, KY\, 41501\, United States
CATEGORIES:Other
ATTACH;FMTTYPE=image/jpeg:https://visitpikeville.com/wp-content/uploads/2024/09/bank-253.jpg
END:VEVENT
BEGIN:VEVENT
DTSTART;TZID=America/Kentucky/Louisville:20240928T153000
DTEND;TZID=America/Kentucky/Louisville:20240928T163000
DTSTAMP:20260425T074052
CREATED:20240701T130738Z
LAST-MODIFIED:20240701T130738Z
UID:53052-1727537400-1727541000@visitpikeville.com
SUMMARY:Men's Soccer vs Bluefield University
DESCRIPTION:Game Day!
URL:https://visitpikeville.com/event/mens-soccer-vs-bluefield-university-2/
LOCATION:Bob Amos Park\, 424 Bob Amos Dr\, Pikeville\, Ky\, 41501
CATEGORIES:UPike
ATTACH;FMTTYPE=image/png:https://visitpikeville.com/wp-content/uploads/2024/07/Screen-Shot-2024-07-01-at-9.05.48-AM.png
END:VEVENT
BEGIN:VEVENT
DTSTART;TZID=America/Kentucky/Louisville:20240928T150000
DTEND;TZID=America/Kentucky/Louisville:20240928T170000
DTSTAMP:20260425T074052
CREATED:20240729T140131Z
LAST-MODIFIED:20240729T140131Z
UID:54208-1727535600-1727542800@visitpikeville.com
SUMMARY:Young Adult Craft Class
DESCRIPTION:This social craft class for young adults ages 18-25 meets alternating Saturdays at 3:00. No registration required.
URL:https://visitpikeville.com/event/young-adult-craft-class-2-2-2/
LOCATION:Pike County Public Library\, 126 Lee Avenue\, Pikeville\, KY\, 41501\, United States
CATEGORIES:Pike County Public Library
ATTACH;FMTTYPE=image/jpeg:https://visitpikeville.com/wp-content/uploads/2024/07/young.jpg
END:VEVENT
BEGIN:VEVENT
DTSTART;TZID=America/Kentucky/Louisville:20240928T140000
DTEND;TZID=America/Kentucky/Louisville:20240928T150000
DTSTAMP:20260425T074052
CREATED:20240826T132750Z
LAST-MODIFIED:20240826T132750Z
UID:55895-1727532000-1727535600@visitpikeville.com
SUMMARY:Cherokee Visions: Art\, Regalia and Storytelling
DESCRIPTION:Join Jannette Parent as she displays her Native American regalia and uses her colorful contemporary paintings to teach about the Cherokee language\, culture and beliefs.\nThis program will he held at the Pike County Public Library (Lee Avenue) on Saturday\, September 28 at 2:00. It is suitable for all ages\, and no registration is required.\nJannette is an award-winning Kentucky Crafted artist travelling from Princeton to present her Native American art\, regalia clothing and music to our library. She is an enrolled member of the Four Winds Confederation\, with a passion for preserving the culture\, history and language of her Cherokee Ancestors\, “ᎠᏂᏴᏫᏯ Aniyvwiya” (The Real People) through her colorful and contemporary art. Jannette’s acrylic paintings on canvas consist of a Cherokee word or phrase illustrated by an image. She enjoys challenging people to think about Native Americans in the present tense\, rather than the past.\nThe Kentucky Arts Council\, the state arts agency\, supports Pike County Public Library District with state tax dollars and federal funding from the National Endowment for the Arts.
URL:https://visitpikeville.com/event/cherokee-visions-art-regalia-and-storytelling/
LOCATION:Pike County Public Library\, 126 Lee Avenue\, Pikeville\, KY\, 41501\, United States
CATEGORIES:Pike County Public Library
ATTACH;FMTTYPE=image/jpeg:https://visitpikeville.com/wp-content/uploads/2024/08/cherokee.jpg
END:VEVENT
BEGIN:VEVENT
DTSTART;TZID=America/Kentucky/Louisville:20240928T130000
DTEND;TZID=America/Kentucky/Louisville:20240928T140000
DTSTAMP:20260425T074052
CREATED:20240701T130537Z
LAST-MODIFIED:20240701T130537Z
UID:53049-1727528400-1727532000@visitpikeville.com
SUMMARY:Women's Soccer vs Bluefield University
DESCRIPTION:Game Day!
URL:https://visitpikeville.com/event/womens-soccer-vs-bluefield-university/
LOCATION:Bob Amos Park\, 424 Bob Amos Dr\, Pikeville\, Ky\, 41501
CATEGORIES:UPike
ATTACH;FMTTYPE=image/png:https://visitpikeville.com/wp-content/uploads/2024/07/Screen-Shot-2024-07-01-at-9.03.09-AM.png
END:VEVENT
BEGIN:VEVENT
DTSTART;TZID=America/Kentucky/Louisville:20240928T110000
DTEND;TZID=America/Kentucky/Louisville:20240928T190000
DTSTAMP:20260425T074052
CREATED:20240819T125449Z
LAST-MODIFIED:20240819T131020Z
UID:55481-1727521200-1727550000@visitpikeville.com
SUMMARY:Hippie Fest Retailgating and Wine Tasting
DESCRIPTION:Come join us for a fun-filled day on the streets of Pikeville in your best Hippie gear! \nWine tastingMerchant Retail-gatingFarmers Market Art BarTie-DyingLive Music
URL:https://visitpikeville.com/event/hippie-fest-retailgating-and-wine-tasting/
LOCATION:Downtown Pikeville\, Pikeville\, Ky\, 41501
CATEGORIES:Pikeville Main Street
ATTACH;FMTTYPE=image/jpeg:https://visitpikeville.com/wp-content/uploads/2024/08/hippie.jpg
END:VEVENT
BEGIN:VEVENT
DTSTART;TZID=America/Kentucky/Louisville:20240928T110000
DTEND;TZID=America/Kentucky/Louisville:20240928T130000
DTSTAMP:20260425T074052
CREATED:20240903T145411Z
LAST-MODIFIED:20240903T145411Z
UID:56470-1727521200-1727528400@visitpikeville.com
SUMMARY:Quilters Group
DESCRIPTION:Pike County Public Library Quilters Group is a quilting social that also teaches quilting and needlework. Participants exchange patterns\, quilting ideas\, and sewing projects. Both beginners and experienced quilters are welcome! Quilters Group meets alternating Saturdays at noon at the Lee Avenue Library.\nFor more information\, contact Charlene at 606-437-6001 or charlene@pikelibrary.org
URL:https://visitpikeville.com/event/quilters-group-4-2-2-2-2-2-2-2-2-2-2-2-2-2-2-2-2-2-2-2-2-2-2-2-2-2/
LOCATION:Pike County Public Library\, 126 Lee Avenue\, Pikeville\, KY\, 41501\, United States
CATEGORIES:Pike County Public Library
ATTACH;FMTTYPE=image/jpeg:https://visitpikeville.com/wp-content/uploads/2024/06/quilters.jpeg
END:VEVENT
BEGIN:VEVENT
DTSTART;TZID=America/Kentucky/Louisville:20240928T110000
DTEND;TZID=America/Kentucky/Louisville:20240928T120000
DTSTAMP:20260425T074052
CREATED:20240903T145028Z
LAST-MODIFIED:20240903T145028Z
UID:56458-1727521200-1727524800@visitpikeville.com
SUMMARY:Story Time
DESCRIPTION:tory Time is for children ages 5 and under and features books\, action/movement\, songs\, and a craft. Story Time is held Thursdays at 11:00 and 2:00 and Saturdays at 11:00. \n\n\n\n\n\n\n  \nBesides being fun\, Story Time also helps develop early literacy and school readiness skills through reading\, singing\, listening\, playing\, and social interaction. This program lasts approximately 30 minutes\, and caregivers and children are encouraged to linger in the library afterwards to further socialize and choose books to take home.
URL:https://visitpikeville.com/event/story-time-2-2-2-2-2-2-2-2-2-2-2-2-2-2-2-2-2-2-2-2-2-2-2-2-2-2-2-2-2-2-2-2-2-2-2-2-2-2-2-2-2-2-2-2-2-2-2-2-2-2-2-2-2-2-2-3-2-2-2-2-2-2-2-2/
LOCATION:Pike County Public Library\, 126 Lee Avenue\, Pikeville\, KY\, 41501\, United States
CATEGORIES:Pike County Public Library
ATTACH;FMTTYPE=image/png:https://visitpikeville.com/wp-content/uploads/2023/12/Story_TimeLEE.png
END:VEVENT
BEGIN:VEVENT
DTSTART;TZID=America/Kentucky/Louisville:20240928T090000
DTEND;TZID=America/Kentucky/Louisville:20240928T130000
DTSTAMP:20260425T074052
CREATED:20240513T175411Z
LAST-MODIFIED:20240513T175411Z
UID:51287-1727514000-1727528400@visitpikeville.com
SUMMARY:Pikeville Farmer's Market
DESCRIPTION:Tuesday from 4:30-7:00 \nSaturday 9:00-1:00 \n 
URL:https://visitpikeville.com/event/pikeville-farmers-market-5-2-2-2-2-2-2-2-2-2-2-2-2-2-2-2-2-2-2-2-2/
LOCATION:Pikeville Farmer’s Market\, 130 Adams Lane\, Pikeville\, Ky
CATEGORIES:Other
ATTACH;FMTTYPE=image/jpeg:https://visitpikeville.com/wp-content/uploads/2024/05/farmers-market.jpeg
END:VEVENT
BEGIN:VEVENT
DTSTART;TZID=America/Kentucky/Louisville:20240927T210000
DTEND;TZID=America/Kentucky/Louisville:20240927T230000
DTSTAMP:20260425T074052
CREATED:20240903T140836Z
LAST-MODIFIED:20240903T140836Z
UID:56393-1727470800-1727478000@visitpikeville.com
SUMMARY:DJ @ Bank 253
DESCRIPTION:9:00pm – 11:00pm
URL:https://visitpikeville.com/event/dj-bank-253/
LOCATION:Bank 253\, 253 2nd St\,\, Pikeville\, KY\, 41501\, United States
CATEGORIES:Other
ATTACH;FMTTYPE=image/jpeg:https://visitpikeville.com/wp-content/uploads/2024/09/bank-253.jpg
END:VEVENT
BEGIN:VEVENT
DTSTART;TZID=America/Kentucky/Louisville:20240927T200000
DTEND;TZID=America/Kentucky/Louisville:20240927T220000
DTSTAMP:20260425T074052
CREATED:20240923T131506Z
LAST-MODIFIED:20240923T131506Z
UID:57455-1727467200-1727474400@visitpikeville.com
SUMMARY:Live Music
DESCRIPTION:Ashton Lockard
URL:https://visitpikeville.com/event/live-music-2/
LOCATION:Dueling Barrels\, 226 2nd Street\, Pikeville\, KY\, 41501\, United States
CATEGORIES:Other
ATTACH;FMTTYPE=image/jpeg:https://visitpikeville.com/wp-content/uploads/2024/09/live-music.jpg
END:VEVENT
BEGIN:VEVENT
DTSTART;TZID=America/Kentucky/Louisville:20240927T173000
DTEND;TZID=America/Kentucky/Louisville:20240927T203000
DTSTAMP:20260425T074052
CREATED:20240923T134627Z
LAST-MODIFIED:20240923T134627Z
UID:57482-1727458200-1727469000@visitpikeville.com
SUMMARY:September “do overs”
DESCRIPTION:Last month’s “do overs” was a great success. Here’s your chance if you missed a painting that you wanted to paint. Sign up!
URL:https://visitpikeville.com/event/september-do-overs/
LOCATION:KY
CATEGORIES:Other
ATTACH;FMTTYPE=image/jpeg:https://visitpikeville.com/wp-content/uploads/2024/09/do-ovwrs.jpg
END:VEVENT
BEGIN:VEVENT
DTSTART;TZID=America/Kentucky/Louisville:20240926T183000
DTEND;TZID=America/Kentucky/Louisville:20240926T203000
DTSTAMP:20260425T074052
CREATED:20240903T140723Z
LAST-MODIFIED:20240903T140723Z
UID:56391-1727375400-1727382600@visitpikeville.com
SUMMARY:DJ Bingo
DESCRIPTION:6:30pm – 8:30pm
URL:https://visitpikeville.com/event/dj-bingo/
LOCATION:Bank 253\, 253 2nd St\,\, Pikeville\, KY\, 41501\, United States
CATEGORIES:Other
ATTACH;FMTTYPE=image/jpeg:https://visitpikeville.com/wp-content/uploads/2024/09/bank-253.jpg
END:VEVENT
BEGIN:VEVENT
DTSTART;TZID=America/Kentucky/Louisville:20240926T173000
DTEND;TZID=America/Kentucky/Louisville:20240926T203000
DTSTAMP:20260425T074052
CREATED:20240923T134838Z
LAST-MODIFIED:20240923T134838Z
UID:57485-1727371800-1727382600@visitpikeville.com
SUMMARY:Fall Inside KY
DESCRIPTION:Just came off the easel. Sign up for Thursday. 
URL:https://visitpikeville.com/event/fall-inside-ky/
LOCATION:2 Broke Art Teachers\, 4505 Weddington Square\,\, Pikeville\, KY\, 41501\, United States
CATEGORIES:Other
ATTACH;FMTTYPE=image/jpeg:https://visitpikeville.com/wp-content/uploads/2024/09/FALL-2.jpg
END:VEVENT
BEGIN:VEVENT
DTSTART;TZID=America/Kentucky/Louisville:20240926T173000
DTEND;TZID=America/Kentucky/Louisville:20240926T183000
DTSTAMP:20260425T074052
CREATED:20240903T143118Z
LAST-MODIFIED:20240903T143118Z
UID:56426-1727371800-1727375400@visitpikeville.com
SUMMARY:Sign Language Class
DESCRIPTION:Learn American Sign Language with interpreter Tracy Jackson\, with classes held every Thursday at 5:30 at the Pike County Public Library (Lee Avenue). Suitable for all ages. No registration required.
URL:https://visitpikeville.com/event/sign-language-class-3-2-2-2-2-2-2-2/
LOCATION:Pike County Public Library\, 126 Lee Avenue\, Pikeville\, KY\, 41501\, United States
CATEGORIES:Pike County Public Library
ATTACH;FMTTYPE=image/png:https://visitpikeville.com/wp-content/uploads/2024/08/Sign_Language_Class.png
END:VEVENT
BEGIN:VEVENT
DTSTART;TZID=America/Kentucky/Louisville:20240926T170000
DTEND;TZID=America/Kentucky/Louisville:20240926T210000
DTSTAMP:20260425T074052
CREATED:20240903T141540Z
LAST-MODIFIED:20240903T141540Z
UID:56403-1727370000-1727384400@visitpikeville.com
SUMMARY:Beginners Sewing
DESCRIPTION:Come and Join Us
URL:https://visitpikeville.com/event/beginners-sewing-2-2-2-2-2-2-2-2-2-2-2-2-2-2-2-2-2-2-2-2-2-2-2-2-2-2-2-2/
LOCATION:Bridgett’s Quilting and Fabric Shop\, 237 2nd St\,\, Pikeville\, KY\, 41501\, United States
CATEGORIES:Pikeville Main Street
ATTACH;FMTTYPE=image/jpeg:https://visitpikeville.com/wp-content/uploads/2023/10/bridgetts.jpeg
END:VEVENT
BEGIN:VEVENT
DTSTART;TZID=America/Kentucky/Louisville:20240926T170000
DTEND;TZID=America/Kentucky/Louisville:20240926T184500
DTSTAMP:20260425T074052
CREATED:20240903T145248Z
LAST-MODIFIED:20240903T145248Z
UID:56466-1727370000-1727376300@visitpikeville.com
SUMMARY:Dungeons and Dragons
DESCRIPTION:Dungeons and Dragons Group meets every other Thursday at 5:00 at the Pike County Public Library (Lee Avenue). Beginners and experienced players alike are welcome.
URL:https://visitpikeville.com/event/dungeons-and-dragons-5-2-2-2-2-2-2-2-2-2-2-2-2-2-2-2/
LOCATION:Pike County Public Library\, 126 Lee Avenue\, Pikeville\, KY\, 41501\, United States
CATEGORIES:Pike County Public Library
ATTACH;FMTTYPE=image/png:https://visitpikeville.com/wp-content/uploads/2023/12/D_D_Group.png
END:VEVENT
BEGIN:VEVENT
DTSTART;TZID=America/Kentucky/Louisville:20240926T170000
DTEND;TZID=America/Kentucky/Louisville:20240926T183000
DTSTAMP:20260425T074052
CREATED:20240819T212550Z
LAST-MODIFIED:20240819T212550Z
UID:55521-1727370000-1727375400@visitpikeville.com
SUMMARY:Appalachian Culture Club
DESCRIPTION:We are so excited to offer our new upcoming program! Looking for a great afterschool club that focuses on keeping our Appalachian culture alive? A club where you can learn how to make chicken scratch\, authentic homemade candy\, corn husk dolls\, and more?? Look no further! Pike County 4-H is partnering with the Pike County Homemakers for our new Appalachian Culture Club! This club will be targeted towards ages 9-18. Spots are limited\, so please call the Pike County Extension Office to register!
URL:https://visitpikeville.com/event/appalachian-culture-club-2-2/
LOCATION:Pike County Extension Office\, 148 Trivette Dr\, Pikeville\, KY\, 41501\, United States
CATEGORIES:Pike County Extension Community Arts
ATTACH;FMTTYPE=image/jpeg:https://visitpikeville.com/wp-content/uploads/2024/08/4h.jpg
END:VEVENT
BEGIN:VEVENT
DTSTART;TZID=America/Kentucky/Louisville:20240926T140000
DTEND;TZID=America/Kentucky/Louisville:20240926T150000
DTSTAMP:20260425T074052
CREATED:20240903T144939Z
LAST-MODIFIED:20240903T144939Z
UID:56456-1727359200-1727362800@visitpikeville.com
SUMMARY:Story Time
DESCRIPTION:tory Time is for children ages 5 and under and features books\, action/movement\, songs\, and a craft. Story Time is held Thursdays at 11:00 and 2:00 and Saturdays at 11:00. \n\n\n\n\n\n\n  \nBesides being fun\, Story Time also helps develop early literacy and school readiness skills through reading\, singing\, listening\, playing\, and social interaction. This program lasts approximately 30 minutes\, and caregivers and children are encouraged to linger in the library afterwards to further socialize and choose books to take home.
URL:https://visitpikeville.com/event/story-time-2-2-2-2-2-2-2-2-2-2-2-2-2-2-2-2-2-2-2-2-2-2-2-2-2-2-2-2-2-2-2-2-2-2-2-2-2-2-2-2-2-2-2-2-2-2-2-2-2-2-2-2-2-2-2-3-2-2-2-2-2-2-2/
LOCATION:Pike County Public Library\, 126 Lee Avenue\, Pikeville\, KY\, 41501\, United States
CATEGORIES:Pike County Public Library
ATTACH;FMTTYPE=image/png:https://visitpikeville.com/wp-content/uploads/2023/12/Story_TimeLEE.png
END:VEVENT
BEGIN:VEVENT
DTSTART;TZID=America/Kentucky/Louisville:20240926T120000
DTEND;TZID=America/Kentucky/Louisville:20240926T200000
DTSTAMP:20260425T074052
CREATED:20240812T133526Z
LAST-MODIFIED:20240812T133526Z
UID:55096-1727352000-1727380800@visitpikeville.com
SUMMARY:Launch Party!
DESCRIPTION:Two times to come!12-2p & 6-8p\nLaunch party for our new services!Morpheus8 Face & Body\, Laser hair removal\, and IPL!\nDoor prizes\, presentation and education regarding services\, food and drink\, promo pricing\, etc!
URL:https://visitpikeville.com/event/launch-party/
LOCATION:Garfield House\, 178 College Street\, Pikeville\, KY\, 41501\, United States
CATEGORIES:Other
ATTACH;FMTTYPE=image/jpeg:https://visitpikeville.com/wp-content/uploads/2024/08/launch.jpg
END:VEVENT
BEGIN:VEVENT
DTSTART;TZID=America/Kentucky/Louisville:20240926T110000
DTEND;TZID=America/Kentucky/Louisville:20240926T120000
DTSTAMP:20260425T074052
CREATED:20240903T144910Z
LAST-MODIFIED:20240903T144910Z
UID:56454-1727348400-1727352000@visitpikeville.com
SUMMARY:Story Time
DESCRIPTION:tory Time is for children ages 5 and under and features books\, action/movement\, songs\, and a craft. Story Time is held Thursdays at 11:00 and 2:00 and Saturdays at 11:00. \n\n\n\n\n\n\n  \nBesides being fun\, Story Time also helps develop early literacy and school readiness skills through reading\, singing\, listening\, playing\, and social interaction. This program lasts approximately 30 minutes\, and caregivers and children are encouraged to linger in the library afterwards to further socialize and choose books to take home.
URL:https://visitpikeville.com/event/story-time-2-2-2-2-2-2-2-2-2-2-2-2-2-2-2-2-2-2-2-2-2-2-2-2-2-2-2-2-2-2-2-2-2-2-2-2-2-2-2-2-2-2-2-2-2-2-2-2-2-2-2-2-2-2-2-3-2-2-2-2-2-2/
LOCATION:Pike County Public Library\, 126 Lee Avenue\, Pikeville\, KY\, 41501\, United States
CATEGORIES:Pike County Public Library
ATTACH;FMTTYPE=image/png:https://visitpikeville.com/wp-content/uploads/2023/12/Story_TimeLEE.png
END:VEVENT
BEGIN:VEVENT
DTSTART;TZID=America/Kentucky/Louisville:20240926T100000
DTEND;TZID=America/Kentucky/Louisville:20240926T140000
DTSTAMP:20260425T074052
CREATED:20240916T135927Z
LAST-MODIFIED:20240916T135927Z
UID:57139-1727344800-1727359200@visitpikeville.com
SUMMARY:Veterans Stand Down
DESCRIPTION:This FREE event is brought to you in collaboration with VFW Post 3769\, the Pikeville Veterans Suicide Prevention Collaborative\, the Homeless Veterans Resource Center\, and the Hershel “Woody” Williams VA Medical Center. It’s a fantastic opportunity for veterans to connect with vital services offered by our community partners.\n Services Available Include:Vision and blood pressure checksMedical servicesVA benefits guidanceCaregiver supportMental health resourcesHousing programsAnd much more!\nLet’s come together to support our veterans and ensure they have access to the resources they need. Spread the word and bring a fellow veteran!\n Location: Bob Amos Community Center\,#VeteransSupport #PikevilleStandDown #VeteransServices #CommunityEvent #VFWPost3769
URL:https://visitpikeville.com/event/veterans-stand-down-2/
LOCATION:Bob Amos Park\, 424 Bob Amos Dr\, Pikeville\, Ky\, 41501
CATEGORIES:Other
ATTACH;FMTTYPE=image/jpeg:https://visitpikeville.com/wp-content/uploads/2024/09/veterans-1.jpg
END:VEVENT
BEGIN:VEVENT
DTSTART;TZID=America/Kentucky/Louisville:20240926T100000
DTEND;TZID=America/Kentucky/Louisville:20240926T140000
DTSTAMP:20260425T074052
CREATED:20240909T135456Z
LAST-MODIFIED:20240909T135456Z
UID:56862-1727344800-1727359200@visitpikeville.com
SUMMARY:Veterans Stand Down
DESCRIPTION:This FREE event is brought to you in collaboration with VFW Post 3769\, the Pikeville Veterans Suicide Prevention Collaborative\, the Homeless Veterans Resource Center\, and the Hershel “Woody” Williams VA Medical Center. It’s a fantastic opportunity for veterans to connect with vital services offered by our community partners.\n Services Available Include:Vision and blood pressure checksMedical servicesVA benefits guidanceCaregiver supportMental health resourcesHousing programsAnd much more!\nLet’s come together to support our veterans and ensure they have access to the resources they need. Spread the word and bring a fellow veteran!\n Location: Bob Amos Community Center\,#VeteransSupport #PikevilleStandDown #VeteransServices #CommunityEvent #VFWPost3769
URL:https://visitpikeville.com/event/veterans-stand-down/
LOCATION:Bob Amos Park\, 424 Bob Amos Dr\, Pikeville\, Ky\, 41501
CATEGORIES:Other
ATTACH;FMTTYPE=image/jpeg:https://visitpikeville.com/wp-content/uploads/2024/09/veterans.jpg
END:VEVENT
BEGIN:VEVENT
DTSTART;TZID=America/Kentucky/Louisville:20240925T170000
DTEND;TZID=America/Kentucky/Louisville:20240925T180000
DTSTAMP:20260425T074052
CREATED:20240903T124909Z
LAST-MODIFIED:20240903T124909Z
UID:56353-1727283600-1727287200@visitpikeville.com
SUMMARY:Art Together Series of classes
DESCRIPTION:*Update*- CLASSES ARE FULLWe’re so excited to bring back our Art Together Series of classes! Check out this flyer for info\, and give us a call to sign up!
URL:https://visitpikeville.com/event/art-together-series-of-classes-2-2/
LOCATION:Pike Co. Extension Community Arts\, 148 Trivette Dr\, Pikeville\, KY\, United States
CATEGORIES:Pike County Extension Community Arts
ATTACH;FMTTYPE=image/jpeg:https://visitpikeville.com/wp-content/uploads/2024/09/art.jpg
END:VEVENT
BEGIN:VEVENT
DTSTART;TZID=America/Kentucky/Louisville:20240925T163000
DTEND;TZID=America/Kentucky/Louisville:20240925T173000
DTSTAMP:20260425T074052
CREATED:20240903T150214Z
LAST-MODIFIED:20240903T150214Z
UID:56484-1727281800-1727285400@visitpikeville.com
SUMMARY:Sound of Plants
DESCRIPTION:The Sound of Plants is an educational performance that harnesses the natural vibrations of plants with a piece of hardware to make live music.\nOver the course of three days\, the presenter will introduce the audience to an array of plants\, the biological processes those plants use to survive\, and their natural music. The class also involves a beginner’s guide to using the PlantChoir application.\nComing consecutively to all three programs is helpful\, though not required. You are welcome to join us for only one session! This program is suitable for all ages. No registration is required.\nThe program will be held Monday\, September 23 at 4:30; Tuesday\, September 24 at 5:30; and Wednesday\, September 25 at 4:30.\nThis workshop is led by Kentucky Teaching Artist Nile Jordan. Combining the principles of biology and electronic music production Nile composes songs to bridge the gap between the arts and sciences. They utilize programs such as PlantLife and Ableton in their curriculum. Due to their background in ecology\, Nile incorporates the outdoors into many aspects of their curriculum. They aim to spread informed knowledge on the diverse flora and fauna of Kentucky.\nThe Kentucky Arts Council\, the state arts agency\, supports Pike County Public Library District with state tax dollars and federal funding from the National Endowment for the Arts.
URL:https://visitpikeville.com/event/sound-of-plants-2-2/
LOCATION:Pike County Public Library\, 126 Lee Avenue\, Pikeville\, KY\, 41501\, United States
CATEGORIES:Pike County Public Library
ATTACH;FMTTYPE=image/jpeg:https://visitpikeville.com/wp-content/uploads/2024/09/sound.jpg
END:VEVENT
BEGIN:VEVENT
DTSTART;TZID=America/Kentucky/Louisville:20240925T160000
DTEND;TZID=America/Kentucky/Louisville:20240925T170000
DTSTAMP:20260425T074052
CREATED:20240903T145149Z
LAST-MODIFIED:20240903T145149Z
UID:56462-1727280000-1727283600@visitpikeville.com
SUMMARY:Teen Activity Club
DESCRIPTION:Teen Activity Club is a craft group for kids ages 13-18 that meets at the Pike County Public Library (Lee Avenue) on alternating Wednesdays at 4:00.
URL:https://visitpikeville.com/event/teen-activity-club-8-2-2-2-2-2-2-2-2-2-2-2-2-2-2/
LOCATION:Pike County Public Library\, 126 Lee Avenue\, Pikeville\, KY\, 41501\, United States
CATEGORIES:Pike County Public Library
ATTACH;FMTTYPE=image/png:https://visitpikeville.com/wp-content/uploads/2023/12/Teen_Activity_Club.png
END:VEVENT
BEGIN:VEVENT
DTSTART;TZID=America/Kentucky/Louisville:20240924T183000
DTEND;TZID=America/Kentucky/Louisville:20240924T203000
DTSTAMP:20260425T074052
CREATED:20240722T125637Z
LAST-MODIFIED:20240722T125637Z
UID:53706-1727202600-1727209800@visitpikeville.com
SUMMARY:Volleyball vs Bryan College
DESCRIPTION:Game Day!
URL:https://visitpikeville.com/event/volleyball-vs-bryan-college-2/
LOCATION:UPIKE GYM\, Hibbard St\,\, Pikeville\, KY\, 41501\, United States
CATEGORIES:UPike
ATTACH;FMTTYPE=image/png:https://visitpikeville.com/wp-content/uploads/2024/07/Screen-Shot-2024-07-22-at-8.55.00-AM.png
END:VEVENT
BEGIN:VEVENT
DTSTART;TZID=America/Kentucky/Louisville:20240924T173000
DTEND;TZID=America/Kentucky/Louisville:20240924T183000
DTSTAMP:20260425T074052
CREATED:20240903T150144Z
LAST-MODIFIED:20240903T150144Z
UID:56482-1727199000-1727202600@visitpikeville.com
SUMMARY:Sound of Plants
DESCRIPTION:The Sound of Plants is an educational performance that harnesses the natural vibrations of plants with a piece of hardware to make live music.\nOver the course of three days\, the presenter will introduce the audience to an array of plants\, the biological processes those plants use to survive\, and their natural music. The class also involves a beginner’s guide to using the PlantChoir application.\nComing consecutively to all three programs is helpful\, though not required. You are welcome to join us for only one session! This program is suitable for all ages. No registration is required.\nThe program will be held Monday\, September 23 at 4:30; Tuesday\, September 24 at 5:30; and Wednesday\, September 25 at 4:30.\nThis workshop is led by Kentucky Teaching Artist Nile Jordan. Combining the principles of biology and electronic music production Nile composes songs to bridge the gap between the arts and sciences. They utilize programs such as PlantLife and Ableton in their curriculum. Due to their background in ecology\, Nile incorporates the outdoors into many aspects of their curriculum. They aim to spread informed knowledge on the diverse flora and fauna of Kentucky.\nThe Kentucky Arts Council\, the state arts agency\, supports Pike County Public Library District with state tax dollars and federal funding from the National Endowment for the Arts.
URL:https://visitpikeville.com/event/sound-of-plants-2/
LOCATION:Pike County Public Library\, 126 Lee Avenue\, Pikeville\, KY\, 41501\, United States
CATEGORIES:Pike County Public Library
ATTACH;FMTTYPE=image/jpeg:https://visitpikeville.com/wp-content/uploads/2024/09/sound.jpg
END:VEVENT
END:VCALENDAR