BEGIN:VCALENDAR
VERSION:2.0
PRODID:-//Visit Pikeville - ECPv6.15.20//NONSGML v1.0//EN
CALSCALE:GREGORIAN
METHOD:PUBLISH
X-WR-CALNAME:Visit Pikeville
X-ORIGINAL-URL:https://visitpikeville.com
X-WR-CALDESC:Events for Visit Pikeville
REFRESH-INTERVAL;VALUE=DURATION:PT1H
X-Robots-Tag:noindex
X-PUBLISHED-TTL:PT1H
BEGIN:VTIMEZONE
TZID:America/Kentucky/Louisville
BEGIN:DAYLIGHT
TZOFFSETFROM:-0500
TZOFFSETTO:-0400
TZNAME:EDT
DTSTART:20230312T070000
END:DAYLIGHT
BEGIN:STANDARD
TZOFFSETFROM:-0400
TZOFFSETTO:-0500
TZNAME:EST
DTSTART:20231105T060000
END:STANDARD
BEGIN:DAYLIGHT
TZOFFSETFROM:-0500
TZOFFSETTO:-0400
TZNAME:EDT
DTSTART:20240310T070000
END:DAYLIGHT
BEGIN:STANDARD
TZOFFSETFROM:-0400
TZOFFSETTO:-0500
TZNAME:EST
DTSTART:20241103T060000
END:STANDARD
BEGIN:DAYLIGHT
TZOFFSETFROM:-0500
TZOFFSETTO:-0400
TZNAME:EDT
DTSTART:20250309T070000
END:DAYLIGHT
BEGIN:STANDARD
TZOFFSETFROM:-0400
TZOFFSETTO:-0500
TZNAME:EST
DTSTART:20251102T060000
END:STANDARD
END:VTIMEZONE
BEGIN:VEVENT
DTSTART;TZID=America/Kentucky/Louisville:20240903T170000
DTEND;TZID=America/Kentucky/Louisville:20240903T190000
DTSTAMP:20260425T071731
CREATED:20240812T132719Z
LAST-MODIFIED:20240812T132719Z
UID:55088-1725382800-1725390000@visitpikeville.com
SUMMARY:Butterfly Watercolor Workshop for Families
DESCRIPTION:Learn to draw a butterfly\, practice watercolor techniques and composition\, and create a watercolor painting of a butterfly! This family friendly 2-hour workshop is open to all ages.\nThis workshop is led by Kentucky Teaching Artist Pat Banks. You can see more of her artwork here: https://patbankswatercolors.com/\nRegistration is required. Click here to register: https://informationplace.libnet.info/event/11209603\nThe Kentucky Arts Council\, the state arts agency\, supports Pike County Public Library District with state tax dollars and federal funding from the National Endowment for the Arts.
URL:https://visitpikeville.com/event/butterfly-watercolor-workshop-for-families/
LOCATION:Pike County Public Library\, 126 Lee Avenue\, Pikeville\, KY\, 41501\, United States
CATEGORIES:Pike County Public Library
ATTACH;FMTTYPE=image/jpeg:https://visitpikeville.com/wp-content/uploads/2024/08/butterfly.jpg
END:VEVENT
BEGIN:VEVENT
DTSTART;TZID=America/Kentucky/Louisville:20240903T163000
DTEND;TZID=America/Kentucky/Louisville:20240903T190000
DTSTAMP:20260425T071731
CREATED:20240513T174810Z
LAST-MODIFIED:20240513T174810Z
UID:51273-1725381000-1725390000@visitpikeville.com
SUMMARY:Pikeville Farmer's Market
DESCRIPTION:Tuesday from 4:30-7:00 \nSaturday 9:00-1:00 \n 
URL:https://visitpikeville.com/event/pikeville-farmers-market-5-3-2-2-3-2-2-2-2-2-2-2-2-2-2-2/
LOCATION:Pikeville Farmer’s Market\, 130 Adams Lane\, Pikeville\, Ky
CATEGORIES:Other
ATTACH;FMTTYPE=image/jpeg:https://visitpikeville.com/wp-content/uploads/2024/05/farmers-market.jpeg
END:VEVENT
BEGIN:VEVENT
DTSTART;TZID=America/Kentucky/Louisville:20240903T120000
DTEND;TZID=America/Kentucky/Louisville:20240903T130000
DTSTAMP:20260425T071731
CREATED:20240903T141905Z
LAST-MODIFIED:20240903T141905Z
UID:56405-1725364800-1725368400@visitpikeville.com
SUMMARY:Domestic Violence Coalition meeting
DESCRIPTION:Get involved and let your voice be heard! Join us for the upcoming Domestic Violence Coalition meeting.
URL:https://visitpikeville.com/event/domestic-violence-coalition-meeting-2/
LOCATION:Pike County Health Department\, 119 River Drive\,\, Pikeville\, KY\, 41501\, United States
CATEGORIES:Pike County Health Department
ATTACH;FMTTYPE=image/jpeg:https://visitpikeville.com/wp-content/uploads/2024/09/domestic-violence.jpg
END:VEVENT
BEGIN:VEVENT
DTSTART;TZID=America/Kentucky/Louisville:20240902T110000
DTEND;TZID=America/Kentucky/Louisville:20240902T130000
DTSTAMP:20260425T071731
CREATED:20240701T124914Z
LAST-MODIFIED:20240701T124914Z
UID:53037-1725274800-1725282000@visitpikeville.com
SUMMARY:Men's Soccer vs IU East
DESCRIPTION:Game Day!
URL:https://visitpikeville.com/event/mens-soccer-vs-iu-east/
LOCATION:Pikeville High School\, 120 Championship Dr\,\, Pikeville\, KY\, 41501\, United States
CATEGORIES:UPike
ATTACH;FMTTYPE=image/png:https://visitpikeville.com/wp-content/uploads/2024/07/Screen-Shot-2024-07-01-at-8.45.04-AM.png
END:VEVENT
BEGIN:VEVENT
DTSTART;TZID=America/Kentucky/Louisville:20240831T220000
DTEND;TZID=America/Kentucky/Louisville:20240831T233000
DTSTAMP:20260425T071731
CREATED:20240812T132242Z
LAST-MODIFIED:20240812T132242Z
UID:55085-1725141600-1725147000@visitpikeville.com
SUMMARY:Johnny Pop Day and Charlie Cable
DESCRIPTION:@ Bank 253
URL:https://visitpikeville.com/event/johnny-pop-day-and-charlie-cable/
LOCATION:Bank 253\, 253 2nd St\,\, Pikeville\, KY\, 41501\, United States
CATEGORIES:Other
ATTACH;FMTTYPE=image/jpeg:https://visitpikeville.com/wp-content/uploads/2024/08/pop.jpg
END:VEVENT
BEGIN:VEVENT
DTSTART;TZID=America/Kentucky/Louisville:20240831T200000
DTEND;TZID=America/Kentucky/Louisville:20240831T233000
DTSTAMP:20260425T071731
CREATED:20240528T125708Z
LAST-MODIFIED:20240528T125708Z
UID:52214-1725134400-1725147000@visitpikeville.com
SUMMARY:Officer Eudy
DESCRIPTION:Kevin Eudy never intended to become a social media star. Eudy was just a small-town police officer with a couple of children and a sense of humor. Because of that sense of humor\, a couple of friends suggested he try to do a few videos on the social media platform\, TikTok which has now led to filling clubs and theaters across North America.
URL:https://visitpikeville.com/event/officer-eudy/
LOCATION:Appalachian Center for the Arts\, 218 2nd St\,\, Pikeville\, Ky\, 41501
CATEGORIES:The Appalachian Center for the Arts
ATTACH;FMTTYPE=image/jpeg:https://visitpikeville.com/wp-content/uploads/2024/05/eudy.jpeg
END:VEVENT
BEGIN:VEVENT
DTSTART;TZID=America/Kentucky/Louisville:20240831T190000
DTEND;TZID=America/Kentucky/Louisville:20240831T210000
DTSTAMP:20260425T071731
CREATED:20240415T140342Z
LAST-MODIFIED:20240415T140342Z
UID:49811-1725130800-1725138000@visitpikeville.com
SUMMARY:Ohio Valley Wrestling
DESCRIPTION:Aug 31st 7pm\nOn sale Friday April 19\nTickets available at the Community Trust Bank Box Office or Ticketmaster.com\nFIRST EVER PAY PER VIEW IN PIKEVILLE\, KY!
URL:https://visitpikeville.com/event/ohio-valley-wrestling/
LOCATION:Appalachian Wireless Arena\, 126 Main Street\, Pikeville\, Ky\, 41501
CATEGORIES:Appalachian Wireless Arena
ATTACH;FMTTYPE=image/jpeg:https://visitpikeville.com/wp-content/uploads/2024/04/wrestling.jpeg
END:VEVENT
BEGIN:VEVENT
DTSTART;TZID=America/Kentucky/Louisville:20240831T160000
DTEND;TZID=America/Kentucky/Louisville:20240831T170000
DTSTAMP:20260425T071731
CREATED:20240805T134528Z
LAST-MODIFIED:20240805T134528Z
UID:54676-1725120000-1725123600@visitpikeville.com
SUMMARY:Chess Club
DESCRIPTION:Chess Club meets alternating Saturdays at 4:00 at the Pike County Public Library (Lee Avenue).\nAll ages are welcome and no experience is required. Learn how to play chess or play against other enthusiasts!
URL:https://visitpikeville.com/event/chess-group-2-2-2-2-2-2-2-2-2-2-2-2-2-2-2-2-2-2-2-2-2-2-2-2-2-2/
LOCATION:Pike County Public Library\, 126 Lee Avenue\, Pikeville\, KY\, 41501\, United States
CATEGORIES:Pike County Public Library
ATTACH;FMTTYPE=image/jpeg:https://visitpikeville.com/wp-content/uploads/2024/06/chess-club.jpeg
END:VEVENT
BEGIN:VEVENT
DTSTART;TZID=America/Kentucky/Louisville:20240831T150000
DTEND;TZID=America/Kentucky/Louisville:20240831T170000
DTSTAMP:20260425T071731
CREATED:20240729T135943Z
LAST-MODIFIED:20240729T135943Z
UID:54204-1725116400-1725123600@visitpikeville.com
SUMMARY:Young Adult Craft Class
DESCRIPTION:This social craft class for young adults ages 18-25 meets alternating Saturdays at 3:00. No registration required.
URL:https://visitpikeville.com/event/young-adult-craft-class-2/
LOCATION:Pike County Public Library\, 126 Lee Avenue\, Pikeville\, KY\, 41501\, United States
CATEGORIES:Pike County Public Library
ATTACH;FMTTYPE=image/jpeg:https://visitpikeville.com/wp-content/uploads/2024/07/young.jpg
END:VEVENT
BEGIN:VEVENT
DTSTART;TZID=America/Kentucky/Louisville:20240831T130000
DTEND;TZID=America/Kentucky/Louisville:20240831T160000
DTSTAMP:20260425T071731
CREATED:20240826T134657Z
LAST-MODIFIED:20240826T134657Z
UID:55906-1725109200-1725120000@visitpikeville.com
SUMMARY:Van Goghish Black Cat
DESCRIPTION:For kids and adults
URL:https://visitpikeville.com/event/van-goghish-black-cat/
LOCATION:2 Broke Art Teachers\, 4505 Weddington Square\,\, Pikeville\, KY\, 41501\, United States
CATEGORIES:Other
ATTACH;FMTTYPE=image/jpeg:https://visitpikeville.com/wp-content/uploads/2024/08/cat.jpg
END:VEVENT
BEGIN:VEVENT
DTSTART;TZID=America/Kentucky/Louisville:20240831T130000
DTEND;TZID=America/Kentucky/Louisville:20240831T150000
DTSTAMP:20260425T071731
CREATED:20240805T142244Z
LAST-MODIFIED:20240805T142244Z
UID:54707-1725109200-1725116400@visitpikeville.com
SUMMARY:Author Visit: Jess Adkins
DESCRIPTION:Pikeville’s own Jess Adkins\, aka WatchKittyShrink\, will be here with her parents for a book signing on August 31st from 1:00-3:00! \n\n\n\n\n\n\n  \nJess and her family are known on TikTok for their series “Suppertime in Appalachia.” Jess will be signing copies of her cookbook!
URL:https://visitpikeville.com/event/author-visit-jess-adkins/
LOCATION:Pike County Public Library\, 126 Lee Avenue\, Pikeville\, KY\, 41501\, United States
CATEGORIES:Pike County Public Library
ATTACH;FMTTYPE=image/png:https://visitpikeville.com/wp-content/uploads/2024/08/Author_Visit.png
END:VEVENT
BEGIN:VEVENT
DTSTART;TZID=America/Kentucky/Louisville:20240831T110000
DTEND;TZID=America/Kentucky/Louisville:20240831T130000
DTSTAMP:20260425T071731
CREATED:20240805T134114Z
LAST-MODIFIED:20240805T134114Z
UID:54668-1725102000-1725109200@visitpikeville.com
SUMMARY:Quilters Group
DESCRIPTION:Pike County Public Library Quilters Group is a quilting social that also teaches quilting and needlework. Participants exchange patterns\, quilting ideas\, and sewing projects. Both beginners and experienced quilters are welcome! Quilters Group meets alternating Saturdays at noon at the Lee Avenue Library.\nFor more information\, contact Charlene at 606-437-6001 or charlene@pikelibrary.org
URL:https://visitpikeville.com/event/quilters-group-4-2-2-2-2-2-2-2-2-2-2-2-2-2-2-2-2-2-2-2-2-2-2-2/
LOCATION:Pike County Public Library\, 126 Lee Avenue\, Pikeville\, KY\, 41501\, United States
CATEGORIES:Pike County Public Library
ATTACH;FMTTYPE=image/jpeg:https://visitpikeville.com/wp-content/uploads/2024/06/quilters.jpeg
END:VEVENT
BEGIN:VEVENT
DTSTART;TZID=America/Kentucky/Louisville:20240831T090000
DTEND;TZID=America/Kentucky/Louisville:20240831T130000
DTSTAMP:20260425T071731
CREATED:20240513T174656Z
LAST-MODIFIED:20240513T174656Z
UID:51271-1725094800-1725109200@visitpikeville.com
SUMMARY:Pikeville Farmer's Market
DESCRIPTION:Tuesday from 4:30-7:00 \nSaturday 9:00-1:00 \n 
URL:https://visitpikeville.com/event/pikeville-farmers-market-5-2-2-2-2-2-2-2-2-2-2-2-2-2-2-2-2/
LOCATION:Pikeville Farmer’s Market\, 130 Adams Lane\, Pikeville\, Ky
CATEGORIES:Other
ATTACH;FMTTYPE=image/jpeg:https://visitpikeville.com/wp-content/uploads/2024/05/farmers-market.jpeg
END:VEVENT
BEGIN:VEVENT
DTSTART;TZID=America/Kentucky/Louisville:20240831T080000
DTEND;TZID=America/Kentucky/Louisville:20240831T120000
DTSTAMP:20260425T071731
CREATED:20240715T121644Z
LAST-MODIFIED:20240715T121644Z
UID:53373-1725091200-1725105600@visitpikeville.com
SUMMARY:Tri Pike 2024
DESCRIPTION:Pikeville’s Inaugural Triathlon: A Challenge for All! August 31st!\n\n\nGet ready for Pikeville’s first-ever triathlon\, an exhilarating sprint distance event that promises adventure and excitement. Dive into the action with a refreshing swim at our local YMCA pool\, then embark on a scenic bike ride through the charming and historic streets of Downtown Pikeville. Finally\, conquer the race with a run along the breathtaking Blue Chip Trail\, known for its epic views and invigorating terrain.\n\n\nWhether you’re a beginner looking to test your limits or a seasoned triathlete seeking a new challenge\, this event is perfect for everyone. Embrace the thrill\, embrace the community\, and most importantly\, embrace the journey!\n\n\nRegister today by visiting https://runsignup.com/Race/KY/Pikeville/TriPike\n\n\nRace Sections:\n\n\nPool Swim: 300 meters\nBike Ride: 20 kilometers (12 miles)\nTrail Run: 5 kilometers (3.1 miles)\nJoin us for a day of unforgettable experiences and make your mark in Pikeville’s triathlon history!\n\n\n#visitpikeville\n#conquerpikeville
URL:https://visitpikeville.com/event/tri-pike-2024/
LOCATION:Bob Amos Park\, 424 Bob Amos Dr\, Pikeville\, Ky\, 41501
CATEGORIES:City of Pikeville,Pikeville Tourism
ATTACH;FMTTYPE=image/jpeg:https://visitpikeville.com/wp-content/uploads/2024/07/tri.jpg
END:VEVENT
BEGIN:VEVENT
DTSTART;TZID=America/Kentucky/Louisville:20240830T190000
DTEND;TZID=America/Kentucky/Louisville:20240830T200000
DTSTAMP:20260425T071731
CREATED:20240701T123924Z
LAST-MODIFIED:20240701T123924Z
UID:53031-1725044400-1725048000@visitpikeville.com
SUMMARY:Men's Soccer vs Lawrence Tech (Mich.)
DESCRIPTION:Game Day!
URL:https://visitpikeville.com/event/mens-soccer-vs-lawrence-tech-mich/
LOCATION:Bob Amos Park\, 424 Bob Amos Dr\, Pikeville\, Ky\, 41501
CATEGORIES:UPike
ATTACH;FMTTYPE=image/png:https://visitpikeville.com/wp-content/uploads/2024/07/Screen-Shot-2024-07-01-at-8.36.24-AM.png
END:VEVENT
BEGIN:VEVENT
DTSTART;TZID=America/Kentucky/Louisville:20240830T173000
DTEND;TZID=America/Kentucky/Louisville:20240830T203000
DTSTAMP:20260425T071731
CREATED:20240826T133659Z
LAST-MODIFIED:20240826T133659Z
UID:55903-1725039000-1725049800@visitpikeville.com
SUMMARY:OPEN PAINT NIGHT
DESCRIPTION:Did you miss one of our past painting events? Now’s your chance to revisit some of our favorites. We’re hosting an OPEN PAINT NIGHT on Friday\, Aug. 30th\, 5:30-8:30. Please private message us with your painting choice. @topfans
URL:https://visitpikeville.com/event/open-paint-night/
LOCATION:2 Broke Art Teachers\, 4505 Weddington Square\,\, Pikeville\, KY\, 41501\, United States
CATEGORIES:Other
ATTACH;FMTTYPE=image/jpeg:https://visitpikeville.com/wp-content/uploads/2024/08/open.jpg
END:VEVENT
BEGIN:VEVENT
DTSTART;TZID=America/Kentucky/Louisville:20240830T160000
DTEND;TZID=America/Kentucky/Louisville:20240830T170000
DTSTAMP:20260425T071731
CREATED:20240812T120416Z
LAST-MODIFIED:20240812T120416Z
UID:55068-1725033600-1725037200@visitpikeville.com
SUMMARY:Women's Soccer vs Alice Lloyd College (Ky.)
DESCRIPTION:Game Day!!
URL:https://visitpikeville.com/event/womens-soccer-vs-alice-lloyd-college-ky/
LOCATION:Bob Amos Park\, 424 Bob Amos Dr\, Pikeville\, Ky\, 41501
CATEGORIES:UPike
ATTACH;FMTTYPE=image/png:https://visitpikeville.com/wp-content/uploads/2024/08/Screen-Shot-2024-08-12-at-8.01.45-AM.png
END:VEVENT
BEGIN:VEVENT
DTSTART;TZID=America/Kentucky/Louisville:20240829T190000
DTEND;TZID=America/Kentucky/Louisville:20240829T210000
DTSTAMP:20260425T071731
CREATED:20240701T124417Z
LAST-MODIFIED:20240729T123447Z
UID:53034-1724958000-1724965200@visitpikeville.com
SUMMARY:Football vs Campbellsville University
DESCRIPTION:Game Day!!
URL:https://visitpikeville.com/event/football-vs-campbellsville-university/
LOCATION:Pikeville High School\, 120 Championship Dr\,\, Pikeville\, KY\, 41501\, United States
CATEGORIES:UPike
ATTACH;FMTTYPE=image/png:https://visitpikeville.com/wp-content/uploads/2024/07/Screen-Shot-2024-07-01-at-8.40.02-AM.png
END:VEVENT
BEGIN:VEVENT
DTSTART;TZID=America/Kentucky/Louisville:20240829T173000
DTEND;TZID=America/Kentucky/Louisville:20240829T183000
DTSTAMP:20260425T071731
CREATED:20240805T135556Z
LAST-MODIFIED:20240805T135556Z
UID:54689-1724952600-1724956200@visitpikeville.com
SUMMARY:Sign Language Class
DESCRIPTION:Learn American Sign Language with interpreter Tracy Jackson\, with classes held every Thursday at 5:30 at the Pike County Public Library (Lee Avenue). Suitable for all ages. No registration required.
URL:https://visitpikeville.com/event/sign-language-class-3-2-2-2/
LOCATION:Pike County Public Library\, 126 Lee Avenue\, Pikeville\, KY\, 41501\, United States
CATEGORIES:Pike County Public Library
ATTACH;FMTTYPE=image/png:https://visitpikeville.com/wp-content/uploads/2024/08/Sign_Language_Class.png
END:VEVENT
BEGIN:VEVENT
DTSTART;TZID=America/Kentucky/Louisville:20240829T170000
DTEND;TZID=America/Kentucky/Louisville:20240829T210000
DTSTAMP:20260425T071731
CREATED:20240805T123937Z
LAST-MODIFIED:20240805T123937Z
UID:54646-1724950800-1724965200@visitpikeville.com
SUMMARY:Beginners Sewing
DESCRIPTION:Come and Join Us
URL:https://visitpikeville.com/event/beginners-sewing-2-2-2-2-2-2-2-2-2-2-2-2-2-2-2-2-2-2-2-2-2-2-2-2/
LOCATION:Bridgett’s Quilting and Fabric Shop\, 237 2nd St\,\, Pikeville\, KY\, 41501\, United States
CATEGORIES:Pikeville Main Street
ATTACH;FMTTYPE=image/jpeg:https://visitpikeville.com/wp-content/uploads/2023/10/bridgetts.jpeg
END:VEVENT
BEGIN:VEVENT
DTSTART;TZID=America/Kentucky/Louisville:20240829T170000
DTEND;TZID=America/Kentucky/Louisville:20240829T184500
DTSTAMP:20260425T071731
CREATED:20240805T134324Z
LAST-MODIFIED:20240805T134324Z
UID:54672-1724950800-1724957100@visitpikeville.com
SUMMARY:Dungeons and Dragons
DESCRIPTION:Dungeons and Dragons Group meets every other Thursday at 5:00 at the Pike County Public Library (Lee Avenue). Beginners and experienced players alike are welcome.
URL:https://visitpikeville.com/event/dungeons-and-dragons-5-2-2-2-2-2-2-2-2-2-2-2-2-2/
LOCATION:Pike County Public Library\, 126 Lee Avenue\, Pikeville\, KY\, 41501\, United States
CATEGORIES:Pike County Public Library
ATTACH;FMTTYPE=image/png:https://visitpikeville.com/wp-content/uploads/2023/12/D_D_Group.png
END:VEVENT
BEGIN:VEVENT
DTSTART;TZID=America/Kentucky/Louisville:20240828T173000
DTEND;TZID=America/Kentucky/Louisville:20240828T193000
DTSTAMP:20260425T071731
CREATED:20240826T135052Z
LAST-MODIFIED:20240826T135052Z
UID:55909-1724866200-1724873400@visitpikeville.com
SUMMARY:Football Paint Party!
DESCRIPTION:$30 Includes materials and instructions
URL:https://visitpikeville.com/event/football-paint-party/
LOCATION:2 Broke Art Teachers\, 4505 Weddington Square\,\, Pikeville\, KY\, 41501\, United States
CATEGORIES:Other
ATTACH;FMTTYPE=image/jpeg:https://visitpikeville.com/wp-content/uploads/2024/08/football.jpg
END:VEVENT
BEGIN:VEVENT
DTSTART;TZID=America/Kentucky/Louisville:20240828T160000
DTEND;TZID=America/Kentucky/Louisville:20240828T170000
DTSTAMP:20260425T071731
CREATED:20240805T140748Z
LAST-MODIFIED:20240805T140748Z
UID:54697-1724860800-1724864400@visitpikeville.com
SUMMARY:Teen Activity Club
DESCRIPTION:Teen Activity Club is a craft group for kids ages 13-18 that meets at the Pike County Public Library (Lee Avenue) on alternating Wednesdays at 4:00.
URL:https://visitpikeville.com/event/teen-activity-club-8-2-2-2-2-2-2-2-2-2-2-2-2/
LOCATION:Pike County Public Library\, 126 Lee Avenue\, Pikeville\, KY\, 41501\, United States
CATEGORIES:Pike County Public Library
ATTACH;FMTTYPE=image/png:https://visitpikeville.com/wp-content/uploads/2023/12/Teen_Activity_Club.png
END:VEVENT
BEGIN:VEVENT
DTSTART;TZID=America/Kentucky/Louisville:20240827T190000
DTEND;TZID=America/Kentucky/Louisville:20240827T200000
DTSTAMP:20260425T071731
CREATED:20240701T123426Z
LAST-MODIFIED:20240701T123426Z
UID:53028-1724785200-1724788800@visitpikeville.com
SUMMARY:Men's Soccer vs Midway University
DESCRIPTION:Game Day!!
URL:https://visitpikeville.com/event/mens-soccer-vs-midway-university-2/
LOCATION:Bob Amos Park\, 424 Bob Amos Dr\, Pikeville\, Ky\, 41501
CATEGORIES:UPike
ATTACH;FMTTYPE=image/png:https://visitpikeville.com/wp-content/uploads/2024/07/Screen-Shot-2024-07-01-at-8.32.47-AM.png
END:VEVENT
BEGIN:VEVENT
DTSTART;TZID=America/Kentucky/Louisville:20240827T173000
DTEND;TZID=America/Kentucky/Louisville:20240827T193000
DTSTAMP:20260425T071731
CREATED:20240826T135520Z
LAST-MODIFIED:20240826T135520Z
UID:55912-1724779800-1724787000@visitpikeville.com
SUMMARY:2 Broke Art Teachers: Art Class
DESCRIPTION:$30 includes 16″x 20″ stretched canvas and all materials needed plus instruction.
URL:https://visitpikeville.com/event/2-broke-art-teachers-art-class/
LOCATION:2 Broke Art Teachers\, 4505 Weddington Square\,\, Pikeville\, KY\, 41501\, United States
CATEGORIES:Other
ATTACH;FMTTYPE=image/jpeg:https://visitpikeville.com/wp-content/uploads/2024/08/welcome.jpg
END:VEVENT
BEGIN:VEVENT
DTSTART;TZID=America/Kentucky/Louisville:20240827T170000
DTEND;TZID=America/Kentucky/Louisville:20240827T180000
DTSTAMP:20260425T071731
CREATED:20240805T140525Z
LAST-MODIFIED:20240805T140525Z
UID:54693-1724778000-1724781600@visitpikeville.com
SUMMARY:Book Talks
DESCRIPTION:Every Other Tuesday at 5pm-6pm
URL:https://visitpikeville.com/event/book-talks-book-club-9-2-2-2-2-2-2-2-2-2-2-2-2-2-2-2-2-2-2-2-2-2-2-2-2/
LOCATION:Pike County Public Library\, 126 Lee Avenue\, Pikeville\, KY\, 41501\, United States
CATEGORIES:Pike County Public Library
ATTACH;FMTTYPE=image/jpeg:https://visitpikeville.com/wp-content/uploads/2023/06/book-talks.jpeg
END:VEVENT
BEGIN:VEVENT
DTSTART;TZID=America/Kentucky/Louisville:20240827T163000
DTEND;TZID=America/Kentucky/Louisville:20240827T190000
DTSTAMP:20260425T071731
CREATED:20240513T174532Z
LAST-MODIFIED:20240513T174532Z
UID:51269-1724776200-1724785200@visitpikeville.com
SUMMARY:Pikeville Farmer's Market
DESCRIPTION:Tuesday from 4:30-7:00 \nSaturday 9:00-1:00 \n 
URL:https://visitpikeville.com/event/pikeville-farmers-market-5-3-2-2-3-2-2-2-2-2-2-2-2-2-2/
LOCATION:Pikeville Farmer’s Market\, 130 Adams Lane\, Pikeville\, Ky
CATEGORIES:Other
ATTACH;FMTTYPE=image/jpeg:https://visitpikeville.com/wp-content/uploads/2024/05/farmers-market.jpeg
END:VEVENT
BEGIN:VEVENT
DTSTART;TZID=America/Kentucky/Louisville:20240827T120000
DTEND;TZID=America/Kentucky/Louisville:20240827T130000
DTSTAMP:20260425T071731
CREATED:20240812T115528Z
LAST-MODIFIED:20240812T115528Z
UID:55065-1724760000-1724763600@visitpikeville.com
SUMMARY:Lunch & Learn with Jon Dye
DESCRIPTION:Join us for an educational session about the Employee Child Care Assistance Partnership and how your business can partner with the Kentucky Chamber of Commerce to provide child care to your employees!
URL:https://visitpikeville.com/event/lunch-learn-with-jon-dye/
LOCATION:Garfield House\, 178 College Street\, Pikeville\, KY\, 41501\, United States
CATEGORIES:Southeast Kentucky Chamber
ATTACH;FMTTYPE=image/png:https://visitpikeville.com/wp-content/uploads/2024/08/LL-Aug2024-JonDye.png
END:VEVENT
BEGIN:VEVENT
DTSTART;TZID=America/Kentucky/Louisville:20240826T100000
DTEND;TZID=America/Kentucky/Louisville:20240826T150000
DTSTAMP:20260425T071731
CREATED:20240812T134049Z
LAST-MODIFIED:20240812T134049Z
UID:55102-1724666400-1724684400@visitpikeville.com
SUMMARY:Job Fair
DESCRIPTION:PIKE COUNTY – Are you searching for a rewarding career in Behavioral Health?\nMountain Comprehensive Care Center is hosting a job fair on Monday\, August 26th\, 2024\, 10AM-3PM at the Goodwill Opportunity Center in downtown Pikeville at 126 Trivette Drive\, Suite 104. Mountain will be hiring on-site for a variety of positions\, including Bachelor’s-level Mental Health Associates\, Licensed Master’s-level Therapists\, Case Managers\, Community Support Associates\, and more. Heroes Work Here!\nWe are HIRING ON SITE for behavioral health positions including:\n• Bachelor’s* and Master’s-Level** Behavioral Therapists/Mental Health Associates• Support Staff HS/GED; 1 Year Experience in Billing• Targeted Case Managers – BS/BA in Human Services*\, 1 Year Experience• Community Support Associate – HS/GED; 1 Year Behavioral Health Experience• Peer Support Specialists – 1 Year in Recovery; PSS Certificationand more!\n*BS/BA Human Services: i.e.\, Psychology\, Sociology\, Social Work\, Counseling**Master’s Licensure: i.e.\, CSW\, MFTA\, LPCA\, LPCC\, LCSW\, LMFT\, or equivalent\nJoin us for this exciting opportunity!\nPlease bring the following required documentation:• Social Security Card *• Driver’s License *• Resume• Proof of Car Insurance showing you as a listed driver• Highest Level Diploma or Official Transcript **• Voided Check with your name on it for Direct Deposit• Names\, Social Security Numbers and Dates of Birth of Beneficiaries\n* Name on your SS Card and Driver’s License must match.** If you do not have an official transcript\, please order it and have it mailed to: MCCC | Attn: Kathy Goble-Baldridge | 104 South Front Ave. | Prestonsburg\, KY 41653 . If you have access to your unofficial transcript please bring that with you to the job fair\, along with your diploma.\nMountain Comprehensive Care Center\, Inc. is an Equal Opportunity Affirmative Action Employer.\nEmployment opportunity is offered based on job qualifications regardless of race\, religion\, color\, national origin\, gender\, pregnancy\, sexual orientation\, age\, physical or mental disability\, protected veteran or victimization status.
URL:https://visitpikeville.com/event/job-fair-2/
LOCATION:Uniplex Building\, 126 Trivette Dr\,\, Pikeville\, KY\, 41501\, United States
CATEGORIES:Other
ATTACH;FMTTYPE=image/jpeg:https://visitpikeville.com/wp-content/uploads/2024/08/job.jpg
END:VEVENT
BEGIN:VEVENT
DTSTART;TZID=America/Kentucky/Louisville:20240825T150000
DTEND;TZID=America/Kentucky/Louisville:20240825T170000
DTSTAMP:20260425T071731
CREATED:20231218T135327Z
LAST-MODIFIED:20231218T135327Z
UID:44066-1724598000-1724605200@visitpikeville.com
SUMMARY:Working a Musical Localized Edition
DESCRIPTION:Based on Studs Terkel’s best-selling book of interviews with American workers\, Working paints a vivid portrait of the workers that the world so often takes for granted: the schoolteacher\, the phone operator\, the waitress\, the millworker\, the mason\, and the housewife\, just to name a few. Nominated for six Tony Awards\, this classic has been updated for a modern age\, featuring songs by Lin-Manuel Miranda\, Stephen Schwartz\, Craig Carnelia\, James Taylor\, Micki Grant\, and more. This localized edition will feature actual interviews from the hard working individuals of our community.
URL:https://visitpikeville.com/event/working-a-musical-localized-edition-2-2-2-2-2/
LOCATION:Appalachian Center for the Arts\, 218 2nd St\,\, Pikeville\, Ky\, 41501
CATEGORIES:The Appalachian Center for the Arts
ATTACH;FMTTYPE=image/webp:https://visitpikeville.com/wp-content/uploads/2023/12/working-web-600.webp
END:VEVENT
END:VCALENDAR