BEGIN:VCALENDAR
VERSION:2.0
PRODID:-//Visit Pikeville - ECPv6.15.20//NONSGML v1.0//EN
CALSCALE:GREGORIAN
METHOD:PUBLISH
X-WR-CALNAME:Visit Pikeville
X-ORIGINAL-URL:https://visitpikeville.com
X-WR-CALDESC:Events for Visit Pikeville
REFRESH-INTERVAL;VALUE=DURATION:PT1H
X-Robots-Tag:noindex
X-PUBLISHED-TTL:PT1H
BEGIN:VTIMEZONE
TZID:America/Kentucky/Louisville
BEGIN:DAYLIGHT
TZOFFSETFROM:-0500
TZOFFSETTO:-0400
TZNAME:EDT
DTSTART:20230312T070000
END:DAYLIGHT
BEGIN:STANDARD
TZOFFSETFROM:-0400
TZOFFSETTO:-0500
TZNAME:EST
DTSTART:20231105T060000
END:STANDARD
BEGIN:DAYLIGHT
TZOFFSETFROM:-0500
TZOFFSETTO:-0400
TZNAME:EDT
DTSTART:20240310T070000
END:DAYLIGHT
BEGIN:STANDARD
TZOFFSETFROM:-0400
TZOFFSETTO:-0500
TZNAME:EST
DTSTART:20241103T060000
END:STANDARD
BEGIN:DAYLIGHT
TZOFFSETFROM:-0500
TZOFFSETTO:-0400
TZNAME:EDT
DTSTART:20250309T070000
END:DAYLIGHT
BEGIN:STANDARD
TZOFFSETFROM:-0400
TZOFFSETTO:-0500
TZNAME:EST
DTSTART:20251102T060000
END:STANDARD
END:VTIMEZONE
BEGIN:VEVENT
DTSTART;TZID=America/Kentucky/Louisville:20240812T173000
DTEND;TZID=America/Kentucky/Louisville:20240812T200000
DTSTAMP:20260425T071739
CREATED:20240812T133748Z
LAST-MODIFIED:20240812T133748Z
UID:55099-1723483800-1723492800@visitpikeville.com
SUMMARY:Whimsical Cross
DESCRIPTION:This painting is so beautiful and you can even addd your ideas with the colors of your choice.
URL:https://visitpikeville.com/event/whimsical-cross/
LOCATION:2 Broke Art Teachers\, 4505 Weddington Square\,\, Pikeville\, KY\, 41501\, United States
CATEGORIES:Other
ATTACH;FMTTYPE=image/jpeg:https://visitpikeville.com/wp-content/uploads/2024/08/cross.jpg
END:VEVENT
BEGIN:VEVENT
DTSTART;TZID=America/Kentucky/Louisville:20240810T200000
DTEND;TZID=America/Kentucky/Louisville:20240810T230000
DTSTAMP:20260425T071739
CREATED:20240805T125212Z
LAST-MODIFIED:20240805T125212Z
UID:54655-1723320000-1723330800@visitpikeville.com
SUMMARY:Pearse's Place Music- Dixie Lynn
DESCRIPTION:Music- Dixie Lynn
URL:https://visitpikeville.com/event/pearses-place-music-dixie-lynn/
LOCATION:Pearse’s Place\, 224 2nd St\,\, Pikeville\, KY\, 41501\, United States
CATEGORIES:Pikeville Main Street
ATTACH;FMTTYPE=image/jpeg:https://visitpikeville.com/wp-content/uploads/2024/08/pearses.jpg
END:VEVENT
BEGIN:VEVENT
DTSTART;TZID=America/Kentucky/Louisville:20240810T200000
DTEND;TZID=America/Kentucky/Louisville:20240810T230000
DTSTAMP:20260425T071739
CREATED:20240715T191901Z
LAST-MODIFIED:20240715T191901Z
UID:53429-1723320000-1723330800@visitpikeville.com
SUMMARY:Live Music
DESCRIPTION:Our Live music starts in August!!
URL:https://visitpikeville.com/event/live-music/
LOCATION:Dueling Barrels\, 226 2nd Street\, Pikeville\, KY\, 41501\, United States
CATEGORIES:Pikeville Tourism
ATTACH;FMTTYPE=image/jpeg:https://visitpikeville.com/wp-content/uploads/2024/07/DUELING.jpg
END:VEVENT
BEGIN:VEVENT
DTSTART;TZID=America/Kentucky/Louisville:20240810T193000
DTEND;TZID=America/Kentucky/Louisville:20240810T223000
DTSTAMP:20260425T071739
CREATED:20240729T130309Z
LAST-MODIFIED:20240729T130309Z
UID:54158-1723318200-1723329000@visitpikeville.com
SUMMARY:Saturday Summer Acoustic Music Series
DESCRIPTION:Here’s the lineup with others to come! Please come out and enjoy our local music scene.
URL:https://visitpikeville.com/event/saturday-summer-acoustic-music-series-2/
LOCATION:Bank 253\, 253 2nd St\,\, Pikeville\, KY\, 41501\, United States
CATEGORIES:Other,Pikeville Tourism
ATTACH;FMTTYPE=image/jpeg:https://visitpikeville.com/wp-content/uploads/2024/07/bank253.jpg
END:VEVENT
BEGIN:VEVENT
DTSTART;TZID=America/Kentucky/Louisville:20240810T140000
DTEND;TZID=America/Kentucky/Louisville:20240810T170000
DTSTAMP:20260425T071739
CREATED:20240715T191204Z
LAST-MODIFIED:20240715T191204Z
UID:53422-1723298400-1723309200@visitpikeville.com
SUMMARY:Silk Painting Family Workshop
DESCRIPTION:Delve into the art of silk painting with the Japanese serti technique.\nFamilies will use a provided line drawing based on a nature theme or sketch their own. Silk is then stretched onto a frame and the design is drawn using a resist. Once dried\, the resist forms a boundary\, within which a thin\, dye like textile paint is added.\nEach family or group will work together on one silk painting. Recommended for ages 8+.\nPlease note this process will take 3 hours to complete.\n**Because each family/group will be working together on one silk painting\, only one registrant per family/group is necessary.**\nClick here to register: https://informationplace.libnet.info/event/11165972\nThe Kentucky Arts Council\, the state arts agency\, supports Pike County Public Library District with state tax dollars and federal funding from the National Endowment for the Arts.
URL:https://visitpikeville.com/event/silk-painting-family-workshop/
LOCATION:Pike County Public Library\, 126 Lee Avenue\, Pikeville\, KY\, 41501\, United States
CATEGORIES:Pike County Public Library
ATTACH;FMTTYPE=image/jpeg:https://visitpikeville.com/wp-content/uploads/2024/07/SILK.jpg
END:VEVENT
BEGIN:VEVENT
DTSTART;TZID=America/Kentucky/Louisville:20240810T110000
DTEND;TZID=America/Kentucky/Louisville:20240810T160000
DTSTAMP:20260425T071739
CREATED:20240805T124734Z
LAST-MODIFIED:20240805T124734Z
UID:54652-1723287600-1723305600@visitpikeville.com
SUMMARY:Southern Designs 21% Birthday Sale
DESCRIPTION:Join us Saturday\, August 10th for one of our biggest sales of the year! In honor of the owner Alivia turning 21 years old\, enjoy 21% off your entire order.Located inside of The Shoppes at 225.225 Second Street\, Pikeville KYOpen 11-4pm on the sale day!We can’t wait to see you! 
URL:https://visitpikeville.com/event/southern-designs-21-birthday-sale/
LOCATION:The Shoppes at 225\, 225 2nd St\, KY\, 41501\, United States
CATEGORIES:Pikeville Main Street
ATTACH;FMTTYPE=image/jpeg:https://visitpikeville.com/wp-content/uploads/2024/08/birthday-sale.jpg
END:VEVENT
BEGIN:VEVENT
DTSTART;TZID=America/Kentucky/Louisville:20240810T090000
DTEND;TZID=America/Kentucky/Louisville:20240810T130000
DTSTAMP:20260425T071739
CREATED:20240513T174149Z
LAST-MODIFIED:20240513T174149Z
UID:51259-1723280400-1723294800@visitpikeville.com
SUMMARY:Pikeville Farmer's Market
DESCRIPTION:Tuesday from 4:30-7:00 \nSaturday 9:00-1:00 \n 
URL:https://visitpikeville.com/event/pikeville-farmers-market-5-2-2-2-2-2-2-2-2-2-2-2-2-2/
LOCATION:Pikeville Farmer’s Market\, 130 Adams Lane\, Pikeville\, Ky
CATEGORIES:Other
ATTACH;FMTTYPE=image/jpeg:https://visitpikeville.com/wp-content/uploads/2024/05/farmers-market.jpeg
END:VEVENT
BEGIN:VEVENT
DTSTART;TZID=America/Kentucky/Louisville:20240809T073000
DTEND;TZID=America/Kentucky/Louisville:20240809T140000
DTSTAMP:20260425T071739
CREATED:20240805T142630Z
LAST-MODIFIED:20240805T142630Z
UID:54710-1723188600-1723212000@visitpikeville.com
SUMMARY:Pikeville Medical Center Blood Drive
DESCRIPTION:It’s almost time again to help our neighbors\, family and community. Help us save lives by donating blood! Register TODAY and lock in your commitment to save lives at: https://my.kybloodcenter.org/…/sch…/drive_schedule/85212
URL:https://visitpikeville.com/event/pikeville-medical-center-blood-drive/
LOCATION:Pikeville Medical Center\, 911 S Bypass Rd\,\, Pikeville\, KY\, 41501\, United States
CATEGORIES:Other
ATTACH;FMTTYPE=image/jpeg:https://visitpikeville.com/wp-content/uploads/2024/08/blood-drive.jpg
END:VEVENT
BEGIN:VEVENT
DTSTART;TZID=America/Kentucky/Louisville:20240808T173000
DTEND;TZID=America/Kentucky/Louisville:20240808T183000
DTSTAMP:20260425T071739
CREATED:20240805T135301Z
LAST-MODIFIED:20240805T135301Z
UID:54682-1723138200-1723141800@visitpikeville.com
SUMMARY:Sign Language Class
DESCRIPTION:Learn American Sign Language with interpreter Tracy Jackson\, with classes held every Thursday at 5:30 at the Pike County Public Library (Lee Avenue). Suitable for all ages. No registration required.
URL:https://visitpikeville.com/event/sign-language-class-3/
LOCATION:Pike County Public Library\, 126 Lee Avenue\, Pikeville\, KY\, 41501\, United States
CATEGORIES:Pike County Public Library
ATTACH;FMTTYPE=image/png:https://visitpikeville.com/wp-content/uploads/2024/08/Sign_Language_Class.png
END:VEVENT
BEGIN:VEVENT
DTSTART;TZID=America/Kentucky/Louisville:20240808T170000
DTEND;TZID=America/Kentucky/Louisville:20240808T210000
DTSTAMP:20260425T071739
CREATED:20240805T123743Z
LAST-MODIFIED:20240805T123743Z
UID:54640-1723136400-1723150800@visitpikeville.com
SUMMARY:Beginners Sewing
DESCRIPTION:Come and Join Us
URL:https://visitpikeville.com/event/beginners-sewing-2-2-2-2-2-2-2-2-2-2-2-2-2-2-2-2-2-2-2-2-2/
LOCATION:Bridgett’s Quilting and Fabric Shop\, 237 2nd St\,\, Pikeville\, KY\, 41501\, United States
CATEGORIES:Pikeville Main Street
ATTACH;FMTTYPE=image/jpeg:https://visitpikeville.com/wp-content/uploads/2023/10/bridgetts.jpeg
END:VEVENT
BEGIN:VEVENT
DTSTART;TZID=America/Kentucky/Louisville:20240807T160000
DTEND;TZID=America/Kentucky/Louisville:20240807T170000
DTSTAMP:20260425T071739
CREATED:20240805T134646Z
LAST-MODIFIED:20240805T134646Z
UID:54678-1723046400-1723050000@visitpikeville.com
SUMMARY:BASIC COMPUTER SKILLS
DESCRIPTION:Learn technology basics like e-mail\, smart phones\, social media\, and more. Meets alternating Wednesdays at 4:00.
URL:https://visitpikeville.com/event/basic-computer-skills-3-2-2-2-2-2-2-2-2-2-2-2-2/
LOCATION:Pike County Public Library\, 126 Lee Avenue\, Pikeville\, KY\, 41501\, United States
CATEGORIES:Pike County Public Library
ATTACH;FMTTYPE=image/png:https://visitpikeville.com/wp-content/uploads/2024/06/Basic_Computer_Skills.png
END:VEVENT
BEGIN:VEVENT
DTSTART;TZID=America/Kentucky/Louisville:20240807T120000
DTEND;TZID=America/Kentucky/Louisville:20240807T130000
DTSTAMP:20260425T071739
CREATED:20240729T133054Z
LAST-MODIFIED:20240729T133054Z
UID:54175-1723032000-1723035600@visitpikeville.com
SUMMARY:Food Handler Classes
DESCRIPTION:Join us for in-person Food Handler Classes or attend an online option by registering at https://pikecountyhealth.com/food-safety/
URL:https://visitpikeville.com/event/food-handler-classes/
LOCATION:Pike County Health Department\, 119 River Drive\,\, Pikeville\, KY\, 41501\, United States
CATEGORIES:Pike County Health Department
ATTACH;FMTTYPE=image/jpeg:https://visitpikeville.com/wp-content/uploads/2024/07/food-handler.jpg
END:VEVENT
BEGIN:VEVENT
DTSTART;TZID=America/Kentucky/Louisville:20240806T173000
DTEND;TZID=America/Kentucky/Louisville:20240806T183000
DTSTAMP:20260425T071739
CREATED:20240729T135330Z
LAST-MODIFIED:20240729T135330Z
UID:54198-1722965400-1722969000@visitpikeville.com
SUMMARY:Crankie Workshop
DESCRIPTION:Crankies are old time storytelling art forms. Create your own and illustrate a story! All ages welcome.\nWe will begin by reading an Appalachian folk tale\, Pig Tale\, with illustrations for the example crankie\, along with a performance of the traditional song\, Pig in a Pen to accompany the finished crankie show. Participants will have the option to illustrate this story\, or any other\, for their own crankie.\nThis program will be held Tuesday\, August 6th\, at the Pike County Public Library (Lee Avenue). No registration is required.\nThe Kentucky Arts Council\, the state arts agency\, supports Pike County Public Library District with state tax dollars and federal funding from the National Endowment for the Arts.
URL:https://visitpikeville.com/event/crankie-workshop/
LOCATION:Pike County Public Library\, 126 Lee Avenue\, Pikeville\, KY\, 41501\, United States
CATEGORIES:Pike County Public Library
ATTACH;FMTTYPE=image/jpeg:https://visitpikeville.com/wp-content/uploads/2024/07/crankie.jpg
END:VEVENT
BEGIN:VEVENT
DTSTART;TZID=America/Kentucky/Louisville:20240806T163000
DTEND;TZID=America/Kentucky/Louisville:20240806T190000
DTSTAMP:20260425T071739
CREATED:20240513T174101Z
LAST-MODIFIED:20240513T174101Z
UID:51257-1722961800-1722970800@visitpikeville.com
SUMMARY:Pikeville Farmer's Market
DESCRIPTION:Tuesday from 4:30-7:00 \nSaturday 9:00-1:00 \n 
URL:https://visitpikeville.com/event/pikeville-farmers-market-5-3-2-2-3-2-2-2-2-2-2-2/
LOCATION:Pikeville Farmer’s Market\, 130 Adams Lane\, Pikeville\, Ky
CATEGORIES:Other
ATTACH;FMTTYPE=image/jpeg:https://visitpikeville.com/wp-content/uploads/2024/05/farmers-market.jpeg
END:VEVENT
BEGIN:VEVENT
DTSTART;TZID=America/Kentucky/Louisville:20240806T100000
DTEND;TZID=America/Kentucky/Louisville:20240806T110000
DTSTAMP:20260425T071739
CREATED:20240805T123631Z
LAST-MODIFIED:20240805T123631Z
UID:54638-1722938400-1722942000@visitpikeville.com
SUMMARY:Pike County Fiscal Court Meeting
DESCRIPTION:10:00 am @ Courthouse
URL:https://visitpikeville.com/event/pike-county-fiscal-court-meeting-2-2-2-2-2-2-2-2-3-2/
LOCATION:Courthouse\, 175 Main St.\, Pikeville\, KY\, 41501\, United States
CATEGORIES:City of Pikeville
ATTACH;FMTTYPE=image/png:https://visitpikeville.com/wp-content/uploads/2023/09/image001.png
END:VEVENT
BEGIN:VEVENT
DTSTART;TZID=America/Kentucky/Louisville:20240805T180000
DTEND;TZID=America/Kentucky/Louisville:20240805T190000
DTSTAMP:20260425T071739
CREATED:20240805T122825Z
LAST-MODIFIED:20240805T122825Z
UID:54634-1722880800-1722884400@visitpikeville.com
SUMMARY:City Commission Meeting
DESCRIPTION:6pm @ City Hall
URL:https://visitpikeville.com/event/city-commission-meeting-2-2-2-2-2-2-2-2-2-2-2-2-2-2-2-2/
LOCATION:Pikeville City Hall\, 243 Main St #1786\,\, Pikeville\, KY\, 41501\, United States
CATEGORIES:City of Pikeville
ATTACH;FMTTYPE=image/png:https://visitpikeville.com/wp-content/uploads/2023/09/image001.png
END:VEVENT
BEGIN:VEVENT
DTSTART;TZID=America/Kentucky/Louisville:20240805T100000
DTEND;TZID=America/Kentucky/Louisville:20240805T120000
DTSTAMP:20260425T071739
CREATED:20240729T123036Z
LAST-MODIFIED:20240729T123036Z
UID:54146-1722852000-1722859200@visitpikeville.com
SUMMARY:Ribbon Cutting: Starbucks Pikeville
DESCRIPTION:Ribbon Cutting & Grand Opening
URL:https://visitpikeville.com/event/ribbon-cutting-starbucks-pikeville/
LOCATION:Starbucks\, 210 Cassidy Blvd KY\, Pikeville\, KY\, 41501\, United States
CATEGORIES:Southeast Kentucky Chamber
ATTACH;FMTTYPE=image/png:https://visitpikeville.com/wp-content/uploads/2024/07/RibbonCutting-Starbucks.png
END:VEVENT
BEGIN:VEVENT
DTSTART;TZID=America/Kentucky/Louisville:20240803T193000
DTEND;TZID=America/Kentucky/Louisville:20240803T223000
DTSTAMP:20260425T071739
CREATED:20240729T130224Z
LAST-MODIFIED:20240729T130224Z
UID:54155-1722713400-1722724200@visitpikeville.com
SUMMARY:Saturday Summer Acoustic Music Series
DESCRIPTION:Here’s the lineup with others to come! Please come out and enjoy our local music scene.
URL:https://visitpikeville.com/event/saturday-summer-acoustic-music-series/
LOCATION:Bank 253\, 253 2nd St\,\, Pikeville\, KY\, 41501\, United States
CATEGORIES:Other,Pikeville Tourism
ATTACH;FMTTYPE=image/jpeg:https://visitpikeville.com/wp-content/uploads/2024/07/bank253.jpg
END:VEVENT
BEGIN:VEVENT
DTSTART;TZID=America/Kentucky/Louisville:20240803T193000
DTEND;TZID=America/Kentucky/Louisville:20240803T213000
DTSTAMP:20260425T071739
CREATED:20240729T125559Z
LAST-MODIFIED:20240729T125559Z
UID:54152-1722713400-1722720600@visitpikeville.com
SUMMARY:Back to School Improv with Vivian
DESCRIPTION:Vivian is going back to school and laughing all the way! Join us on August 3rd\, at 7:30 for The App’s next improv show! #comedy #funny #improv #whoslineisitanyway #pikevilleky
URL:https://visitpikeville.com/event/back-to-school-improv-with-vivian/
LOCATION:Appalachian Center for the Arts\, 218 2nd St\,\, Pikeville\, Ky\, 41501
CATEGORIES:The Appalachian Center for the Arts
ATTACH;FMTTYPE=image/jpeg:https://visitpikeville.com/wp-content/uploads/2024/07/back-to-school.jpg
END:VEVENT
BEGIN:VEVENT
DTSTART;TZID=America/Kentucky/Louisville:20240803T190000
DTEND;TZID=America/Kentucky/Louisville:20240803T210000
DTSTAMP:20260425T071739
CREATED:20240729T134346Z
LAST-MODIFIED:20240729T134346Z
UID:54190-1722711600-1722718800@visitpikeville.com
SUMMARY:Initial Pumpkin
DESCRIPTION:Come create a one of a kind creation . Learn basic painting techniques and celebrate fall.
URL:https://visitpikeville.com/event/initial-pumpkin-2/
LOCATION:2 Broke Art Teachers\, 4505 Weddington Square\,\, Pikeville\, KY\, 41501\, United States
CATEGORIES:Other
ATTACH;FMTTYPE=image/jpeg:https://visitpikeville.com/wp-content/uploads/2024/07/initial.jpg
END:VEVENT
BEGIN:VEVENT
DTSTART;TZID=America/Kentucky/Louisville:20240803T150000
DTEND;TZID=America/Kentucky/Louisville:20240803T170000
DTSTAMP:20260425T071739
CREATED:20240729T134854Z
LAST-MODIFIED:20240729T134854Z
UID:54195-1722697200-1722704400@visitpikeville.com
SUMMARY:Pup Painting
DESCRIPTION:Come and help us celebrate our sweet pup \, but this darling is a bit of a chameleon\, it can easily transform into a shepherd\, husky or a sweet baby from your imagination.
URL:https://visitpikeville.com/event/pup-painting/
LOCATION:2 Broke Art Teachers\, 4505 Weddington Square\,\, Pikeville\, KY\, 41501\, United States
CATEGORIES:Other
ATTACH;FMTTYPE=image/jpeg:https://visitpikeville.com/wp-content/uploads/2024/07/pup.jpg
END:VEVENT
BEGIN:VEVENT
DTSTART;TZID=America/Kentucky/Louisville:20240803T090000
DTEND;TZID=America/Kentucky/Louisville:20240803T130000
DTSTAMP:20260425T071739
CREATED:20240513T173957Z
LAST-MODIFIED:20240513T173957Z
UID:51255-1722675600-1722690000@visitpikeville.com
SUMMARY:Pikeville Farmer's Market
DESCRIPTION:Tuesday from 4:30-7:00 \nSaturday 9:00-1:00 \n 
URL:https://visitpikeville.com/event/pikeville-farmers-market-5-2-2-2-2-2-2-2-2-2-2-2-2/
LOCATION:Pikeville Farmer’s Market\, 130 Adams Lane\, Pikeville\, Ky
CATEGORIES:Other
ATTACH;FMTTYPE=image/jpeg:https://visitpikeville.com/wp-content/uploads/2024/05/farmers-market.jpeg
END:VEVENT
BEGIN:VEVENT
DTSTART;TZID=America/Kentucky/Louisville:20240802T190000
DTEND;TZID=America/Kentucky/Louisville:20240802T210000
DTSTAMP:20260425T071739
CREATED:20240415T123712Z
LAST-MODIFIED:20240415T123712Z
UID:49786-1722625200-1722632400@visitpikeville.com
SUMMARY:Exit 23
DESCRIPTION:Exit 23 is from Pikeville\, Kentucky. We uniquely play every type of music you love.
URL:https://visitpikeville.com/event/exit-23/
LOCATION:Mountain Top Media Stage\, 126 Main St\,\, Pikeville\, KY\, 41501\, United States
CATEGORIES:Appalachian Wireless Arena,Mountain Top Media,Pikeville Tourism
ATTACH;FMTTYPE=image/jpeg:https://visitpikeville.com/wp-content/uploads/2024/04/exit23.jpeg
END:VEVENT
BEGIN:VEVENT
DTSTART;TZID=America/Kentucky/Louisville:20240802T180000
DTEND;TZID=America/Kentucky/Louisville:20240802T210000
DTSTAMP:20260425T071739
CREATED:20240722T140651Z
LAST-MODIFIED:20240722T140651Z
UID:53748-1722621600-1722632400@visitpikeville.com
SUMMARY:Girls Night Out
DESCRIPTION:Mark your calendars! It’s time for Girls Night Out in downtown Pikeville. Friday\, August 2nd from 6pm-9pm!#pikevillemainstreet#pikevillekentucky#KentuckyMainStreet#GirlsNightOut#downtownpikeville
URL:https://visitpikeville.com/event/girls-night-out-7/
LOCATION:Downtown Pikeville\, Pikeville\, Ky\, 41501
CATEGORIES:Pikeville Main Street
ATTACH;FMTTYPE=image/jpeg:https://visitpikeville.com/wp-content/uploads/2024/07/girls-night-out.jpg
END:VEVENT
BEGIN:VEVENT
DTSTART;TZID=America/Kentucky/Louisville:20240802T130000
DTEND;TZID=America/Kentucky/Louisville:20240802T150000
DTSTAMP:20260425T071739
CREATED:20240729T134617Z
LAST-MODIFIED:20240729T134617Z
UID:54192-1722603600-1722610800@visitpikeville.com
SUMMARY:Whimsical Owls
DESCRIPTION:Whoooo wants to come and complete this cutie?
URL:https://visitpikeville.com/event/whimsical-owls/
LOCATION:2 Broke Art Teachers\, 4505 Weddington Square\,\, Pikeville\, KY\, 41501\, United States
CATEGORIES:Other
ATTACH;FMTTYPE=image/jpeg:https://visitpikeville.com/wp-content/uploads/2024/07/owl.jpg
END:VEVENT
BEGIN:VEVENT
DTSTART;TZID=America/Kentucky/Louisville:20240801T130000
DTEND;TZID=America/Kentucky/Louisville:20240801T150000
DTSTAMP:20260425T071739
CREATED:20240729T134248Z
LAST-MODIFIED:20240729T134248Z
UID:54187-1722517200-1722524400@visitpikeville.com
SUMMARY:Initial Pumpkin
DESCRIPTION:Come create a one of a kind creation . Learn basic painting techniques and celebrate fall.
URL:https://visitpikeville.com/event/initial-pumpkin/
LOCATION:2 Broke Art Teachers\, 4505 Weddington Square\,\, Pikeville\, KY\, 41501\, United States
CATEGORIES:Other
ATTACH;FMTTYPE=image/jpeg:https://visitpikeville.com/wp-content/uploads/2024/07/initial.jpg
END:VEVENT
BEGIN:VEVENT
DTSTART;TZID=America/Kentucky/Louisville:20240801T120000
DTEND;TZID=America/Kentucky/Louisville:20240801T130000
DTSTAMP:20260425T071739
CREATED:20240731T220154Z
LAST-MODIFIED:20240731T220154Z
UID:54366-1722513600-1722517200@visitpikeville.com
SUMMARY:Pikeville Fire Department Station 2 Grand Opening!
DESCRIPTION:Please make plans to join us Thursday at Noon!
URL:https://visitpikeville.com/event/pikeville-fire-department-station-2-grand-opening/
LOCATION:Pikeville Fire Department Station 2\, 1296 South Mayo Trail\, Pikeville\, KY\, 41501\, United States
CATEGORIES:City of Pikeville,Pikeville Tourism
ATTACH;FMTTYPE=image/jpeg:https://visitpikeville.com/wp-content/uploads/2024/07/grand-opening.jpg
END:VEVENT
BEGIN:VEVENT
DTSTART;TZID=America/Kentucky/Louisville:20240801T100000
DTEND;TZID=America/Kentucky/Louisville:20240801T140000
DTSTAMP:20260425T071739
CREATED:20240715T190119Z
LAST-MODIFIED:20240715T190119Z
UID:53418-1722506400-1722520800@visitpikeville.com
SUMMARY:🐻 Bears Immunization Station 🐻
DESCRIPTION:Thursday\, August 110 a.m. to 2 p.m.Pikeville Area YMCAUPIKE is excited to partner with Ronald McDonald House Charities of the Bluegrass\, the Kentucky Association of Health Plans\, and the Pike County Health Department to host a free vaccine clinic to provide kids ages 11 and up with the required vaccines before school starts!
URL:https://visitpikeville.com/event/%f0%9f%90%bb-bears-immunization-station-%f0%9f%90%bb/
LOCATION:University Of Pikeville\, 147 Sycamore St\,\, Pikeville\, KY\, 41501\, United States
CATEGORIES:UPike
ATTACH;FMTTYPE=image/jpeg:https://visitpikeville.com/wp-content/uploads/2024/07/immunization.jpg
END:VEVENT
BEGIN:VEVENT
DTSTART;TZID=America/Kentucky/Louisville:20240730T173000
DTEND;TZID=America/Kentucky/Louisville:20240730T193000
DTSTAMP:20260425T071739
CREATED:20240729T133852Z
LAST-MODIFIED:20240729T133852Z
UID:54184-1722360600-1722367800@visitpikeville.com
SUMMARY:Blue Truck with Pumpkins
DESCRIPTION:The blue truck that doesn’t have to be blue . Come celebrate fall while learning basic painting techniques.
URL:https://visitpikeville.com/event/blue-truck-with-pumpkins/
LOCATION:2 Broke Art Teachers\, 4505 Weddington Square\,\, Pikeville\, KY\, 41501\, United States
CATEGORIES:Other
ATTACH;FMTTYPE=image/jpeg:https://visitpikeville.com/wp-content/uploads/2024/07/blue-truck.jpg
END:VEVENT
BEGIN:VEVENT
DTSTART;TZID=America/Kentucky/Louisville:20240730T173000
DTEND;TZID=America/Kentucky/Louisville:20240730T183000
DTSTAMP:20260425T071739
CREATED:20240701T151948Z
LAST-MODIFIED:20240701T151948Z
UID:53117-1722360600-1722364200@visitpikeville.com
SUMMARY:Music and Movement
DESCRIPTION:Explore instruments and dance with the Music and Movement program! This program for ages 12 and under will be held at the Pike County Public Library (Lee Avenue) on July 30 at 5:30. No registration is required.
URL:https://visitpikeville.com/event/music-and-movement/
LOCATION:Pike County Public Library\, 126 Lee Avenue\, Pikeville\, KY\, 41501\, United States
CATEGORIES:Pike County Public Library
ATTACH;FMTTYPE=image/jpeg:https://visitpikeville.com/wp-content/uploads/2024/07/music.jpg
END:VEVENT
END:VCALENDAR