BEGIN:VCALENDAR
VERSION:2.0
PRODID:-//Visit Pikeville - ECPv6.15.20//NONSGML v1.0//EN
CALSCALE:GREGORIAN
METHOD:PUBLISH
X-WR-CALNAME:Visit Pikeville
X-ORIGINAL-URL:https://visitpikeville.com
X-WR-CALDESC:Events for Visit Pikeville
REFRESH-INTERVAL;VALUE=DURATION:PT1H
X-Robots-Tag:noindex
X-PUBLISHED-TTL:PT1H
BEGIN:VTIMEZONE
TZID:America/Kentucky/Louisville
BEGIN:DAYLIGHT
TZOFFSETFROM:-0500
TZOFFSETTO:-0400
TZNAME:EDT
DTSTART:20250309T070000
END:DAYLIGHT
BEGIN:STANDARD
TZOFFSETFROM:-0400
TZOFFSETTO:-0500
TZNAME:EST
DTSTART:20251102T060000
END:STANDARD
BEGIN:DAYLIGHT
TZOFFSETFROM:-0500
TZOFFSETTO:-0400
TZNAME:EDT
DTSTART:20260308T070000
END:DAYLIGHT
BEGIN:STANDARD
TZOFFSETFROM:-0400
TZOFFSETTO:-0500
TZNAME:EST
DTSTART:20261101T060000
END:STANDARD
BEGIN:DAYLIGHT
TZOFFSETFROM:-0500
TZOFFSETTO:-0400
TZNAME:EDT
DTSTART:20270314T070000
END:DAYLIGHT
BEGIN:STANDARD
TZOFFSETFROM:-0400
TZOFFSETTO:-0500
TZNAME:EST
DTSTART:20271107T060000
END:STANDARD
END:VTIMEZONE
BEGIN:VEVENT
DTSTART;TZID=America/Kentucky/Louisville:20260109T173000
DTEND;TZID=America/Kentucky/Louisville:20260109T210000
DTSTAMP:20260421T161534
CREATED:20260105T154111Z
LAST-MODIFIED:20260105T154111Z
UID:72339-1767979800-1767992400@visitpikeville.com
SUMMARY:Pick Your Painting Night
DESCRIPTION:FRI. JAN. 9th @ 5:30 PM – $25 \n Pick Your Painting Night at 2 Broke Art Teachers! \nPLEASE LIKE AND SHARE\n\n\nWe’re bringing ALL the Valentine vibes and giving YOU the choice!\nPick your favorite design and come paint with us! \n\n\n All supplies included\n Beginners welcome\n\n\n Pikeville\, KY\n $25 per painter\n Friday\, January 9th at 5:30 PM\n\n\n Private message to reserve your seat!\nTag your paint bestie and come make it a fun night out!
URL:https://visitpikeville.com/event/pick-your-painting-night/
LOCATION:2 Broke Art Teachers\, 4505 Weddington Square\,\, Pikeville\, KY\, 41501\, United States
CATEGORIES:Other
END:VEVENT
BEGIN:VEVENT
DTSTART;TZID=America/Kentucky/Louisville:20260109T180000
DTEND;TZID=America/Kentucky/Louisville:20260109T190000
DTSTAMP:20260421T161534
CREATED:20260106T182343Z
LAST-MODIFIED:20260106T182343Z
UID:72355-1767981600-1767985200@visitpikeville.com
SUMMARY:All A Tournament
DESCRIPTION:@Appalachian Wireless Arena
URL:https://visitpikeville.com/event/all-a-tournament-2-2-2-2-2/
LOCATION:Appalachian Wireless Arena\, 126 Main Street\, Pikeville\, Ky\, 41501
CATEGORIES:Appalachian Wireless Arena
ATTACH;FMTTYPE=image/jpeg:https://visitpikeville.com/wp-content/uploads/2026/01/alla.jpg
END:VEVENT
BEGIN:VEVENT
DTSTART;TZID=America/Kentucky/Louisville:20260109T190000
DTEND;TZID=America/Kentucky/Louisville:20260109T210000
DTSTAMP:20260421T161534
CREATED:20260106T183536Z
LAST-MODIFIED:20260106T183536Z
UID:72373-1767985200-1767992400@visitpikeville.com
SUMMARY:Open Mic Night
DESCRIPTION:Join us downstairs at Brothers Wright Distilling Co.
URL:https://visitpikeville.com/event/open-mic-night-4/
LOCATION:Brothers Wright Distilling Co.\, 2nd Street\, Pikeville\, KY\, 41501\, United States
CATEGORIES:Other
ATTACH;FMTTYPE=image/jpeg:https://visitpikeville.com/wp-content/uploads/2026/01/bro-wright.jpg
END:VEVENT
BEGIN:VEVENT
DTSTART;TZID=America/Kentucky/Louisville:20260109T193000
DTEND;TZID=America/Kentucky/Louisville:20260109T203000
DTSTAMP:20260421T161534
CREATED:20260106T182658Z
LAST-MODIFIED:20260106T182658Z
UID:72359-1767987000-1767990600@visitpikeville.com
SUMMARY:All A Tournament
DESCRIPTION:@Appalachian Wireless Arena
URL:https://visitpikeville.com/event/all-a-tournament-2-2-2-2-2-2/
LOCATION:Appalachian Wireless Arena\, 126 Main Street\, Pikeville\, Ky\, 41501
CATEGORIES:Appalachian Wireless Arena
ATTACH;FMTTYPE=image/jpeg:https://visitpikeville.com/wp-content/uploads/2026/01/alla.jpg
END:VEVENT
BEGIN:VEVENT
DTSTART;TZID=America/Kentucky/Louisville:20260110T130000
DTEND;TZID=America/Kentucky/Louisville:20260110T150000
DTSTAMP:20260421T161534
CREATED:20260105T153751Z
LAST-MODIFIED:20260105T153751Z
UID:72333-1768050000-1768057200@visitpikeville.com
SUMMARY:FAMILY PAINT CLASS
DESCRIPTION:FAMILY PAINT CLASS – Pick Your Favorite! \n2 Broke Art Teachers | Pikeville\, KY\nPlease like and share to help spread our schedule and help our small buisness grow \n\n\nBring the kiddos\, grab your Valentine spirit\, and come paint with us! We’ve got 9 ADORABLE designs to choose from — perfect for families\, kids\, and beginners!\n\n\n Saturday\, January 10\, 2026\n 1:00 PM\n $20 per painter\n\n\n Canvases are pre-drawn\n No experience needed\n You choose your colors & add personal touches!\n\n\n private message us to reserve your seats!\nSpots are limited and these fill FAST!\n\n\n Perfect for family day\, mommy-and-me\, grandparents\, and friends!\n Like & Share to invite your painting crew!
URL:https://visitpikeville.com/event/family-paint-class-15/
LOCATION:2 Broke Art Teachers\, 4505 Weddington Square\,\, Pikeville\, KY\, 41501\, United States
CATEGORIES:Other
ATTACH;FMTTYPE=image/jpeg:https://visitpikeville.com/wp-content/uploads/2026/01/family-jan-10.jpg
END:VEVENT
BEGIN:VEVENT
DTSTART;TZID=America/Kentucky/Louisville:20260110T140000
DTEND;TZID=America/Kentucky/Louisville:20260110T160000
DTSTAMP:20260421T161534
CREATED:20250908T125111Z
LAST-MODIFIED:20250908T125111Z
UID:68082-1768053600-1768060800@visitpikeville.com
SUMMARY:Men's Basketball vs Carolina University
DESCRIPTION:Game Day!
URL:https://visitpikeville.com/event/mens-basketball-vs-carolina-university/
LOCATION:Appalachian Wireless Arena\, 126 Main Street\, Pikeville\, Ky\, 41501
CATEGORIES:UPike
ATTACH;FMTTYPE=image/png:https://visitpikeville.com/wp-content/uploads/2025/09/Screenshot-2025-09-08-at-8.49.20-AM.png
END:VEVENT
BEGIN:VEVENT
DTSTART;TZID=America/Kentucky/Louisville:20260110T170000
DTEND;TZID=America/Kentucky/Louisville:20260111T200000
DTSTAMP:20260421T161534
CREATED:20260105T153927Z
LAST-MODIFIED:20260105T153927Z
UID:72336-1768064400-1768161600@visitpikeville.com
SUMMARY:SATURDAY NIGHT PAINT PARTY!
DESCRIPTION:SATURDAY NIGHT PAINT PARTY! \n Saturday\, January 10th\n 5:00 PM\n $25 per painter\n\n\nGrab your friends\, your sweetheart\, or your family and join us for a fun\, relaxing night of painting at 2 Broke Art Teachers! \n\n\nPick your favorite design from these SIX adorable options:\n\n\nCanvases are pre-drawn\n All supplies included\n fun for all skill levels\n Customize your colors & add personal touches!\n\n\n Limited seats available!\n Private message us to reserve your spot!\n\n\nCome paint\, laugh\, and make something you’ll be proud to hang up at home!
URL:https://visitpikeville.com/event/saturday-night-paint-party/
LOCATION:2 Broke Art Teachers\, 4505 Weddington Square\,\, Pikeville\, KY\, 41501\, United States
CATEGORIES:Other
ATTACH;FMTTYPE=image/jpeg:https://visitpikeville.com/wp-content/uploads/2026/01/sat-night.jpg
END:VEVENT
BEGIN:VEVENT
DTSTART;TZID=America/Kentucky/Louisville:20260110T180000
DTEND;TZID=America/Kentucky/Louisville:20260110T210000
DTSTAMP:20260421T161534
CREATED:20260105T152927Z
LAST-MODIFIED:20260105T152927Z
UID:72323-1768068000-1768078800@visitpikeville.com
SUMMARY:Square Dancing
DESCRIPTION:Call 432-2534
URL:https://visitpikeville.com/event/square-dancing-4/
LOCATION:Pike County Extension Office\, 148 Trivette Dr\, Pikeville\, KY\, 41501\, United States
CATEGORIES:Pike County Extension Community Arts
ATTACH;FMTTYPE=image/jpeg:https://visitpikeville.com/wp-content/uploads/2026/01/square-dancing.jpg
END:VEVENT
BEGIN:VEVENT
DTSTART;TZID=America/Kentucky/Louisville:20260110T190000
DTEND;TZID=America/Kentucky/Louisville:20260110T210000
DTSTAMP:20260421T161534
CREATED:20260106T184019Z
LAST-MODIFIED:20260106T184019Z
UID:72382-1768071600-1768078800@visitpikeville.com
SUMMARY:Devin Moore
DESCRIPTION:@Brothers Wright Distilling Co.
URL:https://visitpikeville.com/event/devin-moore/
LOCATION:Brothers Wright Distilling Co.\, 2nd Street\, Pikeville\, KY\, 41501\, United States
CATEGORIES:Other
ATTACH;FMTTYPE=image/jpeg:https://visitpikeville.com/wp-content/uploads/2026/01/bro-wright.jpg
END:VEVENT
BEGIN:VEVENT
DTSTART;TZID=America/Kentucky/Louisville:20260112T140000
DTEND;TZID=America/Kentucky/Louisville:20260112T150000
DTSTAMP:20260421T161534
CREATED:20260112T160201Z
LAST-MODIFIED:20260112T160201Z
UID:72443-1768226400-1768230000@visitpikeville.com
SUMMARY:Music Theory Class
DESCRIPTION:Understanding how music works will give you the tools you need to write riffs\, songs\, and solos\, and learn to improvise in a friendly hands-on environment. \n\n\n\n\n\n\n  \nClass is held every Monday at the Pike County Public Library (Lee Ave) at 2:00. \nNo previous knowledge of music theory or reading music is necessary\, but this class is for students who already know how to play a little bit.
URL:https://visitpikeville.com/event/music-theory-class/
LOCATION:Pike County Public Library\, 126 Lee Avenue\, Pikeville\, KY\, 41501\, United States
CATEGORIES:Pike County Public Library
ATTACH;FMTTYPE=image/png:https://visitpikeville.com/wp-content/uploads/2026/01/music.png
END:VEVENT
BEGIN:VEVENT
DTSTART;TZID=America/Kentucky/Louisville:20260112T160000
DTEND;TZID=America/Kentucky/Louisville:20260112T170000
DTSTAMP:20260421T161534
CREATED:20260112T160400Z
LAST-MODIFIED:20260112T160400Z
UID:72446-1768233600-1768237200@visitpikeville.com
SUMMARY:Teen Time
DESCRIPTION:Teens ages 13-17 are invited to hang out\, get creative\, and have fun at Teen Time\, meeting alternating Mondays at 4:00. \n\n\n\n\n\n\n  \nJoin us in the Teen Room for a mix of crafts\, games\, video game tournaments\, snacks\, and more. It’s a great chance to relax\, meet new friends\, and try something new each week. No registration needed.
URL:https://visitpikeville.com/event/teen-time-4/
LOCATION:Pike County Public Library\, 126 Lee Avenue\, Pikeville\, KY\, 41501\, United States
CATEGORIES:Pike County Public Library
ATTACH;FMTTYPE=image/png:https://visitpikeville.com/wp-content/uploads/2026/01/Teen_Time_updated.png
END:VEVENT
BEGIN:VEVENT
DTSTART;TZID=America/Kentucky/Louisville:20260112T180000
DTEND;TZID=America/Kentucky/Louisville:20260112T190000
DTSTAMP:20260421T161534
CREATED:20260106T182801Z
LAST-MODIFIED:20260106T182801Z
UID:72361-1768240800-1768244400@visitpikeville.com
SUMMARY:All A Tournament
DESCRIPTION:@Appalachian Wireless Arena
URL:https://visitpikeville.com/event/all-a-tournament-2-2-2-2-2-2-2/
LOCATION:Appalachian Wireless Arena\, 126 Main Street\, Pikeville\, Ky\, 41501
CATEGORIES:Appalachian Wireless Arena
ATTACH;FMTTYPE=image/jpeg:https://visitpikeville.com/wp-content/uploads/2026/01/alla.jpg
END:VEVENT
BEGIN:VEVENT
DTSTART;TZID=America/Kentucky/Louisville:20260112T180000
DTEND;TZID=America/Kentucky/Louisville:20260112T190000
DTSTAMP:20260421T161534
CREATED:20260106T184350Z
LAST-MODIFIED:20260106T184350Z
UID:72390-1768240800-1768244400@visitpikeville.com
SUMMARY:City Commission Meeting
DESCRIPTION:6pm @ City Hall
URL:https://visitpikeville.com/event/city-commission-meeting-2-2-2-2-2-2-2-2-2-2-2-2-2-2-2-2-2-2-2-2-2-2-2-2-2-2-2-2-2-2-2-2-2-2-2-2-2-2-2-2-2-2-2-2-2-2-2/
LOCATION:Pikeville City Hall\, 243 Main St #1786\,\, Pikeville\, KY\, 41501\, United States
CATEGORIES:City of Pikeville
ATTACH;FMTTYPE=image/png:https://visitpikeville.com/wp-content/uploads/2023/09/image001.png
END:VEVENT
BEGIN:VEVENT
DTSTART;TZID=America/Kentucky/Louisville:20260112T200000
DTEND;TZID=America/Kentucky/Louisville:20260112T210000
DTSTAMP:20260421T161534
CREATED:20260106T182849Z
LAST-MODIFIED:20260106T182849Z
UID:72363-1768248000-1768251600@visitpikeville.com
SUMMARY:All A Tournament
DESCRIPTION:@Appalachian Wireless Arena
URL:https://visitpikeville.com/event/all-a-tournament-2-2-2-2-2-2-2-2/
LOCATION:Appalachian Wireless Arena\, 126 Main Street\, Pikeville\, Ky\, 41501
CATEGORIES:Appalachian Wireless Arena
ATTACH;FMTTYPE=image/jpeg:https://visitpikeville.com/wp-content/uploads/2026/01/alla.jpg
END:VEVENT
BEGIN:VEVENT
DTSTART;TZID=America/Kentucky/Louisville:20260113T120000
DTEND;TZID=America/Kentucky/Louisville:20260113T130000
DTSTAMP:20260421T161534
CREATED:20260105T112425Z
LAST-MODIFIED:20260105T112425Z
UID:72130-1768305600-1768309200@visitpikeville.com
SUMMARY:Lunch & Learn with American Red Cross
DESCRIPTION:FREE for Members\n$20 for Future Members
URL:https://visitpikeville.com/event/lunch-learn-with-american-red-cross/
LOCATION:Garfield House\, 178 College Street\, Pikeville\, KY\, 41501\, United States
CATEGORIES:Southeast Kentucky Chamber
ATTACH;FMTTYPE=image/png:https://visitpikeville.com/wp-content/uploads/2026/01/CopyofLL-Jan.2026-RedCross.png
END:VEVENT
BEGIN:VEVENT
DTSTART;TZID=America/Kentucky/Louisville:20260113T170000
DTEND;TZID=America/Kentucky/Louisville:20260113T180000
DTSTAMP:20260421T161534
CREATED:20260112T160623Z
LAST-MODIFIED:20260112T160623Z
UID:72449-1768323600-1768327200@visitpikeville.com
SUMMARY:Author Visit: Dan Conti
DESCRIPTION:On January 13th at 5:00\, author Dan Conti will visit the Pike County Library with his new book\, “Pikeville.” Copies will be available for purchase. \n\n\n\n\n\n\n  \nSet in 1924\, the mysterious death of a coal miner leads Sheriff Ben Laurel to pursue possible links to a girlfriend’s family\, fellow miners\, the coal company and the Ku Klux Klan. His probe ruffles feathers during the Prohibition Era and his campaign for re-election. \nAs the story develops\, Pikeville is undergoing rapid population growth\, construction of new roads and rail lines\, its first hospital and a luxury hotel. Sheriff Ben Laurel’s pursuit of justice is shaped by his family’s legacy\, his experience in World War I\, race relations in the military and the recovery from a global pandemic that killed 50 million people. \nAlthough Pikeville is a work of fiction\, the novel explores several aspects of its actual historical significance\, such as the city’s role in the Civil War\, the place where one of America’s first racially-integrated cemetaries was established\, and a community in which the KKK chose to march and rally in July\, 1924. \nDan Conti’s career spanned more than 40 years as a broadcast news reporter\, anchor\, and producer in Ohio\, Indiana\, and Kentucky. He won more than 35 awards from the Associated Press\, including honors for seven documentaries. Pikeville is Conti’s second novel. The first\, Nittany Lion (2023-24)\, is about a Vietnam veteran who returns to Pennsylvania in 1970 and the struggles endured by his young family. URlink called the book “a quiet triumph” and Books to Life Marketing described it as “a powerful\, intimate portrait of a family trying to hold itself together as the world around them fractures.” He currently resides in Morehead.
URL:https://visitpikeville.com/event/author-visit-dan-conti/
LOCATION:Pike County Public Library\, 126 Lee Avenue\, Pikeville\, KY\, 41501\, United States
CATEGORIES:Pike County Public Library
ATTACH;FMTTYPE=image/png:https://visitpikeville.com/wp-content/uploads/2026/01/Author_Visit.png
END:VEVENT
BEGIN:VEVENT
DTSTART;TZID=America/Kentucky/Louisville:20260113T173000
DTEND;TZID=America/Kentucky/Louisville:20260113T193000
DTSTAMP:20260421T161534
CREATED:20260112T152105Z
LAST-MODIFIED:20260112T152105Z
UID:72412-1768325400-1768332600@visitpikeville.com
SUMMARY:Pike County Fiscal Court Meeting
DESCRIPTION:Special Called Meeting \n05:30pm @ Pike County Courthouse
URL:https://visitpikeville.com/event/pike-county-fiscal-court-meeting-2-2-2-2-2-2-2-2-3-2-2-2-2-2-2-2-2-2-2-2-2-2-2-2-2-2-2-2-2-2-2-2/
LOCATION:Courthouse\, 175 Main St.\, Pikeville\, KY\, 41501\, United States
CATEGORIES:City of Pikeville
ATTACH;FMTTYPE=image/png:https://visitpikeville.com/wp-content/uploads/2023/09/image001.png
END:VEVENT
BEGIN:VEVENT
DTSTART;TZID=America/Kentucky/Louisville:20260113T180000
DTEND;TZID=America/Kentucky/Louisville:20260113T200000
DTSTAMP:20260421T161534
CREATED:20260112T150649Z
LAST-MODIFIED:20260112T150649Z
UID:72407-1768327200-1768334400@visitpikeville.com
SUMMARY:Line Dancing
DESCRIPTION:No sign-up required!
URL:https://visitpikeville.com/event/line-dancing-5-2/
LOCATION:Pike County Extension Office\, 148 Trivette Dr\, Pikeville\, KY\, 41501\, United States
CATEGORIES:Pike County Extension Community Arts
ATTACH;FMTTYPE=image/jpeg:https://visitpikeville.com/wp-content/uploads/2026/01/line-dancing.jpg
END:VEVENT
BEGIN:VEVENT
DTSTART;TZID=America/Kentucky/Louisville:20260114T090000
DTEND;TZID=America/Kentucky/Louisville:20260114T110000
DTSTAMP:20260421T161534
CREATED:20260112T152433Z
LAST-MODIFIED:20260112T152433Z
UID:72414-1768381200-1768388400@visitpikeville.com
SUMMARY:Wellness Wednesday
DESCRIPTION:09:00am- 11:00am
URL:https://visitpikeville.com/event/wellness-wednesday/
LOCATION:Pikeville YMCA\, 424 Bob Amos Dr\,\, Pikeville\, Ky\, 41501
CATEGORIES:Pikeville YMCA
ATTACH;FMTTYPE=image/png:https://visitpikeville.com/wp-content/uploads/2026/01/ymca.png
END:VEVENT
BEGIN:VEVENT
DTSTART;TZID=America/Kentucky/Louisville:20260114T140000
DTEND;TZID=America/Kentucky/Louisville:20260114T150000
DTSTAMP:20260421T161534
CREATED:20260112T160805Z
LAST-MODIFIED:20260112T160805Z
UID:72452-1768399200-1768402800@visitpikeville.com
SUMMARY:Adult Guitar Class
DESCRIPTION:Beginner guitar lessons for patrons ages 18+. This class meets weekly on Wednesdays at 2:00. Please bring your own instrument.
URL:https://visitpikeville.com/event/adult-guitar-class-5/
LOCATION:Pike County Public Library\, 126 Lee Avenue\, Pikeville\, KY\, 41501\, United States
CATEGORIES:Pike County Public Library
ATTACH;FMTTYPE=image/png:https://visitpikeville.com/wp-content/uploads/2026/01/music.png
END:VEVENT
BEGIN:VEVENT
DTSTART;TZID=America/Kentucky/Louisville:20260114T163000
DTEND;TZID=America/Kentucky/Louisville:20260114T173000
DTSTAMP:20260421T161534
CREATED:20260112T160941Z
LAST-MODIFIED:20260112T160941Z
UID:72454-1768408200-1768411800@visitpikeville.com
SUMMARY:Teen Guitar Class 1
DESCRIPTION:Beginner guitar lessons for patrons ages 13-17. This class meets weekly on Wednesdays at 4:30. Please bring your own instrument. Registration required.
URL:https://visitpikeville.com/event/teen-guitar-class-1/
LOCATION:Pike County Public Library\, 126 Lee Avenue\, Pikeville\, KY\, 41501\, United States
CATEGORIES:Pike County Public Library
ATTACH;FMTTYPE=image/png:https://visitpikeville.com/wp-content/uploads/2026/01/music.png
END:VEVENT
BEGIN:VEVENT
DTSTART;TZID=America/Kentucky/Louisville:20260114T173000
DTEND;TZID=America/Kentucky/Louisville:20260114T190000
DTSTAMP:20260421T161534
CREATED:20260105T151636Z
LAST-MODIFIED:20260105T151636Z
UID:72307-1768411800-1768417200@visitpikeville.com
SUMMARY:Freedom from Smoking
DESCRIPTION:Wednesdays 5:30pm to 7:00pm
URL:https://visitpikeville.com/event/freedom-from-smoking-4-2/
LOCATION:Pike County Health Department\, 119 River Drive\,\, Pikeville\, KY\, 41501\, United States
CATEGORIES:Pike County Health Department
ATTACH;FMTTYPE=image/jpeg:https://visitpikeville.com/wp-content/uploads/2026/01/newsletter.jpg
END:VEVENT
BEGIN:VEVENT
DTSTART;TZID=America/Kentucky/Louisville:20260114T173000
DTEND;TZID=America/Kentucky/Louisville:20260114T193000
DTSTAMP:20260421T161534
CREATED:20250908T125228Z
LAST-MODIFIED:20250908T125228Z
UID:68085-1768411800-1768419000@visitpikeville.com
SUMMARY:Women's Basketball vs Bryan College
DESCRIPTION:Game Day!
URL:https://visitpikeville.com/event/womens-basketball-vs-bryan-college-3/
LOCATION:Appalachian Wireless Arena\, 126 Main Street\, Pikeville\, Ky\, 41501
CATEGORIES:UPike
ATTACH;FMTTYPE=image/png:https://visitpikeville.com/wp-content/uploads/2025/09/Screenshot-2025-09-08-at-8.51.21-AM.png
END:VEVENT
BEGIN:VEVENT
DTSTART;TZID=America/Kentucky/Louisville:20260114T193000
DTEND;TZID=America/Kentucky/Louisville:20260114T213000
DTSTAMP:20260421T161534
CREATED:20250908T125414Z
LAST-MODIFIED:20250908T125414Z
UID:68088-1768419000-1768426200@visitpikeville.com
SUMMARY:Men's Basketball vs Bryan College
DESCRIPTION:Game Day!
URL:https://visitpikeville.com/event/mens-basketball-vs-bryan-college-3/
LOCATION:Appalachian Wireless Arena\, 126 Main Street\, Pikeville\, Ky\, 41501
CATEGORIES:UPike
ATTACH;FMTTYPE=image/png:https://visitpikeville.com/wp-content/uploads/2025/09/Screenshot-2025-09-08-at-8.52.58-AM.png
END:VEVENT
BEGIN:VEVENT
DTSTART;TZID=America/Kentucky/Louisville:20260115T110000
DTEND;TZID=America/Kentucky/Louisville:20260115T120000
DTSTAMP:20260421T161534
CREATED:20260112T161110Z
LAST-MODIFIED:20260112T161110Z
UID:72456-1768474800-1768478400@visitpikeville.com
SUMMARY:Story Time
DESCRIPTION:Story Time is for children ages 5 and under and features books\, action/movement\, songs\, and a craft. Story Time is held Thursdays at 11:00 and 2:00 and Saturdays at 11:00. \n\n\n\n\n\n\n  \nBesides being fun\, Story Time also helps develop early literacy and school readiness skills through reading\, singing\, listening\, playing\, and social interaction. This program lasts approximately 30 minutes\, and caregivers and children are encouraged to linger in the library afterwards to further socialize and choose books to take home. \n  \nStory Time begins the first week of September and ends the first week of May.
URL:https://visitpikeville.com/event/story-time-2-2-2-2-2-2-2-2-2-2-2-2-2-2-2-2-2-2-2-2-2-2-2-2-2-2-2-2-2-2-2-2-2-2-2-2-2-2-2-2-2-2-2-2-2-2-2-2-2-2-2-2-2-2-2-3-2-2-2-2-2-2-2-2-2-2-2-2-2-2-2-2-2-2-2-2-2-2-2-2-2-2-2-2-2-2-2-2-2-2-2-2-2-44/
LOCATION:Pike County Public Library\, 126 Lee Avenue\, Pikeville\, KY\, 41501\, United States
CATEGORIES:Pike County Public Library
ATTACH;FMTTYPE=image/png:https://visitpikeville.com/wp-content/uploads/2025/10/Story_Time_Schedule_25.png
END:VEVENT
BEGIN:VEVENT
DTSTART;TZID=America/Kentucky/Louisville:20260115T140000
DTEND;TZID=America/Kentucky/Louisville:20260115T150000
DTSTAMP:20260421T161534
CREATED:20260112T161240Z
LAST-MODIFIED:20260112T161240Z
UID:72458-1768485600-1768489200@visitpikeville.com
SUMMARY:Story Time
DESCRIPTION:Story Time is for children ages 5 and under and features books\, action/movement\, songs\, and a craft. Story Time is held Thursdays at 11:00 and 2:00 and Saturdays at 11:00. \n\n\n\n\n\n\n  \nBesides being fun\, Story Time also helps develop early literacy and school readiness skills through reading\, singing\, listening\, playing\, and social interaction. This program lasts approximately 30 minutes\, and caregivers and children are encouraged to linger in the library afterwards to further socialize and choose books to take home. \n  \nStory Time begins the first week of September and ends the first week of May.
URL:https://visitpikeville.com/event/story-time-2-2-2-2-2-2-2-2-2-2-2-2-2-2-2-2-2-2-2-2-2-2-2-2-2-2-2-2-2-2-2-2-2-2-2-2-2-2-2-2-2-2-2-2-2-2-2-2-2-2-2-2-2-2-2-3-2-2-2-2-2-2-2-2-2-2-2-2-2-2-2-2-2-2-2-2-2-2-2-2-2-2-2-2-2-2-2-2-2-2-2-2-2-45/
LOCATION:Pike County Public Library\, 126 Lee Avenue\, Pikeville\, KY\, 41501\, United States
CATEGORIES:Pike County Public Library
ATTACH;FMTTYPE=image/png:https://visitpikeville.com/wp-content/uploads/2025/10/Story_Time_Schedule_25.png
END:VEVENT
BEGIN:VEVENT
DTSTART;TZID=America/Kentucky/Louisville:20260115T160000
DTEND;TZID=America/Kentucky/Louisville:20260115T170000
DTSTAMP:20260421T161534
CREATED:20260112T161447Z
LAST-MODIFIED:20260112T161447Z
UID:72460-1768492800-1768496400@visitpikeville.com
SUMMARY:Teen Guitar Class 2
DESCRIPTION:Beginner guitar lessons for patrons ages 13-17. This class meets weekly on Thursdays at 4:00. Please bring your own instrument. Registration required.
URL:https://visitpikeville.com/event/teen-guitar-class-2-3/
LOCATION:Pike County Public Library\, 126 Lee Avenue\, Pikeville\, KY\, 41501\, United States
CATEGORIES:Pike County Public Library
ATTACH;FMTTYPE=image/png:https://visitpikeville.com/wp-content/uploads/2026/01/music.png
END:VEVENT
BEGIN:VEVENT
DTSTART;TZID=America/Kentucky/Louisville:20260115T170000
DTEND;TZID=America/Kentucky/Louisville:20260115T180000
DTSTAMP:20260421T161534
CREATED:20260112T161659Z
LAST-MODIFIED:20260112T161659Z
UID:72462-1768496400-1768500000@visitpikeville.com
SUMMARY:Music Theory Lecture
DESCRIPTION:Understanding how music works will give you the tools you need to write riffs\, songs\, and solos\, and learn to improvise in a friendly hands-on environment.
URL:https://visitpikeville.com/event/music-theory-lecture/
LOCATION:Pike County Public Library\, 126 Lee Avenue\, Pikeville\, KY\, 41501\, United States
CATEGORIES:Pike County Public Library
ATTACH;FMTTYPE=image/png:https://visitpikeville.com/wp-content/uploads/2026/01/music.png
END:VEVENT
BEGIN:VEVENT
DTSTART;TZID=America/Kentucky/Louisville:20260115T170000
DTEND;TZID=America/Kentucky/Louisville:20260115T184500
DTSTAMP:20260421T161534
CREATED:20260112T161832Z
LAST-MODIFIED:20260112T161832Z
UID:72464-1768496400-1768502700@visitpikeville.com
SUMMARY:Dungeons and Dragons
DESCRIPTION:Dungeons and Dragons Group meets every other Thursday at 5:00 at the Pike County Public Library (Lee Avenue). Beginners and experienced players alike are welcome. \n\n\n\n\n\n\n  \nDungeons and Dragons is a role playing game (RPG) where a single player plays as the Dungeon Master\, creating a world that the players interact with. Players act as a group of adventurers working together to complete quests\, slay monsters\, and achieve their own personal goals. The game uses a series of dice to help simulate how successful characters and monsters are at achieving their various goals.
URL:https://visitpikeville.com/event/dungeons-and-dragons-7-2-2-2-2-2-2-2-2-2-2-2-2/
LOCATION:Pike County Public Library\, 126 Lee Avenue\, Pikeville\, KY\, 41501\, United States
CATEGORIES:Pike County Public Library
ATTACH;FMTTYPE=image/png:https://visitpikeville.com/wp-content/uploads/2025/06/D_D_Group.png
END:VEVENT
BEGIN:VEVENT
DTSTART;TZID=America/Kentucky/Louisville:20260115T170000
DTEND;TZID=America/Kentucky/Louisville:20260115T210000
DTSTAMP:20260421T161534
CREATED:20260106T183034Z
LAST-MODIFIED:20260106T183034Z
UID:72367-1768496400-1768510800@visitpikeville.com
SUMMARY:Sit N Sew Beginners
DESCRIPTION:Come and Join Us
URL:https://visitpikeville.com/event/beginners-sewing-2-2-2-2-2-2-2-2-2-2-2-2-2-2-2-2-2-2-2-2-2-2-2-2-2-2-2-2-2-2-2-2-2-2-2-2-2-2-2-2-3-2-2-2-2-2-2-2/
LOCATION:Bridgett’s Quilting and Fabric Shop\, 237 2nd St\,\, Pikeville\, KY\, 41501\, United States
CATEGORIES:Pikeville Main Street
ATTACH;FMTTYPE=image/jpeg:https://visitpikeville.com/wp-content/uploads/2023/10/bridgetts.jpeg
END:VEVENT
END:VCALENDAR