BEGIN:VCALENDAR
VERSION:2.0
PRODID:-//Visit Pikeville - ECPv6.15.20//NONSGML v1.0//EN
CALSCALE:GREGORIAN
METHOD:PUBLISH
X-ORIGINAL-URL:https://visitpikeville.com
X-WR-CALDESC:Events for Visit Pikeville
REFRESH-INTERVAL;VALUE=DURATION:PT1H
X-Robots-Tag:noindex
X-PUBLISHED-TTL:PT1H
BEGIN:VTIMEZONE
TZID:America/Kentucky/Louisville
BEGIN:DAYLIGHT
TZOFFSETFROM:-0500
TZOFFSETTO:-0400
TZNAME:EDT
DTSTART:20250309T070000
END:DAYLIGHT
BEGIN:STANDARD
TZOFFSETFROM:-0400
TZOFFSETTO:-0500
TZNAME:EST
DTSTART:20251102T060000
END:STANDARD
BEGIN:DAYLIGHT
TZOFFSETFROM:-0500
TZOFFSETTO:-0400
TZNAME:EDT
DTSTART:20260308T070000
END:DAYLIGHT
BEGIN:STANDARD
TZOFFSETFROM:-0400
TZOFFSETTO:-0500
TZNAME:EST
DTSTART:20261101T060000
END:STANDARD
BEGIN:DAYLIGHT
TZOFFSETFROM:-0500
TZOFFSETTO:-0400
TZNAME:EDT
DTSTART:20270314T070000
END:DAYLIGHT
BEGIN:STANDARD
TZOFFSETFROM:-0400
TZOFFSETTO:-0500
TZNAME:EST
DTSTART:20271107T060000
END:STANDARD
END:VTIMEZONE
BEGIN:VEVENT
DTSTART;TZID=America/Kentucky/Louisville:20260209T140000
DTEND;TZID=America/Kentucky/Louisville:20260209T150000
DTSTAMP:20260423T125817
CREATED:20260209T175759Z
LAST-MODIFIED:20260209T175759Z
UID:72497-1770645600-1770649200@visitpikeville.com
SUMMARY:Music Theory Class
DESCRIPTION:Understanding how music works will give you the tools you need to write riffs\, songs\, and solos\, and learn to improvise in a friendly hands-on environment. \n\n\n\n\n\n\n  \nClass is held every Monday at the Pike County Public Library (Lee Ave) at 2:00. \nNo previous knowledge of music theory or reading music is necessary\, but this class is for students who already know how to play a little bit.
URL:https://visitpikeville.com/event/music-theory-class-2/
LOCATION:Pike County Public Library\, 126 Lee Avenue\, Pikeville\, KY\, 41501\, United States
CATEGORIES:Pike County Public Library
ATTACH;FMTTYPE=image/png:https://visitpikeville.com/wp-content/uploads/2026/01/music.png
END:VEVENT
BEGIN:VEVENT
DTSTART;TZID=America/Kentucky/Louisville:20260209T160000
DTEND;TZID=America/Kentucky/Louisville:20260209T170000
DTSTAMP:20260423T125817
CREATED:20260209T203057Z
LAST-MODIFIED:20260209T203057Z
UID:73007-1770652800-1770656400@visitpikeville.com
SUMMARY:Teen Time
DESCRIPTION:Teens ages 13-17 are invited to hang out\, get creative\, and have fun at Teen Time\, meeting alternating Mondays at 4:00. \n\n\n\n\n\n\n  \nJoin us in the Teen Room for a mix of crafts\, games\, video game tournaments\, snacks\, and more. It’s a great chance to relax\, meet new friends\, and try something new each week. No registration needed.
URL:https://visitpikeville.com/event/teen-time-4-2-2/
LOCATION:Pike County Public Library\, 126 Lee Avenue\, Pikeville\, KY\, 41501\, United States
CATEGORIES:Pike County Public Library
ATTACH;FMTTYPE=image/png:https://visitpikeville.com/wp-content/uploads/2026/01/Teen_Time_updated.png
END:VEVENT
BEGIN:VEVENT
DTSTART;TZID=America/Kentucky/Louisville:20260209T163000
DTEND;TZID=America/Kentucky/Louisville:20260209T173000
DTSTAMP:20260423T125817
CREATED:20260209T180250Z
LAST-MODIFIED:20260209T180250Z
UID:72952-1770654600-1770658200@visitpikeville.com
SUMMARY:Adult Guitar Class 1
DESCRIPTION:Beginner guitar lessons for patrons ages 18+. This class meets weekly on Mondays at 4:30. Please bring your own instrument.
URL:https://visitpikeville.com/event/adult-guitar-class-4-2-2-2-2-2-2-2-2-2-2-2-2-2-3-3-2-2-2-2-2-2-2-2-2-2-2-2-2/
LOCATION:Pike County Public Library\, 126 Lee Avenue\, Pikeville\, KY\, 41501\, United States
CATEGORIES:Pike County Public Library
ATTACH;FMTTYPE=image/png:https://visitpikeville.com/wp-content/uploads/2025/05/theory.png
END:VEVENT
BEGIN:VEVENT
DTSTART;TZID=America/Kentucky/Louisville:20260209T180000
DTEND;TZID=America/Kentucky/Louisville:20260209T190000
DTSTAMP:20260423T125817
CREATED:20260209T160640Z
LAST-MODIFIED:20260209T160640Z
UID:72913-1770660000-1770663600@visitpikeville.com
SUMMARY:City Commission Meeting
DESCRIPTION:6pm @ City Hall
URL:https://visitpikeville.com/event/city-commission-meeting-2-2-2-2-2-2-2-2-2-2-2-2-2-2-2-2-2-2-2-2-2-2-2-2-2-2-2-2-2-2-2-2-2-2-2-2-2-2-2-2-2-2-2-2-2-2-2-2-2/
LOCATION:Pikeville City Hall\, 243 Main St #1786\,\, Pikeville\, KY\, 41501\, United States
CATEGORIES:City of Pikeville
ATTACH;FMTTYPE=image/png:https://visitpikeville.com/wp-content/uploads/2023/09/image001.png
END:VEVENT
BEGIN:VEVENT
DTSTART;TZID=America/Kentucky/Louisville:20260209T183000
DTEND;TZID=America/Kentucky/Louisville:20260209T210000
DTSTAMP:20260423T125817
CREATED:20260126T130539Z
LAST-MODIFIED:20260126T130539Z
UID:72696-1770661800-1770670800@visitpikeville.com
SUMMARY:Meeting of the Musical Minds
DESCRIPTION:Hey y’all! We were over here at the App\, thinking about how we wanted to serve our local musical community more and and trying to figure out how to do that and then we thought “why don’t we ask just ask the local musical community?”So welcome to our Meeting of the Musical Minds! We’re holding an open idea session on what our musical community needs/ wants. Is it more space to practice? Jam sessions? More open mic opportunities? More concerts featuring local musicians? The ideas are endless. We know you’ve got them and we want to here them. We have a performance space right in the middle of downtown Pikeville\, how can The App use it to serve you? All are welcome. Please share this event and get the word out. If you can’t make it on Feb. 9th but still have ideas or thoughts\, reach out to Shannon. You can email her at www.theapparts.org or stop by the theatre anytime… she’s usually there.
URL:https://visitpikeville.com/event/meeting-of-the-musical-minds/
LOCATION:Appalachian Center for the Arts\, 218 2nd St\,\, Pikeville\, Ky\, 41501
CATEGORIES:The Appalachian Center for the Arts
ATTACH;FMTTYPE=image/jpeg:https://visitpikeville.com/wp-content/uploads/2026/01/musical.jpg
END:VEVENT
BEGIN:VEVENT
DTSTART;TZID=America/Kentucky/Louisville:20260210T043000
DTEND;TZID=America/Kentucky/Louisville:20260210T173000
DTSTAMP:20260423T125817
CREATED:20260209T174825Z
LAST-MODIFIED:20260209T174825Z
UID:72937-1770697800-1770744600@visitpikeville.com
SUMMARY:Afterschool Paint Studio
DESCRIPTION:Afterschool Paint Studio TUES. FEB. 10\, 2026 4:30 – 5:30 check in – Fun for All Ages! \nPlease like and share or tag someone who could use some creative time.\n\n\nJoin us at 2 Broke Art Teachers Afterschool Paint Studio for a creative afternoon of painting\, imagination\, and FUN! \n\n\n Tuesday\, Feb. 10\, 2026\n Check-in: 4:30–5:30 PM (paint at your own pace)\n $20 per painter (11×14 canvas)\n\n\nChoose from multiple kid-friendly designs—perfect for beginners\, kids\, teens\, and even adults who want to paint alongside them! \n\n\n All supplies included\n No experience needed\n Come create\, relax\, and have fun\n\n\n Private message us to reserve your spot\n Limited seating available!
URL:https://visitpikeville.com/event/afterschool-paint-studio-2/
LOCATION:2 Broke Art Teachers\, 4505 Weddington Square\,\, Pikeville\, KY\, 41501\, United States
CATEGORIES:Other
ATTACH;FMTTYPE=image/jpeg:https://visitpikeville.com/wp-content/uploads/2026/02/afterschool.jpg
END:VEVENT
BEGIN:VEVENT
DTSTART;TZID=America/Kentucky/Louisville:20260210T120000
DTEND;TZID=America/Kentucky/Louisville:20260210T130000
DTSTAMP:20260423T125817
CREATED:20260126T114614Z
LAST-MODIFIED:20260126T114614Z
UID:72656-1770724800-1770728400@visitpikeville.com
SUMMARY:Lunch & Learn: Pikeville Medical Center
DESCRIPTION:Current Members: FREE\nFuture Members: $20\nLunch Included
URL:https://visitpikeville.com/event/lunch-learn-pikeville-medical-center/
LOCATION:Garfield House\, 178 College Street\, Pikeville\, KY\, 41501\, United States
CATEGORIES:Southeast Kentucky Chamber
ATTACH;FMTTYPE=image/png:https://visitpikeville.com/wp-content/uploads/2026/01/LL-Feb.2026-PMC.png
END:VEVENT
BEGIN:VEVENT
DTSTART;TZID=America/Kentucky/Louisville:20260210T140000
DTEND;TZID=America/Kentucky/Louisville:20260210T150000
DTSTAMP:20260423T125817
CREATED:20260209T180620Z
LAST-MODIFIED:20260209T180620Z
UID:72959-1770732000-1770735600@visitpikeville.com
SUMMARY:Adult Guitar Class 2
DESCRIPTION:Beginner guitar lessons for patrons ages 18+. This class meets weekly on Wednesdays at 2:00. Please bring your own instrument. Registration required. \n\n\n\n\n\n\n  \nCall the library at 606-437-6001 to check availability.
URL:https://visitpikeville.com/event/adult-guitar-class-4-2-2-2-2-2-2-2-2-2-2-2-2-2-2-2-2-2-2-2-2-2-2-2-2-2-2-2-2-2-2-2-3-2-2-2/
LOCATION:Pike County Public Library\, 126 Lee Avenue\, Pikeville\, KY\, 41501\, United States
CATEGORIES:Pike County Public Library
ATTACH;FMTTYPE=image/png:https://visitpikeville.com/wp-content/uploads/2025/05/theory.png
END:VEVENT
BEGIN:VEVENT
DTSTART;TZID=America/Kentucky/Louisville:20260210T153000
DTEND;TZID=America/Kentucky/Louisville:20260210T163000
DTSTAMP:20260423T125817
CREATED:20260119T151151Z
LAST-MODIFIED:20260119T151151Z
UID:72602-1770737400-1770741000@visitpikeville.com
SUMMARY:Nutritional Seminar for Cancer Survivors
DESCRIPTION:Nourishing Hope\, One Step at a Time\n\n\nCancer changes everything and it also can open the door to healing\, strength and renewal. We are proud to offer a New Nutritional Seminar for Cancer Survivors\, created to support your journey forward with knowledge\, compassion and community.\n\n\nJoin us every other month on the 2nd Tuesday\, beginning January\, for an encouraging and informative session focused on nutrition\, wellness and survivorship. This is a safe space to learn\, connect and feel empowered as you move into your next chapter.\n\n\n 2nd Tuesday (every other month)\n 3:30 p.m. – 4:30 p.m.\n 10th Floor – Lawson Cancer Center Community Outreach Office\n\n\nBecause survivorship is about more than living—it’s about living well.
URL:https://visitpikeville.com/event/nutritional-seminar-for-cancer-survivors/
LOCATION:Pikeville Medical Center\, 911 S Bypass Rd\,\, Pikeville\, KY\, 41501\, United States
CATEGORIES:Pikeville Medical Center
ATTACH;FMTTYPE=image/jpeg:https://visitpikeville.com/wp-content/uploads/2026/01/nutrition.jpg
END:VEVENT
BEGIN:VEVENT
DTSTART;TZID=America/Kentucky/Louisville:20260210T170000
DTEND;TZID=America/Kentucky/Louisville:20260210T180000
DTSTAMP:20260423T125817
CREATED:20260209T203807Z
LAST-MODIFIED:20260209T203807Z
UID:73012-1770742800-1770746400@visitpikeville.com
SUMMARY:Couples Painting Class: Valentine Gnomes
DESCRIPTION:Celebrate Valentine’s Day with a creative twist! Couples are invited to attend this guided painting class led by Kenna’s Creative Canvas.\nEach pair will work together to create a charming\, two-canvas Valentine gnome painting that forms a complete piece when displayed side by side.\nNo painting experience is required! Kenna will provide step-by-step instruction in a relaxed\, fun atmosphere. All supplies will be provided. Just bring a partner and enjoy an evening of art\, laughter\, and quality time together. Perfect for couples\, friends\, or family members!\nThis program will be held on Tuesday\, February 10th at 5:00 and again on Thursday\, February 12th at 5:00.\nTo register for the Tuesday (2/10) session\, click here: https://informationplace.libnet.info/event/15597666\nTo register for the Thursday (2/12) session\, click here: https://informationplace.libnet.info/event/15597690
URL:https://visitpikeville.com/event/couples-painting-class-valentine-gnomes/
LOCATION:Pike County Public Library\, 126 Lee Avenue\, Pikeville\, KY\, 41501\, United States
CATEGORIES:Pike County Public Library
ATTACH;FMTTYPE=image/jpeg:https://visitpikeville.com/wp-content/uploads/2026/02/couples-painting.jpg
END:VEVENT
BEGIN:VEVENT
DTSTART;TZID=America/Kentucky/Louisville:20260210T181500
DTEND;TZID=America/Kentucky/Louisville:20260210T201500
DTSTAMP:20260423T125817
CREATED:20260126T124301Z
LAST-MODIFIED:20260126T124301Z
UID:72678-1770747300-1770754500@visitpikeville.com
SUMMARY:Line Dancing
DESCRIPTION:No sign-up required
URL:https://visitpikeville.com/event/line-dancing-6-2/
LOCATION:Pike County Extension Office\, 148 Trivette Dr\, Pikeville\, KY\, 41501\, United States
CATEGORIES:Pike County Extension Community Arts
ATTACH;FMTTYPE=image/jpeg:https://visitpikeville.com/wp-content/uploads/2026/01/line-dancing-1.jpg
END:VEVENT
BEGIN:VEVENT
DTSTART;TZID=America/Kentucky/Louisville:20260211T163000
DTEND;TZID=America/Kentucky/Louisville:20260211T173000
DTSTAMP:20260423T125817
CREATED:20260209T180908Z
LAST-MODIFIED:20260209T180908Z
UID:72965-1770827400-1770831000@visitpikeville.com
SUMMARY:Teen Guitar Class 1
DESCRIPTION:Beginner guitar lessons for patrons ages 13-17. This class meets weekly on Wednesdays at 4:30. Please bring your own instrument. Registration required.
URL:https://visitpikeville.com/event/teen-guitar-class-1-2-2-2/
LOCATION:Pike County Public Library\, 126 Lee Avenue\, Pikeville\, KY\, 41501\, United States
CATEGORIES:Pike County Public Library
ATTACH;FMTTYPE=image/png:https://visitpikeville.com/wp-content/uploads/2026/01/music.png
END:VEVENT
BEGIN:VEVENT
DTSTART;TZID=America/Kentucky/Louisville:20260211T170000
DTEND;TZID=America/Kentucky/Louisville:20260211T190000
DTSTAMP:20260423T125817
CREATED:20260203T155829Z
LAST-MODIFIED:20260203T155829Z
UID:72861-1770829200-1770836400@visitpikeville.com
SUMMARY:Smoking Cessation
DESCRIPTION:Wednesdays 5:00pm to 7:00pm
URL:https://visitpikeville.com/event/smoking-cessation-2/
LOCATION:Pike County Health Department\, 119 River Drive\,\, Pikeville\, KY\, 41501\, United States
CATEGORIES:Pike County Health Department
ATTACH;FMTTYPE=image/jpeg:https://visitpikeville.com/wp-content/uploads/2026/02/health-dpt-flyer.jpg
END:VEVENT
BEGIN:VEVENT
DTSTART;TZID=America/Kentucky/Louisville:20260211T200000
DTEND;TZID=America/Kentucky/Louisville:20260211T220000
DTSTAMP:20260423T125817
CREATED:20260209T154119Z
LAST-MODIFIED:20260209T154119Z
UID:72901-1770840000-1770847200@visitpikeville.com
SUMMARY:Esports vs University of Health Sciences & Pharmacy in St. Louis
DESCRIPTION:League of Legends
URL:https://visitpikeville.com/event/esports-vs-university-of-health-sciences-pharmacy-in-st-louis/
LOCATION:University Of Pikeville\, 147 Sycamore St\,\, Pikeville\, KY\, 41501\, United States
CATEGORIES:UPike
ATTACH;FMTTYPE=image/png:https://visitpikeville.com/wp-content/uploads/2026/02/Screenshot-2026-02-09-at-10.39.24-AM.png
END:VEVENT
BEGIN:VEVENT
DTSTART;VALUE=DATE:20260212
DTEND;VALUE=DATE:20260213
DTSTAMP:20260423T125817
CREATED:20260119T115236Z
LAST-MODIFIED:20260119T115236Z
UID:72538-1770854400-1770940799@visitpikeville.com
SUMMARY:Women's Tennis vs Lees-McRae College
DESCRIPTION:Game Day!!
URL:https://visitpikeville.com/event/womens-tennis-vs-lees-mcrae-college/
LOCATION:Bob Amos Park\, 424 Bob Amos Dr\, Pikeville\, Ky\, 41501
CATEGORIES:UPike
ATTACH;FMTTYPE=image/png:https://visitpikeville.com/wp-content/uploads/2026/01/Screenshot-2026-01-19-at-6.47.20-AM.png
END:VEVENT
BEGIN:VEVENT
DTSTART;TZID=America/Kentucky/Louisville:20260212T110000
DTEND;TZID=America/Kentucky/Louisville:20260212T120000
DTSTAMP:20260423T125817
CREATED:20260209T182530Z
LAST-MODIFIED:20260209T182530Z
UID:72985-1770894000-1770897600@visitpikeville.com
SUMMARY:Story Time
DESCRIPTION:Story Time is for children ages 5 and under and features books\, action/movement\, songs\, and a craft. Story Time is held Thursdays at 11:00 and 2:00 and Saturdays at 11:00. \n\n\n\n\n\n\n  \nBesides being fun\, Story Time also helps develop early literacy and school readiness skills through reading\, singing\, listening\, playing\, and social interaction. This program lasts approximately 30 minutes\, and caregivers and children are encouraged to linger in the library afterwards to further socialize and choose books to take home. \n  \nStory Time begins the first week of September and ends the first week of May.
URL:https://visitpikeville.com/event/story-time-2-2-2-2-2-2-2-2-2-2-2-2-2-2-2-2-2-2-2-2-2-2-2-2-2-2-2-2-2-2-2-2-2-2-2-2-2-2-2-2-2-2-2-2-2-2-2-2-2-2-2-2-2-2-2-3-2-2-2-2-2-2-2-2-2-2-2-2-2-2-2-2-2-2-2-2-2-2-2-2-2-2-2-2-2-2-2-2-2-2-2-2-2-5-4/
LOCATION:Pike County Public Library\, 126 Lee Avenue\, Pikeville\, KY\, 41501\, United States
CATEGORIES:Pike County Public Library
ATTACH;FMTTYPE=image/png:https://visitpikeville.com/wp-content/uploads/2025/10/Story_Time_Schedule_25.png
END:VEVENT
BEGIN:VEVENT
DTSTART;TZID=America/Kentucky/Louisville:20260212T140000
DTEND;TZID=America/Kentucky/Louisville:20260212T150000
DTSTAMP:20260423T125817
CREATED:20260209T182615Z
LAST-MODIFIED:20260209T182615Z
UID:72987-1770904800-1770908400@visitpikeville.com
SUMMARY:Story Time
DESCRIPTION:Story Time is for children ages 5 and under and features books\, action/movement\, songs\, and a craft. Story Time is held Thursdays at 11:00 and 2:00 and Saturdays at 11:00. \n\n\n\n\n\n\n  \nBesides being fun\, Story Time also helps develop early literacy and school readiness skills through reading\, singing\, listening\, playing\, and social interaction. This program lasts approximately 30 minutes\, and caregivers and children are encouraged to linger in the library afterwards to further socialize and choose books to take home. \n  \nStory Time begins the first week of September and ends the first week of May.
URL:https://visitpikeville.com/event/story-time-2-2-2-2-2-2-2-2-2-2-2-2-2-2-2-2-2-2-2-2-2-2-2-2-2-2-2-2-2-2-2-2-2-2-2-2-2-2-2-2-2-2-2-2-2-2-2-2-2-2-2-2-2-2-2-3-2-2-2-2-2-2-2-2-2-2-2-2-2-2-2-2-2-2-2-2-2-2-2-2-2-2-2-2-2-2-2-2-2-2-2-2-2-5-5/
LOCATION:Pike County Public Library\, 126 Lee Avenue\, Pikeville\, KY\, 41501\, United States
CATEGORIES:Pike County Public Library
ATTACH;FMTTYPE=image/png:https://visitpikeville.com/wp-content/uploads/2025/10/Story_Time_Schedule_25.png
END:VEVENT
BEGIN:VEVENT
DTSTART;TZID=America/Kentucky/Louisville:20260212T160000
DTEND;TZID=America/Kentucky/Louisville:20260212T170000
DTSTAMP:20260423T125817
CREATED:20260209T181432Z
LAST-MODIFIED:20260209T181432Z
UID:72971-1770912000-1770915600@visitpikeville.com
SUMMARY:Teen Guitar Class 2
DESCRIPTION:Beginner guitar lessons for patrons ages 13-17. This class meets weekly on Thursdays at 4:00. Please bring your own instrument. Registration required.
URL:https://visitpikeville.com/event/teen-guitar-class-2-3-2-2-2/
LOCATION:Pike County Public Library\, 126 Lee Avenue\, Pikeville\, KY\, 41501\, United States
CATEGORIES:Pike County Public Library
ATTACH;FMTTYPE=image/png:https://visitpikeville.com/wp-content/uploads/2026/01/music.png
END:VEVENT
BEGIN:VEVENT
DTSTART;TZID=America/Kentucky/Louisville:20260212T170000
DTEND;TZID=America/Kentucky/Louisville:20260212T180000
DTSTAMP:20260423T125817
CREATED:20260209T182226Z
LAST-MODIFIED:20260209T182226Z
UID:72979-1770915600-1770919200@visitpikeville.com
SUMMARY:Music Theory Lecture
DESCRIPTION:Understanding how music works will give you the tools you need to write riffs\, songs\, and solos\, and learn to improvise in a friendly hands-on environment.
URL:https://visitpikeville.com/event/music-theory-lecture-2-2-2-2/
LOCATION:Pike County Public Library\, 126 Lee Avenue\, Pikeville\, KY\, 41501\, United States
CATEGORIES:Pike County Public Library
ATTACH;FMTTYPE=image/png:https://visitpikeville.com/wp-content/uploads/2026/01/music.png
END:VEVENT
BEGIN:VEVENT
DTSTART;TZID=America/Kentucky/Louisville:20260212T170000
DTEND;TZID=America/Kentucky/Louisville:20260212T184500
DTSTAMP:20260423T125817
CREATED:20260209T203927Z
LAST-MODIFIED:20260209T203927Z
UID:73015-1770915600-1770921900@visitpikeville.com
SUMMARY:Dungeons and Dragons
DESCRIPTION:Dungeons and Dragons Group meets every other Thursday at 5:00 at the Pike County Public Library (Lee Avenue). Beginners and experienced players alike are welcome. \n\n\n\n\n\n\n  \nDungeons and Dragons is a role playing game (RPG) where a single player plays as the Dungeon Master\, creating a world that the players interact with. Players act as a group of adventurers working together to complete quests\, slay monsters\, and achieve their own personal goals. The game uses a series of dice to help simulate how successful characters and monsters are at achieving their various goals.
URL:https://visitpikeville.com/event/dungeons-and-dragons-7-2-2-2-2-2-2-2-2-2-2-2-2-2-2/
LOCATION:Pike County Public Library\, 126 Lee Avenue\, Pikeville\, KY\, 41501\, United States
CATEGORIES:Pike County Public Library
ATTACH;FMTTYPE=image/png:https://visitpikeville.com/wp-content/uploads/2025/06/D_D_Group.png
END:VEVENT
BEGIN:VEVENT
DTSTART;TZID=America/Kentucky/Louisville:20260212T170000
DTEND;TZID=America/Kentucky/Louisville:20260212T210000
DTSTAMP:20260423T125817
CREATED:20260209T160918Z
LAST-MODIFIED:20260209T160918Z
UID:72917-1770915600-1770930000@visitpikeville.com
SUMMARY:Sit N Sew Beginners
DESCRIPTION:Come and Join Us
URL:https://visitpikeville.com/event/beginners-sewing-2-2-2-2-2-2-2-2-2-2-2-2-2-2-2-2-2-2-2-2-2-2-2-2-2-2-2-2-2-2-2-2-2-2-2-2-2-2-2-2-3-2-2-2-2-2-2-2-2-2-2/
LOCATION:Bridgett’s Quilting and Fabric Shop\, 237 2nd St\,\, Pikeville\, KY\, 41501\, United States
CATEGORIES:Pikeville Main Street
ATTACH;FMTTYPE=image/jpeg:https://visitpikeville.com/wp-content/uploads/2023/10/bridgetts.jpeg
END:VEVENT
BEGIN:VEVENT
DTSTART;TZID=America/Kentucky/Louisville:20260213T160000
DTEND;TZID=America/Kentucky/Louisville:20260213T170000
DTSTAMP:20260423T125817
CREATED:20260209T204121Z
LAST-MODIFIED:20260209T204121Z
UID:73019-1770998400-1771002000@visitpikeville.com
SUMMARY:Chess Club: Intermediate Theory
DESCRIPTION:Continue learning the basics of the game in a fun\, intermediate setting! We’ll cover simple tactics\, and opening strategies to help you build a strong foundation.
URL:https://visitpikeville.com/event/chess-club-intermediate-theory-2-2/
LOCATION:Pike County Public Library\, 126 Lee Avenue\, Pikeville\, KY\, 41501\, United States
CATEGORIES:Pike County Public Library
ATTACH;FMTTYPE=image/png:https://visitpikeville.com/wp-content/uploads/2026/01/Chess_Club_General.png
END:VEVENT
BEGIN:VEVENT
DTSTART;TZID=America/Kentucky/Louisville:20260213T173000
DTEND;TZID=America/Kentucky/Louisville:20260213T193000
DTSTAMP:20260423T125817
CREATED:20260209T175014Z
LAST-MODIFIED:20260209T175014Z
UID:72940-1771003800-1771011000@visitpikeville.com
SUMMARY:Friday Night Paint Class
DESCRIPTION: Friday\, Feb. 13\, 2026 5:30 PM $25 (16×20 canvas)A fun Valentine-themed night out—great for friends or solo painters!
URL:https://visitpikeville.com/event/friday-night-paint-class/
LOCATION:2 Broke Art Teachers\, 4505 Weddington Square\,\, Pikeville\, KY\, 41501\, United States
CATEGORIES:Other
ATTACH;FMTTYPE=image/jpeg:https://visitpikeville.com/wp-content/uploads/2026/02/feb14.jpg
END:VEVENT
BEGIN:VEVENT
DTSTART;TZID=America/Kentucky/Louisville:20260213T190000
DTEND;TZID=America/Kentucky/Louisville:20260213T210000
DTSTAMP:20260423T125817
CREATED:20260119T144632Z
LAST-MODIFIED:20260119T144632Z
UID:72590-1771009200-1771016400@visitpikeville.com
SUMMARY:Garters and Grenades
DESCRIPTION:You are cordially invited to join the Westminsters and the Eastdillards for a splendid union between their children. Step into a world of secrets\, tailored suits\, lies\, and whiskey-fueled romances as these two powerful families join together to celebrate matrimony. These opposing powers have put aside their grievances for one evening\, and hopefully many years to come. You are invited to dress your best and dine with the once-rival families. As worlds collide\, secrets are revealed\, bonds are broken\, and loyalties are tested. And don’t forget\, betrayal is deadly. . .
URL:https://visitpikeville.com/event/garters-and-grenades/
LOCATION:Appalachian Center for the Arts\, 218 2nd St\,\, Pikeville\, Ky\, 41501
CATEGORIES:The Appalachian Center for the Arts
ATTACH;FMTTYPE=image/jpeg:https://visitpikeville.com/wp-content/uploads/2026/01/Garters-and-Grenades-.jpg
END:VEVENT
BEGIN:VEVENT
DTSTART;TZID=America/Kentucky/Louisville:20260213T193000
DTEND;TZID=America/Kentucky/Louisville:20260213T223000
DTSTAMP:20260423T125817
CREATED:20260209T165821Z
LAST-MODIFIED:20260209T165821Z
UID:72931-1771011000-1771021800@visitpikeville.com
SUMMARY:Dalton Moore
DESCRIPTION:This Friday night at The Bank!
URL:https://visitpikeville.com/event/dalton-moore-2/
LOCATION:Bank 253\, 253 2nd St\,\, Pikeville\, KY\, 41501\, United States
CATEGORIES:Other
ATTACH;FMTTYPE=image/jpeg:https://visitpikeville.com/wp-content/uploads/2026/02/dalton.jpg
END:VEVENT
BEGIN:VEVENT
DTSTART;TZID=America/Kentucky/Louisville:20260214T110000
DTEND;TZID=America/Kentucky/Louisville:20260214T120000
DTSTAMP:20260423T125817
CREATED:20260209T182823Z
LAST-MODIFIED:20260209T182823Z
UID:72989-1771066800-1771070400@visitpikeville.com
SUMMARY:Story Time
DESCRIPTION:Story Time is for children ages 5 and under and features books\, action/movement\, songs\, and a craft. Story Time is held Thursdays at 11:00 and 2:00 and Saturdays at 11:00. \n\n\n\n\n\n\n  \nBesides being fun\, Story Time also helps develop early literacy and school readiness skills through reading\, singing\, listening\, playing\, and social interaction. This program lasts approximately 30 minutes\, and caregivers and children are encouraged to linger in the library afterwards to further socialize and choose books to take home. \n  \nStory Time begins the first week of September and ends the first week of May.
URL:https://visitpikeville.com/event/story-time-2-2-2-2-2-2-2-2-2-2-2-2-2-2-2-2-2-2-2-2-2-2-2-2-2-2-2-2-2-2-2-2-2-2-2-2-2-2-2-2-2-2-2-2-2-2-2-2-2-2-2-2-2-2-2-3-2-2-2-2-2-2-2-2-2-2-2-2-2-2-2-2-2-2-2-2-2-2-2-2-2-2-2-2-2-2-2-2-2-2-2-2-2-5-6/
LOCATION:Pike County Public Library\, 126 Lee Avenue\, Pikeville\, KY\, 41501\, United States
CATEGORIES:Pike County Public Library
ATTACH;FMTTYPE=image/png:https://visitpikeville.com/wp-content/uploads/2025/10/Story_Time_Schedule_25.png
END:VEVENT
BEGIN:VEVENT
DTSTART;TZID=America/Kentucky/Louisville:20260214T110000
DTEND;TZID=America/Kentucky/Louisville:20260214T130000
DTSTAMP:20260423T125817
CREATED:20260209T204309Z
LAST-MODIFIED:20260209T204309Z
UID:73023-1771066800-1771074000@visitpikeville.com
SUMMARY:Quilters Group
DESCRIPTION:Pike County Public Library Quilters Group is a quilting social that also teaches quilting and needlework. Participants exchange patterns\, quilting ideas\, and sewing projects. \n\n\n\n\n\n\n  \nBoth beginners and experienced quilters are welcome! Quilters Group meets alternating Saturdays at noon at the Pike County Public (Lee Avenue) Library. \nNo registration required.
URL:https://visitpikeville.com/event/quilters-group-5-2-2-2-2-2-2-2-2-2-2-2-2-2-2-2-2/
LOCATION:Pike County Public Library\, 126 Lee Avenue\, Pikeville\, KY\, 41501\, United States
CATEGORIES:Pike County Public Library
ATTACH;FMTTYPE=image/png:https://visitpikeville.com/wp-content/uploads/2025/05/Quilters_GroupEDIT.png
END:VEVENT
BEGIN:VEVENT
DTSTART;TZID=America/Kentucky/Louisville:20260214T130000
DTEND;TZID=America/Kentucky/Louisville:20260214T150000
DTSTAMP:20260423T125817
CREATED:20260209T175236Z
LAST-MODIFIED:20260209T175236Z
UID:72943-1771074000-1771081200@visitpikeville.com
SUMMARY:Family Paint Class
DESCRIPTION: Saturday\, Feb. 14\, 2026 1:00 PM $20 (11×14 canvas)Paint together and make memories 
URL:https://visitpikeville.com/event/family-paint-class-18/
LOCATION:2 Broke Art Teachers\, 4505 Weddington Square\,\, Pikeville\, KY\, 41501\, United States
CATEGORIES:Other
ATTACH;FMTTYPE=image/jpeg:https://visitpikeville.com/wp-content/uploads/2026/02/feb14.jpg
END:VEVENT
BEGIN:VEVENT
DTSTART;TZID=America/Kentucky/Louisville:20260214T170000
DTEND;TZID=America/Kentucky/Louisville:20260214T200000
DTSTAMP:20260423T125817
CREATED:20260209T174611Z
LAST-MODIFIED:20260209T174611Z
UID:72934-1771088400-1771099200@visitpikeville.com
SUMMARY:Partner Paint Night
DESCRIPTION:ATTENTION Pikeville\, Kentucky & surrounding areas! \nLooking for a fun and creative way to celebrate Valentine’s Day? Grab your favorite person (or people!) and join us for a Partner Paint Night where 2 canvases unite to create ONE complete picture!\n\n\n Saturday\, February 14\, 2026\n 5:00 PM\n Choose your design (A–F)\n $45 per set (includes 2 canvases that come together)\n\n\nPerfect for:\n Couples\n Best friends\n Family pairs\n\n\n No experience needed – we guide you step by step!\n Limited seating available\n\n\n Like • Share • Tag a friend who could use a paint night!\n Message us to reserve your seats!
URL:https://visitpikeville.com/event/partner-paint-night/
LOCATION:2 Broke Art Teachers\, 4505 Weddington Square\,\, Pikeville\, KY\, 41501\, United States
CATEGORIES:Other
ATTACH;FMTTYPE=image/jpeg:https://visitpikeville.com/wp-content/uploads/2026/02/coupkes.jpg
END:VEVENT
BEGIN:VEVENT
DTSTART;TZID=America/Kentucky/Louisville:20260214T180000
DTEND;TZID=America/Kentucky/Louisville:20260214T210000
DTSTAMP:20260423T125817
CREATED:20260126T123306Z
LAST-MODIFIED:20260126T123306Z
UID:72672-1771092000-1771102800@visitpikeville.com
SUMMARY:Square Dancing
DESCRIPTION:with special caller Brian Spears
URL:https://visitpikeville.com/event/square-dancing-5/
LOCATION:Pike County Extension Office\, 148 Trivette Dr\, Pikeville\, KY\, 41501\, United States
CATEGORIES:Pike County Extension Community Arts
ATTACH;FMTTYPE=image/jpeg:https://visitpikeville.com/wp-content/uploads/2026/01/square-dancing-1.jpg
END:VEVENT
END:VCALENDAR