BEGIN:VCALENDAR
VERSION:2.0
PRODID:-//Visit Pikeville - ECPv6.15.20//NONSGML v1.0//EN
CALSCALE:GREGORIAN
METHOD:PUBLISH
X-ORIGINAL-URL:https://visitpikeville.com
X-WR-CALDESC:Events for Visit Pikeville
REFRESH-INTERVAL;VALUE=DURATION:PT1H
X-Robots-Tag:noindex
X-PUBLISHED-TTL:PT1H
BEGIN:VTIMEZONE
TZID:America/Kentucky/Louisville
BEGIN:DAYLIGHT
TZOFFSETFROM:-0500
TZOFFSETTO:-0400
TZNAME:EDT
DTSTART:20230312T070000
END:DAYLIGHT
BEGIN:STANDARD
TZOFFSETFROM:-0400
TZOFFSETTO:-0500
TZNAME:EST
DTSTART:20231105T060000
END:STANDARD
BEGIN:DAYLIGHT
TZOFFSETFROM:-0500
TZOFFSETTO:-0400
TZNAME:EDT
DTSTART:20240310T070000
END:DAYLIGHT
BEGIN:STANDARD
TZOFFSETFROM:-0400
TZOFFSETTO:-0500
TZNAME:EST
DTSTART:20241103T060000
END:STANDARD
BEGIN:DAYLIGHT
TZOFFSETFROM:-0500
TZOFFSETTO:-0400
TZNAME:EDT
DTSTART:20250309T070000
END:DAYLIGHT
BEGIN:STANDARD
TZOFFSETFROM:-0400
TZOFFSETTO:-0500
TZNAME:EST
DTSTART:20251102T060000
END:STANDARD
END:VTIMEZONE
BEGIN:VEVENT
DTSTART;TZID=America/Kentucky/Louisville:20241028T090000
DTEND;TZID=America/Kentucky/Louisville:20241028T160000
DTSTAMP:20260425T073934
CREATED:20240930T142912Z
LAST-MODIFIED:20240930T142912Z
UID:57804-1730106000-1730131200@visitpikeville.com
SUMMARY:From Co-worker to Supervisor
DESCRIPTION:Join BSCTC Workforce Solutions and the Southeast Kentucky Chamber on Monday\, October 28th\, from 9AM – 4PM at the Garfield House in Pikeville\, KY\, for an empowering leadership training.\n\n\n Limited seats available – only 20 spots! Registration is just $99\, and lunch is on us! \n\n\nDon’t miss out! Reserve your spot today: https://ws.kctcs.edu/bigsandy/course/course.aspx?C=2908&pc=19&mc=&sc= or contact bs-workforce@kctcs.edu for more info.
URL:https://visitpikeville.com/event/from-co-worker-to-supervisor/
LOCATION:Garfield House\, 178 College Street\, Pikeville\, KY\, 41501\, United States
CATEGORIES:Southeast Kentucky Chamber
ATTACH;FMTTYPE=image/jpeg:https://visitpikeville.com/wp-content/uploads/2024/09/SUPERVISOR.jpg
END:VEVENT
BEGIN:VEVENT
DTSTART;TZID=America/Kentucky/Louisville:20241028T120000
DTEND;TZID=America/Kentucky/Louisville:20241028T140000
DTSTAMP:20260425T073934
CREATED:20241014T142637Z
LAST-MODIFIED:20241014T142637Z
UID:58547-1730116800-1730124000@visitpikeville.com
SUMMARY:First Responders Appreciation Day!
DESCRIPTION:Come help us celebrate our First Responders! 
URL:https://visitpikeville.com/event/first-responders-appreciation-day-2/
LOCATION:Pikeville City Park\, 101 Cumberland Ct\,\, Pikeville\, KY\, 41501
CATEGORIES:Other
ATTACH;FMTTYPE=image/jpeg:https://visitpikeville.com/wp-content/uploads/2024/10/first-responders.jpg
END:VEVENT
BEGIN:VEVENT
DTSTART;TZID=America/Kentucky/Louisville:20241028T160000
DTEND;TZID=America/Kentucky/Louisville:20241028T170000
DTSTAMP:20260425T073934
CREATED:20240930T153501Z
LAST-MODIFIED:20240930T153501Z
UID:57881-1730131200-1730134800@visitpikeville.com
SUMMARY:Teen Activity Club
DESCRIPTION:Teen Activity Club is a craft group for kids ages 13-18 that meets at the Pike County Public Library (Lee Avenue) on alternating Wednesdays at 4:00.
URL:https://visitpikeville.com/event/teen-activity-club-8-2-2-2-2-2-2-2-2-2-2-2-2-2-2-2-2/
LOCATION:Pike County Public Library\, 126 Lee Avenue\, Pikeville\, KY\, 41501\, United States
CATEGORIES:Pike County Public Library
ATTACH;FMTTYPE=image/png:https://visitpikeville.com/wp-content/uploads/2023/12/Teen_Activity_Club.png
END:VEVENT
BEGIN:VEVENT
DTSTART;TZID=America/Kentucky/Louisville:20241028T170000
DTEND;TZID=America/Kentucky/Louisville:20241028T183000
DTSTAMP:20260425T073934
CREATED:20240819T212622Z
LAST-MODIFIED:20240819T212622Z
UID:55523-1730134800-1730140200@visitpikeville.com
SUMMARY:Appalachian Culture Club
DESCRIPTION:We are so excited to offer our new upcoming program! Looking for a great afterschool club that focuses on keeping our Appalachian culture alive? A club where you can learn how to make chicken scratch\, authentic homemade candy\, corn husk dolls\, and more?? Look no further! Pike County 4-H is partnering with the Pike County Homemakers for our new Appalachian Culture Club! This club will be targeted towards ages 9-18. Spots are limited\, so please call the Pike County Extension Office to register!
URL:https://visitpikeville.com/event/appalachian-culture-club-2-2-2/
LOCATION:Pike County Extension Office\, 148 Trivette Dr\, Pikeville\, KY\, 41501\, United States
CATEGORIES:Pike County Extension Community Arts
ATTACH;FMTTYPE=image/jpeg:https://visitpikeville.com/wp-content/uploads/2024/08/4h.jpg
END:VEVENT
BEGIN:VEVENT
DTSTART;TZID=America/Kentucky/Louisville:20241028T180000
DTEND;TZID=America/Kentucky/Louisville:20241028T190000
DTSTAMP:20260425T073934
CREATED:20241008T151938Z
LAST-MODIFIED:20241008T151938Z
UID:58206-1730138400-1730142000@visitpikeville.com
SUMMARY:City Commission Meeting
DESCRIPTION:6pm @ City Hall
URL:https://visitpikeville.com/event/city-commission-meeting-2-2-2-2-2-2-2-2-2-2-2-2-2-2-2-2-2-2-2-2-2/
LOCATION:Pikeville City Hall\, 243 Main St #1786\,\, Pikeville\, KY\, 41501\, United States
CATEGORIES:City of Pikeville
ATTACH;FMTTYPE=image/png:https://visitpikeville.com/wp-content/uploads/2023/09/image001.png
END:VEVENT
BEGIN:VEVENT
DTSTART;TZID=America/Kentucky/Louisville:20241028T190000
DTEND;TZID=America/Kentucky/Louisville:20241102T210000
DTSTAMP:20260425T073934
CREATED:20241028T122037Z
LAST-MODIFIED:20241028T122037Z
UID:59055-1730142000-1730581200@visitpikeville.com
SUMMARY:Grench
DESCRIPTION:@ Two Broke Art Teachers
URL:https://visitpikeville.com/event/grench/
LOCATION:2 Broke Art Teachers\, 4505 Weddington Square\,\, Pikeville\, KY\, 41501\, United States
CATEGORIES:Other
ATTACH;FMTTYPE=image/jpeg:https://visitpikeville.com/wp-content/uploads/2024/10/grench.jpg
END:VEVENT
BEGIN:VEVENT
DTSTART;TZID=America/Kentucky/Louisville:20241029T150000
DTEND;TZID=America/Kentucky/Louisville:20241029T170000
DTSTAMP:20260425T073934
CREATED:20241028T115825Z
LAST-MODIFIED:20241028T115825Z
UID:59040-1730214000-1730221200@visitpikeville.com
SUMMARY:Food is Medicine
DESCRIPTION:We’re excited to invite you and our community to the Food is Medicine Town Hall\, which will focus on “Food is Medicine” and feature Kentucky Agriculture Commissioner Jonathan Shell as a special guest speaker.Date: Tuesday\, October 29thTime: 3 PMLocation: Pikeville Medical Center Workforce Innovation Center located at 190 S. Mayo Trail (behind the Landmark Hotel)Mark your calendar!We are looking forward to seeing you there! See comments for directions!
URL:https://visitpikeville.com/event/food-is-medicine/
LOCATION:Workforce Innovation Center at Pikeville Medical Center\, 190 S Mayo Trail\,\, Pikeville\, KY\, 41501\, United States
CATEGORIES:Other
ATTACH;FMTTYPE=image/jpeg:https://visitpikeville.com/wp-content/uploads/2024/10/food.jpg
END:VEVENT
BEGIN:VEVENT
DTSTART;TZID=America/Kentucky/Louisville:20241029T163000
DTEND;TZID=America/Kentucky/Louisville:20241029T183000
DTSTAMP:20260425T073934
CREATED:20241021T120913Z
LAST-MODIFIED:20241021T120913Z
UID:58796-1730219400-1730226600@visitpikeville.com
SUMMARY:Pumpkin Day!
DESCRIPTION: Join us for Pumpkin Day at the Pikeville Farmers Market! Come out for a fun-filled fall event with activities for all ages! We’ll have:\nPumpkin picking Painting Taste testing Crafting This event is hosted in collaboration with Pike County 4-H\, ANR\, Community Arts\, and FCS. Bring your family and friends to celebrate the season with us. We can’t wait to see you there! \nFor more information\, contact the Pike County Extension Office.\n Date: October 29th Time: 4:30 PM Location: 130 Adams Ln\, Pikeville\, KY 41501\n#PumpkinDay #FarmersMarket #PikevilleKY #FallFun #CommunityEvent #4H #ANR #FamilyFun
URL:https://visitpikeville.com/event/pumpkin-day/
LOCATION:Pikeville Farmer’s Market\, 130 Adams Lane\, Pikeville\, Ky
CATEGORIES:Pike County Cooperative Extension Office
ATTACH;FMTTYPE=image/jpeg:https://visitpikeville.com/wp-content/uploads/2024/10/pumpkin-day.jpg
END:VEVENT
BEGIN:VEVENT
DTSTART;TZID=America/Kentucky/Louisville:20241029T163000
DTEND;TZID=America/Kentucky/Louisville:20241029T190000
DTSTAMP:20260425T073934
CREATED:20240513T180143Z
LAST-MODIFIED:20240513T180143Z
UID:51305-1730219400-1730228400@visitpikeville.com
SUMMARY:Pikeville Farmer's Market
DESCRIPTION:Tuesday from 4:30-7:00 \nSaturday 9:00-1:00 \n 
URL:https://visitpikeville.com/event/pikeville-farmers-market-5-3-2-2-3-2-2-2-2-2-2-2-2-2-2-2-2-2-2-2-2-2-2-2/
LOCATION:Pikeville Farmer’s Market\, 130 Adams Lane\, Pikeville\, Ky
CATEGORIES:Other
ATTACH;FMTTYPE=image/jpeg:https://visitpikeville.com/wp-content/uploads/2024/05/farmers-market.jpeg
END:VEVENT
BEGIN:VEVENT
DTSTART;TZID=America/Kentucky/Louisville:20241029T170000
DTEND;TZID=America/Kentucky/Louisville:20241029T180000
DTSTAMP:20260425T073934
CREATED:20240930T154707Z
LAST-MODIFIED:20240930T154707Z
UID:57894-1730221200-1730224800@visitpikeville.com
SUMMARY:Story time with Wednesday
DESCRIPTION:Join us for an extra special Storytime with Wednesday Addams on October 29th at 5:00!\nWednesday will read “I am Wednesday” about her time as a student at Nevermore Academy. Afterward\, we’ll make the spider web window from her room and Wednesday will show off her moves by leading a spooky dance party. Costumes are welcome\, so come dressed in your Wednesday best or as your favorite spooky character!\nRecommended for ages 6-12. No registration required.
URL:https://visitpikeville.com/event/story-time-with-wednesday/
LOCATION:Pike County Public Library\, 126 Lee Avenue\, Pikeville\, KY\, 41501\, United States
CATEGORIES:Pike County Public Library
ATTACH;FMTTYPE=image/jpeg:https://visitpikeville.com/wp-content/uploads/2024/09/wednesday.jpg
END:VEVENT
BEGIN:VEVENT
DTSTART;TZID=America/Kentucky/Louisville:20241030T100000
DTEND;TZID=America/Kentucky/Louisville:20241030T150000
DTSTAMP:20260425T073934
CREATED:20241021T112807Z
LAST-MODIFIED:20241021T112807Z
UID:58782-1730282400-1730300400@visitpikeville.com
SUMMARY:HIRING EVENT!!
DESCRIPTION:Join us at the Pike County Library on Oct 30 for a multi-employer hiring event to find your next career move!\n\n\n126 Lee Ave | 10am-3pm
URL:https://visitpikeville.com/event/hiring-event/
LOCATION:Pike County Public Library\, 126 Lee Avenue\, Pikeville\, KY\, 41501\, United States
CATEGORIES:Pike County Public Library,Southeast Kentucky Chamber
ATTACH;FMTTYPE=image/jpeg:https://visitpikeville.com/wp-content/uploads/2024/10/hiring-event.jpg
END:VEVENT
BEGIN:VEVENT
DTSTART;TZID=America/Kentucky/Louisville:20241030T160000
DTEND;TZID=America/Kentucky/Louisville:20241030T170000
DTSTAMP:20260425T073934
CREATED:20240930T145817Z
LAST-MODIFIED:20240930T145817Z
UID:57824-1730304000-1730307600@visitpikeville.com
SUMMARY:BASIC COMPUTER SKILLS
DESCRIPTION:Learn technology basics like e-mail\, smart phones\, social media\, and more. Meets alternating Wednesdays at 4:00.
URL:https://visitpikeville.com/event/basic-computer-skills-3-2-2-2-2-2-2-2-2-2-2-2-2-2-2-2-2-2-2/
LOCATION:Pike County Public Library\, 126 Lee Avenue\, Pikeville\, KY\, 41501\, United States
CATEGORIES:Pike County Public Library
ATTACH;FMTTYPE=image/png:https://visitpikeville.com/wp-content/uploads/2024/06/Basic_Computer_Skills.png
END:VEVENT
BEGIN:VEVENT
DTSTART;TZID=America/Kentucky/Louisville:20241030T173000
DTEND;TZID=America/Kentucky/Louisville:20241030T193000
DTSTAMP:20260425T073934
CREATED:20241028T122201Z
LAST-MODIFIED:20241028T122201Z
UID:59058-1730309400-1730316600@visitpikeville.com
SUMMARY:Latte'
DESCRIPTION:@ Two Broke Art Teachers
URL:https://visitpikeville.com/event/latte/
LOCATION:2 Broke Art Teachers\, 4505 Weddington Square\,\, Pikeville\, KY\, 41501\, United States
CATEGORIES:Other
ATTACH;FMTTYPE=image/jpeg:https://visitpikeville.com/wp-content/uploads/2024/10/latte.jpg
END:VEVENT
BEGIN:VEVENT
DTSTART;TZID=America/Kentucky/Louisville:20241031T090000
DTEND;TZID=America/Kentucky/Louisville:20241031T170000
DTSTAMP:20260425T073934
CREATED:20240930T154859Z
LAST-MODIFIED:20240930T154859Z
UID:57897-1730365200-1730394000@visitpikeville.com
SUMMARY:Early Voting 2024
DESCRIPTION:Early Voting 2024
URL:https://visitpikeville.com/event/early-voting-2024/
LOCATION:Pike County Public Library\, 126 Lee Avenue\, Pikeville\, KY\, 41501\, United States
CATEGORIES:Pike County Public Library
END:VEVENT
BEGIN:VEVENT
DTSTART;TZID=America/Kentucky/Louisville:20241031T100000
DTEND;TZID=America/Kentucky/Louisville:20241031T110000
DTSTAMP:20260425T073934
CREATED:20241021T114421Z
LAST-MODIFIED:20241021T114421Z
UID:58786-1730368800-1730372400@visitpikeville.com
SUMMARY:Model City Head Start Halloween Parade
DESCRIPTION:Along Main Street through the Courthouse\, Division Street\, Up 2nd Street\, cross to College Street\, Down South Elm Street to Pikeville Senior Center back to Model City.
URL:https://visitpikeville.com/event/model-city-head-start-halloween-parade/
LOCATION:Downtown Pikeville\, Pikeville\, Ky\, 41501
CATEGORIES:Pikeville Tourism
ATTACH;FMTTYPE=image/jpeg:https://visitpikeville.com/wp-content/uploads/2024/10/halloween-parade.jpg
END:VEVENT
BEGIN:VEVENT
DTSTART;TZID=America/Kentucky/Louisville:20241031T110000
DTEND;TZID=America/Kentucky/Louisville:20241031T120000
DTSTAMP:20260425T073934
CREATED:20240930T151205Z
LAST-MODIFIED:20240930T151205Z
UID:57853-1730372400-1730376000@visitpikeville.com
SUMMARY:Story Time
DESCRIPTION:tory Time is for children ages 5 and under and features books\, action/movement\, songs\, and a craft. Story Time is held Thursdays at 11:00 and 2:00 and Saturdays at 11:00. \n\n\n\n\n\n\n  \nBesides being fun\, Story Time also helps develop early literacy and school readiness skills through reading\, singing\, listening\, playing\, and social interaction. This program lasts approximately 30 minutes\, and caregivers and children are encouraged to linger in the library afterwards to further socialize and choose books to take home.
URL:https://visitpikeville.com/event/story-time-2-2-2-2-2-2-2-2-2-2-2-2-2-2-2-2-2-2-2-2-2-2-2-2-2-2-2-2-2-2-2-2-2-2-2-2-2-2-2-2-2-2-2-2-2-2-2-2-2-2-2-2-2-2-2-3-2-2-2-2-2-2-2-2-2-2-2-2-2-2-2-2-2-2-2-2-2/
LOCATION:Pike County Public Library\, 126 Lee Avenue\, Pikeville\, KY\, 41501\, United States
CATEGORIES:Pike County Public Library
ATTACH;FMTTYPE=image/png:https://visitpikeville.com/wp-content/uploads/2023/12/Story_TimeLEE.png
END:VEVENT
BEGIN:VEVENT
DTSTART;TZID=America/Kentucky/Louisville:20241031T140000
DTEND;TZID=America/Kentucky/Louisville:20241031T150000
DTSTAMP:20260425T073934
CREATED:20240930T151240Z
LAST-MODIFIED:20240930T151240Z
UID:57855-1730383200-1730386800@visitpikeville.com
SUMMARY:Story Time
DESCRIPTION:tory Time is for children ages 5 and under and features books\, action/movement\, songs\, and a craft. Story Time is held Thursdays at 11:00 and 2:00 and Saturdays at 11:00. \n\n\n\n\n\n\n  \nBesides being fun\, Story Time also helps develop early literacy and school readiness skills through reading\, singing\, listening\, playing\, and social interaction. This program lasts approximately 30 minutes\, and caregivers and children are encouraged to linger in the library afterwards to further socialize and choose books to take home.
URL:https://visitpikeville.com/event/story-time-2-2-2-2-2-2-2-2-2-2-2-2-2-2-2-2-2-2-2-2-2-2-2-2-2-2-2-2-2-2-2-2-2-2-2-2-2-2-2-2-2-2-2-2-2-2-2-2-2-2-2-2-2-2-2-3-2-2-2-2-2-2-2-2-2-2-2-2-2-2-2-2-2-2-2-2-2-2/
LOCATION:Pike County Public Library\, 126 Lee Avenue\, Pikeville\, KY\, 41501\, United States
CATEGORIES:Pike County Public Library
ATTACH;FMTTYPE=image/png:https://visitpikeville.com/wp-content/uploads/2023/12/Story_TimeLEE.png
END:VEVENT
BEGIN:VEVENT
DTSTART;TZID=America/Kentucky/Louisville:20241031T200000
DTEND;TZID=America/Kentucky/Louisville:20241031T220000
DTSTAMP:20260425T073934
CREATED:20241014T141723Z
LAST-MODIFIED:20241014T141723Z
UID:58544-1730404800-1730412000@visitpikeville.com
SUMMARY:Buckethead show
DESCRIPTION:This Halloween\, Pikeville’s own DJ Elvira and Buckethead606 bring the magic of a Buckethead show to the intimate setting of Pearse’s Place. Starts at 8:00!!
URL:https://visitpikeville.com/event/buckethead-show/
LOCATION:Pearse’s Place\, 224 2nd St\,\, Pikeville\, KY\, 41501\, United States
CATEGORIES:Other
ATTACH;FMTTYPE=image/jpeg:https://visitpikeville.com/wp-content/uploads/2024/10/buckethead.jpg
END:VEVENT
BEGIN:VEVENT
DTSTART;TZID=America/Kentucky/Louisville:20241101T173000
DTEND;TZID=America/Kentucky/Louisville:20241101T193000
DTSTAMP:20260425T073934
CREATED:20241028T122330Z
LAST-MODIFIED:20241028T122330Z
UID:59061-1730482200-1730489400@visitpikeville.com
SUMMARY:Majestic Deer
DESCRIPTION:@ Two Broke Art Teachers
URL:https://visitpikeville.com/event/majestic-deer/
LOCATION:2 Broke Art Teachers\, 4505 Weddington Square\,\, Pikeville\, KY\, 41501\, United States
CATEGORIES:Other
ATTACH;FMTTYPE=image/jpeg:https://visitpikeville.com/wp-content/uploads/2024/10/deer.jpg
END:VEVENT
BEGIN:VEVENT
DTSTART;TZID=America/Kentucky/Louisville:20241101T183000
DTEND;TZID=America/Kentucky/Louisville:20241101T203000
DTSTAMP:20260425T073934
CREATED:20240722T130911Z
LAST-MODIFIED:20240722T130911Z
UID:53722-1730485800-1730493000@visitpikeville.com
SUMMARY:Volleyball vs Truett McConnell University
DESCRIPTION:Game Day!
URL:https://visitpikeville.com/event/volleyball-vs-truett-mcconnell-university/
LOCATION:UPIKE GYM\, Hibbard St\,\, Pikeville\, KY\, 41501\, United States
CATEGORIES:UPike
ATTACH;FMTTYPE=image/png:https://visitpikeville.com/wp-content/uploads/2024/07/Screen-Shot-2024-07-22-at-9.07.52-AM.png
END:VEVENT
BEGIN:VEVENT
DTSTART;TZID=America/Kentucky/Louisville:20241101T203000
DTEND;TZID=America/Kentucky/Louisville:20241101T233000
DTSTAMP:20260425T073934
CREATED:20241028T113947Z
LAST-MODIFIED:20241028T113947Z
UID:59028-1730493000-1730503800@visitpikeville.com
SUMMARY:Kelly Renee & Easy Street
DESCRIPTION:@ Pearse’s Place
URL:https://visitpikeville.com/event/kelly-renee-easy-street/
LOCATION:Pearse’s Place\, 224 2nd St\,\, Pikeville\, KY\, 41501\, United States
CATEGORIES:Other
ATTACH;FMTTYPE=image/jpeg:https://visitpikeville.com/wp-content/uploads/2024/10/kelly.jpg
END:VEVENT
BEGIN:VEVENT
DTSTART;TZID=America/Kentucky/Louisville:20241102T090000
DTEND;TZID=America/Kentucky/Louisville:20241102T130000
DTSTAMP:20260425T073934
CREATED:20240513T180248Z
LAST-MODIFIED:20240513T180248Z
UID:51307-1730538000-1730552400@visitpikeville.com
SUMMARY:Pikeville Farmer's Market
DESCRIPTION:Tuesday from 4:30-7:00 \nSaturday 9:00-1:00 \n 
URL:https://visitpikeville.com/event/pikeville-farmers-market-5-2-2-2-2-2-2-2-2-2-2-2-2-2-2-2-2-2-2-2-2-2-2-2-2-2/
LOCATION:Pikeville Farmer’s Market\, 130 Adams Lane\, Pikeville\, Ky
CATEGORIES:Other
ATTACH;FMTTYPE=image/jpeg:https://visitpikeville.com/wp-content/uploads/2024/05/farmers-market.jpeg
END:VEVENT
BEGIN:VEVENT
DTSTART;TZID=America/Kentucky/Louisville:20241102T110000
DTEND;TZID=America/Kentucky/Louisville:20241102T130000
DTSTAMP:20260425T073934
CREATED:20240722T131844Z
LAST-MODIFIED:20240722T131844Z
UID:53726-1730545200-1730552400@visitpikeville.com
SUMMARY:Volleyball vs Reinhardt University
DESCRIPTION:Game Day!
URL:https://visitpikeville.com/event/volleyball-vs-reinhardt-university/
LOCATION:UPIKE GYM\, Hibbard St\,\, Pikeville\, KY\, 41501\, United States
CATEGORIES:UPike
ATTACH;FMTTYPE=image/png:https://visitpikeville.com/wp-content/uploads/2024/07/Screen-Shot-2024-07-22-at-9.17.37-AM.png
END:VEVENT
BEGIN:VEVENT
DTSTART;TZID=America/Kentucky/Louisville:20241102T130000
DTEND;TZID=America/Kentucky/Louisville:20241102T150000
DTSTAMP:20260425T073934
CREATED:20241028T121826Z
LAST-MODIFIED:20241028T121826Z
UID:59052-1730552400-1730559600@visitpikeville.com
SUMMARY:Turkeys
DESCRIPTION:@ Two Broke Art Teachers
URL:https://visitpikeville.com/event/turkeys/
LOCATION:2 Broke Art Teachers\, 4505 Weddington Square\,\, Pikeville\, KY\, 41501\, United States
CATEGORIES:Other
ATTACH;FMTTYPE=image/jpeg:https://visitpikeville.com/wp-content/uploads/2024/10/turkeys.jpg
END:VEVENT
BEGIN:VEVENT
DTSTART;TZID=America/Kentucky/Louisville:20241102T183000
DTEND;TZID=America/Kentucky/Louisville:20241102T203000
DTSTAMP:20260425T073934
CREATED:20240412T123542Z
LAST-MODIFIED:20240412T123542Z
UID:49615-1730572200-1730579400@visitpikeville.com
SUMMARY:Etta May
DESCRIPTION:Doors at 6:00pm Show starts at 6:30pm
URL:https://visitpikeville.com/event/etta-may/
LOCATION:Appalachian Center for the Arts\, 218 2nd St\,\, Pikeville\, Ky\, 41501
CATEGORIES:The Appalachian Center for the Arts
ATTACH;FMTTYPE=image/webp:https://visitpikeville.com/wp-content/uploads/2024/04/ette-may-scaled.webp
END:VEVENT
BEGIN:VEVENT
DTSTART;TZID=America/Kentucky/Louisville:20241102T190000
DTEND;TZID=America/Kentucky/Louisville:20241102T220000
DTSTAMP:20260425T073934
CREATED:20240715T183236Z
LAST-MODIFIED:20240715T183236Z
UID:53407-1730574000-1730584800@visitpikeville.com
SUMMARY:Main Street Live
DESCRIPTION:Part 2 of Main Street Live at the Mountain Top Media StageSaturday Night Special!!!
URL:https://visitpikeville.com/event/main-street-live-2-2-2-2/
LOCATION:Mountain Top Media Stage\, 126 Main St\,\, Pikeville\, KY\, 41501\, United States
CATEGORIES:Mountain Top Media
ATTACH;FMTTYPE=image/jpeg:https://visitpikeville.com/wp-content/uploads/2024/07/main-street.jpg
END:VEVENT
BEGIN:VEVENT
DTSTART;TZID=America/Kentucky/Louisville:20241102T190000
DTEND;TZID=America/Kentucky/Louisville:20241102T220000
DTSTAMP:20260425T073934
CREATED:20240729T130910Z
LAST-MODIFIED:20240729T130910Z
UID:54160-1730574000-1730584800@visitpikeville.com
SUMMARY:Brittany Mullins and The Rizzlers
DESCRIPTION:Free Admissionhttps://www.facebook.com/BrittanyAveryAndTheSassHoles
URL:https://visitpikeville.com/event/brittany-mullins-and-the-rizzlers/
LOCATION:Mountain Top Media Stage\, 126 Main St\,\, Pikeville\, KY\, 41501\, United States
CATEGORIES:Mountain Top Media
ATTACH;FMTTYPE=image/jpeg:https://visitpikeville.com/wp-content/uploads/2024/07/brittany.jpg
END:VEVENT
BEGIN:VEVENT
DTSTART;TZID=America/Kentucky/Louisville:20241104T171500
DTEND;TZID=America/Kentucky/Louisville:20241104T183000
DTSTAMP:20260425T073934
CREATED:20241014T124040Z
LAST-MODIFIED:20241014T124040Z
UID:58400-1730740500-1730745000@visitpikeville.com
SUMMARY:Adult Acting (ages 18+)
DESCRIPTION:Nov 4th-Dec 2nd\, 2024 | $100 for semester\nMeets Mondays 5:15 – 6:30 pm\nClass Sharing: December 6th\, 2024\, @ 7:30 p.m\nTaught by Claudia Dahlman \n\n\n\n\nIn this class\, actors of all levels will sharpen their craft by diving deep into monologue and scene work\, character development\, and creating an honest and multidimensional character based on the text. You will be encouraged and challenged to dig deep and make bold artistic choices. \nWhether you are an experienced actor\, or just looking to grow out of your comfort zone\, you will fit in and build your confidence in performing. We will be covering several scenes and monologues to present in a final performance for the community.
URL:https://visitpikeville.com/event/adult-acting-ages-18/
LOCATION:Appalachian Center for the Arts\, 218 2nd St\,\, Pikeville\, Ky\, 41501
CATEGORIES:The Appalachian Center for the Arts
ATTACH;FMTTYPE=image/jpeg:https://visitpikeville.com/wp-content/uploads/2024/10/adult.jpg
END:VEVENT
BEGIN:VEVENT
DTSTART;TZID=America/Kentucky/Louisville:20241104T184500
DTEND;TZID=America/Kentucky/Louisville:20241104T194500
DTSTAMP:20260425T073934
CREATED:20241014T131448Z
LAST-MODIFIED:20241014T131448Z
UID:58452-1730745900-1730749500@visitpikeville.com
SUMMARY:Musical Theatre Ensembles (ages 9-18)
DESCRIPTION:Nov 4th-Dec 4th\, 2024 | $100 for semester\nMeets Mondays and Wednesdays 6:45- 7:45pm\nClass Sharing: December 6th\, 2024\, @ 7:30 pm\nTaught by Daniela Velasquez and Brian Bush \n\n\n\n\nThis class is dedicated to developing key ensemble skills for musical theatre performance. Musical theatre\, by nature\, combines three key elements: acting\, singing\, and dance. \nThis class aims to explore all these aspects through a series of iconic musical theatre ensemble numbers. In these pieces\, students will learn music\, choreography\, and dig into the storytelling that the song requires. Ultimately\, these pieces will be shown to the community on a final “sharing” day. \nJoin us for a fantastic dive into the world of group work in musical theatre!
URL:https://visitpikeville.com/event/musical-theatre-ensembles-ages-9-18/
LOCATION:Appalachian Center for the Arts\, 218 2nd St\,\, Pikeville\, Ky\, 41501
CATEGORIES:The Appalachian Center for the Arts
ATTACH;FMTTYPE=image/jpeg:https://visitpikeville.com/wp-content/uploads/2024/10/musical.jpg
END:VEVENT
BEGIN:VEVENT
DTSTART;TZID=America/Kentucky/Louisville:20241104T200000
DTEND;TZID=America/Kentucky/Louisville:20241104T210000
DTSTAMP:20260425T073934
CREATED:20241014T132527Z
LAST-MODIFIED:20241014T132527Z
UID:58473-1730750400-1730754000@visitpikeville.com
SUMMARY:Teen Stage Combat (ages 16-18)
DESCRIPTION:Nov 4th-Dec 4th\, 2024 | $100 for semester\nMeets Mondays and Wednesdays 8:00 – 9:00 pm\nClass Sharing: December 6th\, 2024\, @ 7:30 pm\nTaught by Crockett J. Ward with Teaching Assistant Claudia Dahlman \n\n\n\n\nReady to unleash your full potential without needing a trip to the emergency room? Join our 5-week stage combat class for teens and master the art of epic on-stage battles! For ages 16-18\, this class will teach you how to pull off jaw-dropping moves with all the flair of a Hollywood stunt double\, minus the risk of actual injury. \nYou’ll learn how to throw a punch\, take a dive\, and engage in choreographed chaos—all while maintaining that dramatic flair that’ll make your friends think you’re a total action star. Plus\, we’ll throw in a few tricks to make sure you’re as safe as you are spectacular. \nSign up and get ready to throw down—theatrically speaking\, of course!
URL:https://visitpikeville.com/event/teen-stage-combat-ages-16-18/
LOCATION:Appalachian Center for the Arts\, 218 2nd St\,\, Pikeville\, Ky\, 41501
CATEGORIES:The Appalachian Center for the Arts
ATTACH;FMTTYPE=image/jpeg:https://visitpikeville.com/wp-content/uploads/2024/10/combat.jpg
END:VEVENT
END:VCALENDAR