BEGIN:VCALENDAR
VERSION:2.0
PRODID:-//Visit Pikeville - ECPv6.15.20//NONSGML v1.0//EN
CALSCALE:GREGORIAN
METHOD:PUBLISH
X-WR-CALNAME:Visit Pikeville
X-ORIGINAL-URL:https://visitpikeville.com
X-WR-CALDESC:Events for Visit Pikeville
REFRESH-INTERVAL;VALUE=DURATION:PT1H
X-Robots-Tag:noindex
X-PUBLISHED-TTL:PT1H
BEGIN:VTIMEZONE
TZID:America/Kentucky/Louisville
BEGIN:DAYLIGHT
TZOFFSETFROM:-0500
TZOFFSETTO:-0400
TZNAME:EDT
DTSTART:20250309T070000
END:DAYLIGHT
BEGIN:STANDARD
TZOFFSETFROM:-0400
TZOFFSETTO:-0500
TZNAME:EST
DTSTART:20251102T060000
END:STANDARD
BEGIN:DAYLIGHT
TZOFFSETFROM:-0500
TZOFFSETTO:-0400
TZNAME:EDT
DTSTART:20260308T070000
END:DAYLIGHT
BEGIN:STANDARD
TZOFFSETFROM:-0400
TZOFFSETTO:-0500
TZNAME:EST
DTSTART:20261101T060000
END:STANDARD
BEGIN:DAYLIGHT
TZOFFSETFROM:-0500
TZOFFSETTO:-0400
TZNAME:EDT
DTSTART:20270314T070000
END:DAYLIGHT
BEGIN:STANDARD
TZOFFSETFROM:-0400
TZOFFSETTO:-0500
TZNAME:EST
DTSTART:20271107T060000
END:STANDARD
END:VTIMEZONE
BEGIN:VEVENT
DTSTART;VALUE=DATE:20260401
DTEND;VALUE=DATE:20260501
DTSTAMP:20260421T091638
CREATED:20260413T172518Z
LAST-MODIFIED:20260413T172518Z
UID:74065-1775001600-1777593599@visitpikeville.com
SUMMARY:Where the Sidewalk Ends
DESCRIPTION:This month at the Story Trail\, read selections from “Where the Sidewalk Ends\,” a celebrated 1974 children’s poetry collection written and illustrated by Shel Silverstein. It features whimsical\, imaginative poems and drawings\, including the title poem which describes a imaginative\, peaceful place away from the city\, and popular poems like “Sarah Cynthia Sylvia Stout Would Not Take the Garbage Out.”It will be posted all month long in celebration of National Poetry Month! Enjoy it at the Story Trail located at Bob Amos Park\, just below the Overlook Events Center. Look for our sign on the right at the head of the trail.
URL:https://visitpikeville.com/event/where-the-sidewalk-ends/
LOCATION:The Story Trail\, 424 Bob Amos Dr\,\, Pikeville\, KY\, 41501\, United States
CATEGORIES:Pike County Public Library
ATTACH;FMTTYPE=image/jpeg:https://visitpikeville.com/wp-content/uploads/2026/04/sidewalk.jpg
END:VEVENT
BEGIN:VEVENT
DTSTART;TZID=America/Kentucky/Louisville:20260413T140000
DTEND;TZID=America/Kentucky/Louisville:20260413T150000
DTSTAMP:20260421T091638
CREATED:20260203T134502Z
LAST-MODIFIED:20260203T134502Z
UID:72751-1776088800-1776092400@visitpikeville.com
SUMMARY:Men's Tennis vs Johnson University - Tennessee
DESCRIPTION:Game Day
URL:https://visitpikeville.com/event/mens-tennis-vs-johnson-university-tennessee/
LOCATION:Bob Amos Park\, 424 Bob Amos Dr\, Pikeville\, Ky\, 41501
CATEGORIES:UPike
ATTACH;FMTTYPE=image/png:https://visitpikeville.com/wp-content/uploads/2026/02/Screenshot-2026-02-03-at-8.43.45-AM.png
END:VEVENT
BEGIN:VEVENT
DTSTART;TZID=America/Kentucky/Louisville:20260413T140000
DTEND;TZID=America/Kentucky/Louisville:20260413T150000
DTSTAMP:20260421T091638
CREATED:20260203T134614Z
LAST-MODIFIED:20260203T134614Z
UID:72754-1776088800-1776092400@visitpikeville.com
SUMMARY:Women's Tennis vs Johnson University - Tennessee
DESCRIPTION:Game Day!
URL:https://visitpikeville.com/event/womens-tennis-vs-johnson-university-tennessee/
LOCATION:Bob Amos Park\, 424 Bob Amos Dr\, Pikeville\, Ky\, 41501
CATEGORIES:UPike
ATTACH;FMTTYPE=image/png:https://visitpikeville.com/wp-content/uploads/2026/02/Screenshot-2026-02-03-at-8.45.10-AM.png
END:VEVENT
BEGIN:VEVENT
DTSTART;TZID=America/Kentucky/Louisville:20260413T140000
DTEND;TZID=America/Kentucky/Louisville:20260413T150000
DTSTAMP:20260421T091638
CREATED:20260406T182706Z
LAST-MODIFIED:20260406T182706Z
UID:73908-1776088800-1776092400@visitpikeville.com
SUMMARY:Music Theory Class
DESCRIPTION:Understanding how music works will give you the tools you need to write riffs\, songs\, and solos\, and learn to improvise in a friendly hands-on environment. \n\n\n\n\n\n\n  \nClass is held every Monday at the Pike County Public Library (Lee Ave) at 2:00. \nNo previous knowledge of music theory or reading music is necessary\, but this class is for students who already know how to play a little bit.
URL:https://visitpikeville.com/event/music-theory-class-2-2-2-2-2-2-2-2-2/
LOCATION:Pike County Public Library\, 126 Lee Avenue\, Pikeville\, KY\, 41501\, United States
CATEGORIES:Pike County Public Library
ATTACH;FMTTYPE=image/png:https://visitpikeville.com/wp-content/uploads/2026/01/music.png
END:VEVENT
BEGIN:VEVENT
DTSTART;TZID=America/Kentucky/Louisville:20260413T160000
DTEND;TZID=America/Kentucky/Louisville:20260413T170000
DTSTAMP:20260421T091638
CREATED:20260413T170552Z
LAST-MODIFIED:20260413T170552Z
UID:74042-1776096000-1776099600@visitpikeville.com
SUMMARY:Teen Time
DESCRIPTION:Teens ages 13-17 are invited to hang out\, get creative\, and have fun at Teen Time\, meeting alternating Mondays at 4:00. \n\n\n\n\n\n\n  \nJoin us in the Teen Room for a mix of crafts\, games\, video game tournaments\, snacks\, and more. It’s a great chance to relax\, meet new friends\, and try something new each week. No registration needed.
URL:https://visitpikeville.com/event/teen-time-4-2-2-2-2-2-2/
LOCATION:Pike County Public Library\, 126 Lee Avenue\, Pikeville\, KY\, 41501\, United States
CATEGORIES:Pike County Public Library
ATTACH;FMTTYPE=image/png:https://visitpikeville.com/wp-content/uploads/2026/01/Teen_Time_updated.png
END:VEVENT
BEGIN:VEVENT
DTSTART;TZID=America/Kentucky/Louisville:20260413T163000
DTEND;TZID=America/Kentucky/Louisville:20260413T173000
DTSTAMP:20260421T091638
CREATED:20260406T183411Z
LAST-MODIFIED:20260406T183411Z
UID:73914-1776097800-1776101400@visitpikeville.com
SUMMARY:Adult Guitar Class 1
DESCRIPTION:Beginner guitar lessons for patrons ages 18+. This class meets weekly on Mondays at 4:30. Please bring your own instrument.
URL:https://visitpikeville.com/event/adult-guitar-class-4-2-2-2-2-2-2-2-2-2-2-2-2-2-3-3-2-2-2-2-2-2-2-2-2-2-2-2-2-2-2-2-2-2-2-2-2/
LOCATION:Pike County Public Library\, 126 Lee Avenue\, Pikeville\, KY\, 41501\, United States
CATEGORIES:Pike County Public Library
ATTACH;FMTTYPE=image/png:https://visitpikeville.com/wp-content/uploads/2025/05/theory.png
END:VEVENT
BEGIN:VEVENT
DTSTART;TZID=America/Kentucky/Louisville:20260413T180000
DTEND;TZID=America/Kentucky/Louisville:20260413T190000
DTSTAMP:20260421T091638
CREATED:20260406T131757Z
LAST-MODIFIED:20260406T131757Z
UID:73881-1776103200-1776106800@visitpikeville.com
SUMMARY:City Commission Meeting
DESCRIPTION:6pm @ City Hall
URL:https://visitpikeville.com/event/city-commission-meeting-2-2-2-2-2-2-2-2-2-2-2-2-2-2-2-2-2-2-2-2-2-2-2-2-2-2-2-2-2-2-2-2-2-2-2-2-2-2-2-2-2-2-2-2-2-2-2-2-2-2-2-2-2/
LOCATION:Pikeville City Hall\, 243 Main St #1786\,\, Pikeville\, KY\, 41501\, United States
CATEGORIES:City of Pikeville
ATTACH;FMTTYPE=image/png:https://visitpikeville.com/wp-content/uploads/2023/09/image001.png
END:VEVENT
BEGIN:VEVENT
DTSTART;TZID=America/Kentucky/Louisville:20260414T120000
DTEND;TZID=America/Kentucky/Louisville:20260414T140000
DTSTAMP:20260421T091638
CREATED:20260216T124047Z
LAST-MODIFIED:20260216T124047Z
UID:73071-1776168000-1776175200@visitpikeville.com
SUMMARY:Baseball vs Alice Lloyd College
DESCRIPTION:Game Day!
URL:https://visitpikeville.com/event/baseball-vs-alice-lloyd-college-4/
LOCATION:Johnnie LeMaster Field\, 118 W River Dr\,\, Pikeville\, KY\, 41501\, United States
CATEGORIES:UPike
ATTACH;FMTTYPE=image/png:https://visitpikeville.com/wp-content/uploads/2026/02/Screenshot-2026-02-16-at-7.38.53-AM.png
END:VEVENT
BEGIN:VEVENT
DTSTART;TZID=America/Kentucky/Louisville:20260414T150000
DTEND;TZID=America/Kentucky/Louisville:20260414T170000
DTSTAMP:20260421T091638
CREATED:20251117T190655Z
LAST-MODIFIED:20251117T190655Z
UID:71383-1776178800-1776186000@visitpikeville.com
SUMMARY:Baseball vs Alice Lloyd College
DESCRIPTION:Game Day!
URL:https://visitpikeville.com/event/baseball-vs-alice-lloyd-college-3/
LOCATION:Johnnie LeMaster Field\, 118 W River Dr\,\, Pikeville\, KY\, 41501\, United States
CATEGORIES:UPike
ATTACH;FMTTYPE=image/png:https://visitpikeville.com/wp-content/uploads/2025/11/Screenshot-2025-11-17-at-2.05.17-PM.png
END:VEVENT
BEGIN:VEVENT
DTSTART;TZID=America/Kentucky/Louisville:20260414T170000
DTEND;TZID=America/Kentucky/Louisville:20260414T174000
DTSTAMP:20260421T091638
CREATED:20260323T142930Z
LAST-MODIFIED:20260323T142930Z
UID:73691-1776186000-1776188400@visitpikeville.com
SUMMARY:Swim Lessons (Parent & Tots Lessons)
DESCRIPTION:YMCA Member Priority Registration for April Swim Lessons is open NOW through March 27th! \n\n\nRegister online using the links below\, or stop by and see us at the Y to get signed up.\n\n\nParent and Tot Class\n\n\nSession #1: https://operations.daxko.com/programs/redirector.aspx…\n\n\nSession # 2: https://operations.daxko.com/programs/redirector.aspx…\n\n\nSwim 101\n\n\nSession #1: https://operations.daxko.com/programs/redirector.aspx…\n\n\nSession 2: https://operations.daxko.com/programs/redirector.aspx…
URL:https://visitpikeville.com/event/swim-lessons-parent-tots-lessons/
LOCATION:Pikeville YMCA\, 424 Bob Amos Dr\,\, Pikeville\, Ky\, 41501
END:VEVENT
BEGIN:VEVENT
DTSTART;TZID=America/Kentucky/Louisville:20260414T170000
DTEND;TZID=America/Kentucky/Louisville:20260414T183000
DTSTAMP:20260421T091638
CREATED:20260330T144346Z
LAST-MODIFIED:20260330T144346Z
UID:73838-1776186000-1776191400@visitpikeville.com
SUMMARY:Book Bedazzling
DESCRIPTION:Bring your favorite novel and give it a sparkling makeover! Using colorful rhinestones\, wax pick-up tools\, and craft glue\, teens and adults will create their own one-of-a-kind bedazzled covers.\nThis program will be held Tuesday\, April 14th at the Pike County Public Library. Registration is required.\nTo register\, click here: https://informationplace.libnet.info/event/16115618
URL:https://visitpikeville.com/event/book-bedazzling/
LOCATION:Pike County Public Library\, 126 Lee Avenue\, Pikeville\, KY\, 41501\, United States
CATEGORIES:Pike County Public Library
ATTACH;FMTTYPE=image/jpeg:https://visitpikeville.com/wp-content/uploads/2026/03/bedazzling.jpg
END:VEVENT
BEGIN:VEVENT
DTSTART;TZID=America/Kentucky/Louisville:20260414T170000
DTEND;TZID=America/Kentucky/Louisville:20260414T183000
DTSTAMP:20260421T091638
CREATED:20260413T172153Z
LAST-MODIFIED:20260413T172153Z
UID:74062-1776186000-1776191400@visitpikeville.com
SUMMARY:Book Bedazzling
DESCRIPTION:Bring your favorite novel and give it a sparkling makeover! Using colorful rhinestones\, wax pick-up tools\, and craft glue\, teens and adults will create their own one-of-a-kind bedazzled covers.\nThis program will be held Tuesday\, April 14th at the Pike County Public Library. Registration is required.\nTo register\, click here: https://informationplace.libnet.info/event/16115618
URL:https://visitpikeville.com/event/book-bedazzling-2/
LOCATION:Pike County Public Library\, 126 Lee Avenue\, Pikeville\, KY\, 41501\, United States
CATEGORIES:Pike County Public Library
ATTACH;FMTTYPE=image/jpeg:https://visitpikeville.com/wp-content/uploads/2026/04/bedazzling.jpg
END:VEVENT
BEGIN:VEVENT
DTSTART;TZID=America/Kentucky/Louisville:20260414T180000
DTEND;TZID=America/Kentucky/Louisville:20260414T184000
DTSTAMP:20260421T091638
CREATED:20260323T143651Z
LAST-MODIFIED:20260323T143651Z
UID:73707-1776189600-1776192000@visitpikeville.com
SUMMARY:Swim Lessons (Parent & Tots Lessons)
DESCRIPTION:YMCA Member Priority Registration for April Swim Lessons is open NOW through March 27th! \n\n\nRegister online using the links below\, or stop by and see us at the Y to get signed up.\n\n\nParent and Tot Class\n\n\nSession #1: https://operations.daxko.com/programs/redirector.aspx…\n\n\nSession # 2: https://operations.daxko.com/programs/redirector.aspx…\n\n\nSwim 101\n\n\nSession #1: https://operations.daxko.com/programs/redirector.aspx…\n\n\nSession 2: https://operations.daxko.com/programs/redirector.aspx…
URL:https://visitpikeville.com/event/swim-lessons-parent-tots-lessons-2-2-2-2-2-2-2-2/
LOCATION:Pikeville YMCA\, 424 Bob Amos Dr\,\, Pikeville\, Ky\, 41501
END:VEVENT
BEGIN:VEVENT
DTSTART;TZID=America/Kentucky/Louisville:20260415T123000
DTEND;TZID=America/Kentucky/Louisville:20260415T163000
DTSTAMP:20260421T091638
CREATED:20260112T155533Z
LAST-MODIFIED:20260112T155533Z
UID:72437-1776256200-1776270600@visitpikeville.com
SUMMARY:CPR training
DESCRIPTION:CPR training gives you the skills and confidence to respond in an emergency when it matters most. Register for our upcoming CPR classes today.To register\, call 606-509-5500 or email Jessica Anderson at janderson@mypchd.com.
URL:https://visitpikeville.com/event/cpr-training-4-2-2-2/
LOCATION:Pike County Health Department\, 119 River Drive\,\, Pikeville\, KY\, 41501\, United States
CATEGORIES:Pike County Health Department
ATTACH;FMTTYPE=image/jpeg:https://visitpikeville.com/wp-content/uploads/2026/01/cpr-healthcare.jpg
END:VEVENT
BEGIN:VEVENT
DTSTART;TZID=America/Kentucky/Louisville:20260415T140000
DTEND;TZID=America/Kentucky/Louisville:20260415T150000
DTSTAMP:20260421T091638
CREATED:20260406T190314Z
LAST-MODIFIED:20260406T190314Z
UID:73922-1776261600-1776265200@visitpikeville.com
SUMMARY:Adult Guitar Class 2
DESCRIPTION:Beginner guitar lessons for patrons ages 18+. This class meets weekly on Wednesdays at 2:00. Please bring your own instrument. Registration required. \n\n\n\n\n\n\n  \nCall the library at 606-437-6001 to check availability.
URL:https://visitpikeville.com/event/adult-guitar-class-4-2-2-2-2-2-2-2-2-2-2-2-2-2-2-2-2-2-2-2-2-2-2-2-2-2-2-2-2-2-2-2-3-2-2-2-2-2-2-2-2-2-2-2/
LOCATION:Pike County Public Library\, 126 Lee Avenue\, Pikeville\, KY\, 41501\, United States
CATEGORIES:Pike County Public Library
ATTACH;FMTTYPE=image/png:https://visitpikeville.com/wp-content/uploads/2025/05/theory.png
END:VEVENT
BEGIN:VEVENT
DTSTART;TZID=America/Kentucky/Louisville:20260415T163000
DTEND;TZID=America/Kentucky/Louisville:20260415T173000
DTSTAMP:20260421T091638
CREATED:20260406T190708Z
LAST-MODIFIED:20260406T190708Z
UID:73930-1776270600-1776274200@visitpikeville.com
SUMMARY:Teen Guitar Class 1
DESCRIPTION:Beginner guitar lessons for patrons ages 13-17. This class meets weekly on Wednesdays at 4:30. Please bring your own instrument. Registration required.
URL:https://visitpikeville.com/event/teen-guitar-class-1-2-2-2-2-2-2-2-2-2-2-2/
LOCATION:Pike County Public Library\, 126 Lee Avenue\, Pikeville\, KY\, 41501\, United States
CATEGORIES:Pike County Public Library
ATTACH;FMTTYPE=image/png:https://visitpikeville.com/wp-content/uploads/2026/01/music.png
END:VEVENT
BEGIN:VEVENT
DTSTART;TZID=America/Kentucky/Louisville:20260415T170000
DTEND;TZID=America/Kentucky/Louisville:20260415T174000
DTSTAMP:20260421T091638
CREATED:20260323T144842Z
LAST-MODIFIED:20260323T144842Z
UID:73726-1776272400-1776274800@visitpikeville.com
SUMMARY:Swim Lessons (Swim 101)
DESCRIPTION:YMCA Member Priority Registration for April Swim Lessons is open NOW through March 27th! \n\n\nRegister online using the links below\, or stop by and see us at the Y to get signed up.\n\n\nParent and Tot Class\n\n\nSession #1: https://operations.daxko.com/programs/redirector.aspx…\n\n\nSession # 2: https://operations.daxko.com/programs/redirector.aspx…\n\n\nSwim 101\n\n\nSession #1: https://operations.daxko.com/programs/redirector.aspx…\n\n\nSession 2: https://operations.daxko.com/programs/redirector.aspx…
URL:https://visitpikeville.com/event/swim-lessons-swim-101-2-2/
LOCATION:Pikeville YMCA\, 424 Bob Amos Dr\,\, Pikeville\, Ky\, 41501
CATEGORIES:Pikeville YMCA
ATTACH;FMTTYPE=image/jpeg:https://visitpikeville.com/wp-content/uploads/2026/03/swim.jpg
END:VEVENT
BEGIN:VEVENT
DTSTART;TZID=America/Kentucky/Louisville:20260415T180000
DTEND;TZID=America/Kentucky/Louisville:20260415T184000
DTSTAMP:20260421T091638
CREATED:20260323T145721Z
LAST-MODIFIED:20260323T145721Z
UID:73742-1776276000-1776278400@visitpikeville.com
SUMMARY:Swim Lessons (Swim 101)
DESCRIPTION:YMCA Member Priority Registration for April Swim Lessons is open NOW through March 27th! \n\n\nRegister online using the links below\, or stop by and see us at the Y to get signed up.\n\n\nParent and Tot Class\n\n\nSession #1: https://operations.daxko.com/programs/redirector.aspx…\n\n\nSession # 2: https://operations.daxko.com/programs/redirector.aspx…\n\n\nSwim 101\n\n\nSession #1: https://operations.daxko.com/programs/redirector.aspx…\n\n\nSession 2: https://operations.daxko.com/programs/redirector.aspx…
URL:https://visitpikeville.com/event/swim-lessons-swim-101-2-2-2-2-2-2-2-2-2-2/
LOCATION:Pikeville YMCA\, 424 Bob Amos Dr\,\, Pikeville\, Ky\, 41501
CATEGORIES:Pikeville YMCA
ATTACH;FMTTYPE=image/jpeg:https://visitpikeville.com/wp-content/uploads/2026/03/swim.jpg
END:VEVENT
BEGIN:VEVENT
DTSTART;TZID=America/Kentucky/Louisville:20260415T180000
DTEND;TZID=America/Kentucky/Louisville:20260418T230000
DTSTAMP:20260421T091638
CREATED:20260413T141351Z
LAST-MODIFIED:20260413T141351Z
UID:73989-1776276000-1776553200@visitpikeville.com
SUMMARY:The Hillbilly Days Carnival
DESCRIPTION:Get your Unlimited Ride Armbands right now for a discount at https://bigrockamusements.com/events/39 April 15–18 OPENING NIGHT: Wednesday | 6PM–11PM FESTIVAL DAYS: Thursday–Saturday | 11AM–11PM Unlimited Ride Armbands:• Wednesday: $27 (the BEST value)• Thursday–Saturday: $32From the Ferris wheel views to your favorite fried foods\, this is what Hillbilly Days is all about  Tell us… what’s your MUST-DO at the carnival? Rides Food GamesTag your festival crew & start making those plans now!
URL:https://visitpikeville.com/event/the-hillbilly-days-carnival/
LOCATION:Riverfill Arena\, 214 S Riverfill Dr\,\, Pikeville\, Ky\, 41501
CATEGORIES:Southeast Kentucky Chamber
ATTACH;FMTTYPE=image/jpeg:https://visitpikeville.com/wp-content/uploads/2026/04/carnival.jpg
END:VEVENT
BEGIN:VEVENT
DTSTART;VALUE=DATE:20260416
DTEND;VALUE=DATE:20260419
DTSTAMP:20260421T091638
CREATED:20260302T122321Z
LAST-MODIFIED:20260302T122321Z
UID:73268-1776297600-1776556799@visitpikeville.com
SUMMARY:Hillbilly Days Quilt Show at The App
DESCRIPTION:THE APP IS NOW TAKING QUILT AND CROCHET PROJECT SUBMISSIONS FOR THE HILLBILLY DAYS QUILT SHOW!
URL:https://visitpikeville.com/event/hillbilly-days-quilt-show-at-the-app/
LOCATION:Appalachian Center for the Arts\, 218 2nd St\,\, Pikeville\, Ky\, 41501
CATEGORIES:The Appalachian Center for the Arts
ATTACH;FMTTYPE=image/webp:https://visitpikeville.com/wp-content/uploads/2026/03/quilt.webp
END:VEVENT
BEGIN:VEVENT
DTSTART;TZID=America/Kentucky/Louisville:20260416T110000
DTEND;TZID=America/Kentucky/Louisville:20260416T120000
DTSTAMP:20260421T091638
CREATED:20260413T164914Z
LAST-MODIFIED:20260413T164914Z
UID:74022-1776337200-1776340800@visitpikeville.com
SUMMARY:Story Time
DESCRIPTION:Story Time is for children ages 5 and under and features books\, action/movement\, songs\, and a craft. Story Time is held Thursdays at 11:00 and 2:00 and Saturdays at 11:00. \n\n\n\n\n\n\n  \nBesides being fun\, Story Time also helps develop early literacy and school readiness skills through reading\, singing\, listening\, playing\, and social interaction. This program lasts approximately 30 minutes\, and caregivers and children are encouraged to linger in the library afterwards to further socialize and choose books to take home. \n  \nStory Time begins the first week of September and ends the first week of May.
URL:https://visitpikeville.com/event/story-time-2-2-2-2-2-2-2-2-2-2-2-2-2-2-2-2-2-2-2-2-2-2-2-2-2-2-2-2-2-2-2-2-2-2-2-2-2-2-2-2-2-2-2-2-2-2-2-2-2-2-2-2-2-2-2-3-2-2-2-2-2-2-2-2-2-2-2-2-2-2-2-2-2-2-2-2-2-2-2-2-2-2-2-2-2-2-2-2-2-2-2-2-2-6-7/
LOCATION:Pike County Public Library\, 126 Lee Avenue\, Pikeville\, KY\, 41501\, United States
CATEGORIES:Pike County Public Library
ATTACH;FMTTYPE=image/png:https://visitpikeville.com/wp-content/uploads/2025/10/Story_Time_Schedule_25.png
END:VEVENT
BEGIN:VEVENT
DTSTART;TZID=America/Kentucky/Louisville:20260416T110000
DTEND;TZID=America/Kentucky/Louisville:20260418T170000
DTSTAMP:20260421T091638
CREATED:20260323T151742Z
LAST-MODIFIED:20260323T151742Z
UID:73756-1776337200-1776531600@visitpikeville.com
SUMMARY:The Hillbilly Days 2026 Pike County Courthouse Stage Schedule
DESCRIPTION:The Hillbilly Days 2026 Pike County Courthouse Stage Schedule is now available! Hillbilly Days 2026 will be April 16\, 17 and 18 in Downtown Pikeville\, KY.
URL:https://visitpikeville.com/event/the-hillbilly-days-2026-pike-county-courthouse-stage-schedule/
LOCATION:Courthouse\, 175 Main St.\, Pikeville\, KY\, 41501\, United States
CATEGORIES:Other
ATTACH;FMTTYPE=image/jpeg:https://visitpikeville.com/wp-content/uploads/2026/03/courthouse-stage.jpg
END:VEVENT
BEGIN:VEVENT
DTSTART;TZID=America/Kentucky/Louisville:20260416T140000
DTEND;TZID=America/Kentucky/Louisville:20260416T150000
DTSTAMP:20260421T091638
CREATED:20260413T164951Z
LAST-MODIFIED:20260413T164951Z
UID:74024-1776348000-1776351600@visitpikeville.com
SUMMARY:Story Time
DESCRIPTION:Story Time is for children ages 5 and under and features books\, action/movement\, songs\, and a craft. Story Time is held Thursdays at 11:00 and 2:00 and Saturdays at 11:00. \n\n\n\n\n\n\n  \nBesides being fun\, Story Time also helps develop early literacy and school readiness skills through reading\, singing\, listening\, playing\, and social interaction. This program lasts approximately 30 minutes\, and caregivers and children are encouraged to linger in the library afterwards to further socialize and choose books to take home. \n  \nStory Time begins the first week of September and ends the first week of May.
URL:https://visitpikeville.com/event/story-time-2-2-2-2-2-2-2-2-2-2-2-2-2-2-2-2-2-2-2-2-2-2-2-2-2-2-2-2-2-2-2-2-2-2-2-2-2-2-2-2-2-2-2-2-2-2-2-2-2-2-2-2-2-2-2-3-2-2-2-2-2-2-2-2-2-2-2-2-2-2-2-2-2-2-2-2-2-2-2-2-2-2-2-2-2-2-2-2-2-2-2-2-2-6-8/
LOCATION:Pike County Public Library\, 126 Lee Avenue\, Pikeville\, KY\, 41501\, United States
CATEGORIES:Pike County Public Library
ATTACH;FMTTYPE=image/png:https://visitpikeville.com/wp-content/uploads/2025/10/Story_Time_Schedule_25.png
END:VEVENT
BEGIN:VEVENT
DTSTART;TZID=America/Kentucky/Louisville:20260416T150000
DTEND;TZID=America/Kentucky/Louisville:20260416T160000
DTSTAMP:20260421T091638
CREATED:20260413T160954Z
LAST-MODIFIED:20260413T160954Z
UID:74010-1776351600-1776355200@visitpikeville.com
SUMMARY:Teen Guitar Class 2
DESCRIPTION:Beginner guitar lessons for patrons ages 13-17. This class meets weekly on Thursdays at 3:00. Please bring your own instrument. Registration required.
URL:https://visitpikeville.com/event/teen-guitar-class-2-3-2-2-2-2-2-2-2-2-2-2/
LOCATION:Pike County Public Library\, 126 Lee Avenue\, Pikeville\, KY\, 41501\, United States
CATEGORIES:Pike County Public Library
ATTACH;FMTTYPE=image/png:https://visitpikeville.com/wp-content/uploads/2026/01/music.png
END:VEVENT
BEGIN:VEVENT
DTSTART;TZID=America/Kentucky/Louisville:20260416T150000
DTEND;TZID=America/Kentucky/Louisville:20260418T170000
DTSTAMP:20260421T091638
CREATED:20260316T122423Z
LAST-MODIFIED:20260316T122423Z
UID:73575-1776351600-1776531600@visitpikeville.com
SUMMARY:Hillbilly Days Festival
DESCRIPTION:@Mountain Top Media Stage
URL:https://visitpikeville.com/event/hillbilly-days-festival/
LOCATION:Mountain Top Media Stage\, 126 Main St\,\, Pikeville\, KY\, 41501\, United States
CATEGORIES:Appalachian Wireless Arena,Mountain Top Media
ATTACH;FMTTYPE=image/jpeg:https://visitpikeville.com/wp-content/uploads/2026/03/hillbilly-days-festival.jpg
END:VEVENT
BEGIN:VEVENT
DTSTART;TZID=America/Kentucky/Louisville:20260416T160000
DTEND;TZID=America/Kentucky/Louisville:20260416T170000
DTSTAMP:20260421T091638
CREATED:20260406T191633Z
LAST-MODIFIED:20260406T191633Z
UID:73938-1776355200-1776358800@visitpikeville.com
SUMMARY:Teen Guitar Class 3
DESCRIPTION:Beginner guitar lessons for patrons ages 13-17. This class meets weekly on Thursdays at 4:00. Please bring your own instrument. Registration required.
URL:https://visitpikeville.com/event/teen-guitar-class-3-3-2/
LOCATION:Pike County Public Library\, 126 Lee Avenue\, Pikeville\, KY\, 41501\, United States
CATEGORIES:Pike County Public Library
ATTACH;FMTTYPE=image/png:https://visitpikeville.com/wp-content/uploads/2025/07/GuitarEmblem.png
END:VEVENT
BEGIN:VEVENT
DTSTART;TZID=America/Kentucky/Louisville:20260416T160000
DTEND;TZID=America/Kentucky/Louisville:20260417T190000
DTSTAMP:20260421T091638
CREATED:20260323T155320Z
LAST-MODIFIED:20260323T155320Z
UID:73771-1776355200-1776452400@visitpikeville.com
SUMMARY:Hillbilly Days Music at Bank 253
DESCRIPTION:Y’all ready for one of the best weekends of the year?!  Hillbilly Days is rollin’ into town and we’re bringing the music\, the moonshine vibes\, and a whole lot of fun to Bank 253!\n\n\nWe’ve got an incredible lineup of artists all weekend long to keep the party going from afternoon till late night!  Whether you’re coming straight from the streets of Hillbilly Days or stopping in to cool off and grab a drink\, we’ve got the tunes covered.\n\n\n Great music\n Cold drinks\n Hillbilly spirit\n\n\nGrab your friends\, dust off those boots\, and come celebrate Hillbilly Days the right way — with good people\, good music\, and maybe a little moonshine attitude! \n\n\n Bank 253\n April 16 & 17\n\n\nLet’s make it a weekend to remember!
URL:https://visitpikeville.com/event/hillbilly-days-music-at-bank-253-2/
LOCATION:Bank 253\, 253 2nd St\,\, Pikeville\, KY\, 41501\, United States
CATEGORIES:Other
ATTACH;FMTTYPE=image/jpeg:https://visitpikeville.com/wp-content/uploads/2026/03/bank-253.jpg
END:VEVENT
BEGIN:VEVENT
DTSTART;TZID=America/Kentucky/Louisville:20260416T170000
DTEND;TZID=America/Kentucky/Louisville:20260416T174000
DTSTAMP:20260421T091638
CREATED:20260323T143004Z
LAST-MODIFIED:20260323T143004Z
UID:73693-1776358800-1776361200@visitpikeville.com
SUMMARY:Swim Lessons (Parent & Tots Lessons)
DESCRIPTION:YMCA Member Priority Registration for April Swim Lessons is open NOW through March 27th! \n\n\nRegister online using the links below\, or stop by and see us at the Y to get signed up.\n\n\nParent and Tot Class\n\n\nSession #1: https://operations.daxko.com/programs/redirector.aspx…\n\n\nSession # 2: https://operations.daxko.com/programs/redirector.aspx…\n\n\nSwim 101\n\n\nSession #1: https://operations.daxko.com/programs/redirector.aspx…\n\n\nSession 2: https://operations.daxko.com/programs/redirector.aspx…
URL:https://visitpikeville.com/event/swim-lessons-parent-tots-lessons-2/
LOCATION:Pikeville YMCA\, 424 Bob Amos Dr\,\, Pikeville\, Ky\, 41501
END:VEVENT
BEGIN:VEVENT
DTSTART;TZID=America/Kentucky/Louisville:20260416T170000
DTEND;TZID=America/Kentucky/Louisville:20260416T180000
DTSTAMP:20260421T091638
CREATED:20260413T164056Z
LAST-MODIFIED:20260413T164056Z
UID:74016-1776358800-1776362400@visitpikeville.com
SUMMARY:Music Theory Lecture
DESCRIPTION:Understanding how music works will give you the tools you need to write riffs\, songs\, and solos\, and learn to improvise in a friendly hands-on environment.
URL:https://visitpikeville.com/event/music-theory-lecture-2-2-2-2-2-2-2-2-2-2-2/
LOCATION:Pike County Public Library\, 126 Lee Avenue\, Pikeville\, KY\, 41501\, United States
CATEGORIES:Pike County Public Library
ATTACH;FMTTYPE=image/png:https://visitpikeville.com/wp-content/uploads/2026/01/music.png
END:VEVENT
BEGIN:VEVENT
DTSTART;TZID=America/Kentucky/Louisville:20260416T180000
DTEND;TZID=America/Kentucky/Louisville:20260416T184000
DTSTAMP:20260421T091638
CREATED:20260323T143743Z
LAST-MODIFIED:20260323T143743Z
UID:73709-1776362400-1776364800@visitpikeville.com
SUMMARY:Swim Lessons (Parent & Tots Lessons)
DESCRIPTION:YMCA Member Priority Registration for April Swim Lessons is open NOW through March 27th! \n\n\nRegister online using the links below\, or stop by and see us at the Y to get signed up.\n\n\nParent and Tot Class\n\n\nSession #1: https://operations.daxko.com/programs/redirector.aspx…\n\n\nSession # 2: https://operations.daxko.com/programs/redirector.aspx…\n\n\nSwim 101\n\n\nSession #1: https://operations.daxko.com/programs/redirector.aspx…\n\n\nSession 2: https://operations.daxko.com/programs/redirector.aspx…
URL:https://visitpikeville.com/event/swim-lessons-parent-tots-lessons-2-2-2-2-2-2-2-2-2/
LOCATION:Pikeville YMCA\, 424 Bob Amos Dr\,\, Pikeville\, Ky\, 41501
END:VEVENT
END:VCALENDAR