BEGIN:VCALENDAR
VERSION:2.0
PRODID:-//Visit Pikeville - ECPv6.15.20//NONSGML v1.0//EN
CALSCALE:GREGORIAN
METHOD:PUBLISH
X-WR-CALNAME:Visit Pikeville
X-ORIGINAL-URL:https://visitpikeville.com
X-WR-CALDESC:Events for Visit Pikeville
REFRESH-INTERVAL;VALUE=DURATION:PT1H
X-Robots-Tag:noindex
X-PUBLISHED-TTL:PT1H
BEGIN:VTIMEZONE
TZID:America/Kentucky/Louisville
BEGIN:DAYLIGHT
TZOFFSETFROM:-0500
TZOFFSETTO:-0400
TZNAME:EDT
DTSTART:20230312T070000
END:DAYLIGHT
BEGIN:STANDARD
TZOFFSETFROM:-0400
TZOFFSETTO:-0500
TZNAME:EST
DTSTART:20231105T060000
END:STANDARD
BEGIN:DAYLIGHT
TZOFFSETFROM:-0500
TZOFFSETTO:-0400
TZNAME:EDT
DTSTART:20240310T070000
END:DAYLIGHT
BEGIN:STANDARD
TZOFFSETFROM:-0400
TZOFFSETTO:-0500
TZNAME:EST
DTSTART:20241103T060000
END:STANDARD
BEGIN:DAYLIGHT
TZOFFSETFROM:-0500
TZOFFSETTO:-0400
TZNAME:EDT
DTSTART:20250309T070000
END:DAYLIGHT
BEGIN:STANDARD
TZOFFSETFROM:-0400
TZOFFSETTO:-0500
TZNAME:EST
DTSTART:20251102T060000
END:STANDARD
END:VTIMEZONE
BEGIN:VEVENT
DTSTART;TZID=America/Kentucky/Louisville:20240711T100000
DTEND;TZID=America/Kentucky/Louisville:20240713T160000
DTSTAMP:20260425T073431
CREATED:20240708T125714Z
LAST-MODIFIED:20240708T125714Z
UID:53169-1720692000-1720886400@visitpikeville.com
SUMMARY:Annual Barnyard Clearance Sale!
DESCRIPTION:It’s that time of year\, chicks!!!!!\nWe are cleaning out the storage barn and will have clearance items outside 50-90% OFF and regularly priced items in-store AT LEAST 25% OFF!!\nTHE DETAILSThursday July 11th – Saturday July 13thTH/F 10:00-6:00\, SAT 10:00-4:00787 Hambley Blvd. – Downtown PikevilleFREE \, convenient parking on Hambley Blvd. and in Pikeville’s Parking Garage right next door!\nOUR BIGGEST AND BEST SALE OF THE YEAR INCLUDES:•50-90% OFF outside!•AT LEAST 25% OFF in-store merchandise!*•MEGA Doorbusters!•$5 Jewelry and $10 Jewelry Grab Bags!•Home Decor!•Seasonal Decor!•Floral & Wreaths!•Clothing!•Gifts!•Baby & Children’s Items!•Great gifts to start your holiday shopping early!!\nNEW MERCHANDISE ADDED DAILY!!\nYou do NOT want to miss this 3 day event that only comes once a year!!!\nGrab your chicks and come shop till you drop!! \n*Some exclusions apply
URL:https://visitpikeville.com/event/annual-barnyard-clearance-sale/
LOCATION:Two Chicks and Co. of Pikeville\, 787 Hambley Blvd\,\, Pikeville\, KY\, 41501\, United States
CATEGORIES:Pikeville Main Street,Pikeville Tourism
ATTACH;FMTTYPE=image/jpeg:https://visitpikeville.com/wp-content/uploads/2024/07/barnyard.jpg
END:VEVENT
BEGIN:VEVENT
DTSTART;TZID=America/Kentucky/Louisville:20240711T140000
DTEND;TZID=America/Kentucky/Louisville:20240711T150000
DTSTAMP:20260425T073431
CREATED:20240603T150144Z
LAST-MODIFIED:20240603T150144Z
UID:52630-1720706400-1720710000@visitpikeville.com
SUMMARY:Summer Story Time
DESCRIPTION:Summer Story Time is for children ages 5 and under and features books\, action/movement\, songs\, and a craft. Summer Story Time meets every Thursday at 2:00 from June 6-July 25. \n\n\n\n\n\n\n  \nBesides being fun\, Story Time also helps develop early literacy and school readiness skills through reading\, singing\, listening\, playing\, and social interaction. This program lasts approximately 30 minutes\, and caregivers and children are encouraged to linger in the library afterwards to further socialize and choose books to take home.
URL:https://visitpikeville.com/event/story-time-2-2-2-2-2-2-2-2-2-2-2-2-2-2-2-2-2-2-2-2-2-2-2-2-2-2-2-2-2-2-2-2-2-2-2-2-2-2-2-2-2-2-2-2-2-2-2-2-2-2-2-2-2-2-2-2-2-2-2-2-2/
LOCATION:Pike County Public Library\, 126 Lee Avenue\, Pikeville\, KY\, 41501\, United States
CATEGORIES:Pike County Public Library
ATTACH;FMTTYPE=image/png:https://visitpikeville.com/wp-content/uploads/2024/06/Summer_Story_Time_2024.png
END:VEVENT
BEGIN:VEVENT
DTSTART;TZID=America/Kentucky/Louisville:20240711T170000
DTEND;TZID=America/Kentucky/Louisville:20240711T210000
DTSTAMP:20260425T073431
CREATED:20240708T130647Z
LAST-MODIFIED:20240708T130647Z
UID:53176-1720717200-1720731600@visitpikeville.com
SUMMARY:Beginners Sewing
DESCRIPTION:Come and Join Us
URL:https://visitpikeville.com/event/beginners-sewing-2-2-2-2-2-2-2-2-2-2-2-2-2-2-2-2-2-2/
LOCATION:Bridgett’s Quilting and Fabric Shop\, 237 2nd St\,\, Pikeville\, KY\, 41501\, United States
CATEGORIES:Pikeville Main Street
ATTACH;FMTTYPE=image/jpeg:https://visitpikeville.com/wp-content/uploads/2023/10/bridgetts.jpeg
END:VEVENT
BEGIN:VEVENT
DTSTART;TZID=America/Kentucky/Louisville:20240711T173000
DTEND;TZID=America/Kentucky/Louisville:20240711T183000
DTSTAMP:20260425T073431
CREATED:20240617T133431Z
LAST-MODIFIED:20240617T133431Z
UID:52922-1720719000-1720722600@visitpikeville.com
SUMMARY:Art Walk Workshop
DESCRIPTION:During August\, the Story Trail will feature nature-themed works of art made by our patrons. Come to the library to create your contribution!\nPatrons will choose from a list of 24 nature-themed words to illustrate. The illustrations will be displayed along the Story Trail during the month of August. All ages welcome. No registration required.\nThis program will be held Thursday\, July 11 at 5:30 at the Pike County Public Library (Lee Avenue).
URL:https://visitpikeville.com/event/art-walk-workshop/
LOCATION:Pike County Public Library\, 126 Lee Avenue\, Pikeville\, KY\, 41501\, United States
CATEGORIES:Pike County Public Library
ATTACH;FMTTYPE=image/jpeg:https://visitpikeville.com/wp-content/uploads/2024/06/art-walk.jpeg
END:VEVENT
BEGIN:VEVENT
DTSTART;TZID=America/Kentucky/Louisville:20240711T183000
DTEND;TZID=America/Kentucky/Louisville:20240711T213000
DTSTAMP:20260425T073431
CREATED:20240226T162631Z
LAST-MODIFIED:20240226T162631Z
UID:48023-1720722600-1720733400@visitpikeville.com
SUMMARY:Whiskey Myers
DESCRIPTION:Whiskey Myers 2024\nWith special guests\nWhitey Morgan and the 78’s\nPlus\, Reid Haughton\nJuly 11\nAppalachian Wireless Arena\nOn sale March 1 at 10am\nTickets available at the Community Trust Bank Box Office or Ticketmaster.com\nTickets are $39.50\, $59.50\, $79.50 and $99.50
URL:https://visitpikeville.com/event/whiskey-myers-2/
LOCATION:Appalachian Wireless Arena\, 126 Main Street\, Pikeville\, Ky\, 41501
CATEGORIES:Appalachian Wireless Arena
ATTACH;FMTTYPE=image/jpeg:https://visitpikeville.com/wp-content/uploads/2024/02/whiskey.jpeg
END:VEVENT
BEGIN:VEVENT
DTSTART;TZID=America/Kentucky/Louisville:20240711T220000
DTEND;TZID=America/Kentucky/Louisville:20240711T233000
DTSTAMP:20260425T073431
CREATED:20240708T130544Z
LAST-MODIFIED:20240708T130544Z
UID:53173-1720735200-1720740600@visitpikeville.com
SUMMARY:Acoustic Night
DESCRIPTION:@ Bank 253
URL:https://visitpikeville.com/event/acoustic-night/
LOCATION:Bank 253\, 253 2nd St\,\, Pikeville\, KY\, 41501\, United States
CATEGORIES:Pikeville Main Street,Pikeville Tourism
ATTACH;FMTTYPE=image/jpeg:https://visitpikeville.com/wp-content/uploads/2024/07/bank-253.jpg
END:VEVENT
BEGIN:VEVENT
DTSTART;TZID=America/Kentucky/Louisville:20240712T163000
DTEND;TZID=America/Kentucky/Louisville:20240712T173000
DTSTAMP:20260425T073431
CREATED:20240617T133041Z
LAST-MODIFIED:20240617T133041Z
UID:52919-1720801800-1720805400@visitpikeville.com
SUMMARY:Introduction to the Hobbit
DESCRIPTION:Read the first chapter(s) of J.R.R. Tolkien’s ‘The Hobbit’\, complete with an intricate coloring page! For tweens ages 8-12. No registration required.\nThis program will take place on the following dates:July 11 at 5:30 – Elkhorn City Public LibraryJuly 12 at 4:30 – Pike Co Public Library (Lee Ave)July 18 at 5:00 – Vesta Roberts Johnson Memorial LibraryJuly 19 at 4:30 – Belfry Public LibraryJuly 20 at 2:30 – Phelps Public Library
URL:https://visitpikeville.com/event/introduction-to-the-hobbit/
LOCATION:Pike County Public Library\, 126 Lee Avenue\, Pikeville\, KY\, 41501\, United States
CATEGORIES:Pike County Public Library
ATTACH;FMTTYPE=image/jpeg:https://visitpikeville.com/wp-content/uploads/2024/06/intro-to-the-hobbit.jpeg
END:VEVENT
BEGIN:VEVENT
DTSTART;TZID=America/Kentucky/Louisville:20240713T090000
DTEND;TZID=America/Kentucky/Louisville:20240713T130000
DTSTAMP:20260425T073431
CREATED:20240513T172956Z
LAST-MODIFIED:20240513T172956Z
UID:51241-1720861200-1720875600@visitpikeville.com
SUMMARY:Pikeville Farmer's Market
DESCRIPTION:Tuesday from 4:30-7:00 \nSaturday 9:00-1:00 \n 
URL:https://visitpikeville.com/event/pikeville-farmers-market-5-2-2-2-2-2-2-2-2-2/
LOCATION:Pikeville Farmer’s Market\, 130 Adams Lane\, Pikeville\, Ky
CATEGORIES:Other
ATTACH;FMTTYPE=image/jpeg:https://visitpikeville.com/wp-content/uploads/2024/05/farmers-market.jpeg
END:VEVENT
BEGIN:VEVENT
DTSTART;TZID=America/Kentucky/Louisville:20240713T103000
DTEND;TZID=America/Kentucky/Louisville:20240713T113000
DTSTAMP:20260425T073431
CREATED:20240520T140615Z
LAST-MODIFIED:20240520T140615Z
UID:51808-1720866600-1720870200@visitpikeville.com
SUMMARY:Tree Identification Walking Tour
DESCRIPTION:Led by members of the Kentucky Division of Forestry\, This family friendly hike will demonstrate how to identify various types of trees by leaves\, twigs and buds\, bark\, flowers\, and other characteristics.\nThis program will be held on alternating Saturdays in June and July at 10:30. Dates are June 15 & 29\, and July 13 & 27.\nParticipants will meet at the football field parking lot at the Bob Amos Park and walk to the park trails to begin the Walking Tour. The program will last approximately an hour. In the event of bad weather\, the program will be canceled. Any change in schedule will be posted on Facebook!
URL:https://visitpikeville.com/event/tree-identification-walking-tour-3-2-2/
LOCATION:Bob Amos Park Football Field\, 127 Bob Amos Way\, Pikeville\, KY\, 41501\, United States
CATEGORIES:Pike County Public Library
ATTACH;FMTTYPE=image/jpeg:https://visitpikeville.com/wp-content/uploads/2024/05/tree.jpeg
END:VEVENT
BEGIN:VEVENT
DTSTART;TZID=America/Kentucky/Louisville:20240713T143000
DTEND;TZID=America/Kentucky/Louisville:20240713T153000
DTSTAMP:20260425T073431
CREATED:20240617T133711Z
LAST-MODIFIED:20240617T133711Z
UID:52925-1720881000-1720884600@visitpikeville.com
SUMMARY:Beatlemania at the Story Trail
DESCRIPTION:Come together and read Jimmy Zabel’s “The Beatles Biography For Kids”\, make a floating yellow submarine\, listen to some Beatles tunes and enjoy a Beatles puppet show during Beatlemania at the Story Trail on Saturday\, July 13th at 2:30.\nThis program will be held at the Story Trail at Bob Amos Park. The Beatles Puppet Show begins at the gazebo at the end of the trail at 3:00. All ages welcome!\nThe Story Trail is a quarter mile\, handicap accessible trail located at Bob Amos Park between the Overlook Events Center and Muddy Boots horse stable. Along the trail are posts that contain pages of a story book that change monthly\, so families can read a story as they walk the trail.\nIn the event of rain\, this program will be held at the Pike County Public Library (Lee Avenue).
URL:https://visitpikeville.com/event/beatlemania-at-the-story-trail/
LOCATION:Bob Amos Park\, 424 Bob Amos Dr\, Pikeville\, Ky\, 41501
CATEGORIES:Pike County Public Library
ATTACH;FMTTYPE=image/jpeg:https://visitpikeville.com/wp-content/uploads/2024/06/beatlemania.jpeg
END:VEVENT
BEGIN:VEVENT
DTSTART;TZID=America/Kentucky/Louisville:20240715T100000
DTEND;TZID=America/Kentucky/Louisville:20240715T120000
DTSTAMP:20260425T073431
CREATED:20240617T130944Z
LAST-MODIFIED:20240617T130944Z
UID:52910-1721037600-1721044800@visitpikeville.com
SUMMARY:CloverBuds Cooking Class
DESCRIPTION:We have another exciting collaboration lined up for July with UK Pike County FCS! All CloverBud aged kiddos (ages 5-8)\, join us on July 15th for a fun day filled with cooking and crafts. Spots are limited so please call the Pike County Extension Office to Register.
URL:https://visitpikeville.com/event/cloverbuds-cooking-class/
LOCATION:Pike County Extension Office\, 148 Trivette Dr\, Pikeville\, KY\, 41501\, United States
CATEGORIES:Pike County Cooperative Extension Office
ATTACH;FMTTYPE=image/jpeg:https://visitpikeville.com/wp-content/uploads/2024/06/cloverbuds.jpeg
END:VEVENT
BEGIN:VEVENT
DTSTART;TZID=America/Kentucky/Louisville:20240715T170000
DTEND;TZID=America/Kentucky/Louisville:20240715T180000
DTSTAMP:20260425T073431
CREATED:20240513T183715Z
LAST-MODIFIED:20240513T183715Z
UID:51360-1721062800-1721066400@visitpikeville.com
SUMMARY:Summer Yoga Class
DESCRIPTION:Join us for a basic yoga class this summer\, Mondays at 5:00! Bring a mat if you have one\, but they are not required. For adult patrons age 18 or older.\nParticipants must sign a liability waiver. Runs June 3-July 29. No registration required.
URL:https://visitpikeville.com/event/summer-yoga-class-2-2-2-2-2-2/
LOCATION:Pike County Public Library\, 126 Lee Avenue\, Pikeville\, KY\, 41501\, United States
CATEGORIES:Pike County Public Library
ATTACH;FMTTYPE=image/jpeg:https://visitpikeville.com/wp-content/uploads/2024/05/yoga.jpeg
END:VEVENT
BEGIN:VEVENT
DTSTART;TZID=America/Kentucky/Louisville:20240716T163000
DTEND;TZID=America/Kentucky/Louisville:20240716T190000
DTSTAMP:20260425T073431
CREATED:20240513T173112Z
LAST-MODIFIED:20240513T173112Z
UID:51245-1721147400-1721156400@visitpikeville.com
SUMMARY:Pikeville Farmer's Market
DESCRIPTION:Tuesday from 4:30-7:00 \nSaturday 9:00-1:00 \n 
URL:https://visitpikeville.com/event/pikeville-farmers-market-5-3-2-2-3-2-2-2-2/
LOCATION:Pikeville Farmer’s Market\, 130 Adams Lane\, Pikeville\, Ky
CATEGORIES:Other
ATTACH;FMTTYPE=image/jpeg:https://visitpikeville.com/wp-content/uploads/2024/05/farmers-market.jpeg
END:VEVENT
BEGIN:VEVENT
DTSTART;TZID=America/Kentucky/Louisville:20240716T173000
DTEND;TZID=America/Kentucky/Louisville:20240716T183000
DTSTAMP:20260425T073431
CREATED:20240624T134656Z
LAST-MODIFIED:20240624T134656Z
UID:52980-1721151000-1721154600@visitpikeville.com
SUMMARY:Super Mario Adventure Obstacle Course
DESCRIPTION:Navigate your way through a Super Mario-themed obstacle course at the library!\nThis program will be held on July 16th at 5:30 at the Pike County Public Library (Lee Avenue)\, Belfry Public Library\, Elkhorn City Public Library\, Phelps Public Library\, and Vesta Roberts Johnson Memorial Library. No registration required.
URL:https://visitpikeville.com/event/super-mario-adventure-obstacle-course/
LOCATION:Pike County Public Library\, 126 Lee Avenue\, Pikeville\, KY\, 41501\, United States
CATEGORIES:Pike County Public Library
ATTACH;FMTTYPE=image/jpeg:https://visitpikeville.com/wp-content/uploads/2024/06/super-mario.jpg
END:VEVENT
BEGIN:VEVENT
DTSTART;TZID=America/Kentucky/Louisville:20240717T160000
DTEND;TZID=America/Kentucky/Louisville:20240717T173000
DTSTAMP:20260425T073431
CREATED:20240513T184637Z
LAST-MODIFIED:20240513T184637Z
UID:51382-1721232000-1721237400@visitpikeville.com
SUMMARY:Teen Summer Reading Activities
DESCRIPTION:Teen activities (ages 13-18) are held every Wednesday from 4:00-5:30 at the Pike County Public Library (Lee Avenue) from June 5-July 24th. The schedule is as follows:\nJune 5: Teen S’more Bucket List BooksJune 12: Teen DIY First Aid KitJune 19: Teen Star Gazing PlanetariumJune 26: Teen Worry PetsJuly 3: Elven Bread in Mallorn LeavesJuly 10: Teen Nature Hike (held at Bob Amos Park)July 17: Teen Story StonesJuly 24: Teen Non-Selfie Photo Journal\nFor further details on each program\, please visit our website at www.informationplace.org
URL:https://visitpikeville.com/event/teen-summer-reading-activities-2-2-2-2-2-2/
LOCATION:Pike County Public Library\, 126 Lee Avenue\, Pikeville\, KY\, 41501\, United States
CATEGORIES:Pike County Public Library
ATTACH;FMTTYPE=image/jpeg:https://visitpikeville.com/wp-content/uploads/2024/05/teen.jpeg
END:VEVENT
BEGIN:VEVENT
DTSTART;TZID=America/Kentucky/Louisville:20240718T140000
DTEND;TZID=America/Kentucky/Louisville:20240718T150000
DTSTAMP:20260425T073431
CREATED:20240603T150231Z
LAST-MODIFIED:20240603T150231Z
UID:52632-1721311200-1721314800@visitpikeville.com
SUMMARY:Summer Story Time
DESCRIPTION:Summer Story Time is for children ages 5 and under and features books\, action/movement\, songs\, and a craft. Summer Story Time meets every Thursday at 2:00 from June 6-July 25. \n\n\n\n\n\n\n  \nBesides being fun\, Story Time also helps develop early literacy and school readiness skills through reading\, singing\, listening\, playing\, and social interaction. This program lasts approximately 30 minutes\, and caregivers and children are encouraged to linger in the library afterwards to further socialize and choose books to take home.
URL:https://visitpikeville.com/event/story-time-2-2-2-2-2-2-2-2-2-2-2-2-2-2-2-2-2-2-2-2-2-2-2-2-2-2-2-2-2-2-2-2-2-2-2-2-2-2-2-2-2-2-2-2-2-2-2-2-2-2-2-2-2-2-2-2-2-2-2-2-2-2/
LOCATION:Pike County Public Library\, 126 Lee Avenue\, Pikeville\, KY\, 41501\, United States
CATEGORIES:Pike County Public Library
ATTACH;FMTTYPE=image/png:https://visitpikeville.com/wp-content/uploads/2024/06/Summer_Story_Time_2024.png
END:VEVENT
BEGIN:VEVENT
DTSTART;TZID=America/Kentucky/Louisville:20240718T170000
DTEND;TZID=America/Kentucky/Louisville:20240718T190000
DTSTAMP:20260425T073431
CREATED:20240624T123358Z
LAST-MODIFIED:20240624T123358Z
UID:52965-1721322000-1721329200@visitpikeville.com
SUMMARY:PLI Alumni Reception
DESCRIPTION:Join us for a reception at Dueling Barrels in downtown Pikeville to celebrate the Class of 2024! Unwind\, network and hang out with fellow PLI alumni. \nAll PLI alumni and their guests are welcome!
URL:https://visitpikeville.com/event/pli-alumni-reception-2/
LOCATION:Dueling Barrels\, 226 2nd Street\, Pikeville\, KY\, 41501\, United States
CATEGORIES:Southeast Kentucky Chamber
ATTACH;FMTTYPE=image/png:https://visitpikeville.com/wp-content/uploads/2024/06/PLIAlumniReception2024-1.png
END:VEVENT
BEGIN:VEVENT
DTSTART;TZID=America/Kentucky/Louisville:20240718T170000
DTEND;TZID=America/Kentucky/Louisville:20240718T190000
DTSTAMP:20260425T073431
CREATED:20240708T124035Z
LAST-MODIFIED:20240708T124035Z
UID:53158-1721322000-1721329200@visitpikeville.com
SUMMARY:Patton Leadership Alumni Reception!!
DESCRIPTION:Join us for a hang out session after work on Thursday\, July 18th as we celebrate the Class of 2024!Leadership Southeast Kentucky and Leadership Pike County Alumni are welcome. You can even bring a friend or two!Please RSVP at business.sekchamber.com/events
URL:https://visitpikeville.com/event/patton-leadership-alumni-reception/
LOCATION:Dueling Barrels\, 226 2nd Street\, Pikeville\, KY\, 41501\, United States
CATEGORIES:Southeast Kentucky Chamber
ATTACH;FMTTYPE=image/jpeg:https://visitpikeville.com/wp-content/uploads/2024/07/alumni.jpg
END:VEVENT
BEGIN:VEVENT
DTSTART;TZID=America/Kentucky/Louisville:20240718T170000
DTEND;TZID=America/Kentucky/Louisville:20240718T210000
DTSTAMP:20260425T073431
CREATED:20240708T130734Z
LAST-MODIFIED:20240708T130734Z
UID:53178-1721322000-1721336400@visitpikeville.com
SUMMARY:Beginners Sewing
DESCRIPTION:Come and Join Us
URL:https://visitpikeville.com/event/beginners-sewing-2-2-2-2-2-2-2-2-2-2-2-2-2-2-2-2-2-2-2/
LOCATION:Bridgett’s Quilting and Fabric Shop\, 237 2nd St\,\, Pikeville\, KY\, 41501\, United States
CATEGORIES:Pikeville Main Street
ATTACH;FMTTYPE=image/jpeg:https://visitpikeville.com/wp-content/uploads/2023/10/bridgetts.jpeg
END:VEVENT
BEGIN:VEVENT
DTSTART;TZID=America/Kentucky/Louisville:20240719T190000
DTEND;TZID=America/Kentucky/Louisville:20240719T210000
DTSTAMP:20260425T073431
CREATED:20240415T124004Z
LAST-MODIFIED:20240415T124004Z
UID:49789-1721415600-1721422800@visitpikeville.com
SUMMARY:Julie Goff and The Swagtones
DESCRIPTION:Fun party cover band featuring all great seasoned players with excellent song selectionFrom popular classic pop and rock songs to ‘make you get up and dance’ Top 40 songs\, the Swagtones get the party going and keep your crowd hopping all night long
URL:https://visitpikeville.com/event/julie-goff-and-the-swagtones-2/
LOCATION:Mountain Top Media Stage\, 126 Main St\,\, Pikeville\, KY\, 41501\, United States
CATEGORIES:Appalachian Wireless Arena,Mountain Top Media,Pikeville Tourism
ATTACH;FMTTYPE=image/jpeg:https://visitpikeville.com/wp-content/uploads/2024/04/swagtones.jpeg
END:VEVENT
BEGIN:VEVENT
DTSTART;TZID=America/Kentucky/Louisville:20240719T193000
DTEND;TZID=America/Kentucky/Louisville:20240719T213000
DTSTAMP:20260425T073431
CREATED:20231218T134317Z
LAST-MODIFIED:20231218T134317Z
UID:44051-1721417400-1721424600@visitpikeville.com
SUMMARY:The Rainbow Fish Musical
DESCRIPTION:Based on the internationally best selling and award winning book\, a variety of charming school and sea-creature characters who admire the famous Rainbow Fish\, the most beautiful fish in all the ocean. When Rainbow Fish refuses to share his (or her!) vibrant\, shimmering scales (played by separate actors who become a chorus for solo songs)\, the whole ocean seems to turn against the vain creature. Unhappy that no one adores him anymore\, the Rainbow Fish seeks out the wise Octopus\, whose tentacles can also be played by separate actors. Octopus helps the young fish learn that it’s far better to be admired for being kind than for being beautiful.
URL:https://visitpikeville.com/event/the-rainbow-fish-musical-2-2/
LOCATION:Appalachian Center for the Arts\, 218 2nd St\,\, Pikeville\, Ky\, 41501
CATEGORIES:The Appalachian Center for the Arts
ATTACH;FMTTYPE=image/webp:https://visitpikeville.com/wp-content/uploads/2023/12/rainbow-web-600.webp
END:VEVENT
BEGIN:VEVENT
DTSTART;TZID=America/Kentucky/Louisville:20240720T090000
DTEND;TZID=America/Kentucky/Louisville:20240720T130000
DTSTAMP:20260425T073431
CREATED:20240513T173224Z
LAST-MODIFIED:20240513T173224Z
UID:51247-1721466000-1721480400@visitpikeville.com
SUMMARY:Pikeville Farmer's Market
DESCRIPTION:Tuesday from 4:30-7:00 \nSaturday 9:00-1:00 \n 
URL:https://visitpikeville.com/event/pikeville-farmers-market-5-2-2-2-2-2-2-2-2-2-2/
LOCATION:Pikeville Farmer’s Market\, 130 Adams Lane\, Pikeville\, Ky
CATEGORIES:Other
ATTACH;FMTTYPE=image/jpeg:https://visitpikeville.com/wp-content/uploads/2024/05/farmers-market.jpeg
END:VEVENT
BEGIN:VEVENT
DTSTART;TZID=America/Kentucky/Louisville:20240720T163000
DTEND;TZID=America/Kentucky/Louisville:20240720T173000
DTSTAMP:20260425T073431
CREATED:20240624T135009Z
LAST-MODIFIED:20240624T135009Z
UID:52983-1721493000-1721496600@visitpikeville.com
SUMMARY:Teen Packing Your Pack Competition
DESCRIPTION:Come for a friendly game to see who knows what to pack and who can get it done the fastest.\nThis program is for ages 13-18 and will be held Saturday\, July 20th at 4:30 at the Pike County Public Library (Lee Avenue). No registration is required.
URL:https://visitpikeville.com/event/teen-packing-your-pack-competition/
LOCATION:Pike County Public Library\, 126 Lee Avenue\, Pikeville\, KY\, 41501\, United States
CATEGORIES:Pike County Public Library
ATTACH;FMTTYPE=image/jpeg:https://visitpikeville.com/wp-content/uploads/2024/06/teen-packing.jpg
END:VEVENT
BEGIN:VEVENT
DTSTART;TZID=America/Kentucky/Louisville:20240720T193000
DTEND;TZID=America/Kentucky/Louisville:20240720T213000
DTSTAMP:20260425T073431
CREATED:20231218T134359Z
LAST-MODIFIED:20231218T134359Z
UID:44053-1721503800-1721511000@visitpikeville.com
SUMMARY:The Rainbow Fish Musical
DESCRIPTION:Based on the internationally best selling and award winning book\, a variety of charming school and sea-creature characters who admire the famous Rainbow Fish\, the most beautiful fish in all the ocean. When Rainbow Fish refuses to share his (or her!) vibrant\, shimmering scales (played by separate actors who become a chorus for solo songs)\, the whole ocean seems to turn against the vain creature. Unhappy that no one adores him anymore\, the Rainbow Fish seeks out the wise Octopus\, whose tentacles can also be played by separate actors. Octopus helps the young fish learn that it’s far better to be admired for being kind than for being beautiful.
URL:https://visitpikeville.com/event/the-rainbow-fish-musical-2-2-2/
LOCATION:Appalachian Center for the Arts\, 218 2nd St\,\, Pikeville\, Ky\, 41501
CATEGORIES:The Appalachian Center for the Arts
ATTACH;FMTTYPE=image/webp:https://visitpikeville.com/wp-content/uploads/2023/12/rainbow-web-600.webp
END:VEVENT
BEGIN:VEVENT
DTSTART;TZID=America/Kentucky/Louisville:20240720T193000
DTEND;TZID=America/Kentucky/Louisville:20240720T223000
DTSTAMP:20260425T073431
CREATED:20240708T130956Z
LAST-MODIFIED:20240708T130956Z
UID:53182-1721503800-1721514600@visitpikeville.com
SUMMARY:Acoustic Night
DESCRIPTION:@ Bank 253
URL:https://visitpikeville.com/event/acoustic-night-2/
LOCATION:Bank 253\, 253 2nd St\,\, Pikeville\, KY\, 41501\, United States
CATEGORIES:Pikeville Main Street,Pikeville Tourism
ATTACH;FMTTYPE=image/jpeg:https://visitpikeville.com/wp-content/uploads/2024/07/bank-253.jpg
END:VEVENT
BEGIN:VEVENT
DTSTART;TZID=America/Kentucky/Louisville:20240722T170000
DTEND;TZID=America/Kentucky/Louisville:20240722T180000
DTSTAMP:20260425T073431
CREATED:20240513T183744Z
LAST-MODIFIED:20240513T183744Z
UID:51362-1721667600-1721671200@visitpikeville.com
SUMMARY:Summer Yoga Class
DESCRIPTION:Join us for a basic yoga class this summer\, Mondays at 5:00! Bring a mat if you have one\, but they are not required. For adult patrons age 18 or older.\nParticipants must sign a liability waiver. Runs June 3-July 29. No registration required.
URL:https://visitpikeville.com/event/summer-yoga-class-2-2-2-2-2-2-2/
LOCATION:Pike County Public Library\, 126 Lee Avenue\, Pikeville\, KY\, 41501\, United States
CATEGORIES:Pike County Public Library
ATTACH;FMTTYPE=image/jpeg:https://visitpikeville.com/wp-content/uploads/2024/05/yoga.jpeg
END:VEVENT
BEGIN:VEVENT
DTSTART;TZID=America/Kentucky/Louisville:20240722T173000
DTEND;TZID=America/Kentucky/Louisville:20240722T203000
DTSTAMP:20260425T073431
CREATED:20240722T141114Z
LAST-MODIFIED:20240722T141114Z
UID:53751-1721669400-1721680200@visitpikeville.com
SUMMARY:Hood To The Holler 4th Anniversary Party
DESCRIPTION:Hood to the Holler was founded 4 years ago and we want to celebrate! It’s been an excellent 4 years and we’ve done so much to come together as a community. So come join us in Pikeville City Park! We’ll have food and fun family-friendly activities\, so bring your kids too!
URL:https://visitpikeville.com/event/hood-to-the-holler-4th-anniversary-party/
LOCATION:Pikeville City Park\, 101 Cumberland Ct\,\, Pikeville\, KY\, 41501
CATEGORIES:Pikeville Main Street
ATTACH;FMTTYPE=image/png:https://visitpikeville.com/wp-content/uploads/2024/07/hood.png
END:VEVENT
BEGIN:VEVENT
DTSTART;TZID=America/Kentucky/Louisville:20240722T180000
DTEND;TZID=America/Kentucky/Louisville:20240722T190000
DTSTAMP:20260425T073431
CREATED:20240708T124529Z
LAST-MODIFIED:20240708T124529Z
UID:53163-1721671200-1721674800@visitpikeville.com
SUMMARY:City Commission Meeting
DESCRIPTION:6pm @ City Hall
URL:https://visitpikeville.com/event/city-commission-meeting-2-2-2-2-2-2-2-2-2-2-2-2-2-2-2/
LOCATION:Pikeville City Hall\, 243 Main St #1786\,\, Pikeville\, KY\, 41501\, United States
CATEGORIES:City of Pikeville
ATTACH;FMTTYPE=image/png:https://visitpikeville.com/wp-content/uploads/2023/09/image001.png
END:VEVENT
BEGIN:VEVENT
DTSTART;TZID=America/Kentucky/Louisville:20240722T180000
DTEND;TZID=America/Kentucky/Louisville:20240723T210000
DTSTAMP:20260425T073431
CREATED:20240520T125112Z
LAST-MODIFIED:20240520T125112Z
UID:51789-1721671200-1721768400@visitpikeville.com
SUMMARY:Youth Football Camp
DESCRIPTION:Register at upikefootballcamps.com
URL:https://visitpikeville.com/event/youth-football-camp/
LOCATION:Bob Amos Park Football Field\, 127 Bob Amos Way\, Pikeville\, KY\, 41501\, United States
CATEGORIES:UPike
ATTACH;FMTTYPE=image/jpeg:https://visitpikeville.com/wp-content/uploads/2024/05/youth-football-camp.jpeg
END:VEVENT
BEGIN:VEVENT
DTSTART;TZID=America/Kentucky/Louisville:20240723T100000
DTEND;TZID=America/Kentucky/Louisville:20240723T110000
DTSTAMP:20260425T073431
CREATED:20240708T124823Z
LAST-MODIFIED:20240708T124823Z
UID:53167-1721728800-1721732400@visitpikeville.com
SUMMARY:Pike County Fiscal Court Meeting
DESCRIPTION:10:00 am @ Courthouse
URL:https://visitpikeville.com/event/pike-county-fiscal-court-meeting-2-2-2-2-2-2-2-2-3/
LOCATION:Courthouse\, 175 Main St.\, Pikeville\, KY\, 41501\, United States
CATEGORIES:City of Pikeville
ATTACH;FMTTYPE=image/png:https://visitpikeville.com/wp-content/uploads/2023/09/image001.png
END:VEVENT
END:VCALENDAR