BEGIN:VCALENDAR
VERSION:2.0
PRODID:-//Visit Pikeville - ECPv6.15.20//NONSGML v1.0//EN
CALSCALE:GREGORIAN
METHOD:PUBLISH
X-WR-CALNAME:Visit Pikeville
X-ORIGINAL-URL:https://visitpikeville.com
X-WR-CALDESC:Events for Visit Pikeville
REFRESH-INTERVAL;VALUE=DURATION:PT1H
X-Robots-Tag:noindex
X-PUBLISHED-TTL:PT1H
BEGIN:VTIMEZONE
TZID:America/Kentucky/Louisville
BEGIN:DAYLIGHT
TZOFFSETFROM:-0500
TZOFFSETTO:-0400
TZNAME:EDT
DTSTART:20230312T070000
END:DAYLIGHT
BEGIN:STANDARD
TZOFFSETFROM:-0400
TZOFFSETTO:-0500
TZNAME:EST
DTSTART:20231105T060000
END:STANDARD
BEGIN:DAYLIGHT
TZOFFSETFROM:-0500
TZOFFSETTO:-0400
TZNAME:EDT
DTSTART:20240310T070000
END:DAYLIGHT
BEGIN:STANDARD
TZOFFSETFROM:-0400
TZOFFSETTO:-0500
TZNAME:EST
DTSTART:20241103T060000
END:STANDARD
BEGIN:DAYLIGHT
TZOFFSETFROM:-0500
TZOFFSETTO:-0400
TZNAME:EDT
DTSTART:20250309T070000
END:DAYLIGHT
BEGIN:STANDARD
TZOFFSETFROM:-0400
TZOFFSETTO:-0500
TZNAME:EST
DTSTART:20251102T060000
END:STANDARD
END:VTIMEZONE
BEGIN:VEVENT
DTSTART;TZID=America/Kentucky/Louisville:20241210T173000
DTEND;TZID=America/Kentucky/Louisville:20241210T193000
DTSTAMP:20260425T074745
CREATED:20241209T155355Z
LAST-MODIFIED:20241209T155355Z
UID:60723-1733851800-1733859000@visitpikeville.com
SUMMARY:Grinch Hand
DESCRIPTION:Spend a relaxed evening painting the sneaky Grinch hand but he won’t keep your Christmas from coming. Bring your friends and family and spend the eve￼ning painting and making an unforgatable memory. Private message to reserve your spot . @topfans Painting With Joy Paint Group
URL:https://visitpikeville.com/event/grinch-hand/
LOCATION:2 Broke Art Teachers\, 4505 Weddington Square\,\, Pikeville\, KY\, 41501\, United States
CATEGORIES:Other
ATTACH;FMTTYPE=image/jpeg:https://visitpikeville.com/wp-content/uploads/2024/12/grinch.jpg
END:VEVENT
BEGIN:VEVENT
DTSTART;TZID=America/Kentucky/Louisville:20241210T170000
DTEND;TZID=America/Kentucky/Louisville:20241210T180000
DTSTAMP:20260425T074745
CREATED:20241118T150729Z
LAST-MODIFIED:20241118T150729Z
UID:59922-1733850000-1733853600@visitpikeville.com
SUMMARY:Kids Ornament Cupcakes
DESCRIPTION:Enjoy Christmas music while adding frosting and mini M&Ms to turn a cupcake into an ornament! For ages 12 and under. No registration required.\nThis program will be held on December 10th at 5:00 at the Pike County Public Library (Lee Avenue)\, Elkhorn City Public Library\, and Vesta Roberts Johnson Memorial Library. It will be held December 12th at 5:00 at the Belfry Public Library and Phelps Public Library.
URL:https://visitpikeville.com/event/kids-ornament-cupcakes/
LOCATION:Pike County Public Library\, 126 Lee Avenue\, Pikeville\, KY\, 41501\, United States
CATEGORIES:Pike County Public Library
ATTACH;FMTTYPE=image/jpeg:https://visitpikeville.com/wp-content/uploads/2024/11/ornaments.jpg
END:VEVENT
BEGIN:VEVENT
DTSTART;TZID=America/Kentucky/Louisville:20241210T120000
DTEND;TZID=America/Kentucky/Louisville:20241210T130000
DTSTAMP:20260425T074745
CREATED:20241104T133536Z
LAST-MODIFIED:20241104T133536Z
UID:59272-1733832000-1733835600@visitpikeville.com
SUMMARY:Lunch & Learn with Jim Musser
DESCRIPTION:Join us for a Lunch & Learn with special guest speaker\, Jim Musser\, Senior Vice President for Policy and Government Relations for the Kentucky Hospital Association. Musser leads the association’s government affairs efforts at both the state and federal levels of government. \nHe will be giving a presentation titled\, The Economic Impact of Hospitals.
URL:https://visitpikeville.com/event/lunch-learn-with-jim-musser/
LOCATION:Garfield House\, 178 College Street\, Pikeville\, KY\, 41501\, United States
CATEGORIES:Southeast Kentucky Chamber
ATTACH;FMTTYPE=image/png:https://visitpikeville.com/wp-content/uploads/2024/11/Dec2024-JimMusser.png
END:VEVENT
BEGIN:VEVENT
DTSTART;TZID=America/Kentucky/Louisville:20241210T110000
DTEND;TZID=America/Kentucky/Louisville:20241210T120000
DTSTAMP:20260425T074745
CREATED:20241209T155926Z
LAST-MODIFIED:20241209T155926Z
UID:60726-1733828400-1733832000@visitpikeville.com
SUMMARY:Holiday Decor Painting
DESCRIPTION:Space is limited. Must call to register
URL:https://visitpikeville.com/event/holiday-decor-painting/
LOCATION:Pike Co. Extension Community Arts\, 148 Trivette Dr\, Pikeville\, KY\, United States
CATEGORIES:Pike County Extension Community Arts
ATTACH;FMTTYPE=image/jpeg:https://visitpikeville.com/wp-content/uploads/2024/12/holiday.jpg
END:VEVENT
BEGIN:VEVENT
DTSTART;TZID=America/Kentucky/Louisville:20241209T180000
DTEND;TZID=America/Kentucky/Louisville:20241209T190000
DTSTAMP:20260425T074745
CREATED:20241209T143510Z
LAST-MODIFIED:20241209T143510Z
UID:60671-1733767200-1733770800@visitpikeville.com
SUMMARY:City Commission Meeting
DESCRIPTION:6pm @ City Hall
URL:https://visitpikeville.com/event/city-commission-meeting-2-2-2-2-2-2-2-2-2-2-2-2-2-2-2-2-2-2-2-2-2-2-2/
LOCATION:Pikeville City Hall\, 243 Main St #1786\,\, Pikeville\, KY\, 41501\, United States
CATEGORIES:City of Pikeville
ATTACH;FMTTYPE=image/png:https://visitpikeville.com/wp-content/uploads/2023/09/image001.png
END:VEVENT
BEGIN:VEVENT
DTSTART;TZID=America/Kentucky/Louisville:20241209T160000
DTEND;TZID=America/Kentucky/Louisville:20241209T170000
DTSTAMP:20260425T074745
CREATED:20241202T132859Z
LAST-MODIFIED:20241202T132859Z
UID:60361-1733760000-1733763600@visitpikeville.com
SUMMARY:Teen Activity Club
DESCRIPTION:Teen Activity Club is a craft group for kids ages 13-18 that meets at the Pike County Public Library (Lee Avenue) on alternating Wednesdays at 4:00.
URL:https://visitpikeville.com/event/teen-activity-club-8-2-2-2-2-2-2-2-2-2-2-2-2-2-2-2-2-2/
LOCATION:Pike County Public Library\, 126 Lee Avenue\, Pikeville\, KY\, 41501\, United States
CATEGORIES:Pike County Public Library
ATTACH;FMTTYPE=image/png:https://visitpikeville.com/wp-content/uploads/2023/12/Teen_Activity_Club.png
END:VEVENT
BEGIN:VEVENT
DTSTART;TZID=America/Kentucky/Louisville:20241208T140000
DTEND;TZID=America/Kentucky/Louisville:20241208T180000
DTSTAMP:20260425T074745
CREATED:20241118T140212Z
LAST-MODIFIED:20241118T140212Z
UID:59865-1733666400-1733680800@visitpikeville.com
SUMMARY:Winterfest
DESCRIPTION:Enjoy holiday magic with ice skating\, carriage rides\, and mini-train rides. Schools\, churches\, and other large groups can contact kevin@appwirelessarena.com for special skate times and group pricing. Don’t miss out on the fun! #visitpikeville
URL:https://visitpikeville.com/event/winterfest-5-2-2-2-2-2/
LOCATION:Pikeville City Park\, 101 Cumberland Ct\,\, Pikeville\, KY\, 41501
CATEGORIES:City of Pikeville,Pikeville Tourism
ATTACH;FMTTYPE=image/jpeg:https://visitpikeville.com/wp-content/uploads/2024/11/winterfest-1.jpg
END:VEVENT
BEGIN:VEVENT
DTSTART;TZID=America/Kentucky/Louisville:20241207T190000
DTEND;TZID=America/Kentucky/Louisville:20241207T210000
DTSTAMP:20260425T074745
CREATED:20241202T140957Z
LAST-MODIFIED:20241202T140957Z
UID:60393-1733598000-1733605200@visitpikeville.com
SUMMARY:Rudolph
DESCRIPTION:16″ x 20″ \n$30
URL:https://visitpikeville.com/event/rudolph/
LOCATION:2 Broke Art Teachers\, 4505 Weddington Square\,\, Pikeville\, KY\, 41501\, United States
CATEGORIES:Other
ATTACH;FMTTYPE=image/jpeg:https://visitpikeville.com/wp-content/uploads/2024/12/rudolph.jpg
END:VEVENT
BEGIN:VEVENT
DTSTART;TZID=America/Kentucky/Louisville:20241207T160000
DTEND;TZID=America/Kentucky/Louisville:20241207T173000
DTSTAMP:20260425T074745
CREATED:20241118T150502Z
LAST-MODIFIED:20241118T150502Z
UID:59919-1733587200-1733592600@visitpikeville.com
SUMMARY:Holiday Piano Recital
DESCRIPTION:Participants of library piano lessons will showcase their skills in our Holiday Piano Recital on Saturday\, December 7th at 4:00.
URL:https://visitpikeville.com/event/holiday-piano-recital/
LOCATION:Pike County Public Library\, 126 Lee Avenue\, Pikeville\, KY\, 41501\, United States
CATEGORIES:Pike County Public Library
ATTACH;FMTTYPE=image/jpeg:https://visitpikeville.com/wp-content/uploads/2024/11/RECITAL.jpg
END:VEVENT
BEGIN:VEVENT
DTSTART;TZID=America/Kentucky/Louisville:20241207T160000
DTEND;TZID=America/Kentucky/Louisville:20241207T170000
DTSTAMP:20260425T074745
CREATED:20240930T130651Z
LAST-MODIFIED:20240930T130651Z
UID:57752-1733587200-1733590800@visitpikeville.com
SUMMARY:Men's Basketball vs Truett McConnell University
DESCRIPTION:Game Day!!
URL:https://visitpikeville.com/event/mens-basketball-vs-truett-mcconnell-university-2/
LOCATION:Appalachian Wireless Arena\, 126 Main Street\, Pikeville\, Ky\, 41501
CATEGORIES:Appalachian Wireless Arena
ATTACH;FMTTYPE=image/png:https://visitpikeville.com/wp-content/uploads/2024/09/Screenshot-2024-09-30-at-9.06.27 AM.png
END:VEVENT
BEGIN:VEVENT
DTSTART;TZID=America/Kentucky/Louisville:20241207T150000
DTEND;TZID=America/Kentucky/Louisville:20241207T180000
DTSTAMP:20260425T074745
CREATED:20241202T141303Z
LAST-MODIFIED:20241202T141303Z
UID:60399-1733583600-1733594400@visitpikeville.com
SUMMARY:Big Face Snowman
DESCRIPTION:16″ x 20″ \n$30
URL:https://visitpikeville.com/event/big-face-snowman/
LOCATION:2 Broke Art Teachers\, 4505 Weddington Square\,\, Pikeville\, KY\, 41501\, United States
CATEGORIES:Other
ATTACH;FMTTYPE=image/jpeg:https://visitpikeville.com/wp-content/uploads/2024/12/snowman.jpg
END:VEVENT
BEGIN:VEVENT
DTSTART;TZID=America/Kentucky/Louisville:20241207T150000
DTEND;TZID=America/Kentucky/Louisville:20241207T170000
DTSTAMP:20260425T074745
CREATED:20240729T140549Z
LAST-MODIFIED:20240729T140549Z
UID:54218-1733583600-1733590800@visitpikeville.com
SUMMARY:Young Adult Craft Class
DESCRIPTION:This social craft class for young adults ages 18-25 meets alternating Saturdays at 3:00. No registration required.
URL:https://visitpikeville.com/event/young-adult-craft-class-2-2-2-2-2-2-2-2/
LOCATION:Pike County Public Library\, 126 Lee Avenue\, Pikeville\, KY\, 41501\, United States
CATEGORIES:Pike County Public Library
ATTACH;FMTTYPE=image/jpeg:https://visitpikeville.com/wp-content/uploads/2024/07/young.jpg
END:VEVENT
BEGIN:VEVENT
DTSTART;TZID=America/Kentucky/Louisville:20241207T140000
DTEND;TZID=America/Kentucky/Louisville:20241207T150000
DTSTAMP:20260425T074745
CREATED:20240930T130456Z
LAST-MODIFIED:20240930T130456Z
UID:57749-1733580000-1733583600@visitpikeville.com
SUMMARY:Women's Basketball vs Truett McConnell University
DESCRIPTION:Game Day!!
URL:https://visitpikeville.com/event/womens-basketball-vs-truett-mcconnell-university-2/
LOCATION:Appalachian Wireless Arena\, 126 Main Street\, Pikeville\, Ky\, 41501
CATEGORIES:UPike
ATTACH;FMTTYPE=image/png:https://visitpikeville.com/wp-content/uploads/2024/09/Screenshot-2024-09-30-at-9.04.33 AM.png
END:VEVENT
BEGIN:VEVENT
DTSTART;TZID=America/Kentucky/Louisville:20241207T110000
DTEND;TZID=America/Kentucky/Louisville:20241207T220000
DTSTAMP:20260425T074745
CREATED:20241118T140122Z
LAST-MODIFIED:20241118T140122Z
UID:59863-1733569200-1733608800@visitpikeville.com
SUMMARY:Winterfest
DESCRIPTION:Enjoy holiday magic with ice skating\, carriage rides\, and mini-train rides. Schools\, churches\, and other large groups can contact kevin@appwirelessarena.com for special skate times and group pricing. Don’t miss out on the fun! #visitpikeville
URL:https://visitpikeville.com/event/winterfest-5-2-2-2-2/
LOCATION:Pikeville City Park\, 101 Cumberland Ct\,\, Pikeville\, KY\, 41501
CATEGORIES:City of Pikeville,Pikeville Tourism
ATTACH;FMTTYPE=image/jpeg:https://visitpikeville.com/wp-content/uploads/2024/11/winterfest-1.jpg
END:VEVENT
BEGIN:VEVENT
DTSTART;TZID=America/Kentucky/Louisville:20241207T110000
DTEND;TZID=America/Kentucky/Louisville:20241207T130000
DTSTAMP:20260425T074745
CREATED:20241202T132653Z
LAST-MODIFIED:20241202T132653Z
UID:60357-1733569200-1733576400@visitpikeville.com
SUMMARY:Quilters Group
DESCRIPTION:Pike County Public Library Quilters Group is a quilting social that also teaches quilting and needlework. Participants exchange patterns\, quilting ideas\, and sewing projects. Both beginners and experienced quilters are welcome! Quilters Group meets alternating Saturdays at noon at the Lee Avenue Library.\nFor more information\, contact Charlene at 606-437-6001 or charlene@pikelibrary.org
URL:https://visitpikeville.com/event/quilters-group-4-2-2-2-2-2-2-2-2-2-2-2-2-2-2-2-2-2-2-2-2-2-2-2-2-2-2-2-2/
LOCATION:Pike County Public Library\, 126 Lee Avenue\, Pikeville\, KY\, 41501\, United States
CATEGORIES:Pike County Public Library
ATTACH;FMTTYPE=image/jpeg:https://visitpikeville.com/wp-content/uploads/2024/06/quilters.jpeg
END:VEVENT
BEGIN:VEVENT
DTSTART;TZID=America/Kentucky/Louisville:20241207T110000
DTEND;TZID=America/Kentucky/Louisville:20241207T120000
DTSTAMP:20260425T074745
CREATED:20241202T130851Z
LAST-MODIFIED:20241202T130851Z
UID:60330-1733569200-1733572800@visitpikeville.com
SUMMARY:Story Time
DESCRIPTION:tory Time is for children ages 5 and under and features books\, action/movement\, songs\, and a craft. Story Time is held Thursdays at 11:00 and 2:00 and Saturdays at 11:00. \n\n\n\n\n\n\n  \nBesides being fun\, Story Time also helps develop early literacy and school readiness skills through reading\, singing\, listening\, playing\, and social interaction. This program lasts approximately 30 minutes\, and caregivers and children are encouraged to linger in the library afterwards to further socialize and choose books to take home.
URL:https://visitpikeville.com/event/story-time-2-2-2-2-2-2-2-2-2-2-2-2-2-2-2-2-2-2-2-2-2-2-2-2-2-2-2-2-2-2-2-2-2-2-2-2-2-2-2-2-2-2-2-2-2-2-2-2-2-2-2-2-2-2-2-3-2-2-2-2-2-2-2-2-2-2-2-2-2-2-2-2-2-2-2-2-2-2-2-2-2/
LOCATION:Pike County Public Library\, 126 Lee Avenue\, Pikeville\, KY\, 41501\, United States
CATEGORIES:Pike County Public Library
ATTACH;FMTTYPE=image/png:https://visitpikeville.com/wp-content/uploads/2023/12/Story_TimeLEE.png
END:VEVENT
BEGIN:VEVENT
DTSTART;TZID=America/Kentucky/Louisville:20241207T100000
DTEND;TZID=America/Kentucky/Louisville:20241207T110000
DTSTAMP:20260425T074745
CREATED:20241014T134707Z
LAST-MODIFIED:20241014T134707Z
UID:58536-1733565600-1733569200@visitpikeville.com
SUMMARY:Creative Play (ages 5-8)
DESCRIPTION:Nov 9th-Dec 7th\, 2024 | $100 for semester\nMeets Saturdays 10:00 – 11:00am\nTaught by Daniela Velasquez and Claudia Dahlman \n\n\n\n\nThis class is for our younger students! This class is designed to get young actors on their feet and explore the vast nature of acting. This class will be dedicated to learning how to explore our imaginations\, create characters\, and move in space with intention. \nCome explore with us!
URL:https://visitpikeville.com/event/creative-play-ages-5-8-4-2-2-2-2/
LOCATION:Appalachian Center for the Arts\, 218 2nd St\,\, Pikeville\, Ky\, 41501
CATEGORIES:The Appalachian Center for the Arts
ATTACH;FMTTYPE=image/jpeg:https://visitpikeville.com/wp-content/uploads/2024/10/creative.jpg
END:VEVENT
BEGIN:VEVENT
DTSTART;TZID=America/Kentucky/Louisville:20241207T083000
DTEND;TZID=America/Kentucky/Louisville:20241207T170000
DTSTAMP:20260425T074745
CREATED:20241125T142301Z
LAST-MODIFIED:20241203T133220Z
UID:60138-1733560200-1733590800@visitpikeville.com
SUMMARY:Annual Christmas Giveaway
DESCRIPTION:Thankful Hearts Food Pantry Inc. and volunteers will be having their annual Christmas giveaway at Pikeville Area Family YMCA.\n\n\nDATE: Saturday December 7th from 8:30 until supplies last.\nChildren ages 0-16\nChildren must be present!\n\n\n“NO FOUL LANGUAGE\, NO CUTTING LINE\, NO SMOKING\, PLEASE STAY LINED UP\, AND HELP KEEP THE AREA CLEAN.\nBE RESPECTFUL TO THE YMCA FOR USE OF THEIR FACILITY.”\n\n\nFOR MORE INFO CALL: 606-437-6221
URL:https://visitpikeville.com/event/annual-christmas-giveaway/
LOCATION:Pikeville YMCA\, 424 Bob Amos Dr\,\, Pikeville\, Ky\, 41501
CATEGORIES:Other
ATTACH;FMTTYPE=image/jpeg:https://visitpikeville.com/wp-content/uploads/2024/11/Giveaway.jpg
END:VEVENT
BEGIN:VEVENT
DTSTART;TZID=America/Kentucky/Louisville:20241206T180000
DTEND;TZID=America/Kentucky/Louisville:20241206T190000
DTSTAMP:20260425T074745
CREATED:20241111T200946Z
LAST-MODIFIED:20241111T200946Z
UID:59610-1733508000-1733511600@visitpikeville.com
SUMMARY:Christmas Parade
DESCRIPTION:The parade offers a chance for businesses\, groups\, and individuals to showcase their holiday spirit with decorated floats\, vehicles\, or walkers\, creating a festive procession through downtown Pikeville. To join in the 2024 Pikeville Christmas Parade\, interested participants can sign up through the official Pikeville website. If you are interested in participating\, please go by www.visitpikeville.com and click on the Events tab to a to secure your spot in this magical community event.#visitpikeville
URL:https://visitpikeville.com/event/christmas-parade-3/
LOCATION:Downtown Pikeville\, Pikeville\, Ky\, 41501
CATEGORIES:City of Pikeville,Pikeville Tourism
ATTACH;FMTTYPE=image/jpeg:https://visitpikeville.com/wp-content/uploads/2024/11/parade.jpg
END:VEVENT
BEGIN:VEVENT
DTSTART;TZID=America/Kentucky/Louisville:20241206T173000
DTEND;TZID=America/Kentucky/Louisville:20241206T203000
DTSTAMP:20260425T074745
CREATED:20241202T140801Z
LAST-MODIFIED:20241202T140801Z
UID:60390-1733506200-1733517000@visitpikeville.com
SUMMARY:Doodle Gift
DESCRIPTION:16″ X 20″ \n$30
URL:https://visitpikeville.com/event/doodle-gift/
LOCATION:2 Broke Art Teachers\, 4505 Weddington Square\,\, Pikeville\, KY\, 41501\, United States
CATEGORIES:Other
ATTACH;FMTTYPE=image/jpeg:https://visitpikeville.com/wp-content/uploads/2024/12/DOODLE.jpg
END:VEVENT
BEGIN:VEVENT
DTSTART;TZID=America/Kentucky/Louisville:20241206T163000
DTEND;TZID=America/Kentucky/Louisville:20241206T173000
DTSTAMP:20260425T074745
CREATED:20241202T132510Z
LAST-MODIFIED:20241202T132510Z
UID:60354-1733502600-1733506200@visitpikeville.com
SUMMARY:Tween DIY Christmas Mugs
DESCRIPTION:Color your own Christmas mug and enjoy some homemade hot cocoa! For ages 8-12. No registration required.\nThis program will be held at the Pike County Public Library (Lee Avenue) on December 6th at 4:30\, and at the Belfry Public Library on December 14th at 4:30.
URL:https://visitpikeville.com/event/tween-diy-christmas-mugs/
LOCATION:Pike County Public Library\, 126 Lee Avenue\, Pikeville\, KY\, 41501\, United States
CATEGORIES:Pike County Public Library
ATTACH;FMTTYPE=image/jpeg:https://visitpikeville.com/wp-content/uploads/2024/12/mugs.jpg
END:VEVENT
BEGIN:VEVENT
DTSTART;TZID=America/Kentucky/Louisville:20241206T163000
DTEND;TZID=America/Kentucky/Louisville:20241206T173000
DTSTAMP:20260425T074745
CREATED:20241125T143246Z
LAST-MODIFIED:20241125T143246Z
UID:60145-1733502600-1733506200@visitpikeville.com
SUMMARY:Tween DIY Christmas mug
DESCRIPTION:Color your own Christmas mug and enjoy some homemade hot cocoa! For ages 8-12. No registration required.\nThis program will be held at the Pike County Public Library (Lee Avenue) on December 6th at 4:30\, and at the Belfry Public Library on December 14th at 4:30.
URL:https://visitpikeville.com/event/tween-diy-christmas-mug-2/
LOCATION:Pike County Public Library\, 126 Lee Avenue\, Pikeville\, KY\, 41501\, United States
CATEGORIES:Pike County Public Library
ATTACH;FMTTYPE=image/jpeg:https://visitpikeville.com/wp-content/uploads/2024/11/TWEEN-DAY.jpg
END:VEVENT
BEGIN:VEVENT
DTSTART;TZID=America/Kentucky/Louisville:20241206T163000
DTEND;TZID=America/Kentucky/Louisville:20241206T173000
DTSTAMP:20260425T074745
CREATED:20241118T145754Z
LAST-MODIFIED:20241118T145754Z
UID:59911-1733502600-1733506200@visitpikeville.com
SUMMARY:Tween DIY Christmas Mug
DESCRIPTION:Color your own Christmas mug and enjoy some homemade hot cocoa! For ages 8-12. No registration required.\nThis program will be held at the Pike County Public Library (Lee Avenue) on December 6th at 4:30\, and at the Belfry Public Library on December 14th at 4:30.
URL:https://visitpikeville.com/event/tween-diy-christmas-mug/
LOCATION:Pike County Public Library\, 126 Lee Avenue\, Pikeville\, KY\, 41501\, United States
CATEGORIES:Pike County Public Library
ATTACH;FMTTYPE=image/jpeg:https://visitpikeville.com/wp-content/uploads/2024/11/MUGS.jpg
END:VEVENT
BEGIN:VEVENT
DTSTART;TZID=America/Kentucky/Louisville:20241206T150000
DTEND;TZID=America/Kentucky/Louisville:20241206T220000
DTSTAMP:20260425T074745
CREATED:20241118T135955Z
LAST-MODIFIED:20241118T135955Z
UID:59861-1733497200-1733522400@visitpikeville.com
SUMMARY:Winterfest
DESCRIPTION:Enjoy holiday magic with ice skating\, carriage rides\, and mini-train rides. Schools\, churches\, and other large groups can contact kevin@appwirelessarena.com for special skate times and group pricing. Don’t miss out on the fun! #visitpikeville
URL:https://visitpikeville.com/event/winterfest-5-2-2-2/
LOCATION:Pikeville City Park\, 101 Cumberland Ct\,\, Pikeville\, KY\, 41501
CATEGORIES:City of Pikeville,Pikeville Tourism
ATTACH;FMTTYPE=image/jpeg:https://visitpikeville.com/wp-content/uploads/2024/11/winterfest-1.jpg
END:VEVENT
BEGIN:VEVENT
DTSTART;TZID=America/Kentucky/Louisville:20241206T060000
DTEND;TZID=America/Kentucky/Louisville:20241206T190000
DTSTAMP:20260425T074745
CREATED:20241125T135500Z
LAST-MODIFIED:20241125T135500Z
UID:60132-1733464800-1733511600@visitpikeville.com
SUMMARY:73th Annual Rotary Pancake Day
DESCRIPTION:Pancake Day Ticket $6
URL:https://visitpikeville.com/event/73th-annual-rotary-pancake-day/
LOCATION:Appalachian Wireless Arena\, 126 Main Street\, Pikeville\, Ky\, 41501
CATEGORIES:Other
ATTACH;FMTTYPE=image/jpeg:https://visitpikeville.com/wp-content/uploads/2024/11/pancake-day.jpg
END:VEVENT
BEGIN:VEVENT
DTSTART;VALUE=DATE:20241206
DTEND;VALUE=DATE:20241207
DTSTAMP:20260425T074745
CREATED:20241118T130338Z
LAST-MODIFIED:20241118T130338Z
UID:59835-1733443200-1733529599@visitpikeville.com
SUMMARY:Men's Wrestling vs Montreat College (N.C.)
DESCRIPTION:Match Day!
URL:https://visitpikeville.com/event/mens-wrestling-vs-montreat-college-n-c/
LOCATION:UPIKE GYM\, Hibbard St\,\, Pikeville\, KY\, 41501\, United States
CATEGORIES:UPike
ATTACH;FMTTYPE=image/png:https://visitpikeville.com/wp-content/uploads/2024/11/Screenshot-2024-11-18-at-8.01.21 AM.png
END:VEVENT
BEGIN:VEVENT
DTSTART;TZID=America/Kentucky/Louisville:20241205T200000
DTEND;TZID=America/Kentucky/Louisville:20241205T220000
DTSTAMP:20260425T074745
CREATED:20241014T134101Z
LAST-MODIFIED:20241014T134101Z
UID:58525-1733428800-1733436000@visitpikeville.com
SUMMARY:Adult Stage Combat (ages 18+)
DESCRIPTION:Nov 5th-Dec 5th\, 2024 | $100 for semester\nMeets Tuesdays and Thursdays 8:00 – 10:00 pm\nClass Sharing: December 6th\, 2024\, @ 7:30 pm\nTaught by Crockett J. Ward with Teaching Assistant Claudia Dahlman \n\n\n\n\nEver wanted to channel your inner action hero without risking your real-life limbs? Welcome to “Fight Club for Grown-Ups\,” a 5-week stage combat class designed for the over-18 crowd who want to master the art of theatrical fisticuffs and dramatic duels—no actual bloodshed required! \nIn this class\, you’ll learn the secrets of stage combat. We’ll cover everything from basic moves to advanced maneuvers\, all while ensuring you leave with a newfound appreciation for the Art of looking like you’re in a high stakes fight without actually breaking anything. \nJoin us for a session of high-energy fun and discover why stage combat is the most entertaining way to throw a punch—figuratively speaking\, of course.
URL:https://visitpikeville.com/event/adult-stage-combat-ages-18-2-2-2-2-2-2-2-2-2/
LOCATION:Appalachian Center for the Arts\, 218 2nd St\,\, Pikeville\, Ky\, 41501
CATEGORIES:The Appalachian Center for the Arts
ATTACH;FMTTYPE=image/jpeg:https://visitpikeville.com/wp-content/uploads/2024/10/adult-combat.jpg
END:VEVENT
BEGIN:VEVENT
DTSTART;TZID=America/Kentucky/Louisville:20241205T190000
DTEND;TZID=America/Kentucky/Louisville:20241205T210000
DTSTAMP:20260425T074745
CREATED:20241202T134930Z
LAST-MODIFIED:20241202T134930Z
UID:60377-1733425200-1733432400@visitpikeville.com
SUMMARY:UPIKE Music Annual Christmas Concert!
DESCRIPTION:UPIKE Music cordially invites you to our Annual Christmas Concert!\nThe UPIKE Concert Band (Director\, Professor Slade Presley Denman) and the UPIKE Concert Choir and Chamber Singers (Director\, Dr. Eric Rutherford) welcome you to get in the festive spirit and enjoy a fantastic selection of Christmas classics and winter themed tunes.\nPlan to arrive early for the Bluegrass Ensemble’s pre-show in the Booth Auditorium lobby at 6:30! Admission is free!
URL:https://visitpikeville.com/event/upike-music-annual-christmas-concert/
LOCATION:UPIKE’s Booth Auditorium\, 147 Sycamore St\, Pikeville\, KY\, 41501\, United States
CATEGORIES:UPike
ATTACH;FMTTYPE=image/jpeg:https://visitpikeville.com/wp-content/uploads/2024/12/christmas-concert.jpg
END:VEVENT
BEGIN:VEVENT
DTSTART;TZID=America/Kentucky/Louisville:20241205T183000
DTEND;TZID=America/Kentucky/Louisville:20241205T194500
DTSTAMP:20260425T074745
CREATED:20241014T133337Z
LAST-MODIFIED:20241014T133337Z
UID:58504-1733423400-1733427900@visitpikeville.com
SUMMARY:Adult Improv (ages 18+)
DESCRIPTION:Nov 7th-Dec 5th\, 2024 | $100 for semester\nMeets Thursdays 6:30 – 7:45 pm\nClass Sharing: December 7th\, 2024\, @ 7:30 pm\nTaught by Crockett J. Ward with Teaching Assistant Brian Bush \n\n\n\n\nEver wanted to be the star of your own comedy show but can’t remember the last time you were on stage without tripping over your own feet? Our 5-week adult improv class is here to turn those awkward moments into epic punchlines. \nIn this no-pressure\, all-laughter workshop\, you’ll dive into the world of improvisational comedy with the Improv at the App Comedy Troupe\, where quick thinking and creativity are your new best friends. Learn how to think on your feet\, create new worlds\, and embrace the beauty of unpredictability. \nWhether you’re aiming to conquer your stage fright or just want to grow your skills\, we’ll help you transform everyday mishaps into comedic gold. Join us for a fun\, supportive environment where the only thing you’ll need to prepare is your sense of humor!
URL:https://visitpikeville.com/event/adult-improv-ages-18-4-2-2-2-2/
LOCATION:Appalachian Center for the Arts\, 218 2nd St\,\, Pikeville\, Ky\, 41501
CATEGORIES:The Appalachian Center for the Arts
ATTACH;FMTTYPE=image/jpeg:https://visitpikeville.com/wp-content/uploads/2024/10/adult-improv.jpg
END:VEVENT
BEGIN:VEVENT
DTSTART;TZID=America/Kentucky/Louisville:20241205T170000
DTEND;TZID=America/Kentucky/Louisville:20241205T184500
DTSTAMP:20260425T074745
CREATED:20241202T131542Z
LAST-MODIFIED:20241202T131542Z
UID:60350-1733418000-1733424300@visitpikeville.com
SUMMARY:Dungeons and Dragons
DESCRIPTION:Dungeons and Dragons Group meets every other Thursday at 5:00 at the Pike County Public Library (Lee Avenue). Beginners and experienced players alike are welcome.
URL:https://visitpikeville.com/event/dungeons-and-dragons-5-2-2-2-2-2-2-2-2-2-2-2-2-2-2-2-2-2-2/
LOCATION:Pike County Public Library\, 126 Lee Avenue\, Pikeville\, KY\, 41501\, United States
CATEGORIES:Pike County Public Library
ATTACH;FMTTYPE=image/png:https://visitpikeville.com/wp-content/uploads/2023/12/D_D_Group.png
END:VEVENT
END:VCALENDAR