BEGIN:VCALENDAR
VERSION:2.0
PRODID:-//Visit Pikeville - ECPv6.15.20//NONSGML v1.0//EN
CALSCALE:GREGORIAN
METHOD:PUBLISH
X-WR-CALNAME:Visit Pikeville
X-ORIGINAL-URL:https://visitpikeville.com
X-WR-CALDESC:Events for Visit Pikeville
REFRESH-INTERVAL;VALUE=DURATION:PT1H
X-Robots-Tag:noindex
X-PUBLISHED-TTL:PT1H
BEGIN:VTIMEZONE
TZID:America/Kentucky/Louisville
BEGIN:DAYLIGHT
TZOFFSETFROM:-0500
TZOFFSETTO:-0400
TZNAME:EDT
DTSTART:20230312T070000
END:DAYLIGHT
BEGIN:STANDARD
TZOFFSETFROM:-0400
TZOFFSETTO:-0500
TZNAME:EST
DTSTART:20231105T060000
END:STANDARD
BEGIN:DAYLIGHT
TZOFFSETFROM:-0500
TZOFFSETTO:-0400
TZNAME:EDT
DTSTART:20240310T070000
END:DAYLIGHT
BEGIN:STANDARD
TZOFFSETFROM:-0400
TZOFFSETTO:-0500
TZNAME:EST
DTSTART:20241103T060000
END:STANDARD
BEGIN:DAYLIGHT
TZOFFSETFROM:-0500
TZOFFSETTO:-0400
TZNAME:EDT
DTSTART:20250309T070000
END:DAYLIGHT
BEGIN:STANDARD
TZOFFSETFROM:-0400
TZOFFSETTO:-0500
TZNAME:EST
DTSTART:20251102T060000
END:STANDARD
END:VTIMEZONE
BEGIN:VEVENT
DTSTART;TZID=America/Kentucky/Louisville:20241017T183000
DTEND;TZID=America/Kentucky/Louisville:20241017T203000
DTSTAMP:20260425T074601
CREATED:20241008T152232Z
LAST-MODIFIED:20241008T152232Z
UID:58210-1729189800-1729197000@visitpikeville.com
SUMMARY:Karaoke @ bank 253
DESCRIPTION:6:30pm – 8:30pm
URL:https://visitpikeville.com/event/karaoke-bank-253-2/
LOCATION:Bank 253\, 253 2nd St\,\, Pikeville\, KY\, 41501\, United States
CATEGORIES:Other
ATTACH;FMTTYPE=image/jpeg:https://visitpikeville.com/wp-content/uploads/2024/09/bank-253.jpg
END:VEVENT
BEGIN:VEVENT
DTSTART;TZID=America/Kentucky/Louisville:20241017T170000
DTEND;TZID=America/Kentucky/Louisville:20241017T210000
DTSTAMP:20260425T074601
CREATED:20241008T152311Z
LAST-MODIFIED:20241008T152311Z
UID:58212-1729184400-1729198800@visitpikeville.com
SUMMARY:Beginners Sewing
DESCRIPTION:Come and Join Us
URL:https://visitpikeville.com/event/beginners-sewing-2-2-2-2-2-2-2-2-2-2-2-2-2-2-2-2-2-2-2-2-2-2-2-2-2-2-2-2-2-2/
LOCATION:Bridgett’s Quilting and Fabric Shop\, 237 2nd St\,\, Pikeville\, KY\, 41501\, United States
CATEGORIES:Pikeville Main Street
ATTACH;FMTTYPE=image/jpeg:https://visitpikeville.com/wp-content/uploads/2023/10/bridgetts.jpeg
END:VEVENT
BEGIN:VEVENT
DTSTART;TZID=America/Kentucky/Louisville:20241017T170000
DTEND;TZID=America/Kentucky/Louisville:20241017T190000
DTSTAMP:20260425T074601
CREATED:20240909T140314Z
LAST-MODIFIED:20240909T140314Z
UID:56865-1729184400-1729191600@visitpikeville.com
SUMMARY:Ghost Story Telling Workshop
DESCRIPTION:Professional storyteller Octavia Sexton will share ghost stories\, then lead families in writing and sharing their own spooky tales in this Ghost Story Telling Workshop on October 17th at 5:00 at the Pike County Public Library (Lee Avenue)!\nRecommended for families with children in 4th grade or older. No registration required.\nA native of eastern Kentucky\, Octavia Sexton grew up in a rich tradition of storytelling. She has been privileged to learn folk tales\, ‘haint’ tales (ghost stories)\, Jack tales and Cherokee legends handed down from her English\, Irish\, and Cherokee ancestors. Inspired by the Appalachian art of storytelling the core of her stories is rooted in the traditions and lifestyles of her family and her past. Octavia attended a one room grade school in Eastern Kentucky; received a BA from Berea College in History/English Education; and did her graduate work in health education. She is a published author and has recorded several CDs of her stories.\nThe Kentucky Arts Council\, the state arts agency\, supports Pike County Public Library District with state tax dollars and federal funding from the National Endowment for the Arts.
URL:https://visitpikeville.com/event/ghost-story-telling-workshop/
LOCATION:Pike County Public Library\, 126 Lee Avenue\, Pikeville\, KY\, 41501\, United States
CATEGORIES:Pike County Public Library
ATTACH;FMTTYPE=image/jpeg:https://visitpikeville.com/wp-content/uploads/2024/09/ghost.jpg
END:VEVENT
BEGIN:VEVENT
DTSTART;TZID=America/Kentucky/Louisville:20241017T170000
DTEND;TZID=America/Kentucky/Louisville:20241017T183000
DTSTAMP:20260425T074601
CREATED:20240930T153913Z
LAST-MODIFIED:20240930T153913Z
UID:57883-1729184400-1729189800@visitpikeville.com
SUMMARY:Special Olympics Meet & Greet
DESCRIPTION:Athletes and Volunteers Needed! Special Olympics Kentucky is starting a program in Pike County to offer year-round sports and training competition for individuals with intellectual disabilities.
URL:https://visitpikeville.com/event/special-olympics-meet-greet/
LOCATION:Pike County Public Library\, 126 Lee Avenue\, Pikeville\, KY\, 41501\, United States
CATEGORIES:Pike County Public Library
ATTACH;FMTTYPE=image/jpeg:https://visitpikeville.com/wp-content/uploads/2024/09/Special_Olympics_Meet_n_Greet.jpg
END:VEVENT
BEGIN:VEVENT
DTSTART;TZID=America/Kentucky/Louisville:20241017T140000
DTEND;TZID=America/Kentucky/Louisville:20241017T150000
DTSTAMP:20260425T074601
CREATED:20240930T150749Z
LAST-MODIFIED:20240930T150749Z
UID:57843-1729173600-1729177200@visitpikeville.com
SUMMARY:Story Time
DESCRIPTION:tory Time is for children ages 5 and under and features books\, action/movement\, songs\, and a craft. Story Time is held Thursdays at 11:00 and 2:00 and Saturdays at 11:00. \n\n\n\n\n\n\n  \nBesides being fun\, Story Time also helps develop early literacy and school readiness skills through reading\, singing\, listening\, playing\, and social interaction. This program lasts approximately 30 minutes\, and caregivers and children are encouraged to linger in the library afterwards to further socialize and choose books to take home.
URL:https://visitpikeville.com/event/story-time-2-2-2-2-2-2-2-2-2-2-2-2-2-2-2-2-2-2-2-2-2-2-2-2-2-2-2-2-2-2-2-2-2-2-2-2-2-2-2-2-2-2-2-2-2-2-2-2-2-2-2-2-2-2-2-3-2-2-2-2-2-2-2-2-2-2-2-2-2-2-2-2/
LOCATION:Pike County Public Library\, 126 Lee Avenue\, Pikeville\, KY\, 41501\, United States
CATEGORIES:Pike County Public Library
ATTACH;FMTTYPE=image/png:https://visitpikeville.com/wp-content/uploads/2023/12/Story_TimeLEE.png
END:VEVENT
BEGIN:VEVENT
DTSTART;TZID=America/Kentucky/Louisville:20241017T110000
DTEND;TZID=America/Kentucky/Louisville:20241017T120000
DTSTAMP:20260425T074601
CREATED:20240930T150717Z
LAST-MODIFIED:20240930T150717Z
UID:57841-1729162800-1729166400@visitpikeville.com
SUMMARY:Story Time
DESCRIPTION:tory Time is for children ages 5 and under and features books\, action/movement\, songs\, and a craft. Story Time is held Thursdays at 11:00 and 2:00 and Saturdays at 11:00. \n\n\n\n\n\n\n  \nBesides being fun\, Story Time also helps develop early literacy and school readiness skills through reading\, singing\, listening\, playing\, and social interaction. This program lasts approximately 30 minutes\, and caregivers and children are encouraged to linger in the library afterwards to further socialize and choose books to take home.
URL:https://visitpikeville.com/event/story-time-2-2-2-2-2-2-2-2-2-2-2-2-2-2-2-2-2-2-2-2-2-2-2-2-2-2-2-2-2-2-2-2-2-2-2-2-2-2-2-2-2-2-2-2-2-2-2-2-2-2-2-2-2-2-2-3-2-2-2-2-2-2-2-2-2-2-2-2-2-2-2/
LOCATION:Pike County Public Library\, 126 Lee Avenue\, Pikeville\, KY\, 41501\, United States
CATEGORIES:Pike County Public Library
ATTACH;FMTTYPE=image/png:https://visitpikeville.com/wp-content/uploads/2023/12/Story_TimeLEE.png
END:VEVENT
BEGIN:VEVENT
DTSTART;TZID=America/Kentucky/Louisville:20241016T180000
DTEND;TZID=America/Kentucky/Louisville:20241016T200000
DTSTAMP:20260425T074601
CREATED:20240923T133425Z
LAST-MODIFIED:20240923T133425Z
UID:57473-1729101600-1729108800@visitpikeville.com
SUMMARY:Country Music Highway Tribute Show
DESCRIPTION:Join us in beautiful Downtown Pikeville at the Mountain Top Media Stage for the Country Music Highway Tribute Show! This FREE event is a celebration of local talent\, community spirit\, and delicious food. It’s a night filled with live music from incredible artists\, tasty food trucks\, and great times with friends and family!\n Live Music: Enjoy performances from your favorite local and regional artists along the Country Music Highway. Food Trucks: Indulge in a variety of delicious eats from local food vendors. Community: Connect with neighbors\, friends\, and the greater Eastern Kentucky community!\nThis is a family-friendly event\, so bring the whole crew! Don’t miss out on an amazing night of music\, food\, and fun.
URL:https://visitpikeville.com/event/country-music-highway-tribute-show/
LOCATION:Downtown Pikeville\, Pikeville\, Ky\, 41501
CATEGORIES:Other
ATTACH;FMTTYPE=image/jpeg:https://visitpikeville.com/wp-content/uploads/2024/09/country.jpg
END:VEVENT
BEGIN:VEVENT
DTSTART;TZID=America/Kentucky/Louisville:20241016T173000
DTEND;TZID=America/Kentucky/Louisville:20241016T200000
DTSTAMP:20260425T074601
CREATED:20241014T143616Z
LAST-MODIFIED:20241014T143616Z
UID:58557-1729099800-1729108800@visitpikeville.com
SUMMARY:Fall Gnome
DESCRIPTION:This fun painting is suitable for adults and kids
URL:https://visitpikeville.com/event/fall-gnome/
LOCATION:2 Broke Art Teachers\, 4505 Weddington Square\,\, Pikeville\, KY\, 41501\, United States
CATEGORIES:Other
ATTACH;FMTTYPE=image/jpeg:https://visitpikeville.com/wp-content/uploads/2024/10/fall-gnome.jpg
END:VEVENT
BEGIN:VEVENT
DTSTART;TZID=America/Kentucky/Louisville:20241016T160000
DTEND;TZID=America/Kentucky/Louisville:20241016T170000
DTSTAMP:20260425T074601
CREATED:20240930T145724Z
LAST-MODIFIED:20240930T145724Z
UID:57822-1729094400-1729098000@visitpikeville.com
SUMMARY:BASIC COMPUTER SKILLS
DESCRIPTION:Learn technology basics like e-mail\, smart phones\, social media\, and more. Meets alternating Wednesdays at 4:00.
URL:https://visitpikeville.com/event/basic-computer-skills-3-2-2-2-2-2-2-2-2-2-2-2-2-2-2-2-2-2/
LOCATION:Pike County Public Library\, 126 Lee Avenue\, Pikeville\, KY\, 41501\, United States
CATEGORIES:Pike County Public Library
ATTACH;FMTTYPE=image/png:https://visitpikeville.com/wp-content/uploads/2024/06/Basic_Computer_Skills.png
END:VEVENT
BEGIN:VEVENT
DTSTART;TZID=America/Kentucky/Louisville:20241016T153000
DTEND;TZID=America/Kentucky/Louisville:20241016T163000
DTSTAMP:20260425T074601
CREATED:20240701T132527Z
LAST-MODIFIED:20240701T132527Z
UID:53067-1729092600-1729096200@visitpikeville.com
SUMMARY:Men's Soccer vs Reinhardt University
DESCRIPTION:Game Day!
URL:https://visitpikeville.com/event/mens-soccer-vs-reinhardt-university/
LOCATION:Bob Amos Park\, 424 Bob Amos Dr\, Pikeville\, Ky\, 41501
CATEGORIES:UPike
ATTACH;FMTTYPE=image/png:https://visitpikeville.com/wp-content/uploads/2024/07/Screen-Shot-2024-07-01-at-9.24.53-AM.png
END:VEVENT
BEGIN:VEVENT
DTSTART;TZID=America/Kentucky/Louisville:20241016T130000
DTEND;TZID=America/Kentucky/Louisville:20241016T140000
DTSTAMP:20260425T074601
CREATED:20240701T132253Z
LAST-MODIFIED:20240701T132253Z
UID:53064-1729083600-1729087200@visitpikeville.com
SUMMARY:Women's Soccer vs Reinhardt University
DESCRIPTION:Game Day!
URL:https://visitpikeville.com/event/womens-soccer-vs-reinhardt-university/
LOCATION:Bob Amos Park\, 424 Bob Amos Dr\, Pikeville\, Ky\, 41501
CATEGORIES:UPike
ATTACH;FMTTYPE=image/png:https://visitpikeville.com/wp-content/uploads/2024/07/Screen-Shot-2024-07-01-at-9.20.57-AM.png
END:VEVENT
BEGIN:VEVENT
DTSTART;TZID=America/Kentucky/Louisville:20241016T100000
DTEND;TZID=America/Kentucky/Louisville:20241016T180000
DTSTAMP:20260425T074601
CREATED:20240916T141650Z
LAST-MODIFIED:20240916T141650Z
UID:57146-1729072800-1729101600@visitpikeville.com
SUMMARY:THE EKY Experience
DESCRIPTION:Join us for THE EKY Experience on October 16th\, 2024\, from 10 AM – 6 PM at the Appalachian Wireless Arena in Pikeville\, KY. This exciting and FREE event is open to the public and offers a unique opportunity to explore the very best of Eastern Kentucky!\nHere’s what you can expect:+ Interactive Exhibits showcasing innovative projects and products+ Innovation Alley: See the latest in cutting-edge technology+ Connect with Regional Nonprofits and learn how they’re shaping the community+ Meet the SOAR Team and discover how they’re supporting growth in EKY+ Job Opportunities: Explore career paths and find your next job+ Enjoy Local Food Trucks and grab a bite while you network+ Networking Opportunities: Make valuable connections across industries\nDate and Time:October 16th\, 2024 | 10 AM – 6 PM\nLocation:Appalachian Wireless Arena126 Main St\, Pikeville\, KY 41501\nWhether you’re looking to expand your career\, connect with local innovators\, or just enjoy a day of community and opportunity\, THE EKY Experience has something for everyone!\nFREE Admission. Open to all!
URL:https://visitpikeville.com/event/the-eky-experience/
LOCATION:Appalachian Wireless Arena\, 126 Main Street\, Pikeville\, Ky\, 41501
CATEGORIES:Appalachian Wireless Arena
ATTACH;FMTTYPE=image/jpeg:https://visitpikeville.com/wp-content/uploads/2024/09/eky.jpg
END:VEVENT
BEGIN:VEVENT
DTSTART;TZID=America/Kentucky/Louisville:20241015T180000
DTEND;TZID=America/Kentucky/Louisville:20241015T190000
DTSTAMP:20260425T074601
CREATED:20241014T143201Z
LAST-MODIFIED:20241014T143201Z
UID:58553-1729015200-1729018800@visitpikeville.com
SUMMARY:Wave of Light
DESCRIPTION:All are invited to join us for the “Wave of Light” candlelight vigil on October 15\, 2024 at 6:00pm. We hope to come together to honor and remember our little ones lost to pregnancy and infant loss. Below is a link to the event page\, as well as a QR code that directs to the same place. If you are unable to attend in-person\, please reach out so we can ensure your child is included in remembrance #waveoflight #babylossawareness #rememberingtogetherhttps://facebook.com/events/s/pregnancy-and-infant-loss-awar/1007644971042266/
URL:https://visitpikeville.com/event/wave-of-light/
LOCATION:Pikeville City Park\, 101 Cumberland Ct\,\, Pikeville\, KY\, 41501
CATEGORIES:Pike County Health Department
ATTACH;FMTTYPE=image/jpeg:https://visitpikeville.com/wp-content/uploads/2024/10/wave.jpg
END:VEVENT
BEGIN:VEVENT
DTSTART;TZID=America/Kentucky/Louisville:20241015T170000
DTEND;TZID=America/Kentucky/Louisville:20241015T180000
DTSTAMP:20260425T074601
CREATED:20240909T134157Z
LAST-MODIFIED:20240909T134157Z
UID:56853-1729011600-1729015200@visitpikeville.com
SUMMARY:Spooky Stories and Pop Up Cards
DESCRIPTION:Professional storyteller and artist Thomas Freese will tell ghost stories and lead a Halloween-themed pop up card making workshop on October 15th at 5:00 at the Pike County Public Library (Lee Avenue). All ages welcome!\nThomas Freese is an accomplished artist in multiple disciplines—writing\, storytelling and visual art. Mr. Freese worked in the Arts in Education since 1994\, doing visual arts residencies in 100 locations across Kentucky. Since 1998\, Mr. Freese has written 130 articles for Lexington’s Chevy Chaser Magazine and published 7 books of ghost stories. He is currently completing a children’s book project. Mr. Freese has performed story programs for 15 years. He has over 20 story programs. When working with students\, Mr. Freese often combines his expertise to help children create works of art in the venues of writing\, storytelling and art. Mr. Freese relates well to children of all ages and uses guitar and harmonica to add to his stories.\nThe Kentucky Arts Council\, the state arts agency\, supports Pike County Public Library District with state tax dollars and federal funding from the National Endowment for the Arts
URL:https://visitpikeville.com/event/spooky-stories-and-pop-up-cards/
LOCATION:Pike County Public Library\, 126 Lee Avenue\, Pikeville\, KY\, 41501\, United States
CATEGORIES:Pike County Public Library
ATTACH;FMTTYPE=image/jpeg:https://visitpikeville.com/wp-content/uploads/2024/09/spooky.jpg
END:VEVENT
BEGIN:VEVENT
DTSTART;TZID=America/Kentucky/Louisville:20241015T163000
DTEND;TZID=America/Kentucky/Louisville:20241015T190000
DTSTAMP:20260425T074601
CREATED:20240513T175822Z
LAST-MODIFIED:20240513T175822Z
UID:51297-1729009800-1729018800@visitpikeville.com
SUMMARY:Pikeville Farmer's Market
DESCRIPTION:Tuesday from 4:30-7:00 \nSaturday 9:00-1:00 \n 
URL:https://visitpikeville.com/event/pikeville-farmers-market-5-3-2-2-3-2-2-2-2-2-2-2-2-2-2-2-2-2-2-2-2-2/
LOCATION:Pikeville Farmer’s Market\, 130 Adams Lane\, Pikeville\, Ky
CATEGORIES:Other
ATTACH;FMTTYPE=image/jpeg:https://visitpikeville.com/wp-content/uploads/2024/05/farmers-market.jpeg
END:VEVENT
BEGIN:VEVENT
DTSTART;TZID=America/Kentucky/Louisville:20241015T100000
DTEND;TZID=America/Kentucky/Louisville:20241015T110000
DTSTAMP:20260425T074601
CREATED:20241008T152023Z
LAST-MODIFIED:20241008T152023Z
UID:58208-1728986400-1728990000@visitpikeville.com
SUMMARY:Pike County Fiscal Court Meeting
DESCRIPTION:10:00 am @ Courthouse
URL:https://visitpikeville.com/event/pike-county-fiscal-court-meeting-2-2-2-2-2-2-2-2-3-2-2-2-2/
LOCATION:Courthouse\, 175 Main St.\, Pikeville\, KY\, 41501\, United States
CATEGORIES:City of Pikeville
ATTACH;FMTTYPE=image/png:https://visitpikeville.com/wp-content/uploads/2023/09/image001.png
END:VEVENT
BEGIN:VEVENT
DTSTART;TZID=America/Kentucky/Louisville:20241014T180000
DTEND;TZID=America/Kentucky/Louisville:20241014T190000
DTSTAMP:20260425T074601
CREATED:20241008T151845Z
LAST-MODIFIED:20241008T151845Z
UID:58204-1728928800-1728932400@visitpikeville.com
SUMMARY:City Commission Meeting
DESCRIPTION:6pm @ City Hall
URL:https://visitpikeville.com/event/city-commission-meeting-2-2-2-2-2-2-2-2-2-2-2-2-2-2-2-2-2-2-2-2/
LOCATION:Pikeville City Hall\, 243 Main St #1786\,\, Pikeville\, KY\, 41501\, United States
CATEGORIES:City of Pikeville
ATTACH;FMTTYPE=image/png:https://visitpikeville.com/wp-content/uploads/2023/09/image001.png
END:VEVENT
BEGIN:VEVENT
DTSTART;TZID=America/Kentucky/Louisville:20241014T160000
DTEND;TZID=America/Kentucky/Louisville:20241014T170000
DTSTAMP:20260425T074601
CREATED:20240930T153321Z
LAST-MODIFIED:20240930T153321Z
UID:57879-1728921600-1728925200@visitpikeville.com
SUMMARY:Teen Activity Club
DESCRIPTION:Teen Activity Club is a craft group for kids ages 13-18 that meets at the Pike County Public Library (Lee Avenue) on alternating Wednesdays at 4:00.
URL:https://visitpikeville.com/event/teen-activity-club-8-2-2-2-2-2-2-2-2-2-2-2-2-2-2-2/
LOCATION:Pike County Public Library\, 126 Lee Avenue\, Pikeville\, KY\, 41501\, United States
CATEGORIES:Pike County Public Library
ATTACH;FMTTYPE=image/png:https://visitpikeville.com/wp-content/uploads/2023/12/Teen_Activity_Club.png
END:VEVENT
BEGIN:VEVENT
DTSTART;TZID=America/Kentucky/Louisville:20241013T193000
DTEND;TZID=America/Kentucky/Louisville:20241013T213000
DTSTAMP:20260425T074601
CREATED:20240916T144058Z
LAST-MODIFIED:20240916T144058Z
UID:57165-1728847800-1728855000@visitpikeville.com
SUMMARY:Wait Until Dark
DESCRIPTION:Opening night of our 2024-2025 season!
URL:https://visitpikeville.com/event/wait-until-dark-2-2-2-2/
LOCATION:Pikeville High School\, 120 Championship Dr\,\, Pikeville\, KY\, 41501\, United States
CATEGORIES:Other
ATTACH;FMTTYPE=image/jpeg:https://visitpikeville.com/wp-content/uploads/2024/09/act.jpg
END:VEVENT
BEGIN:VEVENT
DTSTART;TZID=America/Kentucky/Louisville:20241013T183000
DTEND;TZID=America/Kentucky/Louisville:20241013T220000
DTSTAMP:20260425T074601
CREATED:20240923T133736Z
LAST-MODIFIED:20240923T133736Z
UID:57476-1728844200-1728856800@visitpikeville.com
SUMMARY:AUDITIONS: A BLUEGRASS CHRISTMAS CAROL
DESCRIPTION:By Treyton BlackburnBased on “A Christmas Carol” by Charles DickensMusic & Lyrics by Gareth Evans\, Jim Gleason\, and Dave DampierCo-Directed by Jason Justice & Treyton Blackburn\nPike County Cooperative Extension Office.148 Trivette Drive\, Pikeville\, KY 41501No previous experience is required.Auditions will consist of readings from the script.Please come prepared to sing or play a verse and a chorus of a Christmas song.Date: October 13\, 2024Time: 6:30 P.M. to 10:00 P.M.Rehearsals will begin on October 19\, 2024Performance Dates: Nov. 29\, 2024 – Dec. 15\, 2024
URL:https://visitpikeville.com/event/auditions-a-bluegrass-christmas-carol/
LOCATION:Pike County Extension Office\, 148 Trivette Dr\, Pikeville\, KY\, 41501\, United States
CATEGORIES:Pike County Cooperative Extension Office
ATTACH;FMTTYPE=image/jpeg:https://visitpikeville.com/wp-content/uploads/2024/09/BLUEGRASS.jpg
END:VEVENT
BEGIN:VEVENT
DTSTART;TZID=America/Kentucky/Louisville:20241013T150000
DTEND;TZID=America/Kentucky/Louisville:20241013T170000
DTSTAMP:20260425T074601
CREATED:20241008T150428Z
LAST-MODIFIED:20241008T150428Z
UID:58193-1728831600-1728838800@visitpikeville.com
SUMMARY:UPIKE Concert Band Concert
DESCRIPTION:UPIKE Music is proud to present the second installment of the 2024-2025 concert season\, the UPIKE Concert Band Concert. Under the direction of Professor Slade Presley Denman\, the UPIKE Concert Band will be performing a series of pieces that highlight the prestige\, dedication\, and sense of tradition that the UPIKE Concert Band strives to achieve with every performance. All are welcome to come out and enjoy an afternoon of great music!\nAdmission is FREE!
URL:https://visitpikeville.com/event/upike-concert-band-concert/
LOCATION:Record Memorial & Booth Auditorium\, 147 Sycamore Street\,\, KY\, 41501\, United States
CATEGORIES:UPike
ATTACH;FMTTYPE=image/jpeg:https://visitpikeville.com/wp-content/uploads/2024/10/concert-band.jpg
END:VEVENT
BEGIN:VEVENT
DTSTART;TZID=America/Kentucky/Louisville:20241013T150000
DTEND;TZID=America/Kentucky/Louisville:20241013T170000
DTSTAMP:20260425T074601
CREATED:20240916T144019Z
LAST-MODIFIED:20240916T144019Z
UID:57163-1728831600-1728838800@visitpikeville.com
SUMMARY:Wait Until Dark
DESCRIPTION:Opening night of our 2024-2025 season!
URL:https://visitpikeville.com/event/wait-until-dark-2-2-2/
LOCATION:Pikeville High School\, 120 Championship Dr\,\, Pikeville\, KY\, 41501\, United States
CATEGORIES:Other
ATTACH;FMTTYPE=image/jpeg:https://visitpikeville.com/wp-content/uploads/2024/09/act.jpg
END:VEVENT
BEGIN:VEVENT
DTSTART;TZID=America/Kentucky/Louisville:20241013T150000
DTEND;TZID=America/Kentucky/Louisville:20241013T170000
DTSTAMP:20260425T074601
CREATED:20231218T135927Z
LAST-MODIFIED:20231218T135927Z
UID:44075-1728831600-1728838800@visitpikeville.com
SUMMARY:Sleep in Safety - The Death of Octavia Hatcher
DESCRIPTION:Since the early part of the 20th century\, Octavia Hatcher’s monument has watched over the city of Pikeville from the cemetery on the hill. Octavia’s brief marriage to prominent Pikeville businessman James Hatcher ended suddenly when she suffered an unknown illness that resulted in her being buried alive. This original\, tragic story of her life and death is a chilling account which may explain why many say her spirit walks the graveyard to this day.
URL:https://visitpikeville.com/event/sleep-in-safety-the-death-of-octavia-hatcher-2-2-2/
LOCATION:Appalachian Center for the Arts\, 218 2nd St\,\, Pikeville\, Ky\, 41501
CATEGORIES:The Appalachian Center for the Arts
ATTACH;FMTTYPE=image/webp:https://visitpikeville.com/wp-content/uploads/2023/12/octvia-web-600.webp
END:VEVENT
BEGIN:VEVENT
DTSTART;TZID=America/Kentucky/Louisville:20241012T200000
DTEND;TZID=America/Kentucky/Louisville:20241012T233000
DTSTAMP:20260425T074601
CREATED:20240923T124219Z
LAST-MODIFIED:20240923T124219Z
UID:57441-1728763200-1728775800@visitpikeville.com
SUMMARY:Wayne Graham
DESCRIPTION:Wayne Graham is a band from southeast Kentucky made up of two brothers\, Hayden and Kenny Miles. Their sound is eclectic yet familiar; a combination that resonates with young and old listeners alike. It has been said that they both are old souls and that comes through clearly in their music. The two brothers started making music together very early on. Growing up in a musical family\, they learned a little bit from everyone. They were involved in a couple of projects before they started Wayne Graham in 2010. They named the band after their grandfathers\, Wayne Miles and Graham Kincer. Our music is about family\, when you take a listen you become part of the story\, because we sing about the joys and trials that every family faces. Two brothers who play rock music from the mountains of Kentucky.
URL:https://visitpikeville.com/event/wayne-graham/
LOCATION:Appalachian Wireless Arena\, 126 Main Street\, Pikeville\, Ky\, 41501
CATEGORIES:Appalachian Wireless Arena
ATTACH;FMTTYPE=image/jpeg:https://visitpikeville.com/wp-content/uploads/2024/09/WAYNE.jpeg
END:VEVENT
BEGIN:VEVENT
DTSTART;TZID=America/Kentucky/Louisville:20241012T193000
DTEND;TZID=America/Kentucky/Louisville:20241012T213000
DTSTAMP:20260425T074601
CREATED:20241008T151746Z
LAST-MODIFIED:20241008T151746Z
UID:58201-1728761400-1728768600@visitpikeville.com
SUMMARY:Live Music at Bank 253
DESCRIPTION:@ Bank 253
URL:https://visitpikeville.com/event/live-music-at-bank-253/
LOCATION:Ky
CATEGORIES:Other
ATTACH;FMTTYPE=image/jpeg:https://visitpikeville.com/wp-content/uploads/2024/10/bank-253.jpg
END:VEVENT
BEGIN:VEVENT
DTSTART;TZID=America/Kentucky/Louisville:20241012T193000
DTEND;TZID=America/Kentucky/Louisville:20241012T213000
DTSTAMP:20260425T074601
CREATED:20240916T143929Z
LAST-MODIFIED:20240916T143929Z
UID:57161-1728761400-1728768600@visitpikeville.com
SUMMARY:Wait Until Dark
DESCRIPTION:Opening night of our 2024-2025 season!
URL:https://visitpikeville.com/event/wait-until-dark-2-2/
LOCATION:Pikeville High School\, 120 Championship Dr\,\, Pikeville\, KY\, 41501\, United States
CATEGORIES:Other
ATTACH;FMTTYPE=image/jpeg:https://visitpikeville.com/wp-content/uploads/2024/09/act.jpg
END:VEVENT
BEGIN:VEVENT
DTSTART;TZID=America/Kentucky/Louisville:20241012T193000
DTEND;TZID=America/Kentucky/Louisville:20241012T213000
DTSTAMP:20260425T074601
CREATED:20231218T135839Z
LAST-MODIFIED:20231218T135839Z
UID:44073-1728761400-1728768600@visitpikeville.com
SUMMARY:Sleep in Safety - The Death of Octavia Hatcher
DESCRIPTION:Since the early part of the 20th century\, Octavia Hatcher’s monument has watched over the city of Pikeville from the cemetery on the hill. Octavia’s brief marriage to prominent Pikeville businessman James Hatcher ended suddenly when she suffered an unknown illness that resulted in her being buried alive. This original\, tragic story of her life and death is a chilling account which may explain why many say her spirit walks the graveyard to this day.
URL:https://visitpikeville.com/event/sleep-in-safety-the-death-of-octavia-hatcher-2-2/
LOCATION:Appalachian Center for the Arts\, 218 2nd St\,\, Pikeville\, Ky\, 41501
CATEGORIES:The Appalachian Center for the Arts
ATTACH;FMTTYPE=image/webp:https://visitpikeville.com/wp-content/uploads/2023/12/octvia-web-600.webp
END:VEVENT
BEGIN:VEVENT
DTSTART;TZID=America/Kentucky/Louisville:20241012T160000
DTEND;TZID=America/Kentucky/Louisville:20241012T170000
DTSTAMP:20260425T074601
CREATED:20240909T131835Z
LAST-MODIFIED:20240909T131835Z
UID:56833-1728748800-1728752400@visitpikeville.com
SUMMARY:Corn Eating Contest
DESCRIPTION:Free to Enter
URL:https://visitpikeville.com/event/corn-eating-contest/
LOCATION:Pikeville Farmer’s Market\, 130 Adams Lane\, Pikeville\, Ky
CATEGORIES:Other
ATTACH;FMTTYPE=image/jpeg:https://visitpikeville.com/wp-content/uploads/2024/09/corn.jpg
END:VEVENT
BEGIN:VEVENT
DTSTART;TZID=America/Kentucky/Louisville:20241012T150000
DTEND;TZID=America/Kentucky/Louisville:20241012T170000
DTSTAMP:20260425T074601
CREATED:20240916T143850Z
LAST-MODIFIED:20240916T143850Z
UID:57159-1728745200-1728752400@visitpikeville.com
SUMMARY:Wait Until Dark
DESCRIPTION:Opening night of our 2024-2025 season!
URL:https://visitpikeville.com/event/wait-until-dark-2/
LOCATION:Pikeville High School\, 120 Championship Dr\,\, Pikeville\, KY\, 41501\, United States
CATEGORIES:Other
ATTACH;FMTTYPE=image/jpeg:https://visitpikeville.com/wp-content/uploads/2024/09/act.jpg
END:VEVENT
BEGIN:VEVENT
DTSTART;TZID=America/Kentucky/Louisville:20241012T150000
DTEND;TZID=America/Kentucky/Louisville:20241012T170000
DTSTAMP:20260425T074601
CREATED:20240729T140217Z
LAST-MODIFIED:20240729T140217Z
UID:54210-1728745200-1728752400@visitpikeville.com
SUMMARY:Young Adult Craft Class
DESCRIPTION:This social craft class for young adults ages 18-25 meets alternating Saturdays at 3:00. No registration required.
URL:https://visitpikeville.com/event/young-adult-craft-class-2-2-2-2/
LOCATION:Pike County Public Library\, 126 Lee Avenue\, Pikeville\, KY\, 41501\, United States
CATEGORIES:Pike County Public Library
ATTACH;FMTTYPE=image/jpeg:https://visitpikeville.com/wp-content/uploads/2024/07/young.jpg
END:VEVENT
END:VCALENDAR