BEGIN:VCALENDAR
VERSION:2.0
PRODID:-//Visit Pikeville - ECPv6.15.20//NONSGML v1.0//EN
CALSCALE:GREGORIAN
METHOD:PUBLISH
X-WR-CALNAME:Visit Pikeville
X-ORIGINAL-URL:https://visitpikeville.com
X-WR-CALDESC:Events for Visit Pikeville
REFRESH-INTERVAL;VALUE=DURATION:PT1H
X-Robots-Tag:noindex
X-PUBLISHED-TTL:PT1H
BEGIN:VTIMEZONE
TZID:America/Kentucky/Louisville
BEGIN:DAYLIGHT
TZOFFSETFROM:-0500
TZOFFSETTO:-0400
TZNAME:EDT
DTSTART:20230312T070000
END:DAYLIGHT
BEGIN:STANDARD
TZOFFSETFROM:-0400
TZOFFSETTO:-0500
TZNAME:EST
DTSTART:20231105T060000
END:STANDARD
BEGIN:DAYLIGHT
TZOFFSETFROM:-0500
TZOFFSETTO:-0400
TZNAME:EDT
DTSTART:20240310T070000
END:DAYLIGHT
BEGIN:STANDARD
TZOFFSETFROM:-0400
TZOFFSETTO:-0500
TZNAME:EST
DTSTART:20241103T060000
END:STANDARD
BEGIN:DAYLIGHT
TZOFFSETFROM:-0500
TZOFFSETTO:-0400
TZNAME:EDT
DTSTART:20250309T070000
END:DAYLIGHT
BEGIN:STANDARD
TZOFFSETFROM:-0400
TZOFFSETTO:-0500
TZNAME:EST
DTSTART:20251102T060000
END:STANDARD
END:VTIMEZONE
BEGIN:VEVENT
DTSTART;TZID=America/Kentucky/Louisville:20241011T203000
DTEND;TZID=America/Kentucky/Louisville:20241011T223000
DTSTAMP:20260425T074444
CREATED:20240903T131742Z
LAST-MODIFIED:20240903T131742Z
UID:56366-1728678600-1728685800@visitpikeville.com
SUMMARY:Kudzu Killers
DESCRIPTION:Expect more great music in the fall!
URL:https://visitpikeville.com/event/kudzu-killers-2/
LOCATION:Pearse’s Place\, 224 2nd St\,\, Pikeville\, KY\, 41501\, United States
CATEGORIES:Other
ATTACH;FMTTYPE=image/jpeg:https://visitpikeville.com/wp-content/uploads/2024/09/kudzu.jpg
END:VEVENT
BEGIN:VEVENT
DTSTART;TZID=America/Kentucky/Louisville:20241011T193000
DTEND;TZID=America/Kentucky/Louisville:20241011T213000
DTSTAMP:20260425T074444
CREATED:20240916T143540Z
LAST-MODIFIED:20240916T143540Z
UID:57156-1728675000-1728682200@visitpikeville.com
SUMMARY:Wait Until Dark
DESCRIPTION:Opening night of our 2024-2025 season!
URL:https://visitpikeville.com/event/wait-until-dark/
LOCATION:Pikeville High School\, 120 Championship Dr\,\, Pikeville\, KY\, 41501\, United States
CATEGORIES:Other
ATTACH;FMTTYPE=image/jpeg:https://visitpikeville.com/wp-content/uploads/2024/09/act.jpg
END:VEVENT
BEGIN:VEVENT
DTSTART;TZID=America/Kentucky/Louisville:20241011T193000
DTEND;TZID=America/Kentucky/Louisville:20241011T213000
DTSTAMP:20260425T074444
CREATED:20231218T135756Z
LAST-MODIFIED:20231218T135756Z
UID:44071-1728675000-1728682200@visitpikeville.com
SUMMARY:Sleep in Safety - The Death of Octavia Hatcher
DESCRIPTION:Since the early part of the 20th century\, Octavia Hatcher’s monument has watched over the city of Pikeville from the cemetery on the hill. Octavia’s brief marriage to prominent Pikeville businessman James Hatcher ended suddenly when she suffered an unknown illness that resulted in her being buried alive. This original\, tragic story of her life and death is a chilling account which may explain why many say her spirit walks the graveyard to this day.
URL:https://visitpikeville.com/event/sleep-in-safety-the-death-of-octavia-hatcher-2/
LOCATION:Appalachian Center for the Arts\, 218 2nd St\,\, Pikeville\, Ky\, 41501
CATEGORIES:The Appalachian Center for the Arts
ATTACH;FMTTYPE=image/webp:https://visitpikeville.com/wp-content/uploads/2023/12/octvia-web-600.webp
END:VEVENT
BEGIN:VEVENT
DTSTART;TZID=America/Kentucky/Louisville:20241011T183000
DTEND;TZID=America/Kentucky/Louisville:20241011T203000
DTSTAMP:20260425T074444
CREATED:20240722T130316Z
LAST-MODIFIED:20240722T130316Z
UID:53715-1728671400-1728678600@visitpikeville.com
SUMMARY:Volleyball vs Johnson University
DESCRIPTION:Game Day!
URL:https://visitpikeville.com/event/volleyball-vs-johnson-university-2/
LOCATION:UPIKE GYM\, Hibbard St\,\, Pikeville\, KY\, 41501\, United States
CATEGORIES:UPike
ATTACH;FMTTYPE=image/png:https://visitpikeville.com/wp-content/uploads/2024/07/Screen-Shot-2024-07-22-at-9.01.52-AM.png
END:VEVENT
BEGIN:VEVENT
DTSTART;TZID=America/Kentucky/Louisville:20241010T193000
DTEND;TZID=America/Kentucky/Louisville:20241010T213000
DTSTAMP:20260425T074444
CREATED:20231218T135655Z
LAST-MODIFIED:20231218T135655Z
UID:44068-1728588600-1728595800@visitpikeville.com
SUMMARY:Sleep in Safety - The Death of Octavia Hatcher
DESCRIPTION:Since the early part of the 20th century\, Octavia Hatcher’s monument has watched over the city of Pikeville from the cemetery on the hill. Octavia’s brief marriage to prominent Pikeville businessman James Hatcher ended suddenly when she suffered an unknown illness that resulted in her being buried alive. This original\, tragic story of her life and death is a chilling account which may explain why many say her spirit walks the graveyard to this day.
URL:https://visitpikeville.com/event/sleep-in-safety-the-death-of-octavia-hatcher/
LOCATION:Appalachian Center for the Arts\, 218 2nd St\,\, Pikeville\, Ky\, 41501
CATEGORIES:The Appalachian Center for the Arts
ATTACH;FMTTYPE=image/webp:https://visitpikeville.com/wp-content/uploads/2023/12/octvia-web-600.webp
END:VEVENT
BEGIN:VEVENT
DTSTART;TZID=America/Kentucky/Louisville:20241010T183000
DTEND;TZID=America/Kentucky/Louisville:20241010T203000
DTSTAMP:20260425T074444
CREATED:20241008T150939Z
LAST-MODIFIED:20241008T150939Z
UID:58196-1728585000-1728592200@visitpikeville.com
SUMMARY:Trivia night at Bank 253
DESCRIPTION:Get ready for next Thursday! Trivia Thursday is near. Enjoy prizes and exclusive drink specials.
URL:https://visitpikeville.com/event/trivia-night-at-bank-253/
LOCATION:Bank 253\, 253 2nd St\,\, Pikeville\, KY\, 41501\, United States
CATEGORIES:Other
ATTACH;FMTTYPE=image/jpeg:https://visitpikeville.com/wp-content/uploads/2024/10/trivia-night.jpg
END:VEVENT
BEGIN:VEVENT
DTSTART;TZID=America/Kentucky/Louisville:20241010T180000
DTEND;TZID=America/Kentucky/Louisville:20241010T190000
DTSTAMP:20260425T074444
CREATED:20240923T132654Z
LAST-MODIFIED:20240923T132654Z
UID:57461-1728583200-1728586800@visitpikeville.com
SUMMARY:Toastmasters: Learn Public Speaking
DESCRIPTION:Toasters International is a nonprofit educational organization that teaches public speaking and leadership skills through a worldwide network of clubs.\nThere’s no pressure to participate until you are ready and comfortable. Mountains Movers is the local Toastmasters club in Pike County and meets each month on the second and fourth Thursday at 6:00 p.m. at the Pike County Public Library (Lee Avenue). Anyone is welcome to attend!\nNo registration required.
URL:https://visitpikeville.com/event/toastmasters-learn-public-speaking/
LOCATION:Pike County Public Library\, 126 Lee Avenue\, Pikeville\, KY\, 41501\, United States
CATEGORIES:Pike County Public Library
ATTACH;FMTTYPE=image/jpeg:https://visitpikeville.com/wp-content/uploads/2024/09/public-speaking.jpg
END:VEVENT
BEGIN:VEVENT
DTSTART;TZID=America/Kentucky/Louisville:20241010T173000
DTEND;TZID=America/Kentucky/Louisville:20241010T183000
DTSTAMP:20260425T074444
CREATED:20240930T152715Z
LAST-MODIFIED:20240930T152715Z
UID:57867-1728581400-1728585000@visitpikeville.com
SUMMARY:Painting Class: Pumpkins
DESCRIPTION:The Pike County Extension Office will led a painting class featuring pumpkins on canvas at the Pike County Public Library on October 10 at 5:30. Registration is required. For teens-adults.\nTo register\, click here: https://informationplace.libnet.info/event/11927260
URL:https://visitpikeville.com/event/painting-class-pumpkins/
LOCATION:Pike County Public Library\, 126 Lee Avenue\, Pikeville\, KY\, 41501\, United States
CATEGORIES:Pike County Public Library
ATTACH;FMTTYPE=image/jpeg:https://visitpikeville.com/wp-content/uploads/2024/09/PUMPKINS.jpg
END:VEVENT
BEGIN:VEVENT
DTSTART;TZID=America/Kentucky/Louisville:20241010T173000
DTEND;TZID=America/Kentucky/Louisville:20241010T183000
DTSTAMP:20260425T074444
CREATED:20240930T152003Z
LAST-MODIFIED:20240930T152003Z
UID:57859-1728581400-1728585000@visitpikeville.com
SUMMARY:Sign Language Class
DESCRIPTION:Learn American Sign Language with interpreter Tracy Jackson\, with classes held every Thursday at 5:30 at the Pike County Public Library (Lee Avenue). Suitable for all ages. No registration required.
URL:https://visitpikeville.com/event/sign-language-class-3-2-2-2-2-2-2-2-2-2/
LOCATION:Pike County Public Library\, 126 Lee Avenue\, Pikeville\, KY\, 41501\, United States
CATEGORIES:Pike County Public Library
ATTACH;FMTTYPE=image/png:https://visitpikeville.com/wp-content/uploads/2024/08/Sign_Language_Class.png
END:VEVENT
BEGIN:VEVENT
DTSTART;TZID=America/Kentucky/Louisville:20241010T170000
DTEND;TZID=America/Kentucky/Louisville:20241010T210000
DTSTAMP:20260425T074444
CREATED:20241008T151115Z
LAST-MODIFIED:20241008T151115Z
UID:58199-1728579600-1728594000@visitpikeville.com
SUMMARY:Beginners Sewing
DESCRIPTION:Come and Join Us
URL:https://visitpikeville.com/event/beginners-sewing-2-2-2-2-2-2-2-2-2-2-2-2-2-2-2-2-2-2-2-2-2-2-2-2-2-2-2-2-2/
LOCATION:Bridgett’s Quilting and Fabric Shop\, 237 2nd St\,\, Pikeville\, KY\, 41501\, United States
CATEGORIES:Pikeville Main Street
ATTACH;FMTTYPE=image/jpeg:https://visitpikeville.com/wp-content/uploads/2023/10/bridgetts.jpeg
END:VEVENT
BEGIN:VEVENT
DTSTART;TZID=America/Kentucky/Louisville:20241010T170000
DTEND;TZID=America/Kentucky/Louisville:20241010T184500
DTSTAMP:20260425T074444
CREATED:20240930T152839Z
LAST-MODIFIED:20240930T152839Z
UID:57870-1728579600-1728585900@visitpikeville.com
SUMMARY:Dungeons and Dragons
DESCRIPTION:Dungeons and Dragons Group meets every other Thursday at 5:00 at the Pike County Public Library (Lee Avenue). Beginners and experienced players alike are welcome.
URL:https://visitpikeville.com/event/dungeons-and-dragons-5-2-2-2-2-2-2-2-2-2-2-2-2-2-2-2-2/
LOCATION:Pike County Public Library\, 126 Lee Avenue\, Pikeville\, KY\, 41501\, United States
CATEGORIES:Pike County Public Library
ATTACH;FMTTYPE=image/png:https://visitpikeville.com/wp-content/uploads/2023/12/D_D_Group.png
END:VEVENT
BEGIN:VEVENT
DTSTART;TZID=America/Kentucky/Louisville:20241010T140000
DTEND;TZID=America/Kentucky/Louisville:20241010T150000
DTSTAMP:20260425T074444
CREATED:20240930T150552Z
LAST-MODIFIED:20240930T150552Z
UID:57837-1728568800-1728572400@visitpikeville.com
SUMMARY:Story Time
DESCRIPTION:tory Time is for children ages 5 and under and features books\, action/movement\, songs\, and a craft. Story Time is held Thursdays at 11:00 and 2:00 and Saturdays at 11:00. \n\n\n\n\n\n\n  \nBesides being fun\, Story Time also helps develop early literacy and school readiness skills through reading\, singing\, listening\, playing\, and social interaction. This program lasts approximately 30 minutes\, and caregivers and children are encouraged to linger in the library afterwards to further socialize and choose books to take home.
URL:https://visitpikeville.com/event/story-time-2-2-2-2-2-2-2-2-2-2-2-2-2-2-2-2-2-2-2-2-2-2-2-2-2-2-2-2-2-2-2-2-2-2-2-2-2-2-2-2-2-2-2-2-2-2-2-2-2-2-2-2-2-2-2-3-2-2-2-2-2-2-2-2-2-2-2-2-2/
LOCATION:Pike County Public Library\, 126 Lee Avenue\, Pikeville\, KY\, 41501\, United States
CATEGORIES:Pike County Public Library
ATTACH;FMTTYPE=image/png:https://visitpikeville.com/wp-content/uploads/2023/12/Story_TimeLEE.png
END:VEVENT
BEGIN:VEVENT
DTSTART;TZID=America/Kentucky/Louisville:20241010T110000
DTEND;TZID=America/Kentucky/Louisville:20241010T120000
DTSTAMP:20260425T074444
CREATED:20240930T150525Z
LAST-MODIFIED:20240930T150525Z
UID:57835-1728558000-1728561600@visitpikeville.com
SUMMARY:Story Time
DESCRIPTION:tory Time is for children ages 5 and under and features books\, action/movement\, songs\, and a craft. Story Time is held Thursdays at 11:00 and 2:00 and Saturdays at 11:00. \n\n\n\n\n\n\n  \nBesides being fun\, Story Time also helps develop early literacy and school readiness skills through reading\, singing\, listening\, playing\, and social interaction. This program lasts approximately 30 minutes\, and caregivers and children are encouraged to linger in the library afterwards to further socialize and choose books to take home.
URL:https://visitpikeville.com/event/story-time-2-2-2-2-2-2-2-2-2-2-2-2-2-2-2-2-2-2-2-2-2-2-2-2-2-2-2-2-2-2-2-2-2-2-2-2-2-2-2-2-2-2-2-2-2-2-2-2-2-2-2-2-2-2-2-3-2-2-2-2-2-2-2-2-2-2-2-2/
LOCATION:Pike County Public Library\, 126 Lee Avenue\, Pikeville\, KY\, 41501\, United States
CATEGORIES:Pike County Public Library
ATTACH;FMTTYPE=image/png:https://visitpikeville.com/wp-content/uploads/2023/12/Story_TimeLEE.png
END:VEVENT
BEGIN:VEVENT
DTSTART;TZID=America/Kentucky/Louisville:20241009T163000
DTEND;TZID=America/Kentucky/Louisville:20241009T173000
DTSTAMP:20260425T074444
CREATED:20240701T132031Z
LAST-MODIFIED:20240701T132031Z
UID:53061-1728491400-1728495000@visitpikeville.com
SUMMARY:Men's Soccer vs Tennessee Wesleyan University
DESCRIPTION:Game Day!
URL:https://visitpikeville.com/event/mens-soccer-vs-tennessee-wesleyan-university/
LOCATION:Bob Amos Park\, 424 Bob Amos Dr\, Pikeville\, Ky\, 41501
CATEGORIES:UPike
ATTACH;FMTTYPE=image/png:https://visitpikeville.com/wp-content/uploads/2024/07/Screen-Shot-2024-07-01-at-9.18.12-AM.png
END:VEVENT
BEGIN:VEVENT
DTSTART;TZID=America/Kentucky/Louisville:20241009T140000
DTEND;TZID=America/Kentucky/Louisville:20241009T150000
DTSTAMP:20260425T074444
CREATED:20240701T131804Z
LAST-MODIFIED:20240701T131804Z
UID:53058-1728482400-1728486000@visitpikeville.com
SUMMARY:Women's Soccer vs Tennessee Wesleyan University
DESCRIPTION:Game Day!
URL:https://visitpikeville.com/event/womens-soccer-vs-tennessee-wesleyan-university-2/
LOCATION:Bob Amos Park\, 424 Bob Amos Dr\, Pikeville\, Ky\, 41501
CATEGORIES:UPike
ATTACH;FMTTYPE=image/png:https://visitpikeville.com/wp-content/uploads/2024/07/Screen-Shot-2024-07-01-at-9.15.59-AM.png
END:VEVENT
BEGIN:VEVENT
DTSTART;TZID=America/Kentucky/Louisville:20241009T120000
DTEND;TZID=America/Kentucky/Louisville:20241009T130000
DTSTAMP:20260425T074444
CREATED:20241008T145852Z
LAST-MODIFIED:20241008T145852Z
UID:58189-1728475200-1728478800@visitpikeville.com
SUMMARY:Ribbon Cutting and Open House at Lush Esthetics
DESCRIPTION:Please join Pikeville Main Street as we celebrate the ribbon cutting and open house at Lush Esthetics this Wednesday at Noon. Take time to tour the new location and get information on all services offered.
URL:https://visitpikeville.com/event/ribbon-cutting-and-open-house-at-lush-esthetics/
LOCATION:Lush Esthetics\, 172 College Street\, Pikeville\, KY\, 41501\, United States
CATEGORIES:Pikeville Main Street
ATTACH;FMTTYPE=image/jpeg:https://visitpikeville.com/wp-content/uploads/2024/10/lush.jpg
END:VEVENT
BEGIN:VEVENT
DTSTART;TZID=America/Kentucky/Louisville:20241008T183000
DTEND;TZID=America/Kentucky/Louisville:20241008T203000
DTSTAMP:20260425T074444
CREATED:20240722T130103Z
LAST-MODIFIED:20240722T130103Z
UID:53712-1728412200-1728419400@visitpikeville.com
SUMMARY:Volleyball vs Bluefield University
DESCRIPTION:Game Day!
URL:https://visitpikeville.com/event/volleyball-vs-bluefield-university/
LOCATION:UPIKE GYM\, Hibbard St\,\, Pikeville\, KY\, 41501\, United States
CATEGORIES:UPike
ATTACH;FMTTYPE=image/png:https://visitpikeville.com/wp-content/uploads/2024/07/Screen-Shot-2024-07-22-at-8.59.44-AM.png
END:VEVENT
BEGIN:VEVENT
DTSTART;TZID=America/Kentucky/Louisville:20241008T170000
DTEND;TZID=America/Kentucky/Louisville:20241008T180000
DTSTAMP:20260425T074444
CREATED:20240930T152356Z
LAST-MODIFIED:20240930T152356Z
UID:57865-1728406800-1728410400@visitpikeville.com
SUMMARY:Book Talks
DESCRIPTION:Every Other Tuesday at 5pm-6pm
URL:https://visitpikeville.com/event/book-talks-book-club-9-2-2-2-2-2-2-2-2-2-2-2-2-2-2-2-2-2-2-2-2-2-2-2-2-2-2-2/
LOCATION:Pike County Public Library\, 126 Lee Avenue\, Pikeville\, KY\, 41501\, United States
CATEGORIES:Pike County Public Library
ATTACH;FMTTYPE=image/jpeg:https://visitpikeville.com/wp-content/uploads/2023/06/book-talks.jpeg
END:VEVENT
BEGIN:VEVENT
DTSTART;TZID=America/Kentucky/Louisville:20241008T170000
DTEND;TZID=America/Kentucky/Louisville:20241008T180000
DTSTAMP:20260425T074444
CREATED:20240916T134426Z
LAST-MODIFIED:20240916T134426Z
UID:57126-1728406800-1728410400@visitpikeville.com
SUMMARY:Skeletons at The Story Trail
DESCRIPTION:Stroll your skeletons down the Story Trail to read “Skeleton Hiccups” by Margery Cuyler. Search for bones along the path\, and stick around for a bone-us at the end of the trail: making dancing skeleton wooden puppets. Sure to tickle your funny bone!\nThis program will take place on Tuesday\, October 8th at 5:00 at the Story Trail located at Bob Amos Park. No registration is required.\nIn the event of rain\, this event will be postponed.
URL:https://visitpikeville.com/event/skeletons-at-the-story-trail/
LOCATION:Bob Amos Park\, 424 Bob Amos Dr\, Pikeville\, Ky\, 41501
CATEGORIES:Pike County Public Library
ATTACH;FMTTYPE=image/jpeg:https://visitpikeville.com/wp-content/uploads/2024/09/skeletons.jpg
END:VEVENT
BEGIN:VEVENT
DTSTART;TZID=America/Kentucky/Louisville:20241008T163000
DTEND;TZID=America/Kentucky/Louisville:20241008T190000
DTSTAMP:20260425T074444
CREATED:20240513T175643Z
LAST-MODIFIED:20240513T175643Z
UID:51293-1728405000-1728414000@visitpikeville.com
SUMMARY:Pikeville Farmer's Market
DESCRIPTION:Tuesday from 4:30-7:00 \nSaturday 9:00-1:00 \n 
URL:https://visitpikeville.com/event/pikeville-farmers-market-5-3-2-2-3-2-2-2-2-2-2-2-2-2-2-2-2-2-2-2-2/
LOCATION:Pikeville Farmer’s Market\, 130 Adams Lane\, Pikeville\, Ky
CATEGORIES:Other
ATTACH;FMTTYPE=image/jpeg:https://visitpikeville.com/wp-content/uploads/2024/05/farmers-market.jpeg
END:VEVENT
BEGIN:VEVENT
DTSTART;TZID=America/Kentucky/Louisville:20241008T120000
DTEND;TZID=America/Kentucky/Louisville:20241008T130000
DTSTAMP:20260425T074444
CREATED:20240916T123758Z
LAST-MODIFIED:20240916T123758Z
UID:57101-1728388800-1728392400@visitpikeville.com
SUMMARY:Lunch & Learn with Sec. Jeff Noel
DESCRIPTION:Free for members \nFuture members $20
URL:https://visitpikeville.com/event/lunch-learn-with-sec-jeff-noel/
LOCATION:Garfield House\, 178 College Street\, Pikeville\, KY\, 41501\, United States
CATEGORIES:Southeast Kentucky Chamber
ATTACH;FMTTYPE=image/png:https://visitpikeville.com/wp-content/uploads/2024/09/LL-Sept2024-Sec.JeffNoel.png
END:VEVENT
BEGIN:VEVENT
DTSTART;TZID=America/Kentucky/Louisville:20241005T200000
DTEND;TZID=America/Kentucky/Louisville:20241005T220000
DTSTAMP:20260425T074444
CREATED:20240909T122221Z
LAST-MODIFIED:20240909T122221Z
UID:56810-1728158400-1728165600@visitpikeville.com
SUMMARY:Watch a Movie with Actor Anthony Michael Hall
DESCRIPTION:Spend a thrilling evening with actor Anthony Michael Hall as he regales you with stories from his experiences on the sets of some of his classic movies such as Sixteen Candles\, The Breakfast Club and Weird Science. \nJoin this 80’s icon for an intimate screening of his movie\, Dead In Tombstone along with a Q&A session. Afterwards there will be an opportunity for autographs\, merchandise and a photo. \n* Doors open at 7:00 pm\, Movie starts at 8:00 pm\n* Show is all ages\, recommended over 17\n* Meet & Greet is free for single photo. Autographs can be discussed with actor at the merch table. \nTickets\nVIP Reserved Seating $40\nGeneral Admission $25
URL:https://visitpikeville.com/event/watch-a-movie-with-actor-anthony-michael-hall/
LOCATION:Appalachian Center for the Arts\, 218 2nd St\,\, Pikeville\, Ky\, 41501
CATEGORIES:The Appalachian Center for the Arts
ATTACH;FMTTYPE=image/jpeg:https://visitpikeville.com/wp-content/uploads/2024/09/movie.jpg
END:VEVENT
BEGIN:VEVENT
DTSTART;TZID=America/Kentucky/Louisville:20241005T193000
DTEND;TZID=America/Kentucky/Louisville:20241005T213000
DTSTAMP:20260425T074444
CREATED:20240916T145241Z
LAST-MODIFIED:20240916T145241Z
UID:57178-1728156600-1728163800@visitpikeville.com
SUMMARY:Homecoming Celebration
DESCRIPTION:All former UPIKE Band members are invited to join  The UPIKE Marching Band in a stand-still performance at this years Homecoming Game
URL:https://visitpikeville.com/event/homecoming-celebration/
LOCATION:Hambley Athletic Complex\, 120 Championship Dr\,\, Pikeville\, KY\, 41501\, United States
CATEGORIES:Other
ATTACH;FMTTYPE=image/jpeg:https://visitpikeville.com/wp-content/uploads/2024/09/homecoming.jpg
END:VEVENT
BEGIN:VEVENT
DTSTART;TZID=America/Kentucky/Louisville:20241005T190000
DTEND;TZID=America/Kentucky/Louisville:20241005T220000
DTSTAMP:20260425T074444
CREATED:20240729T131408Z
LAST-MODIFIED:20240729T131408Z
UID:54166-1728154800-1728165600@visitpikeville.com
SUMMARY:2nd Shift
DESCRIPTION:Event by Main Street Live at the Mountain Top Media Stage
URL:https://visitpikeville.com/event/2nd-shift/
LOCATION:Mountain Top Media Stage\, 126 Main St\,\, Pikeville\, KY\, 41501\, United States
CATEGORIES:Mountain Top Media
ATTACH;FMTTYPE=image/jpeg:https://visitpikeville.com/wp-content/uploads/2024/07/2nd.jpg
END:VEVENT
BEGIN:VEVENT
DTSTART;TZID=America/Kentucky/Louisville:20241005T190000
DTEND;TZID=America/Kentucky/Louisville:20241005T220000
DTSTAMP:20260425T074445
CREATED:20240715T182945Z
LAST-MODIFIED:20240715T182945Z
UID:53402-1728154800-1728165600@visitpikeville.com
SUMMARY:Main Street Live
DESCRIPTION:Part 2 of Main Street Live at the Mountain Top Media StageSaturday Night Special!!!
URL:https://visitpikeville.com/event/main-street-live-2-2/
LOCATION:Mountain Top Media Stage\, 126 Main St\,\, Pikeville\, KY\, 41501\, United States
CATEGORIES:Mountain Top Media
ATTACH;FMTTYPE=image/jpeg:https://visitpikeville.com/wp-content/uploads/2024/07/main-street.jpg
END:VEVENT
BEGIN:VEVENT
DTSTART;TZID=America/Kentucky/Louisville:20241005T133000
DTEND;TZID=America/Kentucky/Louisville:20241005T153000
DTSTAMP:20260425T074445
CREATED:20240701T131014Z
LAST-MODIFIED:20240701T131014Z
UID:53055-1728135000-1728142200@visitpikeville.com
SUMMARY:Football vs Reinhardt University
DESCRIPTION:Game Day!
URL:https://visitpikeville.com/event/football-vs-reinhardt-university/
LOCATION:Pikeville High School\, 120 Championship Dr\,\, Pikeville\, KY\, 41501\, United States
CATEGORIES:UPike
ATTACH;FMTTYPE=image/png:https://visitpikeville.com/wp-content/uploads/2024/07/Screen-Shot-2024-07-01-at-9.08.19-AM.png
END:VEVENT
BEGIN:VEVENT
DTSTART;TZID=America/Kentucky/Louisville:20241005T130000
DTEND;TZID=America/Kentucky/Louisville:20241005T140000
DTSTAMP:20260425T074445
CREATED:20240903T150431Z
LAST-MODIFIED:20240903T150431Z
UID:56486-1728133200-1728136800@visitpikeville.com
SUMMARY:The Basics of Paranormal
DESCRIPTION:ParaVizionz Paranormal Society will lead a presentation on The Basics of Paranormal\, including aspects of equipment\, shows\, EMF\, Orbs\, Poltergeist\, Residual and Intelligent activity.\nThis program will be held at the Pike County Public Library (Lee Avenue) on Saturday\, October 5th at 1:00. No registration is required.\nBased in Cincinnati\, ParaVizionz Paranormal Society is a professional paranormal investigation and research team from varied backgrounds that began in 2002. Their ultimate goal is to provide clients with potential explanations and possible solutions to ease any discomfort they may have at their home or business. By utilizing the wide spectrum of specialized equipment and technology in their arsenal\, all data collected during an investigation is thoroughly reviewed. Together the team possesses over 50 years of investigating experience.
URL:https://visitpikeville.com/event/the-basics-of-paranormal/
LOCATION:Pike County Public Library\, 126 Lee Avenue\, Pikeville\, KY\, 41501\, United States
CATEGORIES:Pike County Public Library
ATTACH;FMTTYPE=image/jpeg:https://visitpikeville.com/wp-content/uploads/2024/09/paranormal.jpg
END:VEVENT
BEGIN:VEVENT
DTSTART;TZID=America/Kentucky/Louisville:20241005T110000
DTEND;TZID=America/Kentucky/Louisville:20241005T120000
DTSTAMP:20260425T074445
CREATED:20240930T150453Z
LAST-MODIFIED:20240930T150453Z
UID:57833-1728126000-1728129600@visitpikeville.com
SUMMARY:Story Time
DESCRIPTION:tory Time is for children ages 5 and under and features books\, action/movement\, songs\, and a craft. Story Time is held Thursdays at 11:00 and 2:00 and Saturdays at 11:00. \n\n\n\n\n\n\n  \nBesides being fun\, Story Time also helps develop early literacy and school readiness skills through reading\, singing\, listening\, playing\, and social interaction. This program lasts approximately 30 minutes\, and caregivers and children are encouraged to linger in the library afterwards to further socialize and choose books to take home.
URL:https://visitpikeville.com/event/story-time-2-2-2-2-2-2-2-2-2-2-2-2-2-2-2-2-2-2-2-2-2-2-2-2-2-2-2-2-2-2-2-2-2-2-2-2-2-2-2-2-2-2-2-2-2-2-2-2-2-2-2-2-2-2-2-3-2-2-2-2-2-2-2-2-2-2-2/
LOCATION:Pike County Public Library\, 126 Lee Avenue\, Pikeville\, KY\, 41501\, United States
CATEGORIES:Pike County Public Library
ATTACH;FMTTYPE=image/png:https://visitpikeville.com/wp-content/uploads/2023/12/Story_TimeLEE.png
END:VEVENT
BEGIN:VEVENT
DTSTART;TZID=America/Kentucky/Louisville:20241005T100000
DTEND;TZID=America/Kentucky/Louisville:20241005T140000
DTSTAMP:20260425T074445
CREATED:20240909T133814Z
LAST-MODIFIED:20240909T133814Z
UID:56850-1728122400-1728136800@visitpikeville.com
SUMMARY:“Boo”-Tox party
DESCRIPTION:Our annual “Boo”-Tox party is coming up!Botox $10 per unit\, Xeomin $8 per unit\, & $50 Lip Flips 
URL:https://visitpikeville.com/event/boo-tox-party/
LOCATION:Pinch Aesthetics\, 124 Division Street Suite 1\, Pikeville\, KY\, 41501\, United States
CATEGORIES:Pikeville Main Street
ATTACH;FMTTYPE=image/jpeg:https://visitpikeville.com/wp-content/uploads/2024/09/bootox.jpg
END:VEVENT
BEGIN:VEVENT
DTSTART;TZID=America/Kentucky/Louisville:20241005T090000
DTEND;TZID=America/Kentucky/Louisville:20241005T130000
DTSTAMP:20260425T074445
CREATED:20240513T175559Z
LAST-MODIFIED:20240513T175559Z
UID:51291-1728118800-1728133200@visitpikeville.com
SUMMARY:Pikeville Farmer's Market
DESCRIPTION:Tuesday from 4:30-7:00 \nSaturday 9:00-1:00 \n 
URL:https://visitpikeville.com/event/pikeville-farmers-market-5-2-2-2-2-2-2-2-2-2-2-2-2-2-2-2-2-2-2-2-2-2/
LOCATION:Pikeville Farmer’s Market\, 130 Adams Lane\, Pikeville\, Ky
CATEGORIES:Other
ATTACH;FMTTYPE=image/jpeg:https://visitpikeville.com/wp-content/uploads/2024/05/farmers-market.jpeg
END:VEVENT
END:VCALENDAR