BEGIN:VCALENDAR
VERSION:2.0
PRODID:-//Visit Pikeville - ECPv6.15.20//NONSGML v1.0//EN
CALSCALE:GREGORIAN
METHOD:PUBLISH
X-WR-CALNAME:Visit Pikeville
X-ORIGINAL-URL:https://visitpikeville.com
X-WR-CALDESC:Events for Visit Pikeville
REFRESH-INTERVAL;VALUE=DURATION:PT1H
X-Robots-Tag:noindex
X-PUBLISHED-TTL:PT1H
BEGIN:VTIMEZONE
TZID:America/Kentucky/Louisville
BEGIN:DAYLIGHT
TZOFFSETFROM:-0500
TZOFFSETTO:-0400
TZNAME:EDT
DTSTART:20250309T070000
END:DAYLIGHT
BEGIN:STANDARD
TZOFFSETFROM:-0400
TZOFFSETTO:-0500
TZNAME:EST
DTSTART:20251102T060000
END:STANDARD
BEGIN:DAYLIGHT
TZOFFSETFROM:-0500
TZOFFSETTO:-0400
TZNAME:EDT
DTSTART:20260308T070000
END:DAYLIGHT
BEGIN:STANDARD
TZOFFSETFROM:-0400
TZOFFSETTO:-0500
TZNAME:EST
DTSTART:20261101T060000
END:STANDARD
BEGIN:DAYLIGHT
TZOFFSETFROM:-0500
TZOFFSETTO:-0400
TZNAME:EDT
DTSTART:20270314T070000
END:DAYLIGHT
BEGIN:STANDARD
TZOFFSETFROM:-0400
TZOFFSETTO:-0500
TZNAME:EST
DTSTART:20271107T060000
END:STANDARD
END:VTIMEZONE
BEGIN:VEVENT
DTSTART;TZID=America/Kentucky/Louisville:20260115T180000
DTEND;TZID=America/Kentucky/Louisville:20260115T210000
DTSTAMP:20260422T011424
CREATED:20260112T153930Z
LAST-MODIFIED:20260112T153930Z
UID:72424-1768500000-1768510800@visitpikeville.com
SUMMARY:Live Trivia at the Distillery
DESCRIPTION:Join us at Brothers Wright Distilling Co. on Thursday\, January 15th for live trivia hosted by El Hasa Shriners. All proceeds benefit Shriners Hospitals for Children in Lexington\, which provides specialized pediatric care to children regardless of a family’s ability to pay.Registration begins at 6 PM and the first question starts at 7 PM. Cost is $10 per person\, teams of four\, and the winning team takes home half the pot.Please drink responsibly.
URL:https://visitpikeville.com/event/live-trivia-at-the-distillery/
LOCATION:Brothers Wright Distilling Co.\, 2nd Street\, Pikeville\, KY\, 41501\, United States
CATEGORIES:UPike
ATTACH;FMTTYPE=image/jpeg:https://visitpikeville.com/wp-content/uploads/2026/01/shriners.jpg
END:VEVENT
BEGIN:VEVENT
DTSTART;VALUE=DATE:20260116
DTEND;VALUE=DATE:20260117
DTSTAMP:20260422T011424
CREATED:20251006T121654Z
LAST-MODIFIED:20251006T121654Z
UID:69284-1768521600-1768607999@visitpikeville.com
SUMMARY:Men's Wrestling vs Truett McConnell University
DESCRIPTION:Men’s Wrestling
URL:https://visitpikeville.com/event/mens-wrestling-vs-truett-mcconnell-university/
LOCATION:UPIKE GYM\, Hibbard St\,\, Pikeville\, KY\, 41501\, United States
CATEGORIES:UPike
ATTACH;FMTTYPE=image/png:https://visitpikeville.com/wp-content/uploads/2025/10/Screenshot-2025-10-06-at-8.13.24-AM.png
END:VEVENT
BEGIN:VEVENT
DTSTART;VALUE=DATE:20260123
DTEND;VALUE=DATE:20260124
DTSTAMP:20260422T011424
CREATED:20251006T121856Z
LAST-MODIFIED:20251006T121856Z
UID:69287-1769126400-1769212799@visitpikeville.com
SUMMARY:Men's Wrestling vs West Virginia University Institute of Technology
DESCRIPTION:Men’s Wrestling
URL:https://visitpikeville.com/event/mens-wrestling-vs-west-virginia-university-institute-of-technology/
LOCATION:UPIKE GYM\, Hibbard St\,\, Pikeville\, KY\, 41501\, United States
CATEGORIES:UPike
ATTACH;FMTTYPE=image/png:https://visitpikeville.com/wp-content/uploads/2025/10/Screenshot-2025-10-06-at-8.17.15-AM.png
END:VEVENT
BEGIN:VEVENT
DTSTART;TZID=America/Kentucky/Louisville:20260131T120000
DTEND;TZID=America/Kentucky/Louisville:20260131T140000
DTSTAMP:20260422T011424
CREATED:20251117T181032Z
LAST-MODIFIED:20251117T181554Z
UID:71324-1769860800-1769868000@visitpikeville.com
SUMMARY:Baseball vs Cleary University
DESCRIPTION:Game Day!!
URL:https://visitpikeville.com/event/baseball-vs-cleary-university-4-2-2-2-2/
LOCATION:Johnnie LeMaster Field\, 118 W River Dr\,\, Pikeville\, KY\, 41501\, United States
CATEGORIES:UPike
ATTACH;FMTTYPE=image/png:https://visitpikeville.com/wp-content/uploads/2024/11/Screenshot-2024-11-11-at-1.40.39 PM.png
END:VEVENT
BEGIN:VEVENT
DTSTART;TZID=America/Kentucky/Louisville:20260131T140000
DTEND;TZID=America/Kentucky/Louisville:20260131T160000
DTSTAMP:20260422T011424
CREATED:20250908T125549Z
LAST-MODIFIED:20250908T125549Z
UID:68091-1769868000-1769875200@visitpikeville.com
SUMMARY:Women's Basketball vs Spartanburg Methodist College
DESCRIPTION:Game Day!
URL:https://visitpikeville.com/event/womens-basketball-vs-spartanburg-methodist-college/
LOCATION:Appalachian Wireless Arena\, 126 Main Street\, Pikeville\, Ky\, 41501
CATEGORIES:UPike
ATTACH;FMTTYPE=image/png:https://visitpikeville.com/wp-content/uploads/2025/09/Screenshot-2025-09-08-at-8.54.37-AM.png
END:VEVENT
BEGIN:VEVENT
DTSTART;TZID=America/Kentucky/Louisville:20260131T150000
DTEND;TZID=America/Kentucky/Louisville:20260131T170000
DTSTAMP:20260422T011424
CREATED:20251117T181106Z
LAST-MODIFIED:20251117T181625Z
UID:71326-1769871600-1769878800@visitpikeville.com
SUMMARY:Baseball vs Cleary University
DESCRIPTION:Game Day!!
URL:https://visitpikeville.com/event/baseball-vs-cleary-university-4-2-2-2-2-2/
LOCATION:Johnnie LeMaster Field\, 118 W River Dr\,\, Pikeville\, KY\, 41501\, United States
CATEGORIES:UPike
ATTACH;FMTTYPE=image/png:https://visitpikeville.com/wp-content/uploads/2024/11/Screenshot-2024-11-11-at-1.40.39 PM.png
END:VEVENT
BEGIN:VEVENT
DTSTART;TZID=America/Kentucky/Louisville:20260131T160000
DTEND;TZID=America/Kentucky/Louisville:20260131T180000
DTSTAMP:20260422T011424
CREATED:20250908T125712Z
LAST-MODIFIED:20250908T125712Z
UID:68094-1769875200-1769882400@visitpikeville.com
SUMMARY:Men's Basketball vs Spartanburg Methodist College
DESCRIPTION:Game Day!
URL:https://visitpikeville.com/event/mens-basketball-vs-spartanburg-methodist-college/
LOCATION:Appalachian Wireless Arena\, 126 Main Street\, Pikeville\, Ky\, 41501
CATEGORIES:UPike
ATTACH;FMTTYPE=image/png:https://visitpikeville.com/wp-content/uploads/2025/09/Screenshot-2025-09-08-at-8.56.11-AM.png
END:VEVENT
BEGIN:VEVENT
DTSTART;TZID=America/Kentucky/Louisville:20260201T120000
DTEND;TZID=America/Kentucky/Louisville:20260201T140000
DTSTAMP:20260422T011424
CREATED:20241111T184550Z
LAST-MODIFIED:20251117T181524Z
UID:59549-1769947200-1769954400@visitpikeville.com
SUMMARY:Baseball vs Cleary University
DESCRIPTION:Game Day!!
URL:https://visitpikeville.com/event/baseball-vs-cleary-university-4-2-2-2/
LOCATION:Johnnie LeMaster Field\, 118 W River Dr\,\, Pikeville\, KY\, 41501\, United States
CATEGORIES:UPike
ATTACH;FMTTYPE=image/png:https://visitpikeville.com/wp-content/uploads/2024/11/Screenshot-2024-11-11-at-1.40.39 PM.png
END:VEVENT
BEGIN:VEVENT
DTSTART;TZID=America/Kentucky/Louisville:20260201T150000
DTEND;TZID=America/Kentucky/Louisville:20260201T170000
DTSTAMP:20260422T011424
CREATED:20241111T184457Z
LAST-MODIFIED:20251117T181444Z
UID:59547-1769958000-1769965200@visitpikeville.com
SUMMARY:Baseball vs Cleary University
DESCRIPTION:Game Day!!
URL:https://visitpikeville.com/event/baseball-vs-cleary-university-4-2-2/
LOCATION:Johnnie LeMaster Field\, 118 W River Dr\,\, Pikeville\, KY\, 41501\, United States
CATEGORIES:UPike
ATTACH;FMTTYPE=image/png:https://visitpikeville.com/wp-content/uploads/2024/11/Screenshot-2024-11-11-at-1.40.39 PM.png
END:VEVENT
BEGIN:VEVENT
DTSTART;TZID=America/Kentucky/Louisville:20260204T173000
DTEND;TZID=America/Kentucky/Louisville:20260204T193000
DTSTAMP:20260422T011424
CREATED:20250908T130147Z
LAST-MODIFIED:20250908T130147Z
UID:68097-1770226200-1770233400@visitpikeville.com
SUMMARY:Women's Basketball vs Tennessee Wesleyan University
DESCRIPTION:Game Day!
URL:https://visitpikeville.com/event/womens-basketball-vs-tennessee-wesleyan-university-5/
LOCATION:Appalachian Wireless Arena\, 126 Main Street\, Pikeville\, Ky\, 41501
CATEGORIES:UPike
ATTACH;FMTTYPE=image/png:https://visitpikeville.com/wp-content/uploads/2025/09/Screenshot-2025-09-08-at-9.00.04-AM.png
END:VEVENT
BEGIN:VEVENT
DTSTART;TZID=America/Kentucky/Louisville:20260204T193000
DTEND;TZID=America/Kentucky/Louisville:20260204T213000
DTSTAMP:20260422T011424
CREATED:20250908T130319Z
LAST-MODIFIED:20250908T130319Z
UID:68100-1770233400-1770240600@visitpikeville.com
SUMMARY:Men's Basketball vs Tennessee Wesleyan University
DESCRIPTION:Game Day!
URL:https://visitpikeville.com/event/mens-basketball-vs-tennessee-wesleyan-university-4/
LOCATION:Appalachian Wireless Arena\, 126 Main Street\, Pikeville\, Ky\, 41501
CATEGORIES:UPike
ATTACH;FMTTYPE=image/png:https://visitpikeville.com/wp-content/uploads/2025/09/Screenshot-2025-09-08-at-9.01.55-AM.png
END:VEVENT
BEGIN:VEVENT
DTSTART;TZID=America/Kentucky/Louisville:20260207T140000
DTEND;TZID=America/Kentucky/Louisville:20260207T160000
DTSTAMP:20260422T011424
CREATED:20250908T130939Z
LAST-MODIFIED:20250908T130939Z
UID:68103-1770472800-1770480000@visitpikeville.com
SUMMARY:Women's Basketball vs Columbia College
DESCRIPTION:Game Day!
URL:https://visitpikeville.com/event/womens-basketball-vs-columbia-college/
LOCATION:Appalachian Wireless Arena\, 126 Main Street\, Pikeville\, Ky\, 41501
CATEGORIES:UPike
ATTACH;FMTTYPE=image/png:https://visitpikeville.com/wp-content/uploads/2025/09/Screenshot-2025-09-08-at-9.06.56-AM.png
END:VEVENT
BEGIN:VEVENT
DTSTART;TZID=America/Kentucky/Louisville:20260207T160000
DTEND;TZID=America/Kentucky/Louisville:20260207T180000
DTSTAMP:20260422T011424
CREATED:20250908T131107Z
LAST-MODIFIED:20250908T131107Z
UID:68106-1770480000-1770487200@visitpikeville.com
SUMMARY:Men's Basketball vs Columbia College
DESCRIPTION:Game Day!
URL:https://visitpikeville.com/event/mens-basketball-vs-columbia-college/
LOCATION:Appalachian Wireless Arena\, 126 Main Street\, Pikeville\, Ky\, 41501
CATEGORIES:UPike
ATTACH;FMTTYPE=image/png:https://visitpikeville.com/wp-content/uploads/2025/09/Screenshot-2025-09-08-at-9.09.46-AM.png
END:VEVENT
BEGIN:VEVENT
DTSTART;TZID=America/Kentucky/Louisville:20260211T200000
DTEND;TZID=America/Kentucky/Louisville:20260211T220000
DTSTAMP:20260422T011424
CREATED:20260209T154119Z
LAST-MODIFIED:20260209T154119Z
UID:72901-1770840000-1770847200@visitpikeville.com
SUMMARY:Esports vs University of Health Sciences & Pharmacy in St. Louis
DESCRIPTION:League of Legends
URL:https://visitpikeville.com/event/esports-vs-university-of-health-sciences-pharmacy-in-st-louis/
LOCATION:University Of Pikeville\, 147 Sycamore St\,\, Pikeville\, KY\, 41501\, United States
CATEGORIES:UPike
ATTACH;FMTTYPE=image/png:https://visitpikeville.com/wp-content/uploads/2026/02/Screenshot-2026-02-09-at-10.39.24-AM.png
END:VEVENT
BEGIN:VEVENT
DTSTART;VALUE=DATE:20260212
DTEND;VALUE=DATE:20260213
DTSTAMP:20260422T011424
CREATED:20260119T115236Z
LAST-MODIFIED:20260119T115236Z
UID:72538-1770854400-1770940799@visitpikeville.com
SUMMARY:Women's Tennis vs Lees-McRae College
DESCRIPTION:Game Day!!
URL:https://visitpikeville.com/event/womens-tennis-vs-lees-mcrae-college/
LOCATION:Bob Amos Park\, 424 Bob Amos Dr\, Pikeville\, Ky\, 41501
CATEGORIES:UPike
ATTACH;FMTTYPE=image/png:https://visitpikeville.com/wp-content/uploads/2026/01/Screenshot-2026-01-19-at-6.47.20-AM.png
END:VEVENT
BEGIN:VEVENT
DTSTART;TZID=America/Kentucky/Louisville:20260216T173000
DTEND;TZID=America/Kentucky/Louisville:20260216T183000
DTSTAMP:20260422T011424
CREATED:20260216T121649Z
LAST-MODIFIED:20260216T121649Z
UID:73065-1771263000-1771266600@visitpikeville.com
SUMMARY:Women's Basketball vs Spartanburg Methodist College
DESCRIPTION:Game Day!
URL:https://visitpikeville.com/event/womens-basketball-vs-spartanburg-methodist-college-2/
LOCATION:Appalachian Wireless Arena\, 126 Main Street\, Pikeville\, Ky\, 41501
CATEGORIES:UPike
ATTACH;FMTTYPE=image/png:https://visitpikeville.com/wp-content/uploads/2026/02/Screenshot-2026-02-16-at-7.16.15-AM.png
END:VEVENT
BEGIN:VEVENT
DTSTART;TZID=America/Kentucky/Louisville:20260216T193000
DTEND;TZID=America/Kentucky/Louisville:20260216T203000
DTSTAMP:20260422T011424
CREATED:20260216T121827Z
LAST-MODIFIED:20260216T121827Z
UID:73068-1771270200-1771273800@visitpikeville.com
SUMMARY:Men's Basketball vs Spartanburg Methodist College
DESCRIPTION:Game Day!
URL:https://visitpikeville.com/event/mens-basketball-vs-spartanburg-methodist-college-2/
LOCATION:Appalachian Wireless Arena\, 126 Main Street\, Pikeville\, Ky\, 41501
CATEGORIES:UPike
ATTACH;FMTTYPE=image/png:https://visitpikeville.com/wp-content/uploads/2026/02/Screenshot-2026-02-16-at-7.18.05-AM.png
END:VEVENT
BEGIN:VEVENT
DTSTART;TZID=America/Kentucky/Louisville:20260218T200000
DTEND;TZID=America/Kentucky/Louisville:20260218T220000
DTSTAMP:20260422T011424
CREATED:20260203T132751Z
LAST-MODIFIED:20260203T132751Z
UID:72735-1771444800-1771452000@visitpikeville.com
SUMMARY:Esports vs Missouri Baptist University
DESCRIPTION:League of Legends
URL:https://visitpikeville.com/event/esports-vs-missouri-baptist-university/
LOCATION:University Of Pikeville\, 147 Sycamore St\,\, Pikeville\, KY\, 41501\, United States
CATEGORIES:UPike
ATTACH;FMTTYPE=image/png:https://visitpikeville.com/wp-content/uploads/2026/02/Screenshot-2026-02-03-at-8.26.08-AM.png
END:VEVENT
BEGIN:VEVENT
DTSTART;TZID=America/Kentucky/Louisville:20260220T150000
DTEND;TZID=America/Kentucky/Louisville:20260220T170000
DTSTAMP:20260422T011424
CREATED:20251117T182158Z
LAST-MODIFIED:20251117T182158Z
UID:71328-1771599600-1771606800@visitpikeville.com
SUMMARY:Baseball vs Union Commonwealth University (Ky.)
DESCRIPTION:Game Day!
URL:https://visitpikeville.com/event/baseball-vs-union-commonwealth-university-ky-3/
LOCATION:Johnnie LeMaster Field\, 118 W River Dr\,\, Pikeville\, KY\, 41501\, United States
CATEGORIES:UPike
ATTACH;FMTTYPE=image/png:https://visitpikeville.com/wp-content/uploads/2025/11/Screenshot-2025-11-17-at-1.20.21-PM.png
END:VEVENT
BEGIN:VEVENT
DTSTART;TZID=America/Kentucky/Louisville:20260221T120000
DTEND;TZID=America/Kentucky/Louisville:20260221T140000
DTSTAMP:20260422T011424
CREATED:20251117T182321Z
LAST-MODIFIED:20251117T182321Z
UID:71331-1771675200-1771682400@visitpikeville.com
SUMMARY:Baseball vs Union Commonwealth University (Ky.)
DESCRIPTION:Game Day!
URL:https://visitpikeville.com/event/baseball-vs-union-commonwealth-university-ky-3-2/
LOCATION:Johnnie LeMaster Field\, 118 W River Dr\,\, Pikeville\, KY\, 41501\, United States
CATEGORIES:UPike
ATTACH;FMTTYPE=image/png:https://visitpikeville.com/wp-content/uploads/2025/11/Screenshot-2025-11-17-at-1.20.21-PM.png
END:VEVENT
BEGIN:VEVENT
DTSTART;TZID=America/Kentucky/Louisville:20260221T140000
DTEND;TZID=America/Kentucky/Louisville:20260221T160000
DTSTAMP:20260422T011424
CREATED:20250908T131309Z
LAST-MODIFIED:20250908T131309Z
UID:68109-1771682400-1771689600@visitpikeville.com
SUMMARY:Women's Basketball vs Montreat College
DESCRIPTION:Game Day!
URL:https://visitpikeville.com/event/womens-basketball-vs-montreat-college-2/
LOCATION:Appalachian Wireless Arena\, 126 Main Street\, Pikeville\, Ky\, 41501
CATEGORIES:UPike
ATTACH;FMTTYPE=image/png:https://visitpikeville.com/wp-content/uploads/2025/09/Screenshot-2025-09-08-at-9.11.45-AM.png
END:VEVENT
BEGIN:VEVENT
DTSTART;TZID=America/Kentucky/Louisville:20260221T150000
DTEND;TZID=America/Kentucky/Louisville:20260221T170000
DTSTAMP:20260422T011424
CREATED:20251117T182401Z
LAST-MODIFIED:20251117T182401Z
UID:71333-1771686000-1771693200@visitpikeville.com
SUMMARY:Baseball vs Union Commonwealth University (Ky.)
DESCRIPTION:Game Day!
URL:https://visitpikeville.com/event/baseball-vs-union-commonwealth-university-ky-3-2-2/
LOCATION:Johnnie LeMaster Field\, 118 W River Dr\,\, Pikeville\, KY\, 41501\, United States
CATEGORIES:UPike
ATTACH;FMTTYPE=image/png:https://visitpikeville.com/wp-content/uploads/2025/11/Screenshot-2025-11-17-at-1.20.21-PM.png
END:VEVENT
BEGIN:VEVENT
DTSTART;TZID=America/Kentucky/Louisville:20260221T160000
DTEND;TZID=America/Kentucky/Louisville:20260221T180000
DTSTAMP:20260422T011424
CREATED:20250908T131421Z
LAST-MODIFIED:20250908T131421Z
UID:68112-1771689600-1771696800@visitpikeville.com
SUMMARY:Men's Basketball vs Montreat College
DESCRIPTION:Game Day!
URL:https://visitpikeville.com/event/mens-basketball-vs-montreat-college-3/
LOCATION:Appalachian Wireless Arena\, 126 Main Street\, Pikeville\, Ky\, 41501
CATEGORIES:UPike
ATTACH;FMTTYPE=image/png:https://visitpikeville.com/wp-content/uploads/2025/09/Screenshot-2025-09-08-at-9.13.15-AM.png
END:VEVENT
BEGIN:VEVENT
DTSTART;TZID=America/Kentucky/Louisville:20260223T200000
DTEND;TZID=America/Kentucky/Louisville:20260223T220000
DTSTAMP:20260422T011424
CREATED:20260203T132946Z
LAST-MODIFIED:20260203T132946Z
UID:72738-1771876800-1771884000@visitpikeville.com
SUMMARY:Esports vs Cleveland State University
DESCRIPTION:League of Legends
URL:https://visitpikeville.com/event/esports-vs-cleveland-state-university/
LOCATION:University Of Pikeville\, 147 Sycamore St\,\, Pikeville\, KY\, 41501\, United States
CATEGORIES:UPike
ATTACH;FMTTYPE=image/png:https://visitpikeville.com/wp-content/uploads/2026/02/Screenshot-2026-02-03-at-8.28.42-AM.png
END:VEVENT
BEGIN:VEVENT
DTSTART;TZID=America/Kentucky/Louisville:20260224T130000
DTEND;TZID=America/Kentucky/Louisville:20260224T150000
DTSTAMP:20260422T011424
CREATED:20251027T115811Z
LAST-MODIFIED:20251027T115811Z
UID:70308-1771938000-1771945200@visitpikeville.com
SUMMARY:Softball vs Georgetown College
DESCRIPTION:Game Day!!
URL:https://visitpikeville.com/event/softball-vs-georgetown-college-3/
LOCATION:Paul Butcher Field\, 134 Bank St\,\, Pikeville\, KY\, 41501\, United States
CATEGORIES:UPike
ATTACH;FMTTYPE=image/png:https://visitpikeville.com/wp-content/uploads/2025/10/Screenshot-2025-10-27-at-7.56.13-AM.png
END:VEVENT
BEGIN:VEVENT
DTSTART;TZID=America/Kentucky/Louisville:20260224T150000
DTEND;TZID=America/Kentucky/Louisville:20260224T170000
DTSTAMP:20260422T011424
CREATED:20251027T115854Z
LAST-MODIFIED:20251027T115854Z
UID:70311-1771945200-1771952400@visitpikeville.com
SUMMARY:Softball vs Georgetown College
DESCRIPTION:Game Day!!
URL:https://visitpikeville.com/event/softball-vs-georgetown-college-3-2/
LOCATION:Paul Butcher Field\, 134 Bank St\,\, Pikeville\, KY\, 41501\, United States
CATEGORIES:UPike
ATTACH;FMTTYPE=image/png:https://visitpikeville.com/wp-content/uploads/2025/10/Screenshot-2025-10-27-at-7.56.13-AM.png
END:VEVENT
BEGIN:VEVENT
DTSTART;TZID=America/Kentucky/Louisville:20260224T150000
DTEND;TZID=America/Kentucky/Louisville:20260224T170000
DTSTAMP:20260422T011424
CREATED:20260223T141041Z
LAST-MODIFIED:20260223T141041Z
UID:73155-1771945200-1771952400@visitpikeville.com
SUMMARY:Baseball vs Shawnee State University
DESCRIPTION:Game Day!
URL:https://visitpikeville.com/event/baseball-vs-shawnee-state-university-4/
LOCATION:Johnnie LeMaster Field\, 118 W River Dr\,\, Pikeville\, KY\, 41501\, United States
CATEGORIES:UPike
ATTACH;FMTTYPE=image/png:https://visitpikeville.com/wp-content/uploads/2026/02/Screenshot-2026-02-23-at-9.06.43-AM.png
END:VEVENT
BEGIN:VEVENT
DTSTART;TZID=America/Kentucky/Louisville:20260226T130000
DTEND;TZID=America/Kentucky/Louisville:20260226T150000
DTSTAMP:20260422T011424
CREATED:20260119T115742Z
LAST-MODIFIED:20260119T115742Z
UID:72541-1772110800-1772118000@visitpikeville.com
SUMMARY:Men's Tennis vs Midway University (Ky.)
DESCRIPTION:Game Day!
URL:https://visitpikeville.com/event/mens-tennis-vs-midway-university-ky-2/
LOCATION:Bob Amos Park\, 424 Bob Amos Dr\, Pikeville\, Ky\, 41501
CATEGORIES:UPike
ATTACH;FMTTYPE=image/png:https://visitpikeville.com/wp-content/uploads/2026/01/Screenshot-2026-01-19-at-6.55.39-AM.png
END:VEVENT
BEGIN:VEVENT
DTSTART;TZID=America/Kentucky/Louisville:20260226T130000
DTEND;TZID=America/Kentucky/Louisville:20260226T150000
DTSTAMP:20260422T011424
CREATED:20260119T115950Z
LAST-MODIFIED:20260119T115950Z
UID:72544-1772110800-1772118000@visitpikeville.com
SUMMARY:Women's Tennis vs Midway University (Ky.)
DESCRIPTION:Game Day!
URL:https://visitpikeville.com/event/womens-tennis-vs-midway-university-ky-2/
LOCATION:Bob Amos Park\, 424 Bob Amos Dr\, Pikeville\, Ky\, 41501
CATEGORIES:UPike
ATTACH;FMTTYPE=image/png:https://visitpikeville.com/wp-content/uploads/2026/01/Screenshot-2026-01-19-at-6.58.01-AM.png
END:VEVENT
BEGIN:VEVENT
DTSTART;TZID=America/Kentucky/Louisville:20260228T130000
DTEND;TZID=America/Kentucky/Louisville:20260228T150000
DTSTAMP:20260422T011424
CREATED:20251027T120036Z
LAST-MODIFIED:20251027T120036Z
UID:70313-1772283600-1772290800@visitpikeville.com
SUMMARY:Softball vs Alice Lloyd College
DESCRIPTION:Game Day!
URL:https://visitpikeville.com/event/softball-vs-alice-lloyd-college-4/
LOCATION:Paul Butcher Field\, 134 Bank St\,\, Pikeville\, KY\, 41501\, United States
CATEGORIES:UPike
ATTACH;FMTTYPE=image/png:https://visitpikeville.com/wp-content/uploads/2025/10/Screenshot-2025-10-27-at-7.59.13-AM.png
END:VEVENT
END:VCALENDAR