BEGIN:VCALENDAR
VERSION:2.0
PRODID:-//Visit Pikeville - ECPv6.15.20//NONSGML v1.0//EN
CALSCALE:GREGORIAN
METHOD:PUBLISH
X-ORIGINAL-URL:https://visitpikeville.com
X-WR-CALDESC:Events for Visit Pikeville
REFRESH-INTERVAL;VALUE=DURATION:PT1H
X-Robots-Tag:noindex
X-PUBLISHED-TTL:PT1H
BEGIN:VTIMEZONE
TZID:America/Kentucky/Louisville
BEGIN:DAYLIGHT
TZOFFSETFROM:-0500
TZOFFSETTO:-0400
TZNAME:EDT
DTSTART:20250309T070000
END:DAYLIGHT
BEGIN:STANDARD
TZOFFSETFROM:-0400
TZOFFSETTO:-0500
TZNAME:EST
DTSTART:20251102T060000
END:STANDARD
BEGIN:DAYLIGHT
TZOFFSETFROM:-0500
TZOFFSETTO:-0400
TZNAME:EDT
DTSTART:20260308T070000
END:DAYLIGHT
BEGIN:STANDARD
TZOFFSETFROM:-0400
TZOFFSETTO:-0500
TZNAME:EST
DTSTART:20261101T060000
END:STANDARD
BEGIN:DAYLIGHT
TZOFFSETFROM:-0500
TZOFFSETTO:-0400
TZNAME:EDT
DTSTART:20270314T070000
END:DAYLIGHT
BEGIN:STANDARD
TZOFFSETFROM:-0400
TZOFFSETTO:-0500
TZNAME:EST
DTSTART:20271107T060000
END:STANDARD
END:VTIMEZONE
BEGIN:VEVENT
DTSTART;TZID=America/Kentucky/Louisville:20260414T120000
DTEND;TZID=America/Kentucky/Louisville:20260414T140000
DTSTAMP:20260421T141851
CREATED:20260216T124047Z
LAST-MODIFIED:20260216T124047Z
UID:73071-1776168000-1776175200@visitpikeville.com
SUMMARY:Baseball vs Alice Lloyd College
DESCRIPTION:Game Day!
URL:https://visitpikeville.com/event/baseball-vs-alice-lloyd-college-4/
LOCATION:Johnnie LeMaster Field\, 118 W River Dr\,\, Pikeville\, KY\, 41501\, United States
CATEGORIES:UPike
ATTACH;FMTTYPE=image/png:https://visitpikeville.com/wp-content/uploads/2026/02/Screenshot-2026-02-16-at-7.38.53-AM.png
END:VEVENT
BEGIN:VEVENT
DTSTART;TZID=America/Kentucky/Louisville:20260414T150000
DTEND;TZID=America/Kentucky/Louisville:20260414T170000
DTSTAMP:20260421T141851
CREATED:20251117T190655Z
LAST-MODIFIED:20251117T190655Z
UID:71383-1776178800-1776186000@visitpikeville.com
SUMMARY:Baseball vs Alice Lloyd College
DESCRIPTION:Game Day!
URL:https://visitpikeville.com/event/baseball-vs-alice-lloyd-college-3/
LOCATION:Johnnie LeMaster Field\, 118 W River Dr\,\, Pikeville\, KY\, 41501\, United States
CATEGORIES:UPike
ATTACH;FMTTYPE=image/png:https://visitpikeville.com/wp-content/uploads/2025/11/Screenshot-2025-11-17-at-2.05.17-PM.png
END:VEVENT
END:VCALENDAR