BEGIN:VCALENDAR
VERSION:2.0
PRODID:-//Visit Pikeville - ECPv6.15.20//NONSGML v1.0//EN
CALSCALE:GREGORIAN
METHOD:PUBLISH
X-WR-CALNAME:Visit Pikeville
X-ORIGINAL-URL:https://visitpikeville.com
X-WR-CALDESC:Events for Visit Pikeville
REFRESH-INTERVAL;VALUE=DURATION:PT1H
X-Robots-Tag:noindex
X-PUBLISHED-TTL:PT1H
BEGIN:VTIMEZONE
TZID:America/Kentucky/Louisville
BEGIN:DAYLIGHT
TZOFFSETFROM:-0500
TZOFFSETTO:-0400
TZNAME:EDT
DTSTART:20250309T070000
END:DAYLIGHT
BEGIN:STANDARD
TZOFFSETFROM:-0400
TZOFFSETTO:-0500
TZNAME:EST
DTSTART:20251102T060000
END:STANDARD
BEGIN:DAYLIGHT
TZOFFSETFROM:-0500
TZOFFSETTO:-0400
TZNAME:EDT
DTSTART:20260308T070000
END:DAYLIGHT
BEGIN:STANDARD
TZOFFSETFROM:-0400
TZOFFSETTO:-0500
TZNAME:EST
DTSTART:20261101T060000
END:STANDARD
BEGIN:DAYLIGHT
TZOFFSETFROM:-0500
TZOFFSETTO:-0400
TZNAME:EDT
DTSTART:20270314T070000
END:DAYLIGHT
BEGIN:STANDARD
TZOFFSETFROM:-0400
TZOFFSETTO:-0500
TZNAME:EST
DTSTART:20271107T060000
END:STANDARD
END:VTIMEZONE
BEGIN:VEVENT
DTSTART;TZID=America/Kentucky/Louisville:20260320T130000
DTEND;TZID=America/Kentucky/Louisville:20260320T150000
DTSTAMP:20260421T155007
CREATED:20251027T120332Z
LAST-MODIFIED:20251027T120332Z
UID:70316-1774011600-1774018800@visitpikeville.com
SUMMARY:Softball vs Bluefield University
DESCRIPTION:Game Day!
URL:https://visitpikeville.com/event/softball-vs-bluefield-university-3/
LOCATION:Paul Butcher Field\, 134 Bank St\,\, Pikeville\, KY\, 41501\, United States
CATEGORIES:UPike
ATTACH;FMTTYPE=image/png:https://visitpikeville.com/wp-content/uploads/2025/10/Screenshot-2025-10-27-at-8.01.28-AM.png
END:VEVENT
BEGIN:VEVENT
DTSTART;TZID=America/Kentucky/Louisville:20260320T140000
DTEND;TZID=America/Kentucky/Louisville:20260320T160000
DTSTAMP:20260421T155007
CREATED:20260119T135228Z
LAST-MODIFIED:20260119T135228Z
UID:72566-1774015200-1774022400@visitpikeville.com
SUMMARY:Men's Tennis vs Tennessee Wesleyan University
DESCRIPTION:Game Day!
URL:https://visitpikeville.com/event/mens-tennis-vs-tennessee-wesleyan-university-2/
LOCATION:Bob Amos Park\, 424 Bob Amos Dr\, Pikeville\, Ky\, 41501
CATEGORIES:UPike
ATTACH;FMTTYPE=image/png:https://visitpikeville.com/wp-content/uploads/2026/01/Screenshot-2026-01-19-at-8.44.07-AM.png
END:VEVENT
BEGIN:VEVENT
DTSTART;TZID=America/Kentucky/Louisville:20260320T140000
DTEND;TZID=America/Kentucky/Louisville:20260320T160000
DTSTAMP:20260421T155007
CREATED:20260119T135344Z
LAST-MODIFIED:20260119T135344Z
UID:72569-1774015200-1774022400@visitpikeville.com
SUMMARY:Women's Tennis vs Tennessee Wesleyan University
DESCRIPTION:Game Day!
URL:https://visitpikeville.com/event/womens-tennis-vs-tennessee-wesleyan-university-2/
LOCATION:Bob Amos Park\, 424 Bob Amos Dr\, Pikeville\, Ky\, 41501
CATEGORIES:UPike
ATTACH;FMTTYPE=image/png:https://visitpikeville.com/wp-content/uploads/2026/01/Screenshot-2026-01-19-at-8.52.35-AM.png
END:VEVENT
BEGIN:VEVENT
DTSTART;TZID=America/Kentucky/Louisville:20260320T150000
DTEND;TZID=America/Kentucky/Louisville:20260320T170000
DTSTAMP:20260421T155007
CREATED:20251027T120410Z
LAST-MODIFIED:20251027T120410Z
UID:70319-1774018800-1774026000@visitpikeville.com
SUMMARY:Softball vs Bluefield University
DESCRIPTION:Game Day!
URL:https://visitpikeville.com/event/softball-vs-bluefield-university-3-2/
LOCATION:Paul Butcher Field\, 134 Bank St\,\, Pikeville\, KY\, 41501\, United States
CATEGORIES:UPike
ATTACH;FMTTYPE=image/png:https://visitpikeville.com/wp-content/uploads/2025/10/Screenshot-2025-10-27-at-8.01.28-AM.png
END:VEVENT
END:VCALENDAR