BEGIN:VCALENDAR
VERSION:2.0
PRODID:-//Visit Pikeville - ECPv6.15.20//NONSGML v1.0//EN
CALSCALE:GREGORIAN
METHOD:PUBLISH
X-WR-CALNAME:Visit Pikeville
X-ORIGINAL-URL:https://visitpikeville.com
X-WR-CALDESC:Events for Visit Pikeville
REFRESH-INTERVAL;VALUE=DURATION:PT1H
X-Robots-Tag:noindex
X-PUBLISHED-TTL:PT1H
BEGIN:VTIMEZONE
TZID:America/Kentucky/Louisville
BEGIN:DAYLIGHT
TZOFFSETFROM:-0500
TZOFFSETTO:-0400
TZNAME:EDT
DTSTART:20240310T070000
END:DAYLIGHT
BEGIN:STANDARD
TZOFFSETFROM:-0400
TZOFFSETTO:-0500
TZNAME:EST
DTSTART:20241103T060000
END:STANDARD
BEGIN:DAYLIGHT
TZOFFSETFROM:-0500
TZOFFSETTO:-0400
TZNAME:EDT
DTSTART:20250309T070000
END:DAYLIGHT
BEGIN:STANDARD
TZOFFSETFROM:-0400
TZOFFSETTO:-0500
TZNAME:EST
DTSTART:20251102T060000
END:STANDARD
BEGIN:DAYLIGHT
TZOFFSETFROM:-0500
TZOFFSETTO:-0400
TZNAME:EDT
DTSTART:20260308T070000
END:DAYLIGHT
BEGIN:STANDARD
TZOFFSETFROM:-0400
TZOFFSETTO:-0500
TZNAME:EST
DTSTART:20261101T060000
END:STANDARD
END:VTIMEZONE
BEGIN:VEVENT
DTSTART;VALUE=DATE:20251028
DTEND;VALUE=DATE:20251029
DTSTAMP:20260421T220144
CREATED:20251013T121823Z
LAST-MODIFIED:20251013T121823Z
UID:69667-1761609600-1761695999@visitpikeville.com
SUMMARY:Esports vs Augusta University
DESCRIPTION:Super Smash Bros.
URL:https://visitpikeville.com/event/esports-vs-augusta-university/
LOCATION:UPIKE\, 147 Sycamore St\,\, Pikeville\, KY\, 41501\, United States
CATEGORIES:UPike
ATTACH;FMTTYPE=image/png:https://visitpikeville.com/wp-content/uploads/2025/10/Screenshot-2025-10-13-at-8.16.29-AM.png
END:VEVENT
BEGIN:VEVENT
DTSTART;TZID=America/Kentucky/Louisville:20251028T160000
DTEND;TZID=America/Kentucky/Louisville:20251028T180000
DTSTAMP:20260421T220144
CREATED:20250609T125827Z
LAST-MODIFIED:20250609T125827Z
UID:65035-1761667200-1761674400@visitpikeville.com
SUMMARY:Men's Soccer vs Boyce College
DESCRIPTION:Game Day!
URL:https://visitpikeville.com/event/mens-soccer-vs-boyce-college/
LOCATION:Bob Amos Park\, 424 Bob Amos Dr\, Pikeville\, Ky\, 41501
CATEGORIES:UPike
ATTACH;FMTTYPE=image/png:https://visitpikeville.com/wp-content/uploads/2025/06/Screenshot-2025-06-09-at-8.55.34 AM.png
END:VEVENT
BEGIN:VEVENT
DTSTART;TZID=America/Kentucky/Louisville:20251028T180000
DTEND;TZID=America/Kentucky/Louisville:20251028T190000
DTSTAMP:20260421T220144
CREATED:20251006T144412Z
LAST-MODIFIED:20251006T144412Z
UID:69427-1761674400-1761678000@visitpikeville.com
SUMMARY:Book Club
DESCRIPTION: Join UPIKE’s Center for Public Service for this October’s community Book Club! We’ll be reading Darkwater by W.E.B. Du Bois—an influential collection exploring democracy\, citizenship and civil rights. Faithlife Market\, downtown Pikeville Tuesdays in October |  6–7 p.m. Free book\, coffee & light refreshments
URL:https://visitpikeville.com/event/book-club-2-2-2/
LOCATION:Faith Life Market\, 130 Division St\,\, Pikeville\, KY\, 41501\, United States
CATEGORIES:UPike
ATTACH;FMTTYPE=image/jpeg:https://visitpikeville.com/wp-content/uploads/2025/10/book.jpg
END:VEVENT
BEGIN:VEVENT
DTSTART;TZID=America/Kentucky/Louisville:20251028T183000
DTEND;TZID=America/Kentucky/Louisville:20251028T203000
DTSTAMP:20260421T220144
CREATED:20250609T125935Z
LAST-MODIFIED:20250609T125935Z
UID:65038-1761676200-1761683400@visitpikeville.com
SUMMARY:Volleyball vs Milligan University
DESCRIPTION:Game Day!
URL:https://visitpikeville.com/event/volleyball-vs-milligan-university-3/
LOCATION:UPIKE GYM\, Hibbard St\,\, Pikeville\, KY\, 41501\, United States
CATEGORIES:UPike
ATTACH;FMTTYPE=image/png:https://visitpikeville.com/wp-content/uploads/2025/06/Screenshot-2025-06-09-at-8.58.41 AM.png
END:VEVENT
END:VCALENDAR