BEGIN:VCALENDAR
VERSION:2.0
PRODID:-//Visit Pikeville - ECPv6.15.20//NONSGML v1.0//EN
CALSCALE:GREGORIAN
METHOD:PUBLISH
X-WR-CALNAME:Visit Pikeville
X-ORIGINAL-URL:https://visitpikeville.com
X-WR-CALDESC:Events for Visit Pikeville
REFRESH-INTERVAL;VALUE=DURATION:PT1H
X-Robots-Tag:noindex
X-PUBLISHED-TTL:PT1H
BEGIN:VTIMEZONE
TZID:America/Kentucky/Louisville
BEGIN:DAYLIGHT
TZOFFSETFROM:-0500
TZOFFSETTO:-0400
TZNAME:EDT
DTSTART:20240310T070000
END:DAYLIGHT
BEGIN:STANDARD
TZOFFSETFROM:-0400
TZOFFSETTO:-0500
TZNAME:EST
DTSTART:20241103T060000
END:STANDARD
BEGIN:DAYLIGHT
TZOFFSETFROM:-0500
TZOFFSETTO:-0400
TZNAME:EDT
DTSTART:20250309T070000
END:DAYLIGHT
BEGIN:STANDARD
TZOFFSETFROM:-0400
TZOFFSETTO:-0500
TZNAME:EST
DTSTART:20251102T060000
END:STANDARD
BEGIN:DAYLIGHT
TZOFFSETFROM:-0500
TZOFFSETTO:-0400
TZNAME:EDT
DTSTART:20260308T070000
END:DAYLIGHT
BEGIN:STANDARD
TZOFFSETFROM:-0400
TZOFFSETTO:-0500
TZNAME:EST
DTSTART:20261101T060000
END:STANDARD
END:VTIMEZONE
BEGIN:VEVENT
DTSTART;VALUE=DATE:20251017
DTEND;VALUE=DATE:20251018
DTSTAMP:20260421T232412
CREATED:20251013T120009Z
LAST-MODIFIED:20251013T120009Z
UID:69652-1760659200-1760745599@visitpikeville.com
SUMMARY:Esports vs Thomas More University
DESCRIPTION:Overwatch
URL:https://visitpikeville.com/event/esports-vs-thomas-more-university-2/
LOCATION:UPIKE\, 147 Sycamore St\,\, Pikeville\, KY\, 41501\, United States
CATEGORIES:UPike
ATTACH;FMTTYPE=image/png:https://visitpikeville.com/wp-content/uploads/2025/10/Screenshot-2025-10-13-at-7.58.13-AM.png
END:VEVENT
BEGIN:VEVENT
DTSTART;VALUE=DATE:20251017
DTEND;VALUE=DATE:20251019
DTSTAMP:20260421T232412
CREATED:20250915T123258Z
LAST-MODIFIED:20250915T123258Z
UID:68444-1760659200-1760831999@visitpikeville.com
SUMMARY:The Mountain Grrl Experience
DESCRIPTION:The Mountain Grrl Experience – October 17–18\, 2025 | Pikeville\, KY \n\n\nOne of Kentucky’s best intimate music festivals returns to downtown Pikeville this October—and admission is FREE!\n\n\nEnjoy two days of live performances from artists like Kelsey Waldon\, Coaltown Dixie\, Magnolia Boulevard\, Chelsea Nolan\, Carla Gover\, and many more. Explore workshops\, artisan vendors\, and a curated art gallery celebrating Appalachian creativity.\n\n\nThis year’s charitable partner is the Pikeville Domestic Violence Coalition\, with proceeds supporting vital services for women in need. Don’t miss the Front Porch Panel: The Power of the Appalachian Woman\, hosted at Booth Auditorium and sponsored by the University of Pikeville College of Arts & Sciences.\n\n\nCome celebrate Appalachian women\, music\, and community in the heart of Pikeville.  #mountaingrrl #pikevilleky #pikecountyky
URL:https://visitpikeville.com/event/the-mountain-grrl-experience-3/
LOCATION:Downtown Pikeville\, Pikeville\, Ky\, 41501
CATEGORIES:Appalachian Wireless Arena,City of Pikeville,UPike
ATTACH;FMTTYPE=image/jpeg:https://visitpikeville.com/wp-content/uploads/2025/09/Mountain-Grrl-2025-flyer-thumb.jpg
END:VEVENT
BEGIN:VEVENT
DTSTART;TZID=America/Kentucky/Louisville:20251017T110000
DTEND;TZID=America/Kentucky/Louisville:20251017T120000
DTSTAMP:20260421T232412
CREATED:20251006T143145Z
LAST-MODIFIED:20251006T143145Z
UID:69408-1760698800-1760702400@visitpikeville.com
SUMMARY:Art Exhibition
DESCRIPTION:@University of Pikeville
URL:https://visitpikeville.com/event/art-exhibition-2-2-2-2-2-2/
LOCATION:University Of Pikeville\, 147 Sycamore St\,\, Pikeville\, KY\, 41501\, United States
CATEGORIES:UPike
ATTACH;FMTTYPE=image/jpeg:https://visitpikeville.com/wp-content/uploads/2025/10/art-gallery.jpg
END:VEVENT
BEGIN:VEVENT
DTSTART;TZID=America/Kentucky/Louisville:20251017T180000
DTEND;TZID=America/Kentucky/Louisville:20251017T210000
DTSTAMP:20260421T232412
CREATED:20250908T113558Z
LAST-MODIFIED:20250908T113558Z
UID:68045-1760724000-1760734800@visitpikeville.com
SUMMARY:University of Pikeville All-Class Reunion
DESCRIPTION:UPIKE is thrilled to welcome all alumni and friends back to campus for the All-Class Reunion this Fall! This special celebration is a time to reconnect\, reflect on the moments that shaped our journey\, and honor the lifelong bonds formed here on the Hill. No matter the year you graduated\, you are an important part of our UPIKE family\, and we are so glad you are planning to attend this event.
URL:https://visitpikeville.com/event/university-of-pikeville-all-class-reunion/
LOCATION:University Of Pikeville\, 147 Sycamore St\,\, Pikeville\, KY\, 41501\, United States
CATEGORIES:UPike
ATTACH;FMTTYPE=image/jpeg:https://visitpikeville.com/wp-content/uploads/2025/09/reunioin.jpg
END:VEVENT
BEGIN:VEVENT
DTSTART;TZID=America/Kentucky/Louisville:20251017T183000
DTEND;TZID=America/Kentucky/Louisville:20251017T203000
DTSTAMP:20260421T232412
CREATED:20250609T122725Z
LAST-MODIFIED:20250609T122725Z
UID:65017-1760725800-1760733000@visitpikeville.com
SUMMARY:Volleyball vs Spartanburg Methodist College
DESCRIPTION:Game Day!
URL:https://visitpikeville.com/event/volleyball-vs-spartanburg-methodist-college/
LOCATION:UPIKE GYM\, Hibbard St\,\, Pikeville\, KY\, 41501\, United States
CATEGORIES:UPike
ATTACH;FMTTYPE=image/png:https://visitpikeville.com/wp-content/uploads/2025/06/Screenshot-2025-06-09-at-8.25.38 AM.png
END:VEVENT
END:VCALENDAR