BEGIN:VCALENDAR
VERSION:2.0
PRODID:-//Visit Pikeville - ECPv6.15.20//NONSGML v1.0//EN
CALSCALE:GREGORIAN
METHOD:PUBLISH
X-WR-CALNAME:Visit Pikeville
X-ORIGINAL-URL:https://visitpikeville.com
X-WR-CALDESC:Events for Visit Pikeville
REFRESH-INTERVAL;VALUE=DURATION:PT1H
X-Robots-Tag:noindex
X-PUBLISHED-TTL:PT1H
BEGIN:VTIMEZONE
TZID:America/Kentucky/Louisville
BEGIN:DAYLIGHT
TZOFFSETFROM:-0500
TZOFFSETTO:-0400
TZNAME:EDT
DTSTART:20240310T070000
END:DAYLIGHT
BEGIN:STANDARD
TZOFFSETFROM:-0400
TZOFFSETTO:-0500
TZNAME:EST
DTSTART:20241103T060000
END:STANDARD
BEGIN:DAYLIGHT
TZOFFSETFROM:-0500
TZOFFSETTO:-0400
TZNAME:EDT
DTSTART:20250309T070000
END:DAYLIGHT
BEGIN:STANDARD
TZOFFSETFROM:-0400
TZOFFSETTO:-0500
TZNAME:EST
DTSTART:20251102T060000
END:STANDARD
BEGIN:DAYLIGHT
TZOFFSETFROM:-0500
TZOFFSETTO:-0400
TZNAME:EDT
DTSTART:20260308T070000
END:DAYLIGHT
BEGIN:STANDARD
TZOFFSETFROM:-0400
TZOFFSETTO:-0500
TZNAME:EST
DTSTART:20261101T060000
END:STANDARD
END:VTIMEZONE
BEGIN:VEVENT
DTSTART;VALUE=DATE:20251015
DTEND;VALUE=DATE:20251016
DTSTAMP:20260421T233246
CREATED:20251013T115755Z
LAST-MODIFIED:20251013T115755Z
UID:69649-1760486400-1760572799@visitpikeville.com
SUMMARY:Esports vs Thomas More University
DESCRIPTION:Rocket League
URL:https://visitpikeville.com/event/esports-vs-thomas-more-university/
LOCATION:UPIKE\, 147 Sycamore St\,\, Pikeville\, KY\, 41501\, United States
CATEGORIES:UPike
ATTACH;FMTTYPE=image/png:https://visitpikeville.com/wp-content/uploads/2025/10/Screenshot-2025-10-13-at-7.55.53-AM.png
END:VEVENT
BEGIN:VEVENT
DTSTART;TZID=America/Kentucky/Louisville:20251015T110000
DTEND;TZID=America/Kentucky/Louisville:20251015T133000
DTSTAMP:20260421T233246
CREATED:20251006T142900Z
LAST-MODIFIED:20251006T142900Z
UID:69401-1760526000-1760535000@visitpikeville.com
SUMMARY:Art Exhibition
DESCRIPTION:@University of Pikeville
URL:https://visitpikeville.com/event/art-exhibition-2-2-2/
LOCATION:University Of Pikeville\, 147 Sycamore St\,\, Pikeville\, KY\, 41501\, United States
CATEGORIES:UPike
ATTACH;FMTTYPE=image/jpeg:https://visitpikeville.com/wp-content/uploads/2025/10/art-gallery.jpg
END:VEVENT
BEGIN:VEVENT
DTSTART;TZID=America/Kentucky/Louisville:20251015T140000
DTEND;TZID=America/Kentucky/Louisville:20251015T180000
DTSTAMP:20260421T233246
CREATED:20251006T142947Z
LAST-MODIFIED:20251006T142947Z
UID:69403-1760536800-1760551200@visitpikeville.com
SUMMARY:Art Exhibition
DESCRIPTION:@University of Pikeville
URL:https://visitpikeville.com/event/art-exhibition-2-2-2-2/
LOCATION:University Of Pikeville\, 147 Sycamore St\,\, Pikeville\, KY\, 41501\, United States
CATEGORIES:UPike
ATTACH;FMTTYPE=image/jpeg:https://visitpikeville.com/wp-content/uploads/2025/10/art-gallery.jpg
END:VEVENT
BEGIN:VEVENT
DTSTART;TZID=America/Kentucky/Louisville:20251015T170000
DTEND;TZID=America/Kentucky/Louisville:20251015T190000
DTSTAMP:20260421T233246
CREATED:20250609T122238Z
LAST-MODIFIED:20250609T122238Z
UID:65011-1760547600-1760554800@visitpikeville.com
SUMMARY:Women's Soccer vs Milligan University
DESCRIPTION:Game Day!
URL:https://visitpikeville.com/event/womens-soccer-vs-milligan-university-3/
LOCATION:Bob Amos Park\, 424 Bob Amos Dr\, Pikeville\, Ky\, 41501
CATEGORIES:UPike
ATTACH;FMTTYPE=image/png:https://visitpikeville.com/wp-content/uploads/2025/06/Screenshot-2025-06-09-at-8.20.50 AM.png
END:VEVENT
BEGIN:VEVENT
DTSTART;TZID=America/Kentucky/Louisville:20251015T193000
DTEND;TZID=America/Kentucky/Louisville:20251015T213000
DTSTAMP:20260421T233246
CREATED:20250609T122525Z
LAST-MODIFIED:20250609T122525Z
UID:65014-1760556600-1760563800@visitpikeville.com
SUMMARY:Men's Soccer vs Milligan University
DESCRIPTION:Game Day!
URL:https://visitpikeville.com/event/mens-soccer-vs-milligan-university-3/
LOCATION:Bob Amos Park\, 424 Bob Amos Dr\, Pikeville\, Ky\, 41501
CATEGORIES:UPike
ATTACH;FMTTYPE=image/png:https://visitpikeville.com/wp-content/uploads/2025/06/Screenshot-2025-06-09-at-8.22.46 AM.png
END:VEVENT
END:VCALENDAR