BEGIN:VCALENDAR
VERSION:2.0
PRODID:-//Visit Pikeville - ECPv6.15.20//NONSGML v1.0//EN
CALSCALE:GREGORIAN
METHOD:PUBLISH
X-ORIGINAL-URL:https://visitpikeville.com
X-WR-CALDESC:Events for Visit Pikeville
REFRESH-INTERVAL;VALUE=DURATION:PT1H
X-Robots-Tag:noindex
X-PUBLISHED-TTL:PT1H
BEGIN:VTIMEZONE
TZID:America/Kentucky/Louisville
BEGIN:DAYLIGHT
TZOFFSETFROM:-0500
TZOFFSETTO:-0400
TZNAME:EDT
DTSTART:20240310T070000
END:DAYLIGHT
BEGIN:STANDARD
TZOFFSETFROM:-0400
TZOFFSETTO:-0500
TZNAME:EST
DTSTART:20241103T060000
END:STANDARD
BEGIN:DAYLIGHT
TZOFFSETFROM:-0500
TZOFFSETTO:-0400
TZNAME:EDT
DTSTART:20250309T070000
END:DAYLIGHT
BEGIN:STANDARD
TZOFFSETFROM:-0400
TZOFFSETTO:-0500
TZNAME:EST
DTSTART:20251102T060000
END:STANDARD
BEGIN:DAYLIGHT
TZOFFSETFROM:-0500
TZOFFSETTO:-0400
TZNAME:EDT
DTSTART:20260308T070000
END:DAYLIGHT
BEGIN:STANDARD
TZOFFSETFROM:-0400
TZOFFSETTO:-0500
TZNAME:EST
DTSTART:20261101T060000
END:STANDARD
END:VTIMEZONE
BEGIN:VEVENT
DTSTART;TZID=America/Kentucky/Louisville:20251002T113000
DTEND;TZID=America/Kentucky/Louisville:20251002T123000
DTSTAMP:20260421T232523
CREATED:20250929T140839Z
LAST-MODIFIED:20250929T140839Z
UID:69032-1759404600-1759408200@visitpikeville.com
SUMMARY:Grand Reopening + Ribbon Cutting
DESCRIPTION:Table 99 is BACK! \nCome celebrate with us at the Grand Reopening + Ribbon Cutting\n\n\n Thursday\, Oct. 2\n 11:30 AM | Bears Tower\n\n\n Free samples\n Special lunch deals\n Raffle prizes\n\n\nBring your friends\, grab some food\, and help us cut the ribbon!
URL:https://visitpikeville.com/event/grand-reopening-ribbon-cutting/
LOCATION:Table 99\, 849 Hambley Blvd\, Pikeville\, KY\, 41501\, United States
CATEGORIES:UPike
ATTACH;FMTTYPE=image/png:https://visitpikeville.com/wp-content/uploads/2025/09/Screenshot-2025-09-29-at-10.05.27-AM.png
END:VEVENT
END:VCALENDAR