BEGIN:VCALENDAR
VERSION:2.0
PRODID:-//Visit Pikeville - ECPv6.15.20//NONSGML v1.0//EN
CALSCALE:GREGORIAN
METHOD:PUBLISH
X-ORIGINAL-URL:https://visitpikeville.com
X-WR-CALDESC:Events for Visit Pikeville
REFRESH-INTERVAL;VALUE=DURATION:PT1H
X-Robots-Tag:noindex
X-PUBLISHED-TTL:PT1H
BEGIN:VTIMEZONE
TZID:America/Kentucky/Louisville
BEGIN:DAYLIGHT
TZOFFSETFROM:-0500
TZOFFSETTO:-0400
TZNAME:EDT
DTSTART:20240310T070000
END:DAYLIGHT
BEGIN:STANDARD
TZOFFSETFROM:-0400
TZOFFSETTO:-0500
TZNAME:EST
DTSTART:20241103T060000
END:STANDARD
BEGIN:DAYLIGHT
TZOFFSETFROM:-0500
TZOFFSETTO:-0400
TZNAME:EDT
DTSTART:20250309T070000
END:DAYLIGHT
BEGIN:STANDARD
TZOFFSETFROM:-0400
TZOFFSETTO:-0500
TZNAME:EST
DTSTART:20251102T060000
END:STANDARD
BEGIN:DAYLIGHT
TZOFFSETFROM:-0500
TZOFFSETTO:-0400
TZNAME:EDT
DTSTART:20260308T070000
END:DAYLIGHT
BEGIN:STANDARD
TZOFFSETFROM:-0400
TZOFFSETTO:-0500
TZNAME:EST
DTSTART:20261101T060000
END:STANDARD
END:VTIMEZONE
BEGIN:VEVENT
DTSTART;TZID=America/Kentucky/Louisville:20250906T170000
DTEND;TZID=America/Kentucky/Louisville:20250906T190000
DTSTAMP:20260421T233148
CREATED:20250609T112902Z
LAST-MODIFIED:20250609T112902Z
UID:64975-1757178000-1757185200@visitpikeville.com
SUMMARY:Women's Soccer vs Bryan College
DESCRIPTION:Game Day!
URL:https://visitpikeville.com/event/womens-soccer-vs-bryan-college-2/
LOCATION:Bob Amos Park\, 424 Bob Amos Dr\, Pikeville\, Ky\, 41501
CATEGORIES:UPike
ATTACH;FMTTYPE=image/png:https://visitpikeville.com/wp-content/uploads/2025/06/Screenshot-2025-06-09-at-7.26.16 AM.png
END:VEVENT
BEGIN:VEVENT
DTSTART;TZID=America/Kentucky/Louisville:20250906T193000
DTEND;TZID=America/Kentucky/Louisville:20250906T213000
DTSTAMP:20260421T233148
CREATED:20250609T113039Z
LAST-MODIFIED:20250609T113039Z
UID:64978-1757187000-1757194200@visitpikeville.com
SUMMARY:Men's Soccer vs Bryan College
DESCRIPTION:Game Day!
URL:https://visitpikeville.com/event/mens-soccer-vs-bryan-college-2/
LOCATION:Bob Amos Park\, 424 Bob Amos Dr\, Pikeville\, Ky\, 41501
CATEGORIES:UPike
ATTACH;FMTTYPE=image/png:https://visitpikeville.com/wp-content/uploads/2025/06/Screenshot-2025-06-09-at-7.29.17 AM.png
END:VEVENT
BEGIN:VEVENT
DTSTART;TZID=America/Kentucky/Louisville:20250909T090000
DTEND;TZID=America/Kentucky/Louisville:20250909T100000
DTSTAMP:20260421T233149
CREATED:20250908T143410Z
LAST-MODIFIED:20250908T143410Z
UID:68169-1757408400-1757412000@visitpikeville.com
SUMMARY:Coffee with a Cop
DESCRIPTION:Join us at UPIKE for Coffee with a Cop — conversations that bring campus and community closer.
URL:https://visitpikeville.com/event/coffee-with-a-cop-4/
LOCATION:Chick-Fil-A\, 810 Hambley Blvd\,\, Pikeville\, KY\, 41501\, United States
CATEGORIES:UPike
ATTACH;FMTTYPE=image/jpeg:https://visitpikeville.com/wp-content/uploads/2025/09/COFFEE.jpg
END:VEVENT
BEGIN:VEVENT
DTSTART;TZID=America/Kentucky/Louisville:20250909T190000
DTEND;TZID=America/Kentucky/Louisville:20250909T210000
DTSTAMP:20260421T233149
CREATED:20250609T113310Z
LAST-MODIFIED:20250609T113310Z
UID:64981-1757444400-1757451600@visitpikeville.com
SUMMARY:Volleyball vs Lindsey Wilson College
DESCRIPTION:Game Day!
URL:https://visitpikeville.com/event/volleyball-vs-lindsey-wilson-college-2/
LOCATION:UPIKE GYM\, Hibbard St\,\, Pikeville\, KY\, 41501\, United States
CATEGORIES:UPike
ATTACH;FMTTYPE=image/png:https://visitpikeville.com/wp-content/uploads/2025/06/Screenshot-2025-06-09-at-7.31.32 AM.png
END:VEVENT
BEGIN:VEVENT
DTSTART;TZID=America/Kentucky/Louisville:20250913T150000
DTEND;TZID=America/Kentucky/Louisville:20250913T170000
DTSTAMP:20260421T233149
CREATED:20250609T113608Z
LAST-MODIFIED:20250609T113608Z
UID:64984-1757775600-1757782800@visitpikeville.com
SUMMARY:Women's Soccer vs Columbia College
DESCRIPTION:Game Day!
URL:https://visitpikeville.com/event/womens-soccer-vs-columbia-college/
LOCATION:Bob Amos Park\, 424 Bob Amos Dr\, Pikeville\, Ky\, 41501
CATEGORIES:UPike
ATTACH;FMTTYPE=image/png:https://visitpikeville.com/wp-content/uploads/2025/06/Screenshot-2025-06-09-at-7.33.53 AM.png
END:VEVENT
BEGIN:VEVENT
DTSTART;TZID=America/Kentucky/Louisville:20250913T173000
DTEND;TZID=America/Kentucky/Louisville:20250913T193000
DTSTAMP:20260421T233149
CREATED:20250609T113759Z
LAST-MODIFIED:20250609T113759Z
UID:64987-1757784600-1757791800@visitpikeville.com
SUMMARY:Men's Soccer vs Columbia College
DESCRIPTION:Game Day!
URL:https://visitpikeville.com/event/mens-soccer-vs-columbia-college/
LOCATION:Bob Amos Park\, 424 Bob Amos Dr\, Pikeville\, Ky\, 41501
CATEGORIES:UPike
ATTACH;FMTTYPE=image/png:https://visitpikeville.com/wp-content/uploads/2025/06/Screenshot-2025-06-09-at-7.36.22 AM.png
END:VEVENT
BEGIN:VEVENT
DTSTART;TZID=America/Kentucky/Louisville:20250916T100000
DTEND;TZID=America/Kentucky/Louisville:20250916T120000
DTSTAMP:20260421T233149
CREATED:20250915T133227Z
LAST-MODIFIED:20250915T133227Z
UID:68467-1758016800-1758024000@visitpikeville.com
SUMMARY:Town Mountain Eye Clinic
DESCRIPTION: Big things are happening in Pikeville!We’re cutting the ribbon at the Town Mountain Eye Clinic and can’t wait to see you there. Tuesday\, September 16th at 10:00 AM 387 Town Mountain Rd.\, Pikeville\, KY 41501Let’s celebrate together as we open the doors to expanded vision care for our community!
URL:https://visitpikeville.com/event/town-mountain-eye-clinic/
LOCATION:Town Mountain Eye Clinic\, 387 Town Mountain Rd.\, Pikeville\, KY\, 41501\, United States
CATEGORIES:UPike
ATTACH;FMTTYPE=image/jpeg:https://visitpikeville.com/wp-content/uploads/2025/09/eye-clinic.jpg
END:VEVENT
BEGIN:VEVENT
DTSTART;TZID=America/Kentucky/Louisville:20250920T180000
DTEND;TZID=America/Kentucky/Louisville:20250920T210000
DTSTAMP:20260421T233149
CREATED:20250519T130228Z
LAST-MODIFIED:20250519T130228Z
UID:64629-1758391200-1758402000@visitpikeville.com
SUMMARY:Football vs Cumberland University
DESCRIPTION:Game Day!!
URL:https://visitpikeville.com/event/football-vs-cumberland-university/
LOCATION:Hambley Athletic Complex\, 120 Championship Dr\,\, Pikeville\, KY\, 41501\, United States
CATEGORIES:UPike
ATTACH;FMTTYPE=image/png:https://visitpikeville.com/wp-content/uploads/2025/05/Screenshot-2025-05-19-at-8.56.25 AM.png
END:VEVENT
BEGIN:VEVENT
DTSTART;TZID=America/Kentucky/Louisville:20250923T183000
DTEND;TZID=America/Kentucky/Louisville:20250923T203000
DTSTAMP:20260421T233149
CREATED:20250922T120459Z
LAST-MODIFIED:20250922T120936Z
UID:68708-1758652200-1758659400@visitpikeville.com
SUMMARY:Volleyball vs Bluefield University (Va.)
DESCRIPTION:Game Day!
URL:https://visitpikeville.com/event/volleyball-vs-bluefield-university-va/
LOCATION:UPIKE GYM\, Hibbard St\,\, Pikeville\, KY\, 41501\, United States
CATEGORIES:UPike
ATTACH;FMTTYPE=image/png:https://visitpikeville.com/wp-content/uploads/2025/09/Screenshot-2025-09-22-at-7.51.16-AM.png
END:VEVENT
BEGIN:VEVENT
DTSTART;TZID=America/Kentucky/Louisville:20250924T170000
DTEND;TZID=America/Kentucky/Louisville:20250924T190000
DTSTAMP:20260421T233149
CREATED:20250609T114655Z
LAST-MODIFIED:20250609T114655Z
UID:64993-1758733200-1758740400@visitpikeville.com
SUMMARY:Women's Soccer vs Union Commonwealth University (Ky.)
DESCRIPTION:Game Day!
URL:https://visitpikeville.com/event/womens-soccer-vs-union-commonwealth-university-ky/
LOCATION:Bob Amos Park\, 424 Bob Amos Dr\, Pikeville\, Ky\, 41501
CATEGORIES:UPike
ATTACH;FMTTYPE=image/png:https://visitpikeville.com/wp-content/uploads/2025/06/Screenshot-2025-06-09-at-7.42.05 AM.png
END:VEVENT
BEGIN:VEVENT
DTSTART;TZID=America/Kentucky/Louisville:20250924T193000
DTEND;TZID=America/Kentucky/Louisville:20250924T213000
DTSTAMP:20260421T233149
CREATED:20250609T115013Z
LAST-MODIFIED:20250609T115013Z
UID:64996-1758742200-1758749400@visitpikeville.com
SUMMARY:Men's Soccer vs Union Commonwealth University (Ky.)
DESCRIPTION:Game Day!
URL:https://visitpikeville.com/event/mens-soccer-vs-union-commonwealth-university-ky/
LOCATION:Bob Amos Park\, 424 Bob Amos Dr\, Pikeville\, Ky\, 41501
CATEGORIES:UPike
ATTACH;FMTTYPE=image/png:https://visitpikeville.com/wp-content/uploads/2025/06/Screenshot-2025-06-09-at-7.48.10 AM.png
END:VEVENT
BEGIN:VEVENT
DTSTART;TZID=America/Kentucky/Louisville:20250926T183000
DTEND;TZID=America/Kentucky/Louisville:20250926T203000
DTSTAMP:20260421T233149
CREATED:20250609T115337Z
LAST-MODIFIED:20250609T115337Z
UID:64999-1758911400-1758918600@visitpikeville.com
SUMMARY:Volleyball vs Union Commonwealth University (Ky.)
DESCRIPTION:Game Day!
URL:https://visitpikeville.com/event/volleyball-vs-union-commonwealth-university-ky-2/
LOCATION:KY
CATEGORIES:UPike
ATTACH;FMTTYPE=image/png:https://visitpikeville.com/wp-content/uploads/2025/06/Screenshot-2025-06-09-at-7.50.30 AM.png
END:VEVENT
BEGIN:VEVENT
DTSTART;TZID=America/Kentucky/Louisville:20250927T110000
DTEND;TZID=America/Kentucky/Louisville:20250927T130000
DTSTAMP:20260421T233149
CREATED:20250609T115525Z
LAST-MODIFIED:20250609T115525Z
UID:65002-1758970800-1758978000@visitpikeville.com
SUMMARY:Volleyball vs Johnson University
DESCRIPTION:Game Day!
URL:https://visitpikeville.com/event/volleyball-vs-johnson-university-3/
LOCATION:UPIKE GYM\, Hibbard St\,\, Pikeville\, KY\, 41501\, United States
CATEGORIES:UPike
ATTACH;FMTTYPE=image/png:https://visitpikeville.com/wp-content/uploads/2025/06/Screenshot-2025-06-09-at-7.53.57 AM.png
END:VEVENT
END:VCALENDAR