BEGIN:VCALENDAR
VERSION:2.0
PRODID:-//Visit Pikeville - ECPv6.15.20//NONSGML v1.0//EN
CALSCALE:GREGORIAN
METHOD:PUBLISH
X-WR-CALNAME:Visit Pikeville
X-ORIGINAL-URL:https://visitpikeville.com
X-WR-CALDESC:Events for Visit Pikeville
REFRESH-INTERVAL;VALUE=DURATION:PT1H
X-Robots-Tag:noindex
X-PUBLISHED-TTL:PT1H
BEGIN:VTIMEZONE
TZID:America/Kentucky/Louisville
BEGIN:DAYLIGHT
TZOFFSETFROM:-0500
TZOFFSETTO:-0400
TZNAME:EDT
DTSTART:20240310T070000
END:DAYLIGHT
BEGIN:STANDARD
TZOFFSETFROM:-0400
TZOFFSETTO:-0500
TZNAME:EST
DTSTART:20241103T060000
END:STANDARD
BEGIN:DAYLIGHT
TZOFFSETFROM:-0500
TZOFFSETTO:-0400
TZNAME:EDT
DTSTART:20250309T070000
END:DAYLIGHT
BEGIN:STANDARD
TZOFFSETFROM:-0400
TZOFFSETTO:-0500
TZNAME:EST
DTSTART:20251102T060000
END:STANDARD
BEGIN:DAYLIGHT
TZOFFSETFROM:-0500
TZOFFSETTO:-0400
TZNAME:EDT
DTSTART:20260308T070000
END:DAYLIGHT
BEGIN:STANDARD
TZOFFSETFROM:-0400
TZOFFSETTO:-0500
TZNAME:EST
DTSTART:20261101T060000
END:STANDARD
END:VTIMEZONE
BEGIN:VEVENT
DTSTART;TZID=America/Kentucky/Louisville:20250508T180000
DTEND;TZID=America/Kentucky/Louisville:20250508T200000
DTSTAMP:20260422T060038
CREATED:20250505T124926Z
LAST-MODIFIED:20250505T124926Z
UID:64117-1746727200-1746734400@visitpikeville.com
SUMMARY:UPIKE Nursing Pinning Ceremony
DESCRIPTION: Commencement Week at the University of Pikeville is just 9 days away!From May 8–10\, we’ll celebrate the incredible achievements of our graduating students across all programs.Can’t attend in person? Join us live on UPIKE’s YouTube channel.
URL:https://visitpikeville.com/event/upike-nursing-pinning-ceremony/
LOCATION:UPIKE’s Booth Auditorium\, 147 Sycamore St\, Pikeville\, KY\, 41501\, United States
CATEGORIES:UPike
ATTACH;FMTTYPE=image/jpeg:https://visitpikeville.com/wp-content/uploads/2025/05/commencement.jpg
END:VEVENT
BEGIN:VEVENT
DTSTART;TZID=America/Kentucky/Louisville:20250509T183000
DTEND;TZID=America/Kentucky/Louisville:20250509T203000
DTSTAMP:20260422T060038
CREATED:20250505T125044Z
LAST-MODIFIED:20250505T125044Z
UID:64120-1746815400-1746822600@visitpikeville.com
SUMMARY:UPIKE Social Work Pinning Ceremony
DESCRIPTION: Commencement Week at the University of Pikeville is just 9 days away!From May 8–10\, we’ll celebrate the incredible achievements of our graduating students across all programs.Can’t attend in person? Join us live on UPIKE’s YouTube channel.
URL:https://visitpikeville.com/event/upike-nursing-pinning-ceremony-2/
LOCATION:UPIKE’s Booth Auditorium\, 147 Sycamore St\, Pikeville\, KY\, 41501\, United States
CATEGORIES:UPike
ATTACH;FMTTYPE=image/jpeg:https://visitpikeville.com/wp-content/uploads/2025/05/commencement.jpg
END:VEVENT
BEGIN:VEVENT
DTSTART;TZID=America/Kentucky/Louisville:20250510T093000
DTEND;TZID=America/Kentucky/Louisville:20250510T160000
DTSTAMP:20260422T060038
CREATED:20250505T125248Z
LAST-MODIFIED:20250505T125248Z
UID:64123-1746869400-1746892800@visitpikeville.com
SUMMARY:UPIKE Graduation
DESCRIPTION: Commencement Week at the University of Pikeville is just 9 days away!From May 8–10\, we’ll celebrate the incredible achievements of our graduating students across all programs.Can’t attend in person? Join us live on UPIKE’s YouTube channel.
URL:https://visitpikeville.com/event/upike-nursing-pinning-ceremony-2-2/
LOCATION:Appalachian Wireless Arena\, 126 Main Street\, Pikeville\, Ky\, 41501
CATEGORIES:UPike
ATTACH;FMTTYPE=image/jpeg:https://visitpikeville.com/wp-content/uploads/2025/05/commencement.jpg
END:VEVENT
END:VCALENDAR