BEGIN:VCALENDAR
VERSION:2.0
PRODID:-//Visit Pikeville - ECPv6.15.20//NONSGML v1.0//EN
CALSCALE:GREGORIAN
METHOD:PUBLISH
X-WR-CALNAME:Visit Pikeville
X-ORIGINAL-URL:https://visitpikeville.com
X-WR-CALDESC:Events for Visit Pikeville
REFRESH-INTERVAL;VALUE=DURATION:PT1H
X-Robots-Tag:noindex
X-PUBLISHED-TTL:PT1H
BEGIN:VTIMEZONE
TZID:America/Kentucky/Louisville
BEGIN:DAYLIGHT
TZOFFSETFROM:-0500
TZOFFSETTO:-0400
TZNAME:EDT
DTSTART:20240310T070000
END:DAYLIGHT
BEGIN:STANDARD
TZOFFSETFROM:-0400
TZOFFSETTO:-0500
TZNAME:EST
DTSTART:20241103T060000
END:STANDARD
BEGIN:DAYLIGHT
TZOFFSETFROM:-0500
TZOFFSETTO:-0400
TZNAME:EDT
DTSTART:20250309T070000
END:DAYLIGHT
BEGIN:STANDARD
TZOFFSETFROM:-0400
TZOFFSETTO:-0500
TZNAME:EST
DTSTART:20251102T060000
END:STANDARD
BEGIN:DAYLIGHT
TZOFFSETFROM:-0500
TZOFFSETTO:-0400
TZNAME:EDT
DTSTART:20260308T070000
END:DAYLIGHT
BEGIN:STANDARD
TZOFFSETFROM:-0400
TZOFFSETTO:-0500
TZNAME:EST
DTSTART:20261101T060000
END:STANDARD
END:VTIMEZONE
BEGIN:VEVENT
DTSTART;TZID=America/Kentucky/Louisville:20250331T110000
DTEND;TZID=America/Kentucky/Louisville:20250404T130000
DTSTAMP:20260422T074639
CREATED:20250324T133645Z
LAST-MODIFIED:20250324T133645Z
UID:63577-1743418800-1743771600@visitpikeville.com
SUMMARY:First Responders Appreciation Lunch
DESCRIPTION:UPIKE wants to show its gratitude for first responders’ incredible dedication and service\, especially during last month’s flooding. Join us for a First Responders Appreciation Lunch at the City View Café on one of the following dates. Share this invitation with a first responder or tag them below so we can thank them for their service! Dates: March 24-28 & March 31-April 4 Time: 11 a.m. – 1 p.m. Location: City View Café\, University of PikevilleTo participate\, first responders should R.S.V.P. at Advancement@upike.edu.
URL:https://visitpikeville.com/event/first-responders-appreciation-lunch-2/
LOCATION:University Of Pikeville\, 147 Sycamore St\,\, Pikeville\, KY\, 41501\, United States
CATEGORIES:UPike
ATTACH;FMTTYPE=image/jpeg:https://visitpikeville.com/wp-content/uploads/2025/03/first-responder-lunch.jpg
END:VEVENT
BEGIN:VEVENT
DTSTART;TZID=America/Kentucky/Louisville:20250401T150000
DTEND;TZID=America/Kentucky/Louisville:20250401T170000
DTSTAMP:20260422T074639
CREATED:20241111T192827Z
LAST-MODIFIED:20241111T192827Z
UID:59578-1743519600-1743526800@visitpikeville.com
SUMMARY:Baseball vs Lindsey Wilson College
DESCRIPTION:Game Day!!
URL:https://visitpikeville.com/event/baseball-vs-lindsey-wilson-college-3/
LOCATION:Johnnie LeMaster Field\, 118 W River Dr\,\, Pikeville\, KY\, 41501\, United States
CATEGORIES:UPike
ATTACH;FMTTYPE=image/png:https://visitpikeville.com/wp-content/uploads/2024/11/Screenshot-2024-11-11-at-2.26.49 PM.png
END:VEVENT
BEGIN:VEVENT
DTSTART;TZID=America/Kentucky/Louisville:20250404T150000
DTEND;TZID=America/Kentucky/Louisville:20250404T170000
DTSTAMP:20260422T074639
CREATED:20241111T193009Z
LAST-MODIFIED:20241111T193009Z
UID:59581-1743778800-1743786000@visitpikeville.com
SUMMARY:Baseball vs St. Andrews University
DESCRIPTION:Game Day!!
URL:https://visitpikeville.com/event/baseball-vs-st-andrews-university/
LOCATION:Johnnie LeMaster Field\, 118 W River Dr\,\, Pikeville\, KY\, 41501\, United States
CATEGORIES:UPike
ATTACH;FMTTYPE=image/png:https://visitpikeville.com/wp-content/uploads/2024/11/Screenshot-2024-11-11-at-2.28.38 PM.png
END:VEVENT
BEGIN:VEVENT
DTSTART;TZID=America/Kentucky/Louisville:20250405T120000
DTEND;TZID=America/Kentucky/Louisville:20250405T140000
DTSTAMP:20260422T074639
CREATED:20241111T193105Z
LAST-MODIFIED:20241111T193105Z
UID:59585-1743854400-1743861600@visitpikeville.com
SUMMARY:Baseball vs St. Andrews University
DESCRIPTION:Game Day!!
URL:https://visitpikeville.com/event/baseball-vs-st-andrews-university-2/
LOCATION:Johnnie LeMaster Field\, 118 W River Dr\,\, Pikeville\, KY\, 41501\, United States
CATEGORIES:UPike
ATTACH;FMTTYPE=image/png:https://visitpikeville.com/wp-content/uploads/2024/11/Screenshot-2024-11-11-at-2.28.38 PM.png
END:VEVENT
BEGIN:VEVENT
DTSTART;TZID=America/Kentucky/Louisville:20250405T130000
DTEND;TZID=America/Kentucky/Louisville:20250405T150000
DTSTAMP:20260422T074639
CREATED:20241209T134715Z
LAST-MODIFIED:20241209T134715Z
UID:60642-1743858000-1743865200@visitpikeville.com
SUMMARY:Softball vs Columbia International University
DESCRIPTION:Game Day!
URL:https://visitpikeville.com/event/softball-vs-columbia-international-university/
LOCATION:Paul Butcher Field\, 134 Bank St\,\, Pikeville\, KY\, 41501\, United States
CATEGORIES:UPike
ATTACH;FMTTYPE=image/png:https://visitpikeville.com/wp-content/uploads/2024/12/Screenshot-2024-12-09-at-8.46.00 AM.png
END:VEVENT
BEGIN:VEVENT
DTSTART;TZID=America/Kentucky/Louisville:20250405T150000
DTEND;TZID=America/Kentucky/Louisville:20250405T170000
DTSTAMP:20260422T074639
CREATED:20241111T194324Z
LAST-MODIFIED:20241111T194324Z
UID:59587-1743865200-1743872400@visitpikeville.com
SUMMARY:Baseball vs St. Andrews University
DESCRIPTION:Game Day!!
URL:https://visitpikeville.com/event/baseball-vs-st-andrews-university-2-2/
LOCATION:Johnnie LeMaster Field\, 118 W River Dr\,\, Pikeville\, KY\, 41501\, United States
CATEGORIES:UPike
ATTACH;FMTTYPE=image/png:https://visitpikeville.com/wp-content/uploads/2024/11/Screenshot-2024-11-11-at-2.28.38 PM.png
END:VEVENT
BEGIN:VEVENT
DTSTART;TZID=America/Kentucky/Louisville:20250405T150000
DTEND;TZID=America/Kentucky/Louisville:20250405T170000
DTSTAMP:20260422T074639
CREATED:20241209T134749Z
LAST-MODIFIED:20241209T134749Z
UID:60645-1743865200-1743872400@visitpikeville.com
SUMMARY:Softball vs Columbia International University
DESCRIPTION:Game Day!
URL:https://visitpikeville.com/event/softball-vs-columbia-international-university-2/
LOCATION:Paul Butcher Field\, 134 Bank St\,\, Pikeville\, KY\, 41501\, United States
CATEGORIES:UPike
ATTACH;FMTTYPE=image/png:https://visitpikeville.com/wp-content/uploads/2024/12/Screenshot-2024-12-09-at-8.46.00 AM.png
END:VEVENT
BEGIN:VEVENT
DTSTART;TZID=America/Kentucky/Louisville:20250408T150000
DTEND;TZID=America/Kentucky/Louisville:20250408T170000
DTSTAMP:20260422T074639
CREATED:20241111T194500Z
LAST-MODIFIED:20241111T194500Z
UID:59589-1744124400-1744131600@visitpikeville.com
SUMMARY:Baseball vs Alice Lloyd College
DESCRIPTION:Game Day!!
URL:https://visitpikeville.com/event/baseball-vs-alice-lloyd-college-2/
LOCATION:Johnnie LeMaster Field\, 118 W River Dr\,\, Pikeville\, KY\, 41501\, United States
CATEGORIES:UPike
ATTACH;FMTTYPE=image/png:https://visitpikeville.com/wp-content/uploads/2024/11/Screenshot-2024-11-11-at-2.43.44 PM.png
END:VEVENT
BEGIN:VEVENT
DTSTART;TZID=America/Kentucky/Louisville:20250408T180000
DTEND;TZID=America/Kentucky/Louisville:20250408T200000
DTSTAMP:20260422T074639
CREATED:20250407T205351Z
LAST-MODIFIED:20250407T205351Z
UID:63799-1744135200-1744142400@visitpikeville.com
SUMMARY:Open Mic Night at UPike!
DESCRIPTION:Check out this cool creative writing open mic night at UPike!
URL:https://visitpikeville.com/event/open-mic-night-at-upike/
LOCATION:UPIKE\, 147 Sycamore St\,\, Pikeville\, KY\, 41501\, United States
CATEGORIES:UPike
ATTACH;FMTTYPE=image/jpeg:https://visitpikeville.com/wp-content/uploads/2025/04/OPEN-MIC.jpg
END:VEVENT
BEGIN:VEVENT
DTSTART;VALUE=DATE:20250415
DTEND;VALUE=DATE:20250416
DTSTAMP:20260422T074639
CREATED:20250407T211231Z
LAST-MODIFIED:20250407T211231Z
UID:63812-1744675200-1744761599@visitpikeville.com
SUMMARY:Clinic Orientation (Class of 2027)
DESCRIPTION:@UPIKE
URL:https://visitpikeville.com/event/clinic-orientation-class-of-2027/
LOCATION:UPIKE\, 147 Sycamore St\,\, Pikeville\, KY\, 41501\, United States
CATEGORIES:UPike
ATTACH;FMTTYPE=image/webp:https://visitpikeville.com/wp-content/uploads/2025/04/upike_logo-1.webp
END:VEVENT
BEGIN:VEVENT
DTSTART;TZID=America/Kentucky/Louisville:20250415T140000
DTEND;TZID=America/Kentucky/Louisville:20250415T160000
DTSTAMP:20260422T074639
CREATED:20250106T143253Z
LAST-MODIFIED:20250106T143253Z
UID:61746-1744725600-1744732800@visitpikeville.com
SUMMARY:Softball vs Kentucky Christian University
DESCRIPTION:Game Day!
URL:https://visitpikeville.com/event/softball-vs-kentucky-christian-university-3/
LOCATION:Paul Butcher Field\, 134 Bank St\,\, Pikeville\, KY\, 41501\, United States
CATEGORIES:UPike
ATTACH;FMTTYPE=image/png:https://visitpikeville.com/wp-content/uploads/2025/01/Screenshot-2025-01-06-at-9.32.14 AM.png
END:VEVENT
BEGIN:VEVENT
DTSTART;TZID=America/Kentucky/Louisville:20250415T150000
DTEND;TZID=America/Kentucky/Louisville:20250415T170000
DTSTAMP:20260422T074639
CREATED:20241111T194637Z
LAST-MODIFIED:20241111T194637Z
UID:59592-1744729200-1744736400@visitpikeville.com
SUMMARY:Baseball vs Georgetown College
DESCRIPTION:Game Day!
URL:https://visitpikeville.com/event/baseball-vs-georgetown-college/
LOCATION:Johnnie LeMaster Field\, 118 W River Dr\,\, Pikeville\, KY\, 41501\, United States
CATEGORIES:UPike
ATTACH;FMTTYPE=image/png:https://visitpikeville.com/wp-content/uploads/2024/11/Screenshot-2024-11-11-at-2.45.24 PM.png
END:VEVENT
BEGIN:VEVENT
DTSTART;TZID=America/Kentucky/Louisville:20250415T160000
DTEND;TZID=America/Kentucky/Louisville:20250415T180000
DTSTAMP:20260422T074639
CREATED:20250106T143508Z
LAST-MODIFIED:20250106T143508Z
UID:61750-1744732800-1744740000@visitpikeville.com
SUMMARY:Softball vs Kentucky Christian University
DESCRIPTION:Game Day!
URL:https://visitpikeville.com/event/softball-vs-kentucky-christian-university-3-2/
LOCATION:Paul Butcher Field\, 134 Bank St\,\, Pikeville\, KY\, 41501\, United States
CATEGORIES:UPike
ATTACH;FMTTYPE=image/png:https://visitpikeville.com/wp-content/uploads/2025/01/Screenshot-2025-01-06-at-9.32.14 AM.png
END:VEVENT
BEGIN:VEVENT
DTSTART;TZID=America/Kentucky/Louisville:20250418T150000
DTEND;TZID=America/Kentucky/Louisville:20250418T170000
DTSTAMP:20260422T074639
CREATED:20241111T194807Z
LAST-MODIFIED:20241111T194807Z
UID:59595-1744988400-1744995600@visitpikeville.com
SUMMARY:Baseball vs Union Commonwealth University (Ky.)
DESCRIPTION:Game Day!!
URL:https://visitpikeville.com/event/baseball-vs-union-commonwealth-university-ky/
LOCATION:Johnnie LeMaster Field\, 118 W River Dr\,\, Pikeville\, KY\, 41501\, United States
CATEGORIES:UPike
ATTACH;FMTTYPE=image/png:https://visitpikeville.com/wp-content/uploads/2024/11/Screenshot-2024-11-11-at-2.46.54 PM.png
END:VEVENT
BEGIN:VEVENT
DTSTART;TZID=America/Kentucky/Louisville:20250419T120000
DTEND;TZID=America/Kentucky/Louisville:20250419T140000
DTSTAMP:20260422T074639
CREATED:20241111T194907Z
LAST-MODIFIED:20241111T194907Z
UID:59598-1745064000-1745071200@visitpikeville.com
SUMMARY:Baseball vs Union Commonwealth University (Ky.)
DESCRIPTION:Game Day!!
URL:https://visitpikeville.com/event/baseball-vs-union-commonwealth-university-ky-2/
LOCATION:Johnnie LeMaster Field\, 118 W River Dr\,\, Pikeville\, KY\, 41501\, United States
CATEGORIES:UPike
ATTACH;FMTTYPE=image/png:https://visitpikeville.com/wp-content/uploads/2024/11/Screenshot-2024-11-11-at-2.46.54 PM.png
END:VEVENT
BEGIN:VEVENT
DTSTART;TZID=America/Kentucky/Louisville:20250419T150000
DTEND;TZID=America/Kentucky/Louisville:20250419T170000
DTSTAMP:20260422T074639
CREATED:20241111T194945Z
LAST-MODIFIED:20241111T194945Z
UID:59600-1745074800-1745082000@visitpikeville.com
SUMMARY:Baseball vs Union Commonwealth University (Ky.)
DESCRIPTION:Game Day!!
URL:https://visitpikeville.com/event/baseball-vs-union-commonwealth-university-ky-2-2/
LOCATION:Johnnie LeMaster Field\, 118 W River Dr\,\, Pikeville\, KY\, 41501\, United States
CATEGORIES:UPike
ATTACH;FMTTYPE=image/png:https://visitpikeville.com/wp-content/uploads/2024/11/Screenshot-2024-11-11-at-2.46.54 PM.png
END:VEVENT
BEGIN:VEVENT
DTSTART;VALUE=DATE:20250422
DTEND;VALUE=DATE:20250423
DTSTAMP:20260422T074639
CREATED:20250407T211800Z
LAST-MODIFIED:20250407T211800Z
UID:63821-1745280000-1745366399@visitpikeville.com
SUMMARY:Externship Orientation (Class of 2026)
DESCRIPTION:@UPIKE
URL:https://visitpikeville.com/event/clinic-orientation-class-of-2027-2/
LOCATION:UPIKE\, 147 Sycamore St\,\, Pikeville\, KY\, 41501\, United States
CATEGORIES:UPike
ATTACH;FMTTYPE=image/webp:https://visitpikeville.com/wp-content/uploads/2025/04/upike_logo-1.webp
END:VEVENT
END:VCALENDAR