BEGIN:VCALENDAR
VERSION:2.0
PRODID:-//Visit Pikeville - ECPv6.15.20//NONSGML v1.0//EN
CALSCALE:GREGORIAN
METHOD:PUBLISH
X-WR-CALNAME:Visit Pikeville
X-ORIGINAL-URL:https://visitpikeville.com
X-WR-CALDESC:Events for Visit Pikeville
REFRESH-INTERVAL;VALUE=DURATION:PT1H
X-Robots-Tag:noindex
X-PUBLISHED-TTL:PT1H
BEGIN:VTIMEZONE
TZID:America/Kentucky/Louisville
BEGIN:DAYLIGHT
TZOFFSETFROM:-0500
TZOFFSETTO:-0400
TZNAME:EDT
DTSTART:20250309T070000
END:DAYLIGHT
BEGIN:STANDARD
TZOFFSETFROM:-0400
TZOFFSETTO:-0500
TZNAME:EST
DTSTART:20251102T060000
END:STANDARD
BEGIN:DAYLIGHT
TZOFFSETFROM:-0500
TZOFFSETTO:-0400
TZNAME:EDT
DTSTART:20260308T070000
END:DAYLIGHT
BEGIN:STANDARD
TZOFFSETFROM:-0400
TZOFFSETTO:-0500
TZNAME:EST
DTSTART:20261101T060000
END:STANDARD
BEGIN:DAYLIGHT
TZOFFSETFROM:-0500
TZOFFSETTO:-0400
TZNAME:EDT
DTSTART:20270314T070000
END:DAYLIGHT
BEGIN:STANDARD
TZOFFSETFROM:-0400
TZOFFSETTO:-0500
TZNAME:EST
DTSTART:20271107T060000
END:STANDARD
END:VTIMEZONE
BEGIN:VEVENT
DTSTART;TZID=America/Kentucky/Louisville:20260607T190000
DTEND;TZID=America/Kentucky/Louisville:20260607T210000
DTSTAMP:20260421T142236
CREATED:20260223T151648Z
LAST-MODIFIED:20260223T151648Z
UID:73165-1780858800-1780866000@visitpikeville.com
SUMMARY:Karen Morgan
DESCRIPTION:Karen Morgan is a former trial attorney who began her comedy career as a Finalist on Nickelodeon Television’s Search for the Funniest Mom in America. She has now been performing clean standup comedy nationwide in theaters and performing arts centers for almost two decades. \nKaren has 2 Dry Bar Comedy Specials: Go Dawgs (with millions of views on Facebook & YouTube) and now Rub Some Dirt On It (Top 10 List of 2023). Her latest comedy album\, Shiny Happy People Laughing (named with special permission from REM)\, was recorded in her home town of Athens\, Georgia; it plays on 4 different channels on Sirius XM Radio. She has several television appearances including The Talk on CBS\, Gotham Comedy Live\, and ads for Wal-Mart and Zyrtec. She has also been featured in The Washington Post\, Huff Postand The Insider. \nKaren entertains audiences nationwide with her relatable observations of family and everyday life. Her funny\, sentimental stories of growing up in the 1970s & 80s are a particularly big hit with Gen Xers\, Gen Jonesers and Baby Boomers. Karen’s “real” humor\, clean material and conversational delivery connect quickly with audiences. She has also built a strong community of friends on social media who love to buy tickets to her live shows. \nKaren lives in Cumberland\, Maine but loves to travel all over the country for comedy shows\, especially if there is a Waffle House along the way. \nTickets: $25 All Tickets + Fee
URL:https://visitpikeville.com/event/karen-morgan/
LOCATION:Appalachian Center for the Arts\, 218 2nd St\,\, Pikeville\, Ky\, 41501
CATEGORIES:The Appalachian Center for the Arts
ATTACH;FMTTYPE=image/jpeg:https://visitpikeville.com/wp-content/uploads/2026/02/karen.jpg
END:VEVENT
END:VCALENDAR