BEGIN:VCALENDAR
VERSION:2.0
PRODID:-//Visit Pikeville - ECPv6.15.20//NONSGML v1.0//EN
CALSCALE:GREGORIAN
METHOD:PUBLISH
X-WR-CALNAME:Visit Pikeville
X-ORIGINAL-URL:https://visitpikeville.com
X-WR-CALDESC:Events for Visit Pikeville
REFRESH-INTERVAL;VALUE=DURATION:PT1H
X-Robots-Tag:noindex
X-PUBLISHED-TTL:PT1H
BEGIN:VTIMEZONE
TZID:America/Kentucky/Louisville
BEGIN:DAYLIGHT
TZOFFSETFROM:-0500
TZOFFSETTO:-0400
TZNAME:EDT
DTSTART:20250309T070000
END:DAYLIGHT
BEGIN:STANDARD
TZOFFSETFROM:-0400
TZOFFSETTO:-0500
TZNAME:EST
DTSTART:20251102T060000
END:STANDARD
BEGIN:DAYLIGHT
TZOFFSETFROM:-0500
TZOFFSETTO:-0400
TZNAME:EDT
DTSTART:20260308T070000
END:DAYLIGHT
BEGIN:STANDARD
TZOFFSETFROM:-0400
TZOFFSETTO:-0500
TZNAME:EST
DTSTART:20261101T060000
END:STANDARD
BEGIN:DAYLIGHT
TZOFFSETFROM:-0500
TZOFFSETTO:-0400
TZNAME:EDT
DTSTART:20270314T070000
END:DAYLIGHT
BEGIN:STANDARD
TZOFFSETFROM:-0400
TZOFFSETTO:-0500
TZNAME:EST
DTSTART:20271107T060000
END:STANDARD
END:VTIMEZONE
BEGIN:VEVENT
DTSTART;TZID=America/Kentucky/Louisville:20260508T190000
DTEND;TZID=America/Kentucky/Louisville:20260508T210000
DTSTAMP:20260421T131401
CREATED:20260420T124251Z
LAST-MODIFIED:20260420T124251Z
UID:74157-1778266800-1778274000@visitpikeville.com
SUMMARY:The Phenomenon of Romantic Love
DESCRIPTION:May 8th\, 2026 | 7:00 – 9 :00 PM \nJoin us this one-night seminar exploring the fascinating science and experience of falling in love! \nLed by Gerald Boone\, a seasoned educator with a master’s degree in Public Health and years of teaching experience\, this seminar dives into the chemistry behind love\, including the role of hormones like oxytocin\, dopamine\, and serotonin. Discover how these “love hormones” influence emotions\, attachment\, and relationships\, and engage in lively discussions about the feelings and experiences of love. With a mix of science\, personal stories\, and group participation\, this seminar promises to be an enlightening and enjoyable journey into the mysteries of love. \nWhether you’re curious about the science or want to share your own experiences\, this seminar is for you! By the end of the seminar\, we will work together to create a “Creation of The Love in Appalachia” mural. \nALL TICKETS ARE FREE!
URL:https://visitpikeville.com/event/the-phenomenon-of-romantic-love/
LOCATION:Appalachian Center for the Arts\, 218 2nd St\,\, Pikeville\, Ky\, 41501
CATEGORIES:The Appalachian Center for the Arts
ATTACH;FMTTYPE=image/jpeg:https://visitpikeville.com/wp-content/uploads/2026/04/romantic-love.jpg
END:VEVENT
END:VCALENDAR