BEGIN:VCALENDAR
VERSION:2.0
PRODID:-//Visit Pikeville - ECPv6.15.20//NONSGML v1.0//EN
CALSCALE:GREGORIAN
METHOD:PUBLISH
X-WR-CALNAME:Visit Pikeville
X-ORIGINAL-URL:https://visitpikeville.com
X-WR-CALDESC:Events for Visit Pikeville
REFRESH-INTERVAL;VALUE=DURATION:PT1H
X-Robots-Tag:noindex
X-PUBLISHED-TTL:PT1H
BEGIN:VTIMEZONE
TZID:America/Kentucky/Louisville
BEGIN:DAYLIGHT
TZOFFSETFROM:-0500
TZOFFSETTO:-0400
TZNAME:EDT
DTSTART:20250309T070000
END:DAYLIGHT
BEGIN:STANDARD
TZOFFSETFROM:-0400
TZOFFSETTO:-0500
TZNAME:EST
DTSTART:20251102T060000
END:STANDARD
BEGIN:DAYLIGHT
TZOFFSETFROM:-0500
TZOFFSETTO:-0400
TZNAME:EDT
DTSTART:20260308T070000
END:DAYLIGHT
BEGIN:STANDARD
TZOFFSETFROM:-0400
TZOFFSETTO:-0500
TZNAME:EST
DTSTART:20261101T060000
END:STANDARD
BEGIN:DAYLIGHT
TZOFFSETFROM:-0500
TZOFFSETTO:-0400
TZNAME:EDT
DTSTART:20270314T070000
END:DAYLIGHT
BEGIN:STANDARD
TZOFFSETFROM:-0400
TZOFFSETTO:-0500
TZNAME:EST
DTSTART:20271107T060000
END:STANDARD
END:VTIMEZONE
BEGIN:VEVENT
DTSTART;TZID=America/Kentucky/Louisville:20260425T193000
DTEND;TZID=America/Kentucky/Louisville:20260425T213000
DTSTAMP:20260421T095658
CREATED:20260413T121851Z
LAST-MODIFIED:20260413T121851Z
UID:73986-1777145400-1777152600@visitpikeville.com
SUMMARY:Play Day: Create & Perform an Original Play in One Day
DESCRIPTION:April 25th\, 2026 | 7:30PM \nCome one\, come all! Join us for an experience like no other! A truly one-of-a-kind awaits you at The Appalachian Center for the Arts on April 25th\, 2026.\n__________________________________________________________ \nEver wondered how a play is made? Better yet\, want to be the one who makes it? \nJoin instructor Mark Hatfield for a dynamic\, one-day workshop where we will discard the script and create a completely new performance from scratch. \nWhat is devising? It’s the art of group storytelling. We start with nothing but a room full of people and a few ideas. Through games\, collaborative improvisations\, shared stories\, embodied poetics\, and the magic of theatre\, we’ll craft an original one-act play by the end of the afternoon. \nNo Experience Necessary! Whether you’re a seasoned performer or have never stepped foot on a stage\, your voice belongs here. \nThe show must go on! After a day of creation\, we’ll open the doors at 7:30 PM for a free public performance of the work you helped create. Come build something that has never been seen before—and may never be witnessed again!
URL:https://visitpikeville.com/event/play-day-create-perform-an-original-play-in-one-day/
LOCATION:Appalachian Center for the Arts\, 218 2nd St\,\, Pikeville\, Ky\, 41501
CATEGORIES:The Appalachian Center for the Arts
ATTACH;FMTTYPE=image/jpeg:https://visitpikeville.com/wp-content/uploads/2026/04/play.jpg
END:VEVENT
END:VCALENDAR