BEGIN:VCALENDAR
VERSION:2.0
PRODID:-//Visit Pikeville - ECPv6.15.20//NONSGML v1.0//EN
CALSCALE:GREGORIAN
METHOD:PUBLISH
X-ORIGINAL-URL:https://visitpikeville.com
X-WR-CALDESC:Events for Visit Pikeville
REFRESH-INTERVAL;VALUE=DURATION:PT1H
X-Robots-Tag:noindex
X-PUBLISHED-TTL:PT1H
BEGIN:VTIMEZONE
TZID:America/Kentucky/Louisville
BEGIN:DAYLIGHT
TZOFFSETFROM:-0500
TZOFFSETTO:-0400
TZNAME:EDT
DTSTART:20250309T070000
END:DAYLIGHT
BEGIN:STANDARD
TZOFFSETFROM:-0400
TZOFFSETTO:-0500
TZNAME:EST
DTSTART:20251102T060000
END:STANDARD
BEGIN:DAYLIGHT
TZOFFSETFROM:-0500
TZOFFSETTO:-0400
TZNAME:EDT
DTSTART:20260308T070000
END:DAYLIGHT
BEGIN:STANDARD
TZOFFSETFROM:-0400
TZOFFSETTO:-0500
TZNAME:EST
DTSTART:20261101T060000
END:STANDARD
BEGIN:DAYLIGHT
TZOFFSETFROM:-0500
TZOFFSETTO:-0400
TZNAME:EDT
DTSTART:20270314T070000
END:DAYLIGHT
BEGIN:STANDARD
TZOFFSETFROM:-0400
TZOFFSETTO:-0500
TZNAME:EST
DTSTART:20271107T060000
END:STANDARD
END:VTIMEZONE
BEGIN:VEVENT
DTSTART;TZID=America/Kentucky/Louisville:20260330T090000
DTEND;TZID=America/Kentucky/Louisville:20260330T150000
DTSTAMP:20260421T095801
CREATED:20260126T120545Z
LAST-MODIFIED:20260126T120545Z
UID:72662-1774861200-1774882800@visitpikeville.com
SUMMARY:The Wizard of Oz Spring Break Camp
DESCRIPTION:March 28th – April 2nd\, 2026 (off on March 29th)\nSat – Thurs | 9:00 AM – 3:00 PM\nPerformance: April 2nd at 7:30PM \nStudents must be available for all camp times and performance. \nWelcome to our 5-day spring break camp! This will have kids exploring the world of theatre by putting together a performance with acting\, teamwork\, and most importantly making friends! Whether your child is going on stage for the first time or is a seasoned veteran\, they will thoroughly enjoy their time here and will cap off their experience with performance at The Appalachian Center for the Arts on the final day of camp. \nJoin Dorothy\, Toto\, and all the characters you know and love as they journey from Kansas to the Emerald City in “The Wizard of Oz”. Performed by our Spring Break Campers ages 5–12 at The Appalachian Center for The Arts. These young artists will bring the timeless story to life with heart\, courage\, brains\, and plenty of fun along the way. From munchkins to monkeys\, scarecrows to witches\, come cheer on our young performers as they discover that there’s no place like home! \nThe Appalachian Center for the Arts is committed to serving the artistic educational needs of our community. No child will ever be turned away due to financial hardship. If you require assistance please email us at education@theapparts.org.
URL:https://visitpikeville.com/event/the-wizard-of-oz-spring-break-camp-2/
LOCATION:Appalachian Center for the Arts\, 218 2nd St\,\, Pikeville\, Ky\, 41501
CATEGORIES:The Appalachian Center for the Arts
ATTACH;FMTTYPE=image/jpeg:https://visitpikeville.com/wp-content/uploads/2026/01/wizard.jpg
END:VEVENT
END:VCALENDAR