BEGIN:VCALENDAR
VERSION:2.0
PRODID:-//Visit Pikeville - ECPv6.15.20//NONSGML v1.0//EN
CALSCALE:GREGORIAN
METHOD:PUBLISH
X-ORIGINAL-URL:https://visitpikeville.com
X-WR-CALDESC:Events for Visit Pikeville
REFRESH-INTERVAL;VALUE=DURATION:PT1H
X-Robots-Tag:noindex
X-PUBLISHED-TTL:PT1H
BEGIN:VTIMEZONE
TZID:America/Kentucky/Louisville
BEGIN:DAYLIGHT
TZOFFSETFROM:-0500
TZOFFSETTO:-0400
TZNAME:EDT
DTSTART:20250309T070000
END:DAYLIGHT
BEGIN:STANDARD
TZOFFSETFROM:-0400
TZOFFSETTO:-0500
TZNAME:EST
DTSTART:20251102T060000
END:STANDARD
BEGIN:DAYLIGHT
TZOFFSETFROM:-0500
TZOFFSETTO:-0400
TZNAME:EDT
DTSTART:20260308T070000
END:DAYLIGHT
BEGIN:STANDARD
TZOFFSETFROM:-0400
TZOFFSETTO:-0500
TZNAME:EST
DTSTART:20261101T060000
END:STANDARD
BEGIN:DAYLIGHT
TZOFFSETFROM:-0500
TZOFFSETTO:-0400
TZNAME:EDT
DTSTART:20270314T070000
END:DAYLIGHT
BEGIN:STANDARD
TZOFFSETFROM:-0400
TZOFFSETTO:-0500
TZNAME:EST
DTSTART:20271107T060000
END:STANDARD
END:VTIMEZONE
BEGIN:VEVENT
DTSTART;TZID=America/Kentucky/Louisville:20260319T170000
DTEND;TZID=America/Kentucky/Louisville:20260319T180000
DTSTAMP:20260421T125724
CREATED:20260105T122704Z
LAST-MODIFIED:20260105T122704Z
UID:72171-1773939600-1773943200@visitpikeville.com
SUMMARY:From the Page to the Stage
DESCRIPTION:February 17th-March 27th\, 2026\nMeets: Tuesday / Thursday | 5:00 – 6:00pm\nCommunity Sharing: March 27th\, 2026\nInstructor: Crockett J. Ward \nThis class is perfect for those individuals who want MORE out of a script. In this class\, actors\, writers\, directors\, literary enthusiasts\, all will learn how to dissect a script to the core and build a world full of life. Whether your desire is to be a better actor\, or you just want something to investigate\, we have space for you. The purpose will be developing their own method for analysis through the work of Michael Shurtleff and the 12 guideposts. There will be a performance-based aspect to this class. Community sharing is March 27th\, 2026.
URL:https://visitpikeville.com/event/from-the-page-to-the-stage-2-2-2-2-2-2-2-2-2/
LOCATION:Appalachian Center for the Arts\, 218 2nd St\,\, Pikeville\, Ky\, 41501
CATEGORIES:The Appalachian Center for the Arts
ATTACH;FMTTYPE=image/jpeg:https://visitpikeville.com/wp-content/uploads/2026/01/page.jpg
END:VEVENT
BEGIN:VEVENT
DTSTART;TZID=America/Kentucky/Louisville:20260319T183000
DTEND;TZID=America/Kentucky/Louisville:20260319T200000
DTSTAMP:20260421T125724
CREATED:20260105T132939Z
LAST-MODIFIED:20260105T132939Z
UID:72234-1773945000-1773950400@visitpikeville.com
SUMMARY:Classical Scene Study
DESCRIPTION:February 17th-March 27th\, 2026\nMeets: Tuesday / Thursday | 6:30 – 8:00pm\nCommunity Sharing: March 27th\, 2026\nInstructor: Crockett J. Ward \nDive into the classics\, from Shakespeare to Lorraine Hansberry with some Arthur Miller thrown in. This class will revolve around exploring a variety of classical texts with the intention of truthful\, period appropriate responses and performance. If you can learn to cook pasta\, or pay rent\, you can learn how to approach classical texts with grace and supported actions. There will be a performance-based aspect to this class. Community sharing is March 27th\, 2026.
URL:https://visitpikeville.com/event/classical-scene-study-2-2-2-2-2-2-2-2-2/
LOCATION:Appalachian Center for the Arts\, 218 2nd St\,\, Pikeville\, Ky\, 41501
CATEGORIES:The Appalachian Center for the Arts
ATTACH;FMTTYPE=image/jpeg:https://visitpikeville.com/wp-content/uploads/2026/01/classical.jpg
END:VEVENT
END:VCALENDAR