BEGIN:VCALENDAR
VERSION:2.0
PRODID:-//Visit Pikeville - ECPv6.15.20//NONSGML v1.0//EN
CALSCALE:GREGORIAN
METHOD:PUBLISH
X-WR-CALNAME:Visit Pikeville
X-ORIGINAL-URL:https://visitpikeville.com
X-WR-CALDESC:Events for Visit Pikeville
REFRESH-INTERVAL;VALUE=DURATION:PT1H
X-Robots-Tag:noindex
X-PUBLISHED-TTL:PT1H
BEGIN:VTIMEZONE
TZID:America/Kentucky/Louisville
BEGIN:DAYLIGHT
TZOFFSETFROM:-0500
TZOFFSETTO:-0400
TZNAME:EDT
DTSTART:20250309T070000
END:DAYLIGHT
BEGIN:STANDARD
TZOFFSETFROM:-0400
TZOFFSETTO:-0500
TZNAME:EST
DTSTART:20251102T060000
END:STANDARD
BEGIN:DAYLIGHT
TZOFFSETFROM:-0500
TZOFFSETTO:-0400
TZNAME:EDT
DTSTART:20260308T070000
END:DAYLIGHT
BEGIN:STANDARD
TZOFFSETFROM:-0400
TZOFFSETTO:-0500
TZNAME:EST
DTSTART:20261101T060000
END:STANDARD
BEGIN:DAYLIGHT
TZOFFSETFROM:-0500
TZOFFSETTO:-0400
TZNAME:EDT
DTSTART:20270314T070000
END:DAYLIGHT
BEGIN:STANDARD
TZOFFSETFROM:-0400
TZOFFSETTO:-0500
TZNAME:EST
DTSTART:20271107T060000
END:STANDARD
END:VTIMEZONE
BEGIN:VEVENT
DTSTART;TZID=America/Kentucky/Louisville:20260207T140000
DTEND;TZID=America/Kentucky/Louisville:20260207T160000
DTSTAMP:20260421T205837
CREATED:20260203T151228Z
LAST-MODIFIED:20260203T151228Z
UID:72833-1770472800-1770480000@visitpikeville.com
SUMMARY:Valentine Paint Class
DESCRIPTION:February 7th\, 2026\nMeet: Saturday | 2:00 PM\nLocation: Appalachian Center for the Arts \nGrab your favorite people and get ready to celebrate Valentine’s Day with paint\, laughter\, and a whole lot of love! \nAt this family-friendly paint class\, each participant will create their own sweet turtle painting. When everyone’s artwork is placed together\, the turtles magically look like they’re holding hands! \nNo painting experience needed! In partnership with the Pike County Arts Extension office\, our instructor will guide you step-by-step\, and we’ll provide everything you need: paint\, canvas\, and all the supplies. Plus\, enjoy Valentine’s Day cookies and refreshments while you paint. Best part? You’ll take your turtle masterpiece home with you at the end! \nPike County Extension Community Arts strives to deliver meaningful arts experiences to people of all ages across Pike County. Through clubs and community partnerships\, the program expands access to creative opportunities that inspire learning\, connection\, and self-expression.
URL:https://visitpikeville.com/event/valentine-paint-class/
LOCATION:Appalachian Center for the Arts\, 218 2nd St\,\, Pikeville\, Ky\, 41501
CATEGORIES:The Appalachian Center for the Arts
ATTACH;FMTTYPE=image/jpeg:https://visitpikeville.com/wp-content/uploads/2026/02/valentine-paint-class.jpg
END:VEVENT
END:VCALENDAR