BEGIN:VCALENDAR
VERSION:2.0
PRODID:-//Visit Pikeville - ECPv6.15.20//NONSGML v1.0//EN
CALSCALE:GREGORIAN
METHOD:PUBLISH
X-ORIGINAL-URL:https://visitpikeville.com
X-WR-CALDESC:Events for Visit Pikeville
REFRESH-INTERVAL;VALUE=DURATION:PT1H
X-Robots-Tag:noindex
X-PUBLISHED-TTL:PT1H
BEGIN:VTIMEZONE
TZID:America/Kentucky/Louisville
BEGIN:DAYLIGHT
TZOFFSETFROM:-0500
TZOFFSETTO:-0400
TZNAME:EDT
DTSTART:20250309T070000
END:DAYLIGHT
BEGIN:STANDARD
TZOFFSETFROM:-0400
TZOFFSETTO:-0500
TZNAME:EST
DTSTART:20251102T060000
END:STANDARD
BEGIN:DAYLIGHT
TZOFFSETFROM:-0500
TZOFFSETTO:-0400
TZNAME:EDT
DTSTART:20260308T070000
END:DAYLIGHT
BEGIN:STANDARD
TZOFFSETFROM:-0400
TZOFFSETTO:-0500
TZNAME:EST
DTSTART:20261101T060000
END:STANDARD
BEGIN:DAYLIGHT
TZOFFSETFROM:-0500
TZOFFSETTO:-0400
TZNAME:EDT
DTSTART:20270314T070000
END:DAYLIGHT
BEGIN:STANDARD
TZOFFSETFROM:-0400
TZOFFSETTO:-0500
TZNAME:EST
DTSTART:20271107T060000
END:STANDARD
END:VTIMEZONE
BEGIN:VEVENT
DTSTART;TZID=America/Kentucky/Louisville:20260117T190000
DTEND;TZID=America/Kentucky/Louisville:20260117T213000
DTSTAMP:20260421T224340
CREATED:20251216T134445Z
LAST-MODIFIED:20251216T134445Z
UID:72086-1768676400-1768685400@visitpikeville.com
SUMMARY:East Kentucky Improv Champions
DESCRIPTION:Due to the extreemly cold weather causing school cancelations\, we’ve made the decision to postpone our high school improv olympics to January 17th\, 2026. Make plans to join us next month to see what these schools have been working on. The show is sure to be full of a lot of laughs and silliness! We can hardly wait!\n\n_______________\n\n\nImprov Olympics!\n\n\nDate: Dec. 18th\, 2025 at 7:00-9:30 p.m.\n\n\nCost: Free with a suggested $10.00 donation at the door – proceeds will be split among the four schools as donations to their Respective Theatre/Art programs.\n\n\nEvent Details: In collaboration with local public schools\, our Director of Education & Engagement has helped build improv troupes at Pike Central\, East Ridge\, Belfry\, and Pikeville in support of growing arts education. On December 18th\, these schools are coming together for a one-night-only\, round-robin competition for the title of East Kentucky Improv Champions. Who will take home the trophy? Which team will create worlds never before seen? How will they contain all the laughter to just one building? Will there even be a trophy? Well\, come out December 18th at 7:00 p.m. to see these amazing students compete and show off their skills.
URL:https://visitpikeville.com/event/east-kentucky-improv-champions-2/
LOCATION:Appalachian Center for the Arts\, 218 2nd St\,\, Pikeville\, Ky\, 41501
CATEGORIES:The Appalachian Center for the Arts
ATTACH;FMTTYPE=image/jpeg:https://visitpikeville.com/wp-content/uploads/2025/12/improv-postponed.jpg
END:VEVENT
END:VCALENDAR