BEGIN:VCALENDAR
VERSION:2.0
PRODID:-//Visit Pikeville - ECPv6.15.20//NONSGML v1.0//EN
CALSCALE:GREGORIAN
METHOD:PUBLISH
X-WR-CALNAME:Visit Pikeville
X-ORIGINAL-URL:https://visitpikeville.com
X-WR-CALDESC:Events for Visit Pikeville
REFRESH-INTERVAL;VALUE=DURATION:PT1H
X-Robots-Tag:noindex
X-PUBLISHED-TTL:PT1H
BEGIN:VTIMEZONE
TZID:America/Kentucky/Louisville
BEGIN:DAYLIGHT
TZOFFSETFROM:-0500
TZOFFSETTO:-0400
TZNAME:EDT
DTSTART:20250309T070000
END:DAYLIGHT
BEGIN:STANDARD
TZOFFSETFROM:-0400
TZOFFSETTO:-0500
TZNAME:EST
DTSTART:20251102T060000
END:STANDARD
BEGIN:DAYLIGHT
TZOFFSETFROM:-0500
TZOFFSETTO:-0400
TZNAME:EDT
DTSTART:20260308T070000
END:DAYLIGHT
BEGIN:STANDARD
TZOFFSETFROM:-0400
TZOFFSETTO:-0500
TZNAME:EST
DTSTART:20261101T060000
END:STANDARD
BEGIN:DAYLIGHT
TZOFFSETFROM:-0500
TZOFFSETTO:-0400
TZNAME:EDT
DTSTART:20270314T070000
END:DAYLIGHT
BEGIN:STANDARD
TZOFFSETFROM:-0400
TZOFFSETTO:-0500
TZNAME:EST
DTSTART:20271107T060000
END:STANDARD
END:VTIMEZONE
BEGIN:VEVENT
DTSTART;TZID=America/Kentucky/Louisville:20261002T193000
DTEND;TZID=America/Kentucky/Louisville:20261002T213000
DTSTAMP:20260422T001015
CREATED:20260203T142839Z
LAST-MODIFIED:20260203T142839Z
UID:72785-1790969400-1790976600@visitpikeville.com
SUMMARY:Puffs
DESCRIPTION:Puffs\, or: Seven Increasingly Eventful Years at a Certain School of Magic and Magic is a comedic play by Matt Cox that reimagines the Harry Potter universe from the perspective of the “Puffs” (Hufflepuffs)—the often-overlooked\, loyal outsiders. It follows three potential heroes\, Wayne\, Oliver\, and Megan\, over seven years as they navigate a dangerous magical school\, dealing with friendships\, classes\, and the “Chosen One”. \nTickets: $22 Adults | $15 Senior | $12 Students (under 18)
URL:https://visitpikeville.com/event/puffs/
LOCATION:Appalachian Center for the Arts\, 218 2nd St\,\, Pikeville\, Ky\, 41501
CATEGORIES:The Appalachian Center for the Arts
ATTACH;FMTTYPE=image/jpeg:https://visitpikeville.com/wp-content/uploads/2026/02/puffs.jpg
END:VEVENT
BEGIN:VEVENT
DTSTART;TZID=America/Kentucky/Louisville:20261003T150000
DTEND;TZID=America/Kentucky/Louisville:20261003T170000
DTSTAMP:20260422T001015
CREATED:20260203T142926Z
LAST-MODIFIED:20260203T142926Z
UID:72788-1791039600-1791046800@visitpikeville.com
SUMMARY:Puffs
DESCRIPTION:Puffs\, or: Seven Increasingly Eventful Years at a Certain School of Magic and Magic is a comedic play by Matt Cox that reimagines the Harry Potter universe from the perspective of the “Puffs” (Hufflepuffs)—the often-overlooked\, loyal outsiders. It follows three potential heroes\, Wayne\, Oliver\, and Megan\, over seven years as they navigate a dangerous magical school\, dealing with friendships\, classes\, and the “Chosen One”. \nTickets: $22 Adults | $15 Senior | $12 Students (under 18)
URL:https://visitpikeville.com/event/puffs-2/
LOCATION:Appalachian Center for the Arts\, 218 2nd St\,\, Pikeville\, Ky\, 41501
CATEGORIES:The Appalachian Center for the Arts
ATTACH;FMTTYPE=image/jpeg:https://visitpikeville.com/wp-content/uploads/2026/02/puffs.jpg
END:VEVENT
BEGIN:VEVENT
DTSTART;TZID=America/Kentucky/Louisville:20261003T193000
DTEND;TZID=America/Kentucky/Louisville:20261003T213000
DTSTAMP:20260422T001015
CREATED:20260203T143001Z
LAST-MODIFIED:20260203T143001Z
UID:72790-1791055800-1791063000@visitpikeville.com
SUMMARY:Puffs
DESCRIPTION:Puffs\, or: Seven Increasingly Eventful Years at a Certain School of Magic and Magic is a comedic play by Matt Cox that reimagines the Harry Potter universe from the perspective of the “Puffs” (Hufflepuffs)—the often-overlooked\, loyal outsiders. It follows three potential heroes\, Wayne\, Oliver\, and Megan\, over seven years as they navigate a dangerous magical school\, dealing with friendships\, classes\, and the “Chosen One”. \nTickets: $22 Adults | $15 Senior | $12 Students (under 18)
URL:https://visitpikeville.com/event/puffs-2-2/
LOCATION:Appalachian Center for the Arts\, 218 2nd St\,\, Pikeville\, Ky\, 41501
CATEGORIES:The Appalachian Center for the Arts
ATTACH;FMTTYPE=image/jpeg:https://visitpikeville.com/wp-content/uploads/2026/02/puffs.jpg
END:VEVENT
BEGIN:VEVENT
DTSTART;TZID=America/Kentucky/Louisville:20261004T150000
DTEND;TZID=America/Kentucky/Louisville:20261004T170000
DTSTAMP:20260422T001015
CREATED:20260203T143052Z
LAST-MODIFIED:20260203T143052Z
UID:72792-1791126000-1791133200@visitpikeville.com
SUMMARY:Puffs
DESCRIPTION:Puffs\, or: Seven Increasingly Eventful Years at a Certain School of Magic and Magic is a comedic play by Matt Cox that reimagines the Harry Potter universe from the perspective of the “Puffs” (Hufflepuffs)—the often-overlooked\, loyal outsiders. It follows three potential heroes\, Wayne\, Oliver\, and Megan\, over seven years as they navigate a dangerous magical school\, dealing with friendships\, classes\, and the “Chosen One”. \nTickets: $22 Adults | $15 Senior | $12 Students (under 18)
URL:https://visitpikeville.com/event/puffs-2-2-2/
LOCATION:Appalachian Center for the Arts\, 218 2nd St\,\, Pikeville\, Ky\, 41501
CATEGORIES:The Appalachian Center for the Arts
ATTACH;FMTTYPE=image/jpeg:https://visitpikeville.com/wp-content/uploads/2026/02/puffs.jpg
END:VEVENT
BEGIN:VEVENT
DTSTART;TZID=America/Kentucky/Louisville:20261009T193000
DTEND;TZID=America/Kentucky/Louisville:20261009T213000
DTSTAMP:20260422T001015
CREATED:20260203T143121Z
LAST-MODIFIED:20260203T143121Z
UID:72794-1791574200-1791581400@visitpikeville.com
SUMMARY:Puffs
DESCRIPTION:Puffs\, or: Seven Increasingly Eventful Years at a Certain School of Magic and Magic is a comedic play by Matt Cox that reimagines the Harry Potter universe from the perspective of the “Puffs” (Hufflepuffs)—the often-overlooked\, loyal outsiders. It follows three potential heroes\, Wayne\, Oliver\, and Megan\, over seven years as they navigate a dangerous magical school\, dealing with friendships\, classes\, and the “Chosen One”. \nTickets: $22 Adults | $15 Senior | $12 Students (under 18)
URL:https://visitpikeville.com/event/puffs-2-2-2-2/
LOCATION:Appalachian Center for the Arts\, 218 2nd St\,\, Pikeville\, Ky\, 41501
CATEGORIES:The Appalachian Center for the Arts
ATTACH;FMTTYPE=image/jpeg:https://visitpikeville.com/wp-content/uploads/2026/02/puffs.jpg
END:VEVENT
BEGIN:VEVENT
DTSTART;TZID=America/Kentucky/Louisville:20261010T193000
DTEND;TZID=America/Kentucky/Louisville:20261010T213000
DTSTAMP:20260422T001015
CREATED:20260203T143154Z
LAST-MODIFIED:20260203T143154Z
UID:72796-1791660600-1791667800@visitpikeville.com
SUMMARY:Puffs
DESCRIPTION:Puffs\, or: Seven Increasingly Eventful Years at a Certain School of Magic and Magic is a comedic play by Matt Cox that reimagines the Harry Potter universe from the perspective of the “Puffs” (Hufflepuffs)—the often-overlooked\, loyal outsiders. It follows three potential heroes\, Wayne\, Oliver\, and Megan\, over seven years as they navigate a dangerous magical school\, dealing with friendships\, classes\, and the “Chosen One”. \nTickets: $22 Adults | $15 Senior | $12 Students (under 18)
URL:https://visitpikeville.com/event/puffs-2-2-2-2-2/
LOCATION:Appalachian Center for the Arts\, 218 2nd St\,\, Pikeville\, Ky\, 41501
CATEGORIES:The Appalachian Center for the Arts
ATTACH;FMTTYPE=image/jpeg:https://visitpikeville.com/wp-content/uploads/2026/02/puffs.jpg
END:VEVENT
BEGIN:VEVENT
DTSTART;TZID=America/Kentucky/Louisville:20261011T150000
DTEND;TZID=America/Kentucky/Louisville:20261011T170000
DTSTAMP:20260422T001015
CREATED:20260203T143305Z
LAST-MODIFIED:20260203T143305Z
UID:72798-1791730800-1791738000@visitpikeville.com
SUMMARY:Puffs
DESCRIPTION:Puffs\, or: Seven Increasingly Eventful Years at a Certain School of Magic and Magic is a comedic play by Matt Cox that reimagines the Harry Potter universe from the perspective of the “Puffs” (Hufflepuffs)—the often-overlooked\, loyal outsiders. It follows three potential heroes\, Wayne\, Oliver\, and Megan\, over seven years as they navigate a dangerous magical school\, dealing with friendships\, classes\, and the “Chosen One”. \nTickets: $22 Adults | $15 Senior | $12 Students (under 18)
URL:https://visitpikeville.com/event/puffs-2-2-2-2-2-2/
LOCATION:Appalachian Center for the Arts\, 218 2nd St\,\, Pikeville\, Ky\, 41501
CATEGORIES:The Appalachian Center for the Arts
ATTACH;FMTTYPE=image/jpeg:https://visitpikeville.com/wp-content/uploads/2026/02/puffs.jpg
END:VEVENT
BEGIN:VEVENT
DTSTART;TZID=America/Kentucky/Louisville:20261017T193000
DTEND;TZID=America/Kentucky/Louisville:20261017T213000
DTSTAMP:20260422T001015
CREATED:20260203T143448Z
LAST-MODIFIED:20260203T143448Z
UID:72800-1792265400-1792272600@visitpikeville.com
SUMMARY:The Rocky Horror Picture Show
DESCRIPTION:Rated: R 18+\nThe story centers on a young engaged couple whose car breaks down in the rain near a castle\, where they search for help. The castle is occupied by strangers in elaborate costumes holding a party. They then meet the head of the house\, Dr. Frank-N-Furter\, an apparently mad scientist and alien transvestite from the planet Transsexual in the galaxy of Transylvania\, who creates a living muscle man named Rocky. \nTickets: $20 All Tickets
URL:https://visitpikeville.com/event/the-rocky-horror-picture-show-4/
LOCATION:Appalachian Center for the Arts\, 218 2nd St\,\, Pikeville\, Ky\, 41501
CATEGORIES:The Appalachian Center for the Arts
ATTACH;FMTTYPE=image/jpeg:https://visitpikeville.com/wp-content/uploads/2026/02/rocky-horror.jpg
END:VEVENT
END:VCALENDAR