BEGIN:VCALENDAR
VERSION:2.0
PRODID:-//Visit Pikeville - ECPv6.15.20//NONSGML v1.0//EN
CALSCALE:GREGORIAN
METHOD:PUBLISH
X-ORIGINAL-URL:https://visitpikeville.com
X-WR-CALDESC:Events for Visit Pikeville
REFRESH-INTERVAL;VALUE=DURATION:PT1H
X-Robots-Tag:noindex
X-PUBLISHED-TTL:PT1H
BEGIN:VTIMEZONE
TZID:America/Kentucky/Louisville
BEGIN:DAYLIGHT
TZOFFSETFROM:-0500
TZOFFSETTO:-0400
TZNAME:EDT
DTSTART:20250309T070000
END:DAYLIGHT
BEGIN:STANDARD
TZOFFSETFROM:-0400
TZOFFSETTO:-0500
TZNAME:EST
DTSTART:20251102T060000
END:STANDARD
BEGIN:DAYLIGHT
TZOFFSETFROM:-0500
TZOFFSETTO:-0400
TZNAME:EDT
DTSTART:20260308T070000
END:DAYLIGHT
BEGIN:STANDARD
TZOFFSETFROM:-0400
TZOFFSETTO:-0500
TZNAME:EST
DTSTART:20261101T060000
END:STANDARD
BEGIN:DAYLIGHT
TZOFFSETFROM:-0500
TZOFFSETTO:-0400
TZNAME:EDT
DTSTART:20270314T070000
END:DAYLIGHT
BEGIN:STANDARD
TZOFFSETFROM:-0400
TZOFFSETTO:-0500
TZNAME:EST
DTSTART:20271107T060000
END:STANDARD
END:VTIMEZONE
BEGIN:VEVENT
DTSTART;TZID=America/Kentucky/Louisville:20260522T090000
DTEND;TZID=America/Kentucky/Louisville:20260605T150000
DTSTAMP:20260421T125548
CREATED:20260203T145952Z
LAST-MODIFIED:20260203T145952Z
UID:72816-1779440400-1780671600@visitpikeville.com
SUMMARY:Newsies Jr. Summer Camp
DESCRIPTION:May 22nd\, 26th – June 5th | $265\nWeekdays\, 9:00am – 3:00pm (excluding May 25th)\nPerformance: June 5th\, 2026 7:30PM and June 6th\, 2026 3:00PM & 7:30PM \nWhen powerful newspaper publishers raise prices at the newsboys’ expense\, the charismatic Jack Kelly rallies newsies from across the city to strike against the unfair conditions. Together\, the newsies learn that they are stronger united and create a movement to fight for what’s right. \nNote: Children must be present for every day of camp and all performances on June 5th and 6th.
URL:https://visitpikeville.com/event/newsies-jr-summer-camp/
LOCATION:Appalachian Center for the Arts\, 218 2nd St\,\, Pikeville\, Ky\, 41501
CATEGORIES:The Appalachian Center for the Arts
ATTACH;FMTTYPE=image/jpeg:https://visitpikeville.com/wp-content/uploads/2026/02/newsies-camp.jpg
END:VEVENT
BEGIN:VEVENT
DTSTART;TZID=America/Kentucky/Louisville:20260605T193000
DTEND;TZID=America/Kentucky/Louisville:20260605T213000
DTSTAMP:20260421T125548
CREATED:20260203T134928Z
LAST-MODIFIED:20260203T134928Z
UID:72757-1780687800-1780695000@visitpikeville.com
SUMMARY:Newsies Jr.
DESCRIPTION:June 5th\, 2026 | 7:30PM\nJune 6th\, 2026 | 3:00PM\, 7:30PM \nWhen powerful newspaper publishers raise prices at the newsboys’ expense\, the charismatic Jack Kelly rallies newsies from across the city to strike against the unfair conditions. Together\, the newsies learn that they are stronger united and create a movement to fight for what’s right. \nTickets: $18 Adults\, $13Seniors & $12 Kids + Fee
URL:https://visitpikeville.com/event/newsies-jr/
LOCATION:Appalachian Center for the Arts\, 218 2nd St\,\, Pikeville\, Ky\, 41501
CATEGORIES:The Appalachian Center for the Arts
ATTACH;FMTTYPE=image/jpeg:https://visitpikeville.com/wp-content/uploads/2026/02/newsies.jpg
END:VEVENT
BEGIN:VEVENT
DTSTART;TZID=America/Kentucky/Louisville:20260606T150000
DTEND;TZID=America/Kentucky/Louisville:20260606T170000
DTSTAMP:20260421T125548
CREATED:20260203T135015Z
LAST-MODIFIED:20260203T135015Z
UID:72760-1780758000-1780765200@visitpikeville.com
SUMMARY:Newsies Jr.
DESCRIPTION:June 5th\, 2026 | 7:30PM\nJune 6th\, 2026 | 3:00PM\, 7:30PM \nWhen powerful newspaper publishers raise prices at the newsboys’ expense\, the charismatic Jack Kelly rallies newsies from across the city to strike against the unfair conditions. Together\, the newsies learn that they are stronger united and create a movement to fight for what’s right. \nTickets: $18 Adults\, $13Seniors & $12 Kids + Fee
URL:https://visitpikeville.com/event/newsies-jr-2/
LOCATION:Appalachian Center for the Arts\, 218 2nd St\,\, Pikeville\, Ky\, 41501
CATEGORIES:The Appalachian Center for the Arts
ATTACH;FMTTYPE=image/jpeg:https://visitpikeville.com/wp-content/uploads/2026/02/newsies.jpg
END:VEVENT
BEGIN:VEVENT
DTSTART;TZID=America/Kentucky/Louisville:20260606T193000
DTEND;TZID=America/Kentucky/Louisville:20260606T213000
DTSTAMP:20260421T125548
CREATED:20260203T135048Z
LAST-MODIFIED:20260203T135048Z
UID:72762-1780774200-1780781400@visitpikeville.com
SUMMARY:Newsies Jr.
DESCRIPTION:June 5th\, 2026 | 7:30PM\nJune 6th\, 2026 | 3:00PM\, 7:30PM \nWhen powerful newspaper publishers raise prices at the newsboys’ expense\, the charismatic Jack Kelly rallies newsies from across the city to strike against the unfair conditions. Together\, the newsies learn that they are stronger united and create a movement to fight for what’s right. \nTickets: $18 Adults\, $13Seniors & $12 Kids + Fee
URL:https://visitpikeville.com/event/newsies-jr-2-2/
LOCATION:Appalachian Center for the Arts\, 218 2nd St\,\, Pikeville\, Ky\, 41501
CATEGORIES:The Appalachian Center for the Arts
ATTACH;FMTTYPE=image/jpeg:https://visitpikeville.com/wp-content/uploads/2026/02/newsies.jpg
END:VEVENT
BEGIN:VEVENT
DTSTART;TZID=America/Kentucky/Louisville:20260607T190000
DTEND;TZID=America/Kentucky/Louisville:20260607T210000
DTSTAMP:20260421T125548
CREATED:20260223T151648Z
LAST-MODIFIED:20260223T151648Z
UID:73165-1780858800-1780866000@visitpikeville.com
SUMMARY:Karen Morgan
DESCRIPTION:Karen Morgan is a former trial attorney who began her comedy career as a Finalist on Nickelodeon Television’s Search for the Funniest Mom in America. She has now been performing clean standup comedy nationwide in theaters and performing arts centers for almost two decades. \nKaren has 2 Dry Bar Comedy Specials: Go Dawgs (with millions of views on Facebook & YouTube) and now Rub Some Dirt On It (Top 10 List of 2023). Her latest comedy album\, Shiny Happy People Laughing (named with special permission from REM)\, was recorded in her home town of Athens\, Georgia; it plays on 4 different channels on Sirius XM Radio. She has several television appearances including The Talk on CBS\, Gotham Comedy Live\, and ads for Wal-Mart and Zyrtec. She has also been featured in The Washington Post\, Huff Postand The Insider. \nKaren entertains audiences nationwide with her relatable observations of family and everyday life. Her funny\, sentimental stories of growing up in the 1970s & 80s are a particularly big hit with Gen Xers\, Gen Jonesers and Baby Boomers. Karen’s “real” humor\, clean material and conversational delivery connect quickly with audiences. She has also built a strong community of friends on social media who love to buy tickets to her live shows. \nKaren lives in Cumberland\, Maine but loves to travel all over the country for comedy shows\, especially if there is a Waffle House along the way. \nTickets: $25 All Tickets + Fee
URL:https://visitpikeville.com/event/karen-morgan/
LOCATION:Appalachian Center for the Arts\, 218 2nd St\,\, Pikeville\, Ky\, 41501
CATEGORIES:The Appalachian Center for the Arts
ATTACH;FMTTYPE=image/jpeg:https://visitpikeville.com/wp-content/uploads/2026/02/karen.jpg
END:VEVENT
BEGIN:VEVENT
DTSTART;TZID=America/Kentucky/Louisville:20260608T120000
DTEND;TZID=America/Kentucky/Louisville:20260627T160000
DTSTAMP:20260421T125548
CREATED:20260203T150404Z
LAST-MODIFIED:20260203T150404Z
UID:72822-1780920000-1782576000@visitpikeville.com
SUMMARY:Tech Camp: Behind the Scenes of Madagascar Jr.
DESCRIPTION:June 8th – June 27th | $250\nWeekdays\, 12:00PM – 4:00PM\nPerformance: June 26th\, 2026 at 7:30PM and June 27th\, 2026 at 3:00PM & 7:30PM \nEver wondered how the magic of theatre comes together? Our Tech Camp is a three-week\, hands-on experience designed for students interested in the design and technical side of theatre\, running alongside our Madagascar Jr. camp. \nCamp meets weekdays from 12:00–4:00 pm and gives students the opportunity to learn\, practice\, and apply essential theatre tech skills in a real production setting. \nWeek 1: Dive into set design and construction\, learning how scenery is planned\, built\, and brought to life on stage.\nWeek 2: Explore other key areas of theatrical design and technology\, including lighting\, costumes\, sound\, and stage management techniques\, with hands-on practice in each area.\nWeek 3: Put it all together by running tech for Madagascar Jr.\, finishing the camp as the official design and technical crew for three public performances. \nThis camp is perfect for students who love creativity\, problem-solving\, teamwork\, and working behind the scenes. By the end of the three weeks\, campers will have real production experience and the pride of helping bring a full musical to life! \nNote: Children must be present for every day of camp and all performances on June 26th and 27th.
URL:https://visitpikeville.com/event/tech-camp-behind-the-scenes-of-madagascar-jr/
LOCATION:Appalachian Center for the Arts\, 218 2nd St\,\, Pikeville\, Ky\, 41501
CATEGORIES:The Appalachian Center for the Arts
ATTACH;FMTTYPE=image/jpeg:https://visitpikeville.com/wp-content/uploads/2026/02/behind.jpg
END:VEVENT
BEGIN:VEVENT
DTSTART;TZID=America/Kentucky/Louisville:20260626T193000
DTEND;TZID=America/Kentucky/Louisville:20260626T213000
DTSTAMP:20260421T125548
CREATED:20260203T141722Z
LAST-MODIFIED:20260203T141722Z
UID:72764-1782502200-1782509400@visitpikeville.com
SUMMARY:Madagascar Jr. 1
DESCRIPTION:June 26th\, 2026 | 7:30PM\nJune 27th\, 2026 | 3:00PM\, 7:30PM \nBased on the smash DreamWorks animated motion picture\, Madagascar – A Musical Adventure JR. follows all of your favorite crack-a-lackin’ friends as they escape from their home in New York’s Central Park Zoo and find themselves on an unexpected journey to the madcap world of King Julien’s Madagascar. \nTickets: $18 Adults\, $13 Seniors & $12 Kids + Fee
URL:https://visitpikeville.com/event/madagascar-jr-1/
LOCATION:Appalachian Center for the Arts\, 218 2nd St\,\, Pikeville\, Ky\, 41501
CATEGORIES:The Appalachian Center for the Arts
ATTACH;FMTTYPE=image/jpeg:https://visitpikeville.com/wp-content/uploads/2026/02/madagascar.jpg
END:VEVENT
BEGIN:VEVENT
DTSTART;TZID=America/Kentucky/Louisville:20260627T150000
DTEND;TZID=America/Kentucky/Louisville:20260627T170000
DTSTAMP:20260421T125548
CREATED:20260203T141816Z
LAST-MODIFIED:20260203T141816Z
UID:72767-1782572400-1782579600@visitpikeville.com
SUMMARY:Madagascar Jr. 1
DESCRIPTION:June 26th\, 2026 | 7:30PM\nJune 27th\, 2026 | 3:00PM\, 7:30PMBased on the smash DreamWorks animated motion picture\, Madagascar – A Musical Adventure JR. follows all of your favorite crack-a-lackin’ friends as they escape from their home in New York’s Central Park Zoo and find themselves on an unexpected journey to the madcap world of King Julien’s Madagascar. \nTickets: $18 Adults\, $13 Seniors & $12 Kids + Fee
URL:https://visitpikeville.com/event/madagascar-jr-1-2/
LOCATION:Appalachian Center for the Arts\, 218 2nd St\,\, Pikeville\, Ky\, 41501
CATEGORIES:The Appalachian Center for the Arts
ATTACH;FMTTYPE=image/jpeg:https://visitpikeville.com/wp-content/uploads/2026/02/madagascar.jpg
END:VEVENT
BEGIN:VEVENT
DTSTART;TZID=America/Kentucky/Louisville:20260627T193000
DTEND;TZID=America/Kentucky/Louisville:20260627T213000
DTSTAMP:20260421T125548
CREATED:20260203T141957Z
LAST-MODIFIED:20260203T141957Z
UID:72769-1782588600-1782595800@visitpikeville.com
SUMMARY:Madagascar Jr. 1
DESCRIPTION:June 26th\, 2026 | 7:30PM\nJune 27th\, 2026 | 3:00PM\, 7:30PMBased on the smash DreamWorks animated motion picture\, Madagascar – A Musical Adventure JR. follows all of your favorite crack-a-lackin’ friends as they escape from their home in New York’s Central Park Zoo and find themselves on an unexpected journey to the madcap world of King Julien’s Madagascar.Tickets: $18 Adults\, $13 Seniors & $12 Kids + Fee
URL:https://visitpikeville.com/event/madagascar-jr-1-2-2/
LOCATION:Appalachian Center for the Arts\, 218 2nd St\,\, Pikeville\, Ky\, 41501
CATEGORIES:The Appalachian Center for the Arts
ATTACH;FMTTYPE=image/jpeg:https://visitpikeville.com/wp-content/uploads/2026/02/madagascar.jpg
END:VEVENT
END:VCALENDAR