BEGIN:VCALENDAR
VERSION:2.0
PRODID:-//Visit Pikeville - ECPv6.15.20//NONSGML v1.0//EN
CALSCALE:GREGORIAN
METHOD:PUBLISH
X-WR-CALNAME:Visit Pikeville
X-ORIGINAL-URL:https://visitpikeville.com
X-WR-CALDESC:Events for Visit Pikeville
REFRESH-INTERVAL;VALUE=DURATION:PT1H
X-Robots-Tag:noindex
X-PUBLISHED-TTL:PT1H
BEGIN:VTIMEZONE
TZID:America/Kentucky/Louisville
BEGIN:DAYLIGHT
TZOFFSETFROM:-0500
TZOFFSETTO:-0400
TZNAME:EDT
DTSTART:20240310T070000
END:DAYLIGHT
BEGIN:STANDARD
TZOFFSETFROM:-0400
TZOFFSETTO:-0500
TZNAME:EST
DTSTART:20241103T060000
END:STANDARD
BEGIN:DAYLIGHT
TZOFFSETFROM:-0500
TZOFFSETTO:-0400
TZNAME:EDT
DTSTART:20250309T070000
END:DAYLIGHT
BEGIN:STANDARD
TZOFFSETFROM:-0400
TZOFFSETTO:-0500
TZNAME:EST
DTSTART:20251102T060000
END:STANDARD
BEGIN:DAYLIGHT
TZOFFSETFROM:-0500
TZOFFSETTO:-0400
TZNAME:EDT
DTSTART:20260308T070000
END:DAYLIGHT
BEGIN:STANDARD
TZOFFSETFROM:-0400
TZOFFSETTO:-0500
TZNAME:EST
DTSTART:20261101T060000
END:STANDARD
END:VTIMEZONE
BEGIN:VEVENT
DTSTART;TZID=America/Kentucky/Louisville:20251205T193000
DTEND;TZID=America/Kentucky/Louisville:20251205T213000
DTSTAMP:20260421T223911
CREATED:20250217T152714Z
LAST-MODIFIED:20250217T152714Z
UID:62928-1764963000-1764970200@visitpikeville.com
SUMMARY:Annie The Musical
DESCRIPTION:With equal measures of luck and positivity\, little orphan Annie charms everyone’s hearts despite a next-to-nothing start in 1930s New York City. She is determined to find the parents who abandoned her years ago on the doorstep of a New York City Orphanage that is run by the cruel\, embittered Miss Hannigan. \nWith the help of the other girls in the Orphanage\, Annie escapes to the wondrous world of NYC. In adventure after fun-filled adventure\, Annie foils Miss Hannigan’s evil machinations… and even befriends President Franklin Delano Roosevelt! \nShe finds a new home and family in billionaire\, Oliver Warbucks\, his personal secretary\, Grace Farrell\, and a lovable mutt named Sandy. \nTickets:\nIn Advance: Adult: $20 | Kids (up to 18) | Seniors (65+) $13\nAt Door: Adult: $22 | Kids (up to 18) | Seniors (65+) $15
URL:https://visitpikeville.com/event/annie-the-musical/
LOCATION:Appalachian Center for the Arts\, 218 2nd St\,\, Pikeville\, Ky\, 41501
CATEGORIES:The Appalachian Center for the Arts
ATTACH;FMTTYPE=image/jpeg:https://visitpikeville.com/wp-content/uploads/2025/02/annie.jpg
END:VEVENT
BEGIN:VEVENT
DTSTART;TZID=America/Kentucky/Louisville:20251206T193000
DTEND;TZID=America/Kentucky/Louisville:20251206T213000
DTSTAMP:20260421T223911
CREATED:20250217T152757Z
LAST-MODIFIED:20250217T152757Z
UID:62931-1765049400-1765056600@visitpikeville.com
SUMMARY:Annie The Musical
DESCRIPTION:With equal measures of luck and positivity\, little orphan Annie charms everyone’s hearts despite a next-to-nothing start in 1930s New York City. She is determined to find the parents who abandoned her years ago on the doorstep of a New York City Orphanage that is run by the cruel\, embittered Miss Hannigan. \nWith the help of the other girls in the Orphanage\, Annie escapes to the wondrous world of NYC. In adventure after fun-filled adventure\, Annie foils Miss Hannigan’s evil machinations… and even befriends President Franklin Delano Roosevelt! \nShe finds a new home and family in billionaire\, Oliver Warbucks\, his personal secretary\, Grace Farrell\, and a lovable mutt named Sandy. \nTickets:\nIn Advance: Adult: $20 | Kids (up to 18) | Seniors (65+) $13\nAt Door: Adult: $22 | Kids (up to 18) | Seniors (65+) $15
URL:https://visitpikeville.com/event/annie-the-musical-2/
LOCATION:Appalachian Center for the Arts\, 218 2nd St\,\, Pikeville\, Ky\, 41501
CATEGORIES:The Appalachian Center for the Arts
ATTACH;FMTTYPE=image/jpeg:https://visitpikeville.com/wp-content/uploads/2025/02/annie.jpg
END:VEVENT
BEGIN:VEVENT
DTSTART;TZID=America/Kentucky/Louisville:20251207T150000
DTEND;TZID=America/Kentucky/Louisville:20251207T170000
DTSTAMP:20260421T223911
CREATED:20250217T153021Z
LAST-MODIFIED:20250217T153021Z
UID:62933-1765119600-1765126800@visitpikeville.com
SUMMARY:Annie The Musical
DESCRIPTION:With equal measures of luck and positivity\, little orphan Annie charms everyone’s hearts despite a next-to-nothing start in 1930s New York City. She is determined to find the parents who abandoned her years ago on the doorstep of a New York City Orphanage that is run by the cruel\, embittered Miss Hannigan. \nWith the help of the other girls in the Orphanage\, Annie escapes to the wondrous world of NYC. In adventure after fun-filled adventure\, Annie foils Miss Hannigan’s evil machinations… and even befriends President Franklin Delano Roosevelt! \nShe finds a new home and family in billionaire\, Oliver Warbucks\, his personal secretary\, Grace Farrell\, and a lovable mutt named Sandy. \nTickets:\nIn Advance: Adult: $20 | Kids (up to 18) | Seniors (65+) $13\nAt Door: Adult: $22 | Kids (up to 18) | Seniors (65+) $15
URL:https://visitpikeville.com/event/annie-the-musical-2-2/
LOCATION:Appalachian Center for the Arts\, 218 2nd St\,\, Pikeville\, Ky\, 41501
CATEGORIES:The Appalachian Center for the Arts
ATTACH;FMTTYPE=image/jpeg:https://visitpikeville.com/wp-content/uploads/2025/02/annie.jpg
END:VEVENT
BEGIN:VEVENT
DTSTART;TZID=America/Kentucky/Louisville:20251212T193000
DTEND;TZID=America/Kentucky/Louisville:20251212T213000
DTSTAMP:20260421T223911
CREATED:20250217T153208Z
LAST-MODIFIED:20250217T153208Z
UID:62935-1765567800-1765575000@visitpikeville.com
SUMMARY:Annie The Musical
DESCRIPTION:With equal measures of luck and positivity\, little orphan Annie charms everyone’s hearts despite a next-to-nothing start in 1930s New York City. She is determined to find the parents who abandoned her years ago on the doorstep of a New York City Orphanage that is run by the cruel\, embittered Miss Hannigan. \nWith the help of the other girls in the Orphanage\, Annie escapes to the wondrous world of NYC. In adventure after fun-filled adventure\, Annie foils Miss Hannigan’s evil machinations… and even befriends President Franklin Delano Roosevelt! \nShe finds a new home and family in billionaire\, Oliver Warbucks\, his personal secretary\, Grace Farrell\, and a lovable mutt named Sandy. \nTickets:\nIn Advance: Adult: $20 | Kids (up to 18) | Seniors (65+) $13\nAt Door: Adult: $22 | Kids (up to 18) | Seniors (65+) $15
URL:https://visitpikeville.com/event/annie-the-musical-2-3/
LOCATION:Appalachian Center for the Arts\, 218 2nd St\,\, Pikeville\, Ky\, 41501
CATEGORIES:The Appalachian Center for the Arts
ATTACH;FMTTYPE=image/jpeg:https://visitpikeville.com/wp-content/uploads/2025/02/annie.jpg
END:VEVENT
BEGIN:VEVENT
DTSTART;TZID=America/Kentucky/Louisville:20251213T193000
DTEND;TZID=America/Kentucky/Louisville:20251213T213000
DTSTAMP:20260421T223911
CREATED:20250217T153240Z
LAST-MODIFIED:20250217T153240Z
UID:62937-1765654200-1765661400@visitpikeville.com
SUMMARY:Annie The Musical
DESCRIPTION:With equal measures of luck and positivity\, little orphan Annie charms everyone’s hearts despite a next-to-nothing start in 1930s New York City. She is determined to find the parents who abandoned her years ago on the doorstep of a New York City Orphanage that is run by the cruel\, embittered Miss Hannigan. \nWith the help of the other girls in the Orphanage\, Annie escapes to the wondrous world of NYC. In adventure after fun-filled adventure\, Annie foils Miss Hannigan’s evil machinations… and even befriends President Franklin Delano Roosevelt! \nShe finds a new home and family in billionaire\, Oliver Warbucks\, his personal secretary\, Grace Farrell\, and a lovable mutt named Sandy. \nTickets:\nIn Advance: Adult: $20 | Kids (up to 18) | Seniors (65+) $13\nAt Door: Adult: $22 | Kids (up to 18) | Seniors (65+) $15
URL:https://visitpikeville.com/event/annie-the-musical-2-3-2/
LOCATION:Appalachian Center for the Arts\, 218 2nd St\,\, Pikeville\, Ky\, 41501
CATEGORIES:The Appalachian Center for the Arts
ATTACH;FMTTYPE=image/jpeg:https://visitpikeville.com/wp-content/uploads/2025/02/annie.jpg
END:VEVENT
BEGIN:VEVENT
DTSTART;TZID=America/Kentucky/Louisville:20251214T150000
DTEND;TZID=America/Kentucky/Louisville:20251214T170000
DTSTAMP:20260421T223911
CREATED:20250217T153313Z
LAST-MODIFIED:20250217T153313Z
UID:62939-1765724400-1765731600@visitpikeville.com
SUMMARY:Annie The Musical
DESCRIPTION:With equal measures of luck and positivity\, little orphan Annie charms everyone’s hearts despite a next-to-nothing start in 1930s New York City. She is determined to find the parents who abandoned her years ago on the doorstep of a New York City Orphanage that is run by the cruel\, embittered Miss Hannigan. \nWith the help of the other girls in the Orphanage\, Annie escapes to the wondrous world of NYC. In adventure after fun-filled adventure\, Annie foils Miss Hannigan’s evil machinations… and even befriends President Franklin Delano Roosevelt! \nShe finds a new home and family in billionaire\, Oliver Warbucks\, his personal secretary\, Grace Farrell\, and a lovable mutt named Sandy. \nTickets:\nIn Advance: Adult: $20 | Kids (up to 18) | Seniors (65+) $13\nAt Door: Adult: $22 | Kids (up to 18) | Seniors (65+) $15
URL:https://visitpikeville.com/event/annie-the-musical-2-2-2/
LOCATION:Appalachian Center for the Arts\, 218 2nd St\,\, Pikeville\, Ky\, 41501
CATEGORIES:The Appalachian Center for the Arts
ATTACH;FMTTYPE=image/jpeg:https://visitpikeville.com/wp-content/uploads/2025/02/annie.jpg
END:VEVENT
BEGIN:VEVENT
DTSTART;TZID=America/Kentucky/Louisville:20251218T190000
DTEND;TZID=America/Kentucky/Louisville:20251218T213000
DTSTAMP:20260421T223911
CREATED:20251208T151326Z
LAST-MODIFIED:20251216T134324Z
UID:72019-1766084400-1766093400@visitpikeville.com
SUMMARY:ATTENTION: IMPROV SHOW POSTPONED TO JANUARY 17TH. East Kentucky Improv Champions
DESCRIPTION:Due to the extreemly cold weather causing school cancelations\, we’ve made the decision to postpone our high school improv olympics to January 17th\, 2026. Make plans to join us next month to see what these schools have been working on. The show is sure to be full of a lot of laughs and silliness! We can hardly wait!\n\n_______________\n\n\nImprov Olympics!\n\n\nDate: Dec. 18th\, 2025 at 7:00-9:30 p.m.\n\n\nCost: Free with a suggested $10.00 donation at the door – proceeds will be split among the four schools as donations to their Respective Theatre/Art programs.\n\n\nEvent Details: In collaboration with local public schools\, our Director of Education & Engagement has helped build improv troupes at Pike Central\, East Ridge\, Belfry\, and Pikeville in support of growing arts education. On December 18th\, these schools are coming together for a one-night-only\, round-robin competition for the title of East Kentucky Improv Champions. Who will take home the trophy? Which team will create worlds never before seen? How will they contain all the laughter to just one building? Will there even be a trophy? Well\, come out December 18th at 7:00 p.m. to see these amazing students compete and show off their skills.
URL:https://visitpikeville.com/event/east-kentucky-improv-champions/
LOCATION:Appalachian Center for the Arts\, 218 2nd St\,\, Pikeville\, Ky\, 41501
CATEGORIES:The Appalachian Center for the Arts
ATTACH;FMTTYPE=image/jpeg:https://visitpikeville.com/wp-content/uploads/2025/12/improv.jpg
END:VEVENT
BEGIN:VEVENT
DTSTART;TZID=America/Kentucky/Louisville:20251219T193000
DTEND;TZID=America/Kentucky/Louisville:20251219T213000
DTSTAMP:20260421T223911
CREATED:20250217T153344Z
LAST-MODIFIED:20250217T153344Z
UID:62941-1766172600-1766179800@visitpikeville.com
SUMMARY:Annie The Musical
DESCRIPTION:With equal measures of luck and positivity\, little orphan Annie charms everyone’s hearts despite a next-to-nothing start in 1930s New York City. She is determined to find the parents who abandoned her years ago on the doorstep of a New York City Orphanage that is run by the cruel\, embittered Miss Hannigan. \nWith the help of the other girls in the Orphanage\, Annie escapes to the wondrous world of NYC. In adventure after fun-filled adventure\, Annie foils Miss Hannigan’s evil machinations… and even befriends President Franklin Delano Roosevelt! \nShe finds a new home and family in billionaire\, Oliver Warbucks\, his personal secretary\, Grace Farrell\, and a lovable mutt named Sandy. \nTickets:\nIn Advance: Adult: $20 | Kids (up to 18) | Seniors (65+) $13\nAt Door: Adult: $22 | Kids (up to 18) | Seniors (65+) $15
URL:https://visitpikeville.com/event/annie-the-musical-2-3-2-2/
LOCATION:Appalachian Center for the Arts\, 218 2nd St\,\, Pikeville\, Ky\, 41501
CATEGORIES:The Appalachian Center for the Arts
ATTACH;FMTTYPE=image/jpeg:https://visitpikeville.com/wp-content/uploads/2025/02/annie.jpg
END:VEVENT
BEGIN:VEVENT
DTSTART;TZID=America/Kentucky/Louisville:20251220T193000
DTEND;TZID=America/Kentucky/Louisville:20251220T213000
DTSTAMP:20260421T223911
CREATED:20250217T153417Z
LAST-MODIFIED:20250217T153417Z
UID:62943-1766259000-1766266200@visitpikeville.com
SUMMARY:Annie The Musical
DESCRIPTION:With equal measures of luck and positivity\, little orphan Annie charms everyone’s hearts despite a next-to-nothing start in 1930s New York City. She is determined to find the parents who abandoned her years ago on the doorstep of a New York City Orphanage that is run by the cruel\, embittered Miss Hannigan. \nWith the help of the other girls in the Orphanage\, Annie escapes to the wondrous world of NYC. In adventure after fun-filled adventure\, Annie foils Miss Hannigan’s evil machinations… and even befriends President Franklin Delano Roosevelt! \nShe finds a new home and family in billionaire\, Oliver Warbucks\, his personal secretary\, Grace Farrell\, and a lovable mutt named Sandy. \nTickets:\nIn Advance: Adult: $20 | Kids (up to 18) | Seniors (65+) $13\nAt Door: Adult: $22 | Kids (up to 18) | Seniors (65+) $15
URL:https://visitpikeville.com/event/annie-the-musical-2-3-2-2-2/
LOCATION:Appalachian Center for the Arts\, 218 2nd St\,\, Pikeville\, Ky\, 41501
CATEGORIES:The Appalachian Center for the Arts
ATTACH;FMTTYPE=image/jpeg:https://visitpikeville.com/wp-content/uploads/2025/02/annie.jpg
END:VEVENT
BEGIN:VEVENT
DTSTART;TZID=America/Kentucky/Louisville:20251221T150000
DTEND;TZID=America/Kentucky/Louisville:20251221T170000
DTSTAMP:20260421T223911
CREATED:20250217T153441Z
LAST-MODIFIED:20250217T153441Z
UID:62945-1766329200-1766336400@visitpikeville.com
SUMMARY:Annie The Musical
DESCRIPTION:With equal measures of luck and positivity\, little orphan Annie charms everyone’s hearts despite a next-to-nothing start in 1930s New York City. She is determined to find the parents who abandoned her years ago on the doorstep of a New York City Orphanage that is run by the cruel\, embittered Miss Hannigan. \nWith the help of the other girls in the Orphanage\, Annie escapes to the wondrous world of NYC. In adventure after fun-filled adventure\, Annie foils Miss Hannigan’s evil machinations… and even befriends President Franklin Delano Roosevelt! \nShe finds a new home and family in billionaire\, Oliver Warbucks\, his personal secretary\, Grace Farrell\, and a lovable mutt named Sandy. \nTickets:\nIn Advance: Adult: $20 | Kids (up to 18) | Seniors (65+) $13\nAt Door: Adult: $22 | Kids (up to 18) | Seniors (65+) $15
URL:https://visitpikeville.com/event/annie-the-musical-2-2-2-2/
LOCATION:Appalachian Center for the Arts\, 218 2nd St\,\, Pikeville\, Ky\, 41501
CATEGORIES:The Appalachian Center for the Arts
ATTACH;FMTTYPE=image/jpeg:https://visitpikeville.com/wp-content/uploads/2025/02/annie.jpg
END:VEVENT
END:VCALENDAR