BEGIN:VCALENDAR
VERSION:2.0
PRODID:-//Visit Pikeville - ECPv6.15.20//NONSGML v1.0//EN
CALSCALE:GREGORIAN
METHOD:PUBLISH
X-WR-CALNAME:Visit Pikeville
X-ORIGINAL-URL:https://visitpikeville.com
X-WR-CALDESC:Events for Visit Pikeville
REFRESH-INTERVAL;VALUE=DURATION:PT1H
X-Robots-Tag:noindex
X-PUBLISHED-TTL:PT1H
BEGIN:VTIMEZONE
TZID:America/Kentucky/Louisville
BEGIN:DAYLIGHT
TZOFFSETFROM:-0500
TZOFFSETTO:-0400
TZNAME:EDT
DTSTART:20240310T070000
END:DAYLIGHT
BEGIN:STANDARD
TZOFFSETFROM:-0400
TZOFFSETTO:-0500
TZNAME:EST
DTSTART:20241103T060000
END:STANDARD
BEGIN:DAYLIGHT
TZOFFSETFROM:-0500
TZOFFSETTO:-0400
TZNAME:EDT
DTSTART:20250309T070000
END:DAYLIGHT
BEGIN:STANDARD
TZOFFSETFROM:-0400
TZOFFSETTO:-0500
TZNAME:EST
DTSTART:20251102T060000
END:STANDARD
BEGIN:DAYLIGHT
TZOFFSETFROM:-0500
TZOFFSETTO:-0400
TZNAME:EDT
DTSTART:20260308T070000
END:DAYLIGHT
BEGIN:STANDARD
TZOFFSETFROM:-0400
TZOFFSETTO:-0500
TZNAME:EST
DTSTART:20261101T060000
END:STANDARD
BEGIN:DAYLIGHT
TZOFFSETFROM:-0500
TZOFFSETTO:-0400
TZNAME:EDT
DTSTART:20270314T070000
END:DAYLIGHT
BEGIN:STANDARD
TZOFFSETFROM:-0400
TZOFFSETTO:-0500
TZNAME:EST
DTSTART:20271107T060000
END:STANDARD
END:VTIMEZONE
BEGIN:VEVENT
DTSTART;VALUE=DATE:20260408
DTEND;VALUE=DATE:20260409
DTSTAMP:20260424T210017
CREATED:20260406T125845Z
LAST-MODIFIED:20260406T125845Z
UID:73869-1775606400-1775692799@visitpikeville.com
SUMMARY:PMC Wellness Wednesday
DESCRIPTION:@YMCA
URL:https://visitpikeville.com/event/pmc-wellness-wednesday-2/
LOCATION:Pikeville YMCA\, 424 Bob Amos Dr\,\, Pikeville\, Ky\, 41501
CATEGORIES:Pikeville Medical Center,Pikeville YMCA
END:VEVENT
BEGIN:VEVENT
DTSTART;TZID=America/Kentucky/Louisville:20260326T173000
DTEND;TZID=America/Kentucky/Louisville:20260326T200000
DTSTAMP:20260424T210017
CREATED:20260323T142534Z
LAST-MODIFIED:20260323T142534Z
UID:73687-1774546200-1774555200@visitpikeville.com
SUMMARY:Nerf Night
DESCRIPTION:There’s still time to register for Nerf Night!  Don’t miss out on an evening of fun\, friendly competition\, and nonstop action. Grab your spot before registration closes! Register using the links belowGroup #1: https://operations.daxko.com/programs/redirector.aspx…Group #2: https://operations.daxko.com/programs/redirector.aspx…
URL:https://visitpikeville.com/event/nerf-night/
LOCATION:Pikeville YMCA\, 424 Bob Amos Dr\,\, Pikeville\, Ky\, 41501
CATEGORIES:Pikeville YMCA
ATTACH;FMTTYPE=image/jpeg:https://visitpikeville.com/wp-content/uploads/2026/03/nerf.jpg
END:VEVENT
BEGIN:VEVENT
DTSTART;VALUE=DATE:20260311
DTEND;VALUE=DATE:20260312
DTSTAMP:20260424T210017
CREATED:20260309T134627Z
LAST-MODIFIED:20260309T134627Z
UID:73487-1773187200-1773273599@visitpikeville.com
SUMMARY:PMC Wellness Wednesday
DESCRIPTION:@YMCA
URL:https://visitpikeville.com/event/pmc-wellness-wednesday/
LOCATION:Pikeville YMCA\, 424 Bob Amos Dr\,\, Pikeville\, Ky\, 41501
CATEGORIES:Pikeville Medical Center,Pikeville YMCA
END:VEVENT
BEGIN:VEVENT
DTSTART;TZID=America/Kentucky/Louisville:20260306T170000
DTEND;TZID=America/Kentucky/Louisville:20260306T190000
DTSTAMP:20260424T210017
CREATED:20260223T155218Z
LAST-MODIFIED:20260223T155218Z
UID:73180-1772816400-1772823600@visitpikeville.com
SUMMARY:Family Fun Swim Night
DESCRIPTION: Come Swim With Us at the YMCA! Warm up in the water! Join us at the pool at the Pikeville Area Family YMCA! Whether you’re swimming laps\, bringing the kids for family time\, or just relaxing in the water\, there’s something for everyone. Open to all ages Great for beginners and experienced swimmers Family-friendly environment
URL:https://visitpikeville.com/event/family-fun-swim-night/
LOCATION:Pikeville YMCA\, 424 Bob Amos Dr\,\, Pikeville\, Ky\, 41501
CATEGORIES:Pikeville YMCA
ATTACH;FMTTYPE=image/jpeg:https://visitpikeville.com/wp-content/uploads/2026/02/swim-night.jpg
END:VEVENT
BEGIN:VEVENT
DTSTART;TZID=America/Kentucky/Louisville:20260302T180000
DTEND;TZID=America/Kentucky/Louisville:20260331T190000
DTSTAMP:20260424T210017
CREATED:20260223T160522Z
LAST-MODIFIED:20260223T160522Z
UID:73195-1772474400-1774983600@visitpikeville.com
SUMMARY:Gymnastics Tumble Tots
DESCRIPTION:Basic Gymnastics for children ages 5-6 years of age.
URL:https://visitpikeville.com/event/gymnastics-tumble-tots/
LOCATION:Pikeville YMCA\, 424 Bob Amos Dr\,\, Pikeville\, Ky\, 41501
CATEGORIES:Pikeville YMCA
ATTACH;FMTTYPE=image/jpeg:https://visitpikeville.com/wp-content/uploads/2026/02/tumbling.jpg
END:VEVENT
BEGIN:VEVENT
DTSTART;TZID=America/Kentucky/Louisville:20260302T170000
DTEND;TZID=America/Kentucky/Louisville:20260331T180000
DTSTAMP:20260424T210017
CREATED:20260223T160351Z
LAST-MODIFIED:20260223T160351Z
UID:73192-1772470800-1774980000@visitpikeville.com
SUMMARY:Gymnastics Tiny Tots
DESCRIPTION:Basic Gymnastics for children ages 3-4 years of age.
URL:https://visitpikeville.com/event/gymnastics-tiny-tots/
LOCATION:Pikeville YMCA\, 424 Bob Amos Dr\,\, Pikeville\, Ky\, 41501
CATEGORIES:Pikeville YMCA
ATTACH;FMTTYPE=image/jpeg:https://visitpikeville.com/wp-content/uploads/2026/02/tumbling.jpg
END:VEVENT
BEGIN:VEVENT
DTSTART;TZID=America/Kentucky/Louisville:20260302T170000
DTEND;TZID=America/Kentucky/Louisville:20260331T180000
DTSTAMP:20260424T210017
CREATED:20260223T160147Z
LAST-MODIFIED:20260223T160147Z
UID:73189-1772470800-1774980000@visitpikeville.com
SUMMARY:Basic Tumblers
DESCRIPTION:Basic Gymnastics for children ages 7\,8\,9 years of age.
URL:https://visitpikeville.com/event/basic-tumblers/
LOCATION:Pikeville YMCA\, 424 Bob Amos Dr\,\, Pikeville\, Ky\, 41501
CATEGORIES:Pikeville YMCA
ATTACH;FMTTYPE=image/jpeg:https://visitpikeville.com/wp-content/uploads/2026/02/tumbling.jpg
END:VEVENT
BEGIN:VEVENT
DTSTART;TZID=America/Kentucky/Louisville:20260228T120000
DTEND;TZID=America/Kentucky/Louisville:20260228T140000
DTSTAMP:20260424T210017
CREATED:20260223T155444Z
LAST-MODIFIED:20260223T155444Z
UID:73183-1772280000-1772287200@visitpikeville.com
SUMMARY:On-Point Ballers
DESCRIPTION:Get your spot while they last because they go fast! Call today to reserve your spot: 606-433-9622.
URL:https://visitpikeville.com/event/on-point-ballers/
LOCATION:Pikeville YMCA\, 424 Bob Amos Dr\,\, Pikeville\, Ky\, 41501
CATEGORIES:Pikeville YMCA
ATTACH;FMTTYPE=image/jpeg:https://visitpikeville.com/wp-content/uploads/2026/02/ballers.jpg
END:VEVENT
BEGIN:VEVENT
DTSTART;TZID=America/Kentucky/Louisville:20260227T180000
DTEND;TZID=America/Kentucky/Louisville:20260227T200000
DTSTAMP:20260424T210017
CREATED:20260223T155654Z
LAST-MODIFIED:20260223T155654Z
UID:73186-1772215200-1772222400@visitpikeville.com
SUMMARY:Nerf Nights
DESCRIPTION:Registration is NOW OPEN for Nerf Night at the Y! \n\n\nGet ready for an action-packed evening full of high-energy games and tons of foam-dart fun!\n\n\nWhether you’re a sharpshooter or just in it for the excitement\, this is one event you won’t want to miss.\n\n\nSpots will fill fast\, so be sure to secure yours today and join in for an unforgettable night of Nerf battles\, laughter\, and nonstop fun at the Y!\n\n\nRegistration is available in house at the Y or you can register online at the link below\n\n\nhttps://operations.daxko.com/programs/redirector.aspx…
URL:https://visitpikeville.com/event/nerf-nights/
LOCATION:Pikeville YMCA\, 424 Bob Amos Dr\,\, Pikeville\, Ky\, 41501
CATEGORIES:Pikeville YMCA
ATTACH;FMTTYPE=image/jpeg:https://visitpikeville.com/wp-content/uploads/2026/02/nerf.jpg
END:VEVENT
BEGIN:VEVENT
DTSTART;VALUE=DATE:20260131
DTEND;VALUE=DATE:20260201
DTSTAMP:20260424T210017
CREATED:20260119T155250Z
LAST-MODIFIED:20260119T155250Z
UID:72623-1769817600-1769903999@visitpikeville.com
SUMMARY:Youth Basketball Tournament
DESCRIPTION:Registration Now Open!\n\n\nRegistration is now open for the 3rd & 4th Grade Feeder School Tournament!\n\n\n Open to all eligible feeder school teams.\n Don’t miss out—sign up today\n https://operations.daxko.com/programs/redirector.aspx…
URL:https://visitpikeville.com/event/youth-basketball-tournament/
LOCATION:Pikeville YMCA\, 424 Bob Amos Dr\,\, Pikeville\, Ky\, 41501
CATEGORIES:Pikeville YMCA
ATTACH;FMTTYPE=image/jpeg:https://visitpikeville.com/wp-content/uploads/2026/01/TOURNAMENT.jpg
END:VEVENT
BEGIN:VEVENT
DTSTART;TZID=America/Kentucky/Louisville:20260124T103000
DTEND;TZID=America/Kentucky/Louisville:20260124T133000
DTSTAMP:20260424T210017
CREATED:20260119T154911Z
LAST-MODIFIED:20260119T154911Z
UID:72620-1769250600-1769261400@visitpikeville.com
SUMMARY:Youth Basketball Skills Camp
DESCRIPTION:Join us for a fun and focused youth basketball skills camp led by Carla Booth! Players will work on fundamentals\, confidence\, and game-ready skills in a positive environment.\n\n\n Call now to save your spot! (606) 433-9622\n $25 per registration – CASH ONLY!\n Pay the day of the camp\n\n\nSpots are limited—don’t miss out!
URL:https://visitpikeville.com/event/youth-basketball-skills-camp/
LOCATION:Pikeville YMCA\, 424 Bob Amos Dr\,\, Pikeville\, Ky\, 41501
CATEGORIES:Pikeville YMCA
ATTACH;FMTTYPE=image/jpeg:https://visitpikeville.com/wp-content/uploads/2026/01/SKILLS-CAMP.jpg
END:VEVENT
BEGIN:VEVENT
DTSTART;TZID=America/Kentucky/Louisville:20260114T090000
DTEND;TZID=America/Kentucky/Louisville:20260114T110000
DTSTAMP:20260424T210017
CREATED:20260112T152433Z
LAST-MODIFIED:20260112T152433Z
UID:72414-1768381200-1768388400@visitpikeville.com
SUMMARY:Wellness Wednesday
DESCRIPTION:09:00am- 11:00am
URL:https://visitpikeville.com/event/wellness-wednesday/
LOCATION:Pikeville YMCA\, 424 Bob Amos Dr\,\, Pikeville\, Ky\, 41501
CATEGORIES:Pikeville YMCA
ATTACH;FMTTYPE=image/png:https://visitpikeville.com/wp-content/uploads/2026/01/ymca.png
END:VEVENT
BEGIN:VEVENT
DTSTART;TZID=America/Kentucky/Louisville:20251211T140000
DTEND;TZID=America/Kentucky/Louisville:20251211T180000
DTSTAMP:20260424T210017
CREATED:20251208T135842Z
LAST-MODIFIED:20251208T135842Z
UID:71978-1765461600-1765476000@visitpikeville.com
SUMMARY:Take a Picture with Santa Claus
DESCRIPTION:@YMCA
URL:https://visitpikeville.com/event/take-a-picture-with-santa-claus/
LOCATION:Pikeville YMCA\, 424 Bob Amos Dr\,\, Pikeville\, Ky\, 41501
CATEGORIES:Pikeville YMCA
ATTACH;FMTTYPE=image/jpeg:https://visitpikeville.com/wp-content/uploads/2025/12/ymca-santa.jpg
END:VEVENT
END:VCALENDAR