BEGIN:VCALENDAR
VERSION:2.0
PRODID:-//Visit Pikeville - ECPv6.15.20//NONSGML v1.0//EN
CALSCALE:GREGORIAN
METHOD:PUBLISH
X-ORIGINAL-URL:https://visitpikeville.com
X-WR-CALDESC:Events for Visit Pikeville
REFRESH-INTERVAL;VALUE=DURATION:PT1H
X-Robots-Tag:noindex
X-PUBLISHED-TTL:PT1H
BEGIN:VTIMEZONE
TZID:America/Kentucky/Louisville
BEGIN:DAYLIGHT
TZOFFSETFROM:-0500
TZOFFSETTO:-0400
TZNAME:EDT
DTSTART:20250309T070000
END:DAYLIGHT
BEGIN:STANDARD
TZOFFSETFROM:-0400
TZOFFSETTO:-0500
TZNAME:EST
DTSTART:20251102T060000
END:STANDARD
BEGIN:DAYLIGHT
TZOFFSETFROM:-0500
TZOFFSETTO:-0400
TZNAME:EDT
DTSTART:20260308T070000
END:DAYLIGHT
BEGIN:STANDARD
TZOFFSETFROM:-0400
TZOFFSETTO:-0500
TZNAME:EST
DTSTART:20261101T060000
END:STANDARD
BEGIN:DAYLIGHT
TZOFFSETFROM:-0500
TZOFFSETTO:-0400
TZNAME:EDT
DTSTART:20270314T070000
END:DAYLIGHT
BEGIN:STANDARD
TZOFFSETFROM:-0400
TZOFFSETTO:-0500
TZNAME:EST
DTSTART:20271107T060000
END:STANDARD
END:VTIMEZONE
BEGIN:VEVENT
DTSTART;TZID=America/Kentucky/Louisville:20260424T170000
DTEND;TZID=America/Kentucky/Louisville:20260424T174000
DTSTAMP:20260424T191840
CREATED:20260323T145053Z
LAST-MODIFIED:20260323T145053Z
UID:73732-1777050000-1777052400@visitpikeville.com
SUMMARY:Swim Lessons (Swim 101)
DESCRIPTION:YMCA Member Priority Registration for April Swim Lessons is open NOW through March 27th! \n\n\nRegister online using the links below\, or stop by and see us at the Y to get signed up.\n\n\nParent and Tot Class\n\n\nSession #1: https://operations.daxko.com/programs/redirector.aspx…\n\n\nSession # 2: https://operations.daxko.com/programs/redirector.aspx…\n\n\nSwim 101\n\n\nSession #1: https://operations.daxko.com/programs/redirector.aspx…\n\n\nSession 2: https://operations.daxko.com/programs/redirector.aspx…
URL:https://visitpikeville.com/event/swim-lessons-swim-101-2-2-2-2-2/
LOCATION:Pikeville YMCA\, 424 Bob Amos Dr\,\, Pikeville\, Ky\, 41501
CATEGORIES:Pikeville YMCA
ATTACH;FMTTYPE=image/jpeg:https://visitpikeville.com/wp-content/uploads/2026/03/swim.jpg
END:VEVENT
BEGIN:VEVENT
DTSTART;TZID=America/Kentucky/Louisville:20260424T180000
DTEND;TZID=America/Kentucky/Louisville:20260424T184000
DTSTAMP:20260424T191840
CREATED:20260323T145850Z
LAST-MODIFIED:20260323T145850Z
UID:73746-1777053600-1777056000@visitpikeville.com
SUMMARY:Swim Lessons (Swim 101)
DESCRIPTION:YMCA Member Priority Registration for April Swim Lessons is open NOW through March 27th! \n\n\nRegister online using the links below\, or stop by and see us at the Y to get signed up.\n\n\nParent and Tot Class\n\n\nSession #1: https://operations.daxko.com/programs/redirector.aspx…\n\n\nSession # 2: https://operations.daxko.com/programs/redirector.aspx…\n\n\nSwim 101\n\n\nSession #1: https://operations.daxko.com/programs/redirector.aspx…\n\n\nSession 2: https://operations.daxko.com/programs/redirector.aspx…
URL:https://visitpikeville.com/event/swim-lessons-swim-101-2-2-2-2-2-2-2-2-2-3-2/
LOCATION:Pikeville YMCA\, 424 Bob Amos Dr\,\, Pikeville\, Ky\, 41501
CATEGORIES:Pikeville YMCA
ATTACH;FMTTYPE=image/jpeg:https://visitpikeville.com/wp-content/uploads/2026/03/swim.jpg
END:VEVENT
BEGIN:VEVENT
DTSTART;TZID=America/Kentucky/Louisville:20260425T110000
DTEND;TZID=America/Kentucky/Louisville:20260425T130000
DTSTAMP:20260424T191840
CREATED:20260323T150225Z
LAST-MODIFIED:20260323T150225Z
UID:73750-1777114800-1777122000@visitpikeville.com
SUMMARY:Healthy Kids Day
DESCRIPTION:Join Us for Healthy Kids Day! \n\n\nThe YMCA is celebrating its 175th Anniversary with a fun-filled\, family-friendly event you won’t want to miss!\n\n\n Saturday\, April 25th\, 2026\n 11:00 AM – 1:00 PM\n Pikeville Area Family Y\n FREE & Open to the Public!\n\n\nBring the whole family out for a day of smiles\, fun\, and discovery! Activities include:\n Dunking Booth\n Face Painting\n Giveaways\n Balloon Animals\n Obstacle Course\n FREE Kids Haircuts (limited)\n Flower Planting\n Free Food\n Community Vendors\n Crafts\n Photo Booth\n\n\nThere’s something for everyone—come celebrate healthy kids\, active families\, and a strong community with us!
URL:https://visitpikeville.com/event/healthy-kids-day-2/
LOCATION:Pikeville YMCA\, 424 Bob Amos Dr\,\, Pikeville\, Ky\, 41501
CATEGORIES:Pikeville YMCA
ATTACH;FMTTYPE=image/jpeg:https://visitpikeville.com/wp-content/uploads/2026/03/healthy-day.jpg
END:VEVENT
BEGIN:VEVENT
DTSTART;TZID=America/Kentucky/Louisville:20260429T170000
DTEND;TZID=America/Kentucky/Louisville:20260429T174000
DTSTAMP:20260424T191840
CREATED:20260323T145150Z
LAST-MODIFIED:20260323T145150Z
UID:73734-1777482000-1777484400@visitpikeville.com
SUMMARY:Swim Lessons (Swim 101)
DESCRIPTION:YMCA Member Priority Registration for April Swim Lessons is open NOW through March 27th! \n\n\nRegister online using the links below\, or stop by and see us at the Y to get signed up.\n\n\nParent and Tot Class\n\n\nSession #1: https://operations.daxko.com/programs/redirector.aspx…\n\n\nSession # 2: https://operations.daxko.com/programs/redirector.aspx…\n\n\nSwim 101\n\n\nSession #1: https://operations.daxko.com/programs/redirector.aspx…\n\n\nSession 2: https://operations.daxko.com/programs/redirector.aspx…
URL:https://visitpikeville.com/event/swim-lessons-swim-101-2-2-2-2-2-2/
LOCATION:Pikeville YMCA\, 424 Bob Amos Dr\,\, Pikeville\, Ky\, 41501
CATEGORIES:Pikeville YMCA
ATTACH;FMTTYPE=image/jpeg:https://visitpikeville.com/wp-content/uploads/2026/03/swim.jpg
END:VEVENT
BEGIN:VEVENT
DTSTART;TZID=America/Kentucky/Louisville:20260429T180000
DTEND;TZID=America/Kentucky/Louisville:20260429T184000
DTSTAMP:20260424T191840
CREATED:20260323T145924Z
LAST-MODIFIED:20260323T145924Z
UID:73748-1777485600-1777488000@visitpikeville.com
SUMMARY:Swim Lessons (Swim 101)
DESCRIPTION:YMCA Member Priority Registration for April Swim Lessons is open NOW through March 27th! \n\n\nRegister online using the links below\, or stop by and see us at the Y to get signed up.\n\n\nParent and Tot Class\n\n\nSession #1: https://operations.daxko.com/programs/redirector.aspx…\n\n\nSession # 2: https://operations.daxko.com/programs/redirector.aspx…\n\n\nSwim 101\n\n\nSession #1: https://operations.daxko.com/programs/redirector.aspx…\n\n\nSession 2: https://operations.daxko.com/programs/redirector.aspx…
URL:https://visitpikeville.com/event/swim-lessons-swim-101-2-2-2-2-2-2-2-2-2-3-2-2/
LOCATION:Pikeville YMCA\, 424 Bob Amos Dr\,\, Pikeville\, Ky\, 41501
CATEGORIES:Pikeville YMCA
ATTACH;FMTTYPE=image/jpeg:https://visitpikeville.com/wp-content/uploads/2026/03/swim.jpg
END:VEVENT
END:VCALENDAR