BEGIN:VCALENDAR
VERSION:2.0
PRODID:-//Visit Pikeville - ECPv6.15.20//NONSGML v1.0//EN
CALSCALE:GREGORIAN
METHOD:PUBLISH
X-ORIGINAL-URL:https://visitpikeville.com
X-WR-CALDESC:Events for Visit Pikeville
REFRESH-INTERVAL;VALUE=DURATION:PT1H
X-Robots-Tag:noindex
X-PUBLISHED-TTL:PT1H
BEGIN:VTIMEZONE
TZID:America/Kentucky/Louisville
BEGIN:DAYLIGHT
TZOFFSETFROM:-0500
TZOFFSETTO:-0400
TZNAME:EDT
DTSTART:20250309T070000
END:DAYLIGHT
BEGIN:STANDARD
TZOFFSETFROM:-0400
TZOFFSETTO:-0500
TZNAME:EST
DTSTART:20251102T060000
END:STANDARD
BEGIN:DAYLIGHT
TZOFFSETFROM:-0500
TZOFFSETTO:-0400
TZNAME:EDT
DTSTART:20260308T070000
END:DAYLIGHT
BEGIN:STANDARD
TZOFFSETFROM:-0400
TZOFFSETTO:-0500
TZNAME:EST
DTSTART:20261101T060000
END:STANDARD
BEGIN:DAYLIGHT
TZOFFSETFROM:-0500
TZOFFSETTO:-0400
TZNAME:EDT
DTSTART:20270314T070000
END:DAYLIGHT
BEGIN:STANDARD
TZOFFSETFROM:-0400
TZOFFSETTO:-0500
TZNAME:EST
DTSTART:20271107T060000
END:STANDARD
END:VTIMEZONE
BEGIN:VEVENT
DTSTART;TZID=America/Kentucky/Louisville:20260227T180000
DTEND;TZID=America/Kentucky/Louisville:20260227T200000
DTSTAMP:20260425T000944
CREATED:20260223T155654Z
LAST-MODIFIED:20260223T155654Z
UID:73186-1772215200-1772222400@visitpikeville.com
SUMMARY:Nerf Nights
DESCRIPTION:Registration is NOW OPEN for Nerf Night at the Y! \n\n\nGet ready for an action-packed evening full of high-energy games and tons of foam-dart fun!\n\n\nWhether you’re a sharpshooter or just in it for the excitement\, this is one event you won’t want to miss.\n\n\nSpots will fill fast\, so be sure to secure yours today and join in for an unforgettable night of Nerf battles\, laughter\, and nonstop fun at the Y!\n\n\nRegistration is available in house at the Y or you can register online at the link below\n\n\nhttps://operations.daxko.com/programs/redirector.aspx…
URL:https://visitpikeville.com/event/nerf-nights/
LOCATION:Pikeville YMCA\, 424 Bob Amos Dr\,\, Pikeville\, Ky\, 41501
CATEGORIES:Pikeville YMCA
ATTACH;FMTTYPE=image/jpeg:https://visitpikeville.com/wp-content/uploads/2026/02/nerf.jpg
END:VEVENT
END:VCALENDAR