BEGIN:VCALENDAR
VERSION:2.0
PRODID:-//Visit Pikeville - ECPv6.15.20//NONSGML v1.0//EN
CALSCALE:GREGORIAN
METHOD:PUBLISH
X-ORIGINAL-URL:https://visitpikeville.com
X-WR-CALDESC:Events for Visit Pikeville
REFRESH-INTERVAL;VALUE=DURATION:PT1H
X-Robots-Tag:noindex
X-PUBLISHED-TTL:PT1H
BEGIN:VTIMEZONE
TZID:America/Kentucky/Louisville
BEGIN:DAYLIGHT
TZOFFSETFROM:-0500
TZOFFSETTO:-0400
TZNAME:EDT
DTSTART:20240310T070000
END:DAYLIGHT
BEGIN:STANDARD
TZOFFSETFROM:-0400
TZOFFSETTO:-0500
TZNAME:EST
DTSTART:20241103T060000
END:STANDARD
BEGIN:DAYLIGHT
TZOFFSETFROM:-0500
TZOFFSETTO:-0400
TZNAME:EDT
DTSTART:20250309T070000
END:DAYLIGHT
BEGIN:STANDARD
TZOFFSETFROM:-0400
TZOFFSETTO:-0500
TZNAME:EST
DTSTART:20251102T060000
END:STANDARD
BEGIN:DAYLIGHT
TZOFFSETFROM:-0500
TZOFFSETTO:-0400
TZNAME:EDT
DTSTART:20260308T070000
END:DAYLIGHT
BEGIN:STANDARD
TZOFFSETFROM:-0400
TZOFFSETTO:-0500
TZNAME:EST
DTSTART:20261101T060000
END:STANDARD
END:VTIMEZONE
BEGIN:VEVENT
DTSTART;VALUE=DATE:20251129
DTEND;VALUE=DATE:20251130
DTSTAMP:20260421T222554
CREATED:20251110T140745Z
LAST-MODIFIED:20251110T140745Z
UID:71096-1764374400-1764460799@visitpikeville.com
SUMMARY:Winterfest Opens
DESCRIPTION:@City Park
URL:https://visitpikeville.com/event/winterfest-opens/
LOCATION:Pikeville City Park\, 101 Cumberland Ct\,\, Pikeville\, KY\, 41501
CATEGORIES:City of Pikeville,Pikeville Tourism
END:VEVENT
BEGIN:VEVENT
DTSTART;VALUE=DATE:20251129
DTEND;VALUE=DATE:20251130
DTSTAMP:20260421T222554
CREATED:20251110T141442Z
LAST-MODIFIED:20251124T144106Z
UID:71100-1764374400-1764460799@visitpikeville.com
SUMMARY:Shop Small Saturday
DESCRIPTION: Shop Small Saturday in Downtown Pikeville! Join us on Saturday\, November 29\, 2025\, from 11:00 AM to 5:00 PM for Shop Small Saturday and show your LOVE for local businesses! Enjoy great deals and support the heart of our downtown. Every purchase makes a big difference! Where: Downtown Pikeville\, KY When: Saturday\, Nov. 29\, 2025 Time: 11:00 AM – 5:00 PM Bonus #1: Stop by The Shoppes @ 225 to pick up your Shop Small Punch Card\, good for use that day at any downtown retail store—thanks to the Pikeville Main Street Program!How it works: For every $10 spent you will get a punch. Once you spend $200\, return the card to be entered to win a downtown merchandise basket with $200 Downtown Dollars inside! (Basket Value of $400) Bonus #2: Hunt for Golden Tickets hidden inside downtown stores! Find one and exchange it for Downtown Dollars to spend on retail at participating businesses. Bonus #3: Most small businesses will have special offers and discounts just for you that day—don’t miss out!Let’s make this holiday season special by shopping local. Tag and invite your friends! 
URL:https://visitpikeville.com/event/shop-small-saturday/
LOCATION:Downtown Pikeville\, Pikeville\, Ky\, 41501
CATEGORIES:Pikeville Main Street,Pikeville Tourism
ATTACH;FMTTYPE=image/jpeg:https://visitpikeville.com/wp-content/uploads/2025/11/small-saturday.jpg
END:VEVENT
BEGIN:VEVENT
DTSTART;TZID=America/Kentucky/Louisville:20251129T110000
DTEND;TZID=America/Kentucky/Louisville:20251129T220000
DTSTAMP:20260421T222554
CREATED:20251124T141431Z
LAST-MODIFIED:20251124T141431Z
UID:71621-1764414000-1764453600@visitpikeville.com
SUMMARY:Ice Skating Rink
DESCRIPTION:Get ready to glide into the holidays!  The Winterfest Simulated Ice Skating Rink is OPENING SOON at Pikeville City Park!Lace up those skates and make some magical memories with the whole family. Whether you’re a seasoned skater or trying it for the first time\, join us for some festive fun! Dates: November 29 – December 31  Location: Pikeville City ParkHours Opening Weekend:Saturday: 11 AM – 10 PMSunday: 2 PM – 6 PM Admission (includes skate rental!):Adults: $10/hrChildren 6 & Under: $6/hrPLUS! Look out for Carriage Rides and the Whitewater Shrine Mini-Train Rides on select dates!Come create your perfect winter moment in Pikeville! We can’t wait to see you there!
URL:https://visitpikeville.com/event/ice-skating-rink-3/
LOCATION:Pikeville City Park\, 101 Cumberland Ct\,\, Pikeville\, KY\, 41501
CATEGORIES:City of Pikeville,Pikeville Tourism
ATTACH;FMTTYPE=image/jpeg:https://visitpikeville.com/wp-content/uploads/2025/11/ice-skating.jpg
END:VEVENT
BEGIN:VEVENT
DTSTART;TZID=America/Kentucky/Louisville:20251129T160000
DTEND;TZID=America/Kentucky/Louisville:20251129T200000
DTSTAMP:20260421T222554
CREATED:20251124T143455Z
LAST-MODIFIED:20251124T143455Z
UID:71656-1764432000-1764446400@visitpikeville.com
SUMMARY:Carriage Rides
DESCRIPTION:We are pleased to announce that carriage rides will be offered this Friday and Saturday from 4-8.Guests can enjoy a relaxing\, scenic ride for $15 per person.This is a wonderful opportunity for families\, couples\, and individuals to experience a charming and traditional carriage outing.We look forward to providing you with a memorable and enjoyable experience.Call and book with us at 606-794-9881
URL:https://visitpikeville.com/event/carriage-rides-7-2/
LOCATION:Downtown Pikeville\, Pikeville\, Ky\, 41501
CATEGORIES:Pikeville Main Street,Pikeville Tourism
ATTACH;FMTTYPE=image/jpeg:https://visitpikeville.com/wp-content/uploads/2025/11/carriage.jpg
END:VEVENT
BEGIN:VEVENT
DTSTART;TZID=America/Kentucky/Louisville:20251129T180000
DTEND;TZID=America/Kentucky/Louisville:20251129T190000
DTSTAMP:20260421T222554
CREATED:20251110T140936Z
LAST-MODIFIED:20251124T142848Z
UID:71098-1764439200-1764442800@visitpikeville.com
SUMMARY:Tree Lighting
DESCRIPTION:Pikeville’s Tree Lighting Ceremony is the holiday kickoff you don’t want to miss! Best of all\, it’s FREE and open to the public. Saturday\, Nov. 29 | 6PM Pikeville City Park Hot Chocolate Christmas Music Christmas Photo Displays Balloon Artist & MORE!Bring your family & friends for an unforgettable night of holiday cheer! And don’t forget to snap your holiday pics and tag us!  Pikeville City Tourism Pikeville Main Street Program\, Inc.
URL:https://visitpikeville.com/event/tree-lighting-2/
LOCATION:Pikeville City Park\, 101 Cumberland Ct\,\, Pikeville\, KY\, 41501
CATEGORIES:City of Pikeville,Pikeville Tourism
ATTACH;FMTTYPE=image/jpeg:https://visitpikeville.com/wp-content/uploads/2025/11/tree.jpg
END:VEVENT
END:VCALENDAR