BEGIN:VCALENDAR
VERSION:2.0
PRODID:-//Visit Pikeville - ECPv6.15.20//NONSGML v1.0//EN
CALSCALE:GREGORIAN
METHOD:PUBLISH
X-ORIGINAL-URL:https://visitpikeville.com
X-WR-CALDESC:Events for Visit Pikeville
REFRESH-INTERVAL;VALUE=DURATION:PT1H
X-Robots-Tag:noindex
X-PUBLISHED-TTL:PT1H
BEGIN:VTIMEZONE
TZID:America/Kentucky/Louisville
BEGIN:DAYLIGHT
TZOFFSETFROM:-0500
TZOFFSETTO:-0400
TZNAME:EDT
DTSTART:20250309T070000
END:DAYLIGHT
BEGIN:STANDARD
TZOFFSETFROM:-0400
TZOFFSETTO:-0500
TZNAME:EST
DTSTART:20251102T060000
END:STANDARD
BEGIN:DAYLIGHT
TZOFFSETFROM:-0500
TZOFFSETTO:-0400
TZNAME:EDT
DTSTART:20260308T070000
END:DAYLIGHT
BEGIN:STANDARD
TZOFFSETFROM:-0400
TZOFFSETTO:-0500
TZNAME:EST
DTSTART:20261101T060000
END:STANDARD
BEGIN:DAYLIGHT
TZOFFSETFROM:-0500
TZOFFSETTO:-0400
TZNAME:EDT
DTSTART:20270314T070000
END:DAYLIGHT
BEGIN:STANDARD
TZOFFSETFROM:-0400
TZOFFSETTO:-0500
TZNAME:EST
DTSTART:20271107T060000
END:STANDARD
END:VTIMEZONE
BEGIN:VEVENT
DTSTART;TZID=America/Kentucky/Louisville:20260325T120000
DTEND;TZID=America/Kentucky/Louisville:20260325T130000
DTSTAMP:20260422T063436
CREATED:20260323T153233Z
LAST-MODIFIED:20260323T153233Z
UID:73765-1774440000-1774443600@visitpikeville.com
SUMMARY:Free Virtual Workshops
DESCRIPTION:Business owners\, mark your calendars! \n\n\nThe first in a series of free virtual workshops is coming up soon! “The Digital Tune-up: Prepping Your Business for Online Growth” will be hosted on Thursday\, March 25\, from 12 – 1 p.m. ET.\n\n\nIn the workshop\, experts from Main Street America’s Small Business Hub will walk through an essential checklist designed to catch the critical details that often slip through the cracks. We know that when you are focused on the day-to-day reality of running a business\, it is easy to forget the ‘digital housekeeping’\, but those small gaps can add up to big missed opportunities.\n\n\nRegister here: https://savingplaces-org.zoom.us/…/WN…\n\n\n(Even if you can’t attend live\, make sure to register! You’ll get a recorded version after the fact.)
URL:https://visitpikeville.com/event/free-virtual-workshops/
LOCATION:Online Event\, Pikeville\, KY\, 41501\, United States
CATEGORIES:Pikeville Main Street
ATTACH;FMTTYPE=image/jpeg:https://visitpikeville.com/wp-content/uploads/2026/03/SMALL-BUSINESS.jpg
END:VEVENT
BEGIN:VEVENT
DTSTART;TZID=America/Kentucky/Louisville:20260326T170000
DTEND;TZID=America/Kentucky/Louisville:20260326T210000
DTSTAMP:20260422T063436
CREATED:20260309T135118Z
LAST-MODIFIED:20260309T135118Z
UID:73493-1774544400-1774558800@visitpikeville.com
SUMMARY:Sit N Sew Beginners
DESCRIPTION:Come and Join Us
URL:https://visitpikeville.com/event/beginners-sewing-2-2-2-2-2-2-2-2-2-2-2-2-2-2-2-2-2-2-2-2-2-2-2-2-2-2-2-2-2-2-2-2-2-2-2-2-2-2-2-2-3-2-2-2-2-2-2-2-2-2-2-2-2-2-2-2/
LOCATION:Bridgett’s Quilting and Fabric Shop\, 237 2nd St\,\, Pikeville\, KY\, 41501\, United States
CATEGORIES:Pikeville Main Street
ATTACH;FMTTYPE=image/jpeg:https://visitpikeville.com/wp-content/uploads/2023/10/bridgetts.jpeg
END:VEVENT
BEGIN:VEVENT
DTSTART;TZID=America/Kentucky/Louisville:20260403T170000
DTEND;TZID=America/Kentucky/Louisville:20260403T190000
DTSTAMP:20260422T063436
CREATED:20260323T154538Z
LAST-MODIFIED:20260323T154538Z
UID:73768-1775235600-1775242800@visitpikeville.com
SUMMARY:Pictures with Sassy The Bunny
DESCRIPTION:Get ready to giggle\, Pikeville!  He’s fluffy\, he’s photogenic\, and yes\, he’s got a little bit of attitude!Grab the kids\, your friends\, and even your pets\, and come get SASSSY with the coolest bunny around. You won’t want to miss this free unique photo op with the big chair!  WHEN: Friday\, April 3\, 2026 from 5pm – 7pm WHERE: Pikeville City ParkStrike a pose and let’s see your best “sassy” face! See you at the park!
URL:https://visitpikeville.com/event/pictures-with-sassy-the-bunny/
LOCATION:Pikeville City Park\, 101 Cumberland Ct\,\, Pikeville\, KY\, 41501
CATEGORIES:City of Pikeville,Pikeville Main Street,Pikeville Tourism
ATTACH;FMTTYPE=image/jpeg:https://visitpikeville.com/wp-content/uploads/2026/03/sassy.jpg
END:VEVENT
BEGIN:VEVENT
DTSTART;TZID=America/Kentucky/Louisville:20260409T170000
DTEND;TZID=America/Kentucky/Louisville:20260409T210000
DTSTAMP:20260422T063436
CREATED:20260406T125937Z
LAST-MODIFIED:20260406T125937Z
UID:73871-1775754000-1775768400@visitpikeville.com
SUMMARY:Sit N Sew Beginners
DESCRIPTION:Come and Join Us
URL:https://visitpikeville.com/event/beginners-sewing-2-2-2-2-2-2-2-2-2-2-2-2-2-2-2-2-2-2-2-2-2-2-2-2-2-2-2-2-2-2-2-2-2-2-2-2-2-2-2-2-3-2-2-2-2-2-2-2-2-2-2-2-2-2-2-2-2/
LOCATION:Bridgett’s Quilting and Fabric Shop\, 237 2nd St\,\, Pikeville\, KY\, 41501\, United States
CATEGORIES:Pikeville Main Street
ATTACH;FMTTYPE=image/jpeg:https://visitpikeville.com/wp-content/uploads/2023/10/bridgetts.jpeg
END:VEVENT
BEGIN:VEVENT
DTSTART;TZID=America/Kentucky/Louisville:20260417T120000
DTEND;TZID=America/Kentucky/Louisville:20260417T140000
DTSTAMP:20260422T063436
CREATED:20260413T155034Z
LAST-MODIFIED:20260413T155034Z
UID:74001-1776427200-1776434400@visitpikeville.com
SUMMARY:Mamaw Gail Meet and Greet
DESCRIPTION:Friday\, April 17th12PM – 2PMCity of Pikeville Tourism Booth773 Hambley BlvdPikeville\, KY 41501
URL:https://visitpikeville.com/event/mamaw-gail-meet-and-greet/
LOCATION:Pikeville City Tourism\, 243 Main St #129\, Pikeville\, KY\, 41501\, United States
CATEGORIES:Pikeville Main Street
ATTACH;FMTTYPE=image/jpeg:https://visitpikeville.com/wp-content/uploads/2026/04/mamaw-gail.jpg
END:VEVENT
BEGIN:VEVENT
DTSTART;TZID=America/Kentucky/Louisville:20260423T170000
DTEND;TZID=America/Kentucky/Louisville:20260423T210000
DTSTAMP:20260422T063436
CREATED:20260406T130228Z
LAST-MODIFIED:20260406T130228Z
UID:73873-1776963600-1776978000@visitpikeville.com
SUMMARY:Sit N Sew Beginners
DESCRIPTION:Come and Join Us
URL:https://visitpikeville.com/event/beginners-sewing-2-2-2-2-2-2-2-2-2-2-2-2-2-2-2-2-2-2-2-2-2-2-2-2-2-2-2-2-2-2-2-2-2-2-2-2-2-2-2-2-3-2-2-2-2-2-2-2-2-2-2-2-2-2-2-2-2-2/
LOCATION:Bridgett’s Quilting and Fabric Shop\, 237 2nd St\,\, Pikeville\, KY\, 41501\, United States
CATEGORIES:Pikeville Main Street
ATTACH;FMTTYPE=image/jpeg:https://visitpikeville.com/wp-content/uploads/2023/10/bridgetts.jpeg
END:VEVENT
BEGIN:VEVENT
DTSTART;TZID=America/Kentucky/Louisville:20260430T170000
DTEND;TZID=America/Kentucky/Louisville:20260430T210000
DTSTAMP:20260422T063436
CREATED:20260406T130308Z
LAST-MODIFIED:20260406T130308Z
UID:73875-1777568400-1777582800@visitpikeville.com
SUMMARY:Sit N Sew Beginners
DESCRIPTION:Come and Join Us
URL:https://visitpikeville.com/event/beginners-sewing-2-2-2-2-2-2-2-2-2-2-2-2-2-2-2-2-2-2-2-2-2-2-2-2-2-2-2-2-2-2-2-2-2-2-2-2-2-2-2-2-3-2-2-2-2-2-2-2-2-2-2-2-2-2-2-2-2-2-2/
LOCATION:Bridgett’s Quilting and Fabric Shop\, 237 2nd St\,\, Pikeville\, KY\, 41501\, United States
CATEGORIES:Pikeville Main Street
ATTACH;FMTTYPE=image/jpeg:https://visitpikeville.com/wp-content/uploads/2023/10/bridgetts.jpeg
END:VEVENT
BEGIN:VEVENT
DTSTART;VALUE=DATE:20260613
DTEND;VALUE=DATE:20260614
DTSTAMP:20260422T063436
CREATED:20260413T155421Z
LAST-MODIFIED:20260413T155421Z
UID:74004-1781308800-1781395199@visitpikeville.com
SUMMARY:Dinner in White
DESCRIPTION:Save the Date \nMark your calendar and prepare for a beautiful night where style\, community\, and dining come together—all in white.\n\n\n Dinner in White \n Saturday\, June 13\, 2026\n A signature downtown experience\n Tickets go on sale April 13\, 2026\n\n\nFollow Pikeville Main Street Program\, Inc.
URL:https://visitpikeville.com/event/dinner-in-white-4/
LOCATION:Downtown Pikeville\, Pikeville\, Ky\, 41501
CATEGORIES:Pikeville Main Street
ATTACH;FMTTYPE=image/jpeg:https://visitpikeville.com/wp-content/uploads/2026/04/dinner-white.jpg
END:VEVENT
END:VCALENDAR